{"text_format":"3","workbook":"xlsx","n_sheets":24,"sheets":["ご利用に際して","報告書","建築物概要書","換気検査結果表","排煙検査結果表","非照検査結果表","水検査結果表","別表１（換気－評価表）","別表２（換気－測定表）","別表３（排煙－記録表）","別表3-2（排煙－記録表 給気式）","別表3-3（排煙－記録表 加圧式）","別表４（非照－測定表）","関係写真","実施状況表","報告概要書","移行ツール設定v16","移行ツール設定v15","プルダウンリスト","郵便番号","マスター","シート表示区分","CSV変換用","受付用"],"not_rendered":{"images":18,"macros":1,"defined_names":326,"comments":14},"read":"whole","date_system":"1900"}

{"sheet":"ご利用に際して","index":0,"n_rows":105,"n_cols":21,"rows_kept":105,"merged":[[23,2,23,17],[60,2,60,3],[62,3,63,3],[62,4,63,4],[62,5,63,5],[62,6,62,9],[62,10,62,15],[62,16,63,16],[62,17,63,17],[62,18,63,18]]}
["Ⅰ．","ご利用に際して"]
[]
[null,"１．シートの構成"]
[null,"　　このExcelファイルは、１６枚のワークシートで構成されています。"]
[null,"　　ワークシートを表示するには、画面下部のシート見出し■■■■■■■（カラー表示）をクリックしてください。"]
[null,"　【注意】当該報告に不必要なワークシートは、削除せずに非表示としてください。"]
[null,null,"→指定ボタンをクリックすることにより、報告に必要のないワークシートを非表示とすることができます。"]
[null,null,"（詳細は、当該ワークシートの「Ⅱ．報告に必要なワークシートの表示について」をご覧ください）"]
[null,null,"ワークシート間のリンクが切れやリンクエラー等が発生しないようにご注意ください。"]
[]
[null,"２．マクロの使用"]
[null,"　　このExcelファイルは、　　　　部分に”マクロ”を使用しています。"]
[null,"　　画面上部に「セキュリティの警告 マクロが無効にされました。」と表示された場合、マクロは使用できません。"]
[null,"　　マクロを使用可能にするためにはマクロの設定を変更してください。"]
[null,"　　　① 画面左上のメニューバーにある[ファイル]をクリックします。"]
[null,"　　　② 表示されたメニューにある[オプション]をクリックします。"]
[null,"　　　③ Excel のオプションが表示されましたら、Excel のオプション画面の左側にある[トラスト センター]をクリックして、"]
[null,"　　　　　次に[トラスト センターの設定]をクリックします。"]
[null,"　　　④ トラスト センターが表示されましたら、トラスト センター画面の左側にある[マクロの設定]をクリックします。"]
[null,"　　　⑤ マクロの設定で以下の作業を行い、[OK]をクリックします。"]
[null,"・"," [VBA マクロを有効にする（推奨しません。危険なコードが実行される可能性があります。）(N)]を選択する"]
[]
[null,"　　　⑥ Eｘcel のオプション画面も[OK]をクリックして、Excel を一度終了させます。"]
[null,"　【参考】","建築設備定期検査報告書様式（Excel）のエラーについて（Microsoft365ご利用の方へ） | ニュース | 一般財団法人 日本建築設備・昇降機センター"]
[]
[null,"３．入力可能なセル"]
[null,"　　このExcelファイルは、　　　　・　　　  部分のセルの選択・入力・書式設定ができます。"]
[null,"　　しかし、報告書■、検査結果表■及び報告概要書■シート内のセルは、如何なる場合でも書式設定の変更をしないでください。"]
[null,"　　（　　　  部分のセルは、関数等を設定しているため、原則として書式設定の変更をしないでください）"]
[null,"　　また、　　　 部分は、転記ボタンを利用し入力してください。（インターネット回線が接続された状態で利用してください）"]
[null,"　　その他の部分は、ワークシートを[シートの保護]に設定しているためセルの選択・入力・変更はできません。"]
[null,"　【注意】　　　部分のセルをコピー（Ctrl+C）し、その他セルに貼付けする場合は、必ず「値」のみを貼付けてください（×：「Ctrl+V」⇔ ○：「Ctrl+Alt+V→V」）。"]
[null,null,"ワークシート間のリンクが切れやリンクエラー等が発生しないようにご注意ください。"]
[]
[null,"４．シート保護の解除"]
[null,"　　報告書■、検査結果表■及び報告概要書■以外のシートは、[パスワード]無しで[シート保護の解除]をすることができます。"]
[null,"　　シート保護の解除を行う場合は、 [校閲]メニューの[シート保護の解除]をクリックしてください。"]
[null,"　　但し、”シートのコピー”及び”マクロボタン以外で行の挿入及び削除”をした場合は、マクロが正しく実行されなくなります。"]
[null,"　　なお、報告書、検査結果表及び報告概要書で[シート保護の解除]をするための[パスワード]は、開示できません。"]
[]
[null,"５．パソコンの日付と時刻の設定"]
[null,"　　このExcelファイルをご使用の際は、正確な日付と時刻に設定する必要があります。"]
[null,"　　画面右下部に表示されている時刻にポイントすると、日付が表示されますので、ご確認ください。"]
[null,"　　日付と時刻の調整を行う場合は、 画面右下部に表示されている時刻を右クリックし、[日時を調整する]をクリックしてください。"]
[]
[null,"※このExcelファイルは、当センターが東京都建築設備定期検査報告の予備審査を迅速かつ正確に行うのために開発したものであり、"]
[null,"　 当センターに著作権および所有権があります。"]
[null,"※このExcelファイルの使用に関して当センターの明示的な許可がない限り、当センターの権利を侵害する行為は禁止されています。"]
[null,"※当センターは、このExcelファイルを使用したことによるいかなる損害に対しても一切の責任を負いかねます。"]
[]
[null,"【注意】このExcelファイルは\"Microsoft 365Excel\"で作成しているため、それ以外のﾊﾞｰｼﾞｮﾝ\"では、上記の記載内容と異なる場合があります。"]
[]
[]
[]
["Ⅱ．","報告に必要なワークシートの表示について"]
[]
[null,"報告書第二面の設備概要欄を入力することにより、報告に必要なワークシートが矢印で表示されます。"]
[null,"指定されたボタン（矢印で表示）をクリックし、必要なワークシートを表示させてください。"]
[null,"注）「指摘なし」、「既存不適格」、「要是正」の別により、クリックするボタンが異なります。"]
[]
[null,null,"全て表示"]
[]
[null,null,"指摘なし","要是正","報告書","建築物\n概要書","検査結果表",{"$nulls":3},"評価表、測定表、記録表",{"$nulls":5},"関係\n写真","実施\n状況表","報告\n概要書"]
[null,null,"既存不適格",{"$nulls":3},"換気","排煙","非照","水","別表1","別表2","別表3","別表3-2","別表3-3","別表4",{"$nulls":3},"        "]
[{"$f":"IF(シート表示区分!D3=\"○\",\"⇒⇒⇒\",\"\")","v":""},"1A",null,null,"●","●","●",{"$nulls":3},"●",{"$nulls":5},"▲","●","●",1,"「１A」"]
[{"$f":"IF(シート表示区分!D4=\"○\",\"⇒⇒⇒\",\"\")","v":""},"1B",null,null,"●","●","●",{"$nulls":4},"●",{"$nulls":4},"▲",null,"●",2,"「１B」"]
[{"$f":"IF(シート表示区分!D5=\"○\",\"⇒⇒⇒\",\"\")","v":""},"1C",null,null,"●","●","●",{"$nulls":3},"●","●",{"$nulls":4},"▲","●","●",3,"「１C」"]
[{"$f":"IF(シート表示区分!D6=\"○\",\"⇒⇒⇒\",\"\")","v":""},"1D",null,null,"●","●",null,"●",{"$nulls":4},"●",{"$nulls":3},"▲","●","●",4,"「１D」"]
[{"$f":"IF(シート表示区分!D7=\"○\",\"⇒⇒⇒\",\"\")","v":""},"1E",null,null,"●","●",null,null,"●",{"$nulls":6},"●","▲",null,"●",5,"「１E」"]
[{"$f":"IF(シート表示区分!D8=\"○\",\"⇒⇒⇒\",\"\")","v":""},"1F",null,null,"●","●",{"$nulls":3},"●",{"$nulls":6},"▲",null,"●",6,"「１F」"]
[{"$f":"IF(シート表示区分!D9=\"○\",\"⇒⇒⇒\",\"\")","v":""},"2A",null,null,"●","●","●","●",null,null,"●",null,"●",{"$nulls":3},"▲","●","●",7,"「２A」"]
[{"$f":"IF(シート表示区分!D10=\"○\",\"⇒⇒⇒\",\"\")","v":""},"2B",null,null,"●","●","●","●",{"$nulls":3},"●","●",{"$nulls":3},"▲","●","●",8,"「２B」"]
[{"$f":"IF(シート表示区分!D11=\"○\",\"⇒⇒⇒\",\"\")","v":""},"2C",null,null,"●","●","●","●",null,null,"●","●","●",{"$nulls":3},"▲","●","●",9,"「２C」"]
[{"$f":"IF(シート表示区分!D12=\"○\",\"⇒⇒⇒\",\"\")","v":""},"2D",null,null,"●","●","●",null,"●",null,"●",{"$nulls":4},"●","▲","●","●",10,"「２D」"]
[{"$f":"IF(シート表示区分!D13=\"○\",\"⇒⇒⇒\",\"\")","v":""},"2E",null,null,"●","●","●",null,"●",null,null,"●",{"$nulls":3},"●","▲",null,"●",11,"「２E」"]
[{"$f":"IF(シート表示区分!D14=\"○\",\"⇒⇒⇒\",\"\")","v":""},"2F",null,null,"●","●","●",null,"●",null,"●","●",{"$nulls":3},"●","▲","●","●",12,"「２F」"]
[{"$f":"IF(シート表示区分!D15=\"○\",\"⇒⇒⇒\",\"\")","v":""},"2G",null,null,"●","●","●",null,null,"●","●",{"$nulls":5},"▲","●","●",13,"「２G」"]
[{"$f":"IF(シート表示区分!D16=\"○\",\"⇒⇒⇒\",\"\")","v":""},"2H",null,null,"●","●","●",null,null,"●",null,"●",{"$nulls":4},"▲",null,"●",14,"「２H」"]
[{"$f":"IF(シート表示区分!D17=\"○\",\"⇒⇒⇒\",\"\")","v":""},"2I",null,null,"●","●","●",null,null,"●","●","●",{"$nulls":4},"▲","●","●",15,"「２I」"]
[{"$f":"IF(シート表示区分!D18=\"○\",\"⇒⇒⇒\",\"\")","v":""},"2J",null,null,"●","●",null,"●","●",{"$nulls":3},"●",null,null,"●","▲","●","●",16,"「２J」"]
[{"$f":"IF(シート表示区分!D19=\"○\",\"⇒⇒⇒\",\"\")","v":""},"2K",null,null,"●","●",null,"●",null,"●",null,null,"●",{"$nulls":3},"▲","●","●",17,"「２K」"]
[{"$f":"IF(シート表示区分!D20=\"○\",\"⇒⇒⇒\",\"\")","v":""},"2L",null,null,"●","●",null,null,"●","●",{"$nulls":5},"●","▲",null,"●"]
[{"$f":"IF(シート表示区分!D21=\"○\",\"⇒⇒⇒\",\"\")","v":""},"3A",null,null,"●","●","●","●","●",null,"●",null,"●",null,null,"●","▲","●","●",18,"「３A」"]
[{"$f":"IF(シート表示区分!D22=\"○\",\"⇒⇒⇒\",\"\")","v":""},"3B",null,null,"●","●","●","●","●",null,null,"●","●",null,null,"●","▲","●","●",19,"「３B」"]
[{"$f":"IF(シート表示区分!D23=\"○\",\"⇒⇒⇒\",\"\")","v":""},"3C",null,null,"●","●","●","●","●",null,"●","●","●",null,null,"●","▲","●","●",20,"「３C」"]
[{"$f":"IF(シート表示区分!D24=\"○\",\"⇒⇒⇒\",\"\")","v":""},"3D",null,null,"●","●","●","●",null,"●","●",null,"●",{"$nulls":3},"▲","●","●",21,"「３D」"]
[{"$f":"IF(シート表示区分!D25=\"○\",\"⇒⇒⇒\",\"\")","v":""},"3E",null,null,"●","●","●","●",null,"●",null,"●","●",{"$nulls":3},"▲","●","●",22,"「３E」"]
[{"$f":"IF(シート表示区分!D26=\"○\",\"⇒⇒⇒\",\"\")","v":""},"3F",null,null,"●","●","●","●",null,"●","●","●","●",{"$nulls":3},"▲","●","●",23,"「３F」"]
[{"$f":"IF(シート表示区分!D27=\"○\",\"⇒⇒⇒\",\"\")","v":""},"3G",null,null,"●","●","●",null,"●","●","●",{"$nulls":4},"●","▲","●","●"]
[{"$f":"IF(シート表示区分!D28=\"○\",\"⇒⇒⇒\",\"\")","v":""},"3H",null,null,"●","●","●",null,"●","●",null,"●",{"$nulls":3},"●","▲",null,"●"]
[{"$f":"IF(シート表示区分!D29=\"○\",\"⇒⇒⇒\",\"\")","v":""},"3I",null,null,"●","●","●",null,"●","●","●","●",{"$nulls":3},"●","▲","●","●"]
[{"$f":"IF(シート表示区分!D30=\"○\",\"⇒⇒⇒\",\"\")","v":""},"3J",null,null,"●","●",null,"●","●","●",null,null,"●",null,null,"●","▲","●","●"]
[{"$f":"IF(シート表示区分!D31=\"○\",\"⇒⇒⇒\",\"\")","v":""},"4A",null,null,"●","●","●","●","●","●","●",null,"●",null,null,"●","▲","●","●",24,"「４A」"]
[{"$f":"IF(シート表示区分!D32=\"○\",\"⇒⇒⇒\",\"\")","v":""},"4B",null,null,"●","●","●","●","●","●",null,"●","●",null,null,"●","▲","●","●",25,"「４B」"]
[{"$f":"IF(シート表示区分!D33=\"○\",\"⇒⇒⇒\",\"\")","v":""},"4C",null,null,"●","●","●","●","●","●","●","●","●",null,null,"●","▲","●","●",26,"「４C」"]
[{"$f":"IF(シート表示区分!D34=\"○\",\"⇒⇒⇒\",\"\")","v":""},"W",{"$nulls":15},"●",null,27,"「W」"]
[{"$f":"IF(シート表示区分!D35=\"○\",\"⇒⇒⇒\",\"\")","v":""},"X",{"$nulls":11},"●",{"$nulls":5},28,"「X」"]
[{"$f":"IF(シート表示区分!D36=\"○\",\"⇒⇒⇒\",\"\")","v":""},"Y",{"$nulls":12},"●",{"$nulls":4},29,"「Y」"]
[{"$f":"IF(シート表示区分!D37=\"○\",\"⇒⇒⇒\",\"\")","v":""},"Z",{"$nulls":11},"●","●",{"$nulls":4},30,"「Z」"]
[]
[]
[]
["Ⅲ．","報告に関する注意事項"]
[]
[null,"報告書及び報告概要書は、検査日(着手日)より１ケ月以内に当センターへ提出してください。"]

{"sheet":"報告書","index":1,"n_rows":896,"n_cols":92,"rows_kept":896,"merged":[[1,37,1,45],[1,57,1,58],[4,52,5,52],[4,53,5,53],[5,1,5,46],[6,1,6,46],[8,1,8,46],[10,57,10,58],[11,57,12,58],[11,59,12,60],[13,2,13,13],[13,57,13,58],[13,59,13,60],[15,35,15,36],[15,37,15,38],[15,40,15,41],[15,43,15,44],[16,57,16,58],[17,30,17,45],[18,30,18,45],[18,57,18,60],[19,57,20,57],[19,58,20,58],[19,59,20,59],[19,60,20,60],[21,30,21,45],[30,13,30,28],[30,30,30,45],[30,57,30,60],[31,13,31,28],[31,30,31,45],[31,57,31,60],[32,13,32,21],[33,13,33,28],[33,30,33,45],[33,57,33,60],[34,13,34,29],[41,13,41,28],[41,30,41,45],[42,13,42,28],[42,30,42,45],[43,13,43,21],[44,13,44,28],[44,30,44,45],[44,57,44,60],[45,13,45,29],[46,13,46,45],[52,13,52,15],[52,16,52,21],[52,22,52,27],[52,28,52,45],[53,13,53,45],[54,13,54,45],[55,13,55,17],[55,19,55,23],[55,25,55,29],[55,31,55,35],[55,37,55,41],[63,13,63,45],[64,13,64,45],[65,13,65,45],[66,13,66,45],[67,13,67,45],[68,16,68,17],[68,18,68,19],[68,21,68,22],[69,13,69,45],[70,13,70,45],[71,13,71,45],[72,13,72,45],[73,13,73,45],[77,19,77,27],[77,49,77,51],[78,39,78,45],[79,4,79,8],[79,39,80,45],[80,6,80,10],[81,2,81,22],[81,25,81,27],[81,28,81,38],[81,49,81,51],[82,2,82,12],[82,13,82,22],[82,25,82,35],[82,36,82,45],[83,2,83,12],[83,13,83,22],[83,25,83,35],[83,36,83,45],[83,57,83,60],[84,2,84,22],[84,25,84,45],[85,2,85,12],[85,13,85,22],[85,25,85,35],[85,36,85,45],[85,57,85,60],[86,2,86,22],[86,25,86,45],[87,2,87,45],[88,1,88,46],[91,13,91,45],[92,13,92,45],[93,13,93,45],[94,13,94,45],[95,1,95,46],[100,15,100,16],[100,23,100,24],[101,12,101,19],[102,12,102,19],[102,23,102,30],[111,19,111,20],[111,21,111,22],[111,24,111,25],[111,27,111,28],[111,32,111,39],[112,32,112,42],[113,19,113,20],[113,21,113,22],[113,24,113,25],[113,27,113,28],[113,32,113,39],[114,32,114,42],[121,15,121,16],[121,17,121,18],[121,20,121,21],[121,23,121,24],[121,57,121,58],[122,15,122,16],[122,17,122,18],[122,20,122,21],[122,23,122,24],[131,10,131,11],[131,23,131,28],[131,29,131,32],[131,33,131,39],[132,33,132,39],[133,33,133,39],[134,13,134,45],[135,13,135,45],[136,13,136,45],[137,10,137,11],[137,23,137,26],[137,27,137,32],[137,33,137,39],[138,13,138,21],[139,13,139,28],[139,30,139,45],[139,57,139,60],[140,13,140,29],[142,10,142,11],[142,23,142,28],[142,29,142,32],[142,33,142,39],[143,33,143,39],[144,33,144,39],[145,13,145,45],[146,13,146,45],[147,13,147,45],[148,10,148,11],[148,23,148,26],[148,27,148,32],[148,33,148,39],[149,13,149,21],[150,13,150,28],[150,30,150,45],[150,57,150,60],[151,13,151,29],[153,10,153,11],[153,23,153,28],[153,33,153,39],[154,33,154,39],[155,33,155,39],[156,13,156,45],[157,13,157,45],[158,13,158,45],[159,10,159,11],[159,23,159,26],[159,33,159,39],[160,13,160,21],[161,13,161,28],[161,30,161,45],[161,57,161,60],[162,13,162,29],[169,19,169,20],[169,21,169,22],[169,23,169,24],[169,36,169,37],[169,38,169,39],[169,40,169,41],[170,26,170,27],[170,28,170,29],[170,30,170,31],[171,16,171,17],[171,18,171,19],[171,20,171,21],[172,19,172,20],[172,21,172,22],[172,23,172,24],[172,36,172,37],[172,38,172,39],[172,40,172,41],[173,16,173,17],[173,18,173,19],[173,20,173,21],[174,19,174,20],[174,21,174,22],[174,23,174,24],[174,36,174,37],[174,38,174,39],[174,40,174,41],[175,26,175,27],[175,28,175,29],[175,30,175,31],[176,16,176,17],[176,18,176,19],[176,20,176,21],[178,39,178,44],[186,13,186,45],[187,13,187,45],[188,13,188,45],[189,13,189,45],[190,13,190,45],[191,16,191,17],[191,18,191,19],[191,21,191,22],[192,13,192,45],[200,22,200,23],[200,24,200,25],[200,27,200,28],[213,10,213,11],[213,23,213,28],[213,29,213,32],[213,33,213,39],[214,33,214,39],[215,33,215,39],[216,13,216,45],[217,13,217,45],[218,13,218,45],[219,10,219,11],[219,23,219,26],[219,27,219,32],[219,33,219,39],[220,13,220,21],[221,13,221,28],[221,30,221,45],[221,57,221,60],[222,13,222,29],[224,10,224,11],[224,23,224,28],[224,29,224,32],[224,33,224,39],[225,33,225,39],[226,33,226,39],[227,13,227,45],[228,13,228,45],[229,13,229,45],[230,10,230,11],[230,23,230,26],[230,27,230,32],[230,33,230,39],[231,13,231,21],[232,13,232,28],[232,30,232,45],[232,57,232,60],[233,13,233,29],[235,10,235,11],[235,23,235,28],[235,33,235,39],[236,33,236,39],[237,33,237,39],[238,13,238,45],[239,13,239,45],[240,13,240,45],[241,10,241,11],[241,23,241,26],[241,33,241,39],[242,13,242,21],[243,13,243,28],[243,30,243,45],[243,57,243,60],[244,13,244,29],[249,28,249,29],[249,42,249,43],[250,26,250,43],[252,15,252,16],[252,26,252,27],[252,37,252,38],[252,58,255,58],[252,59,255,59],[252,60,254,60],[254,15,254,16],[254,26,254,27],[254,37,254,38],[256,15,256,16],[256,26,256,27],[256,37,256,38],[257,15,257,16],[257,26,257,27],[258,37,258,43],[263,13,263,45],[264,13,264,45],[265,13,265,45],[266,13,266,45],[267,13,267,45],[268,16,268,17],[268,18,268,19],[268,21,268,22],[269,13,269,45],[277,22,277,23],[277,24,277,25],[277,27,277,28],[290,10,290,11],[290,23,290,28],[290,29,290,32],[290,33,290,39],[291,33,291,39],[292,33,292,39],[293,13,293,45],[294,13,294,45],[295,13,295,45],[296,10,296,11],[296,23,296,26],[296,27,296,32],[296,33,296,39],[297,13,297,21],[298,13,298,28],[298,30,298,45],[298,57,298,60],[299,13,299,29],[301,10,301,11],[301,23,301,28],[301,29,301,32],[301,33,301,39],[302,33,302,39],[303,33,303,39],[304,13,304,45],[305,13,305,45],[306,13,306,45],[307,10,307,11],[307,23,307,26],[307,27,307,32],[307,33,307,39],[308,13,308,21],[309,13,309,28],[309,30,309,45],[309,57,309,60],[310,13,310,29],[312,10,312,11],[312,23,312,28],[312,33,312,39],[313,33,313,39],[314,33,314,39],[315,13,315,45],[316,13,316,45],[317,13,317,45],[318,10,318,11],[318,23,318,26],[318,33,318,39],[319,13,319,21],[320,13,320,28],[320,30,320,45],[320,57,320,60],[321,13,321,29],[328,15,328,16],[328,25,328,26],[328,37,328,38],[329,15,329,16],[332,22,332,23],[332,28,332,29],[332,34,332,35],[333,22,333,23],[333,28,333,29],[333,34,333,35],[334,22,334,23],[334,28,334,29],[334,34,334,35],[335,31,335,32],[335,37,335,38],[335,43,335,44],[336,15,336,21],[336,34,336,36],[336,41,336,43],[344,13,344,45],[345,13,345,45],[346,13,346,45],[347,13,347,45],[348,13,348,45],[349,16,349,17],[349,18,349,19],[349,21,349,22],[350,13,350,45],[358,22,358,23],[358,24,358,25],[358,27,358,28],[371,10,371,11],[371,23,371,28],[371,29,371,32],[371,33,371,39],[372,33,372,39],[373,33,373,39],[374,13,374,45],[375,13,375,45],[376,13,376,45],[377,10,377,11],[377,23,377,26],[377,27,377,32],[377,33,377,39],[378,13,378,21],[379,13,379,28],[379,30,379,45],[379,57,379,60],[380,13,380,29],[382,10,382,11],[382,23,382,28],[382,29,382,32],[382,33,382,39],[383,33,383,39],[384,33,384,39],[385,13,385,45],[386,13,386,45],[387,13,387,45],[388,10,388,11],[388,23,388,26],[388,27,388,32],[388,33,388,39],[389,13,389,21],[390,13,390,28],[390,30,390,45],[390,57,390,60],[391,13,391,29],[393,10,393,11],[393,23,393,28],[393,33,393,39],[394,33,394,39],[395,33,395,39],[396,13,396,45],[397,13,397,45],[398,13,398,45],[399,10,399,11],[399,23,399,26],[399,33,399,39],[400,13,400,21],[401,13,401,28],[401,30,401,45],[401,57,401,60],[402,13,402,29],[409,21,409,22],[409,24,409,25],[409,37,409,38],[409,40,409,41],[410,19,410,33],[412,31,412,45],[416,16,416,35],[424,13,424,45],[425,13,425,45],[426,13,426,45],[427,13,427,45],[428,13,428,45],[429,16,429,17],[429,18,429,19],[429,21,429,22],[430,13,430,45],[438,22,438,23],[438,24,438,25],[438,27,438,28],[450,2,450,20],[450,25,450,26],[450,28,450,29],[450,31,450,33],[451,2,451,45],[452,2,452,45],[453,2,453,45],[454,2,454,45],[455,2,455,45],[456,2,456,45],[457,2,457,45],[458,2,458,45],[459,2,459,45],[460,2,460,45],[461,2,461,45],[462,2,462,45],[463,2,463,45],[464,2,464,45],[465,2,465,45],[466,2,466,45],[467,2,467,45],[468,2,468,45],[469,2,469,45],[472,0,472,46],[481,1,481,6],[481,7,481,16],[481,17,481,26],[481,27,481,32],[481,33,481,45],[482,1,482,6],[482,7,482,16],[482,17,482,26],[482,27,482,32],[482,33,482,45],[483,1,483,6],[483,7,483,16],[483,17,483,26],[483,27,483,32],[483,33,483,45],[484,1,484,6],[484,7,484,16],[484,17,484,26],[484,27,484,32],[484,33,484,45],[485,1,485,6],[485,7,485,16],[485,17,485,26],[485,27,485,32],[485,33,485,45],[486,1,486,6],[486,7,486,16],[486,17,486,26],[486,27,486,32],[486,33,486,45],[487,1,487,6],[487,7,487,16],[487,17,487,26],[487,27,487,32],[487,33,487,45],[488,1,488,6],[488,7,488,16],[488,17,488,26],[488,27,488,32],[488,33,488,45],[496,1,496,6],[496,7,496,16],[496,17,496,26],[496,27,496,32],[496,33,496,45],[497,1,497,6],[497,7,497,16],[497,17,497,26],[497,27,497,32],[497,33,497,45],[498,1,498,6],[498,7,498,16],[498,17,498,26],[498,27,498,32],[498,33,498,45],[499,1,499,6],[499,7,499,16],[499,17,499,26],[499,27,499,32],[499,33,499,45],[500,1,500,6],[500,7,500,16],[500,17,500,26],[500,27,500,32],[500,33,500,45],[501,1,501,6],[501,7,501,16],[501,17,501,26],[501,27,501,32],[501,33,501,45],[502,1,502,6],[502,7,502,16],[502,17,502,26],[502,27,502,32],[502,33,502,45],[503,1,503,6],[503,7,503,16],[503,17,503,26],[503,27,503,32],[503,33,503,45],[511,1,511,6],[511,7,511,16],[511,17,511,26],[511,27,511,32],[511,33,511,45],[512,1,512,6],[512,7,512,16],[512,17,512,26],[512,27,512,32],[512,33,512,45],[513,1,513,6],[513,7,513,16],[513,17,513,26],[513,27,513,32],[513,33,513,45],[514,1,514,6],[514,7,514,16],[514,17,514,26],[514,27,514,32],[514,33,514,45],[515,1,515,6],[515,7,515,16],[515,17,515,26],[515,27,515,32],[515,33,515,45],[516,1,516,6],[516,7,516,16],[516,17,516,26],[516,27,516,32],[516,33,516,45],[517,1,517,6],[517,7,517,16],[517,17,517,26],[517,27,517,32],[517,33,517,45],[518,1,518,6],[518,7,518,16],[518,17,518,26],[518,27,518,32],[518,33,518,45],[526,1,526,6],[526,7,526,16],[526,17,526,26],[526,27,526,32],[526,33,526,45],[527,1,527,6],[527,7,527,16],[527,17,527,26],[527,27,527,32],[527,33,527,45],[528,1,528,6],[528,7,528,16],[528,17,528,26],[528,27,528,32],[528,33,528,45],[529,1,529,6],[529,7,529,16],[529,17,529,26],[529,27,529,32],[529,33,529,45],[530,1,530,6],[530,7,530,16],[530,17,530,26],[530,27,530,32],[530,33,530,45],[531,1,531,6],[531,7,531,16],[531,17,531,26],[531,27,531,32],[531,33,531,45],[532,1,532,6],[532,7,532,16],[532,17,532,26],[532,27,532,32],[532,33,532,45],[533,1,533,6],[533,7,533,16],[533,17,533,26],[533,27,533,32],[533,33,533,45],[534,1,534,6],[534,7,534,16],[534,17,534,26],[534,27,534,32],[534,33,534,45],[535,1,535,6],[535,7,535,16],[535,17,535,26],[535,27,535,32],[535,33,535,45],[536,1,536,6],[536,7,536,16],[536,17,536,26],[536,27,536,32],[536,33,536,45],[537,1,537,6],[537,7,537,16],[537,17,537,26],[537,27,537,32],[537,33,537,45],[538,0,539,46],[540,1,540,45],[541,1,541,45],[542,1,542,45],[543,1,543,45],[544,1,544,45],[545,1,545,45],[546,1,546,45],[547,1,547,45],[548,1,548,45],[549,1,549,45],[550,1,550,45],[551,1,551,45],[552,1,552,45],[553,1,553,45],[554,1,554,45],[555,1,555,45],[556,1,556,45],[557,1,557,45],[558,1,558,45],[559,1,559,45],[560,1,560,45],[561,1,561,45],[562,1,562,45],[563,1,563,45],[564,1,564,45],[565,1,565,45],[566,1,566,45],[567,1,567,45],[568,1,568,45],[569,1,569,45],[570,1,570,45],[571,1,571,45],[572,1,572,45],[573,1,573,45],[574,1,574,45],[575,1,575,45],[576,1,576,45],[577,1,577,45],[578,1,578,45],[579,1,579,45],[580,1,580,45],[581,1,581,45],[582,1,582,45],[583,1,583,45],[584,1,584,45],[585,1,585,45],[586,1,586,45],[587,1,587,45],[588,1,588,45],[589,1,589,45],[590,1,590,45],[591,1,591,45],[592,1,592,45],[593,1,593,45],[594,1,594,45],[595,1,595,45],[596,1,596,45],[597,1,597,45],[598,1,598,45],[599,1,599,45],[600,1,600,45],[601,1,601,45],[602,1,602,45],[603,1,603,45],[604,1,604,45],[605,1,605,45],[606,1,606,45],[607,1,607,45],[608,1,608,45],[609,1,609,45],[610,1,610,45],[611,1,611,45],[612,1,612,45],[613,1,613,45],[614,1,614,45],[615,1,615,45],[616,1,616,45],[617,1,617,45],[618,1,618,45],[619,1,619,45],[620,1,620,45],[621,1,621,45],[622,1,622,45],[623,1,623,45],[624,1,624,45],[625,1,625,45],[626,1,626,45],[627,1,627,45],[628,1,628,45],[634,1,634,45],[635,1,635,45],[636,1,636,45],[638,1,638,45],[639,1,639,45],[640,1,640,45],[641,1,641,45],[642,1,642,45],[643,1,643,45],[644,1,644,45],[645,1,645,45],[646,1,646,45],[647,1,647,45],[648,1,648,45],[649,1,649,45],[650,1,650,45],[651,1,651,45],[652,1,652,45],[653,1,653,45],[802,43,802,44],[804,43,804,44],[820,42,820,55],[847,57,847,58],[847,59,847,60],[847,61,847,62],[848,57,848,58],[848,59,848,60],[848,61,848,62],[849,57,849,58],[849,59,849,60],[849,61,849,62]]}
[{"$nulls":28},"建築物基本番号",null,"－",null,null,"－",null,null,"－",null,null,"－",{"$nulls":4},"－",{"$nulls":7},{"$f":"IF(報告_1_03建築物_ハ_名称=\"\",\"\",受付用!A10&\"_\"&BY16&\"_\"&報告_1_03建築物_ハ_名称&\"_\"&BH11)","v":""},null,"〇",null,"〇",{"$f":"IF(BH2=\"\",\"\",IF($BX$16=\"\",\"報告書をご提出の際（令和８年３月３１日報告受付分まで）は、\",IF($BX$16>=46113,\"報告書をご提出の際（令和８年４月１日報告受付分から）は、\",\"報告書をご提出の際（令和８年３月３１日報告受付分まで）は、\")))","v":""},{"$nulls":4},"〇",{"$nulls":27},"〇"]
[{"$nulls":36},"センター受付番号",{"$nulls":20},{"$f":"IF(BH2=\"\",\"\",\"報告事務手数料として\")","v":""},null,{"$f":"IF(AND(BH847=\"\",BI847=\"\"),\"\",BH847+BI847)","v":""},{"$f":"IF(BH2=\"\",\"\",\"円（税込）が必要となります。\")","v":""}]
[]
[null,"第三十六号の六様式（第六条、第六条の二の二関係）（Ａ４）",{"$nulls":55},"■■■(必須)",null,null,"関係写真","実施状況表"]
[{"$nulls":52},{"$f":"IF(報告_1_03建築物_ハ_名称=\"\",\"\",受付用!A10&\"_\"&BY16&\"_\"&LEFT(SUBSTITUTE(SUBSTITUTE(報告_1_03建築物_ハ_名称,\"　\",\"\"),\" \",\"\"),20))","v":""},{"$nulls":4},3,{"$f":"COUNTA(報告_2_04換検査者代表_ハ_氏名,報告_2_08排検査者代表_ハ_氏名,報告_2_12非検査者代表_ハ_氏名,報告_2_16給検査者代表_ハ_氏名)","v":0},{"$f":"'別表１（換気－評価表）'!CH3+'別表２（換気－測定表）'!CG3+'別表３（排煙－記録表）'!CE3+'別表3-2（排煙－記録表 給気式）'!CE3+'別表3-3（排煙－記録表 加圧式）'!CE3+'別表４（非照－測定表）'!CI3","v":0},{"$f":"関係写真!AJ2","v":0},{"$f":"実施状況表!BR2","v":0},{"$nulls":29},{"$f":"BF5+BG5+BH5+BI5+BJ5","v":3}]
[null,"定期検査報告書",{"$nulls":55},{"$f":"IF(_xlfn.SHEETS()-24=0,\"\",_xlfn.SHEETS()-24)","v":""},{"$f":"IF(OR(換気検査結果表!$S$2=\"未入力\",排煙検査結果表!$S$2=\"未入力\",非照検査結果表!$S$2=\"未入力\",水検査結果表!$S$2=\"未入力\"),\"未入力\",\"\")","v":""},{"$f":"IF(OR('別表１（換気－評価表）'!$CH$4=\"未入力\",'別表２（換気－測定表）'!$CG$4=\"未入力\",'別表３（排煙－記録表）'!$CE$5=\"未入力\",'別表3-2（排煙－記録表 給気式）'!$CE$5=\"未入力\",'別表3-3（排煙－記録表 加圧式）'!$CE$5=\"未入力\",'別表４（非照－測定表）'!$CK$3=\"未入力\"),\"未入力\",\"\")","v":""},{"$f":"IF(関係写真!BF2=\"未入力\",\"未入力\",\"\")","v":""},{"$f":"IF(実施状況表!$BS$4=\"未入力\",\"未入力\",\"\")","v":""}]
[null,"（建築設備（昇降機を除く。））",{"$nulls":55},{"$f":"IF(報告_1_03建築物_ハ_名称=\"\",\"\",\"★「ご利用に際して」シート内の\"&シート表示区分!A1&シート表示区分!B1&シート表示区分!C1&\"ボタンをクリックしてください。\")","v":""}]
[{"$nulls":48},{"$f":"IF(OR($BG$6=\"未入力\",$BH$6=\"未入力\",$BI$6=\"未入力\",$BJ$6=\"未入力\"),\"未入力\",\"\")","v":""},{"$nulls":3},{"$f":"IF(受付用!B10=\"\",\"\",BY16&\"_\"&受付用!A10&\"_\"&報告_1_03建築物_ハ_名称&\"_\"&BH11)","v":""},{"$nulls":4},{"$f":"IF(AND(報告_1_03建築物_ハ_名称<>\"\",BG105=\"●\",BG451=\"\",W451=\"\",AL451=\"レ\",排煙検査結果表!L42=\"―\",排煙検査結果表!L43=\"―\",排煙検査結果表!L61=\"―\",排煙検査結果表!L62=\"―\",排煙検査結果表!L109=\"―\"),\"★「実施状況表」シートを非表示にしてください。\",\"\")&IF(AND(報告_1_03建築物_ハ_名称<>\"\",シート表示区分!H38=-1,排煙検査結果表!L33=\"―\",排煙検査結果表!L42=\"―\",排煙検査結果表!L43=\"―\"),\"★「別表３」シートを非表示にしてください。\",\"\")","v":""},{"$nulls":33},{"$f":"IF(シート表示区分!A2=0,\"\",シート表示区分!A2)","v":""}]
[null,"（第一面）"]
[{"$nulls":57},"所管特定行政庁"]
[null,"　建築基準法第12条第３項の規定により、定期検査の結果を報告します。この報告書に記載の事項は",{"$nulls":50},"定期検査報告（表紙）",{"$nulls":4},{"$f":"IF(Q53=\"\",\"\",VLOOKUP(Q53,マスター!C2:E63,2,FALSE))","v":""},null,{"$f":"IF(C14=\"\",\"\",VLOOKUP(C14,BF807:BN842,9,FALSE))&AY63&AY103","v":""}]
[null,"事実に相違ありません。",{"$nulls":53},"AND($BE12=1,$C14=\"\")",{"$f":"IF(AND(N53<>\"\",M103<>\"\"),1,0)","v":0},"【イ．所在地】",null,"【ハ．延べ面積(報告対象)】"]
[]
[{"$nulls":14},"様",{"$nulls":42},{"$f":"IF(報告書!N53=\"\",\"\",報告書!N53)&IF(報告書!Q53=\"\",\"\",報告書!Q53)&IF(報告書!W53=\"\",\"\",報告書!W53)","v":""},null,{"$f":"IF(X103<>\"\",X103,IF(M103=\"\",\"\",M103))","v":""},null,{"$f":"IF(AND(BH847=\"\",BI847=\"\"),\"\",BH847+BI847)","v":""}]
[]
[{"$nulls":35},"令和",{"$nulls":3},"年",null,null,"月",null,null,"日",{"$nulls":9},"AND($N55<>\"\",$BO78>=1,$BE16<=3)",{"$f":"COUNTA(AJ16,AL16,AO16,AR16)","v":1},"TODAY",null,"報告日","検査日","１か月以内",{"$nulls":3},{"$f":"AL16","v":0},{"$f":"BN16+2018","v":2018},{"$f":"AO16","v":0},{"$f":"TEXT(BP16,\"00\")","v":"00"},{"$f":"BO16&\"/\"&BQ16","v":"2018/00"},{"$f":"MID(BR16,1,1)","v":"2"},{"$f":"MID(BR16,3,2)","v":"18"},{"$f":"AR16","v":0},{"$f":"TEXT(BU16,\"00\")","v":"00"},{"$f":"BR16&\"/\"&BV16","v":"2018/00/00"},{"$f":"IF(BN16<5,\"\",VALUE(BW16))","v":""},{"$f":"IF(AL16&AO16&AR16=\"\",\"\",BO16&BQ16&BV16)","v":""}]
[{"$nulls":57},{"$f":"TODAY()","v":"2026-01-13"},null,{"$f":"IF(OR(AL16=\"\",AO16=\"\",AR16=\"\"),\"\",BX16)","v":""},{"$f":"IF(OR(R122=\"\",U122=\"\",X122=\"\"),\"\",BX122)","v":""},{"$f":"IF(OR(BH17=\"\",BI17=\"\"),\"\",IF(BL122=\"\",\"\",IF(BF122<=BL122,\"OK\",\"NG\")))","v":""},{"$f":"BI122","v":""},{"$nulls":4},{"$f":"AO16","v":0},{"$f":"TEXT(BP17,\"0\")","v":"0"},{"$f":"\"R\"&BN16&\"．\"&BQ17","v":"R0．0"},{"$f":"MID(BR17,1,1)","v":"R"},{"$f":"MID(BR17,3,2)","v":"．0"},{"$f":"AR16","v":0},{"$f":"TEXT(BU17,\"0\")","v":"0"},{"$f":"IF(OR(AJ16=\"\",AL16=\"\",AO16=\"\",AR16=\"\"),\"\",BR17&\"．\"&BV17)","v":""},{"$f":"BF17","v":46035},{"$nulls":15},{"$f":"IF(OR(BH17=\"\",BI17=\"\"),\"\",IF(BM122=\"\",\"\",IF(BF122<=BM122,\"\",\"要再検査\")))","v":""}]
[{"$nulls":30},{"$f":"IF(AND(報告_1_01所有者_ロ_氏名1<>\"\",AE32<>\"\",報告_1_02管理者_ロ_氏名1<>\"\",AE43<>\"\"),報告_1_02管理者_ロ_氏名1,IF(AND(報告_1_01所有者_ロ_氏名1<>\"\",AE32<>\"\",報告_1_02管理者_ロ_氏名1<>\"\",AE43=\"\"),\"\",IF(AND(報告_1_01所有者_ロ_氏名1<>\"\",AE32=\"\",報告_1_02管理者_ロ_氏名1=\"\",AE43=\"\"),\"\",IF(AND(報告_1_01所有者_ロ_氏名1<>\"\",AE32=\"\",報告_1_02管理者_ロ_氏名1<>\"\",AE43=\"\"),\"\",IF(AND(報告_1_01所有者_ロ_氏名1=\"\",AE32=\"\",報告_1_02管理者_ロ_氏名1=\"\",AE43=\"\"),\"\",IF(報告_1_02管理者_ロ_氏名1=\"\",報告_1_01所有者_ロ_氏名1,IF(報告_1_01所有者_ロ_氏名1=\"\",\"\",報告_1_02管理者_ロ_氏名1)))))))","v":""},{"$nulls":26},"【1．所有者】と【2．管理者】が異なる場合は、【2．管理者】"]
[{"$nulls":24},"報告者氏名",{"$nulls":5},{"$f":"IF(AND(報告_1_01所有者_ロ_氏名1<>\"\",AE32<>\"\",報告_1_02管理者_ロ_氏名1<>\"\",AE43<>\"\"),AE43,IF(AND(報告_1_01所有者_ロ_氏名1<>\"\",AE32<>\"\",報告_1_02管理者_ロ_氏名1<>\"\",AE43=\"\"),報告_1_02管理者_ロ_氏名1,IF(AND(報告_1_01所有者_ロ_氏名1<>\"\",AE32=\"\",報告_1_02管理者_ロ_氏名1=\"\",AE43=\"\"),報告_1_01所有者_ロ_氏名1,IF(AND(報告_1_01所有者_ロ_氏名1<>\"\",AE32=\"\",報告_1_02管理者_ロ_氏名1<>\"\",AE43=\"\"),報告_1_02管理者_ロ_氏名1,IF(AND(報告_1_01所有者_ロ_氏名1=\"\",AE32=\"\",報告_1_02管理者_ロ_氏名1=\"\",AE43=\"\"),\"\",IF(報告_1_02管理者_ロ_氏名1=\"\",AE32,IF(報告_1_01所有者_ロ_氏名1=\"\",\"\",AE43)))))))","v":""},{"$nulls":25},"AND($BF19=0,$AE19=\"\")",{"$f":"IF(AND(報告_1_01所有者_ロ_氏名1=\"\",AE32=\"\",報告_1_02管理者_ロ_氏名1=\"\",AE43=\"\"),\"\",IF(報告_1_02管理者_ロ_氏名1=\"\",報告_1_01所有者_ロ_氏名1&\"　\"&AE32,IF(報告_1_01所有者_ロ_氏名1=\"\",\"\",報告_1_02管理者_ロ_氏名1&\"　\"&AE43)))","v":""}]
[{"$nulls":57},"【4．換気","【8．排煙","【12．非常","【16．給水"]
[]
[{"$nulls":24},"検査者氏名",{"$nulls":31},"AND(OR($BF22<>\"\",$BG22<>\"\",$BH22<>\"\",$BI22<>\"\"),$AE22=\"\")",{"$f":"IF(報告_2_04換検査者代表_ハ_氏名=\"\",\"\",報告_2_04換検査者代表_ハ_氏名)","v":""},{"$f":"IF(報告_2_08排検査者代表_ハ_氏名=\"\",\"\",報告_2_08排検査者代表_ハ_氏名)","v":""},{"$f":"IF(報告_2_12非検査者代表_ハ_氏名=\"\",\"\",報告_2_12非検査者代表_ハ_氏名)","v":""},{"$f":"IF(報告_2_16給検査者代表_ハ_氏名=\"\",\"\",報告_2_16給検査者代表_ハ_氏名)","v":""}]
{"$rows_empty":7}
[null,"【1．所有者】",{"$nulls":55},"全角文字変換用セル"]
[null,null,"【イ．氏名のフリガナ】",{"$nulls":10},{"$f":"DBCS(PHONETIC(N32))","v":""},{"$nulls":16},{"$f":"DBCS(PHONETIC(AE32))","v":""},{"$nulls":24},"AND($N32<>\"\",$N31=\"\")","AND($AE32<>\"\",$AE31=\"\")"]
[null,null,"【ロ．氏名】",{"$nulls":52},"AND($N31<>\"\",$N32=\"\")"]
[null,null,"【ハ．郵便番号】",{"$nulls":52},"AND($N32<>\"\",$BE33=0)",{"$f":"IF(報告_1_01所有者_ハ_郵便番号=\"\",0,1)","v":0}]
[null,null,"【ニ．住所】",{"$nulls":52},"AND($N32<>\"\",$N34=\"\")",null,{"$f":"IF(報告_1_01所有者_ハ_郵便番号=\"\",\"\",_xlfn.WEBSERVICE(\"https://api.excelapi.org/post/address?zipcode=\"&報告_1_01所有者_ハ_郵便番号))","v":""}]
[null,null,"【ホ．電話番号】",{"$nulls":52},"AND($N32<>\"\",$N35=\"\")",null,{"$f":"IF(報告_1_01所有者_ホ_電話番号=\"-\",\"\",IF(報告_1_01所有者_ホ_電話番号=\"\",\"\",_xlfn.WEBSERVICE(\"https://api.excelapi.org/phone/ispossible?number=\"&_xlfn.ENCODEURL(報告_1_01所有者_ホ_電話番号))))","v":""}]
[]
[]
[]
[]
[]
[null,"【2．管理者】"]
[null,null,"【イ．氏名のフリガナ】",{"$nulls":10},{"$f":"DBCS(PHONETIC(N43))","v":""},{"$nulls":16},{"$f":"DBCS(PHONETIC(AE43))","v":""},{"$nulls":24},"AND($N43<>\"\",$N42=\"\")","AND($AE43<>\"\",$AE42=\"\")"]
[null,null,"【ロ．氏名】",{"$nulls":52},"AND($N42<>\"\",$N43=\"\")"]
[null,null,"【ハ．郵便番号】",{"$nulls":52},"AND($N43<>\"\",$BE44=0)",{"$f":"IF(報告_1_02管理者_ハ_郵便番号=\"\",0,1)","v":0}]
[null,null,"【ニ．住所】",{"$nulls":52},"AND($N43<>\"\",$N45=\"\")",null,{"$f":"IF(報告_1_02管理者_ハ_郵便番号=\"\",\"\",_xlfn.WEBSERVICE(\"https://api.excelapi.org/post/address?zipcode=\"&報告_1_02管理者_ハ_郵便番号))","v":""}]
[null,null,"【ホ．電話番号】",{"$nulls":52},"AND($N43<>\"\",$N46=\"\")",null,{"$f":"IF(報告_1_02管理者_ホ_電話番号=\"\",\"\",_xlfn.WEBSERVICE(\"https://api.excelapi.org/phone/ispossible?number=\"&_xlfn.ENCODEURL(報告_1_02管理者_ホ_電話番号)))","v":""}]
[]
[]
[]
[]
[]
[null,"【3．報告対象建築物】"]
[null,null,"【イ．所在地】",{"$nulls":51},"AND($N55<>\"\",$BD53>=1)",{"$f":"BK53+BL53+BM53","v":3},{"$f":"COUNTA(N53,Q53,W53,AC53)","v":0},{"$f":"IF(報告書!N53&報告書!Q53&報告書!W53=\"\",\"\",IF(ISERR(INDEX(郵便番号, MATCH(報告書!N53&報告書!Q53&報告書!W53, 都道府県市区町村, 0), 1)),\"\",  INDEX(郵便番号, MATCH(報告書!N53&報告書!Q53&報告書!W53, 都道府県市区町村, 0), 1)))","v":""},{"$nulls":4},{"$f":"IF(BE53=0,1,0)","v":1},{"$f":"IF(BE53=4,0,1)","v":1},{"$f":"IF(ISNUMBER(BF53),0,1)","v":1}]
[null,null,"【ロ．名称のフリガナ】",{"$nulls":10},{"$f":"DBCS(PHONETIC(N55))","v":""},"","","","","","","","","","","","","","","","","","","","","","","","","","","","","","","","",{"$nulls":9},"AND($N55<>\"\",$N54=\"\")"]
[null,null,"【ハ．名称】",{"$nulls":45},{"$f":"DBCS(N55)","v":""},null,{"$f":"EXACT(N55,DBCS(N55))","v":true},{"$nulls":4},"AND($N54<>\"\",$N55=\"\")"]
[null,null,"【ニ．用途】",{"$nulls":15},{"$f":"IF(T56=\"\",\"\",\"、\")","v":""},{"$nulls":5},{"$f":"IF(Z56=\"\",\"\",\"、\")","v":""},{"$nulls":5},{"$f":"IF(AF56=\"\",\"\",\"、\")","v":""},{"$nulls":5},{"$f":"IF(AL56=\"\",\"\",\"、\")","v":""},{"$nulls":18},"AND($N55<>\"\",$N56=\"\")"]
[]
[]
[]
[]
[]
[null,"【4．検査による指摘の概要】",{"$nulls":53},"AND($N55<>\"\",$BE62=0,$BO78>=1)",{"$f":"COUNTIF(N63,\"レ\")+COUNTIF(X63,\"レ\")+COUNTIF(AG63,\"レ\")","v":0},"【検査結果表】","換気","排煙","非照","水",{"$f":"換気検査結果表!AK104","v":0},{"$f":"排煙検査結果表!AK179","v":0},{"$f":"非照検査結果表!AK107","v":0},{"$f":"水検査結果表!AK91","v":0},{"$f":"SUM(BK62:BN62)","v":0},{"$f":"IF(BO63>=1,\"要是正\",IF(AND(BO64>=1,BO63=0),\"既存不適格\",IF(BO62>=1,\"指摘なし\")))","v":false}]
[null,null,"【イ．指摘の内容】",{"$nulls":10},{"$f":"IF(OR(BP62=\"要是正\",BP62=\"既存不適格\"),\"レ\",\"\")","v":""},"要是正の指摘あり",{"$nulls":7},"(",{"$f":"IF(BP62=\"既存不適格\",\"レ\",\"\")","v":""},"既存不適格）",{"$nulls":7},{"$f":"IF(BP62=\"指摘なし\",\"レ\",\"\")","v":""},"指摘なし",{"$nulls":16},{"$f":"IF(報告書!AG63=\"レ\",\"_○A1\",IF(報告書!X63=\"レ\",\"_▲A2\",IF(報告書!N63=\"レ\",\"_★C2\",\"\")))","v":""},null,null,"指摘項目数",{"$f":"IF(X63=\"レ\",\"レ\",\"\")","v":""},{"$f":"IF(AND(N63=\"\",X63=\"レ\"),\"\",IF(X63=\"\",\"\",\"レ\"))","v":""},null,"要是正",{"$f":"換気検査結果表!U107","v":""},{"$f":"排煙検査結果表!U182","v":""},{"$f":"非照検査結果表!U110","v":""},{"$f":"水検査結果表!U94","v":""},{"$f":"換気検査結果表!AK105","v":0},{"$f":"排煙検査結果表!AK180","v":0},{"$f":"非照検査結果表!AK108","v":0},{"$f":"水検査結果表!AK92","v":0},{"$f":"SUM(BK63:BN63)","v":0}]
[null,null,"【ロ．指摘の概要】",{"$nulls":10},{"$f":"BM656","v":""},{"$nulls":32},{"$f":"IF(BB64=2,\"⠅\",IF(BB64=3,\"⠕\",IF(BB64=4,\"⠭\",\"\")))","v":""},"レ",{"$nulls":5},{"$f":"4-COUNTBLANK(BM656:BM659)","v":0},"⠂","AND($BB64>=2,$N65<>\"\")",null,"既存不適格",{"$f":"換気検査結果表!V107","v":""},{"$f":"排煙検査結果表!V182","v":""},{"$f":"非照検査結果表!V110","v":""},{"$f":"水検査結果表!V94","v":""},{"$f":"換気検査結果表!AK106","v":0},{"$f":"排煙検査結果表!AK181","v":0},{"$f":"非照検査結果表!AK109","v":0},{"$f":"水検査結果表!AK93","v":0},0]
[{"$nulls":13},{"$f":"BM657","v":""},{"$nulls":40},"⠅","AND($BB64>=3,$N65<>\"\",$N66<>\"\")"]
[{"$nulls":13},{"$f":"BM658","v":""},{"$nulls":40},"⠕","AND($BB64>=3,$N65<>\"\",$N66<>\"\",$N67<>\"\")"]
[{"$nulls":13},{"$f":"BM659","v":""},{"$nulls":40},"⠭","IF(BB64=2,\"⠅\",IF(BB64=3,\"⠕\",IF(BB64=4,\"⠭\",\"\")))"]
[]
[null,null,"【ハ．改善予定の有無】",{"$nulls":10},{"$f":"IF(報告書_全体_既存不適格=\"レ\",\"\",IF(BP709=\"有\",\"レ\",\"\"))","v":""},"有","（","令和",null,{"$f":"IF(報告書_全体_既存不適格=\"レ\",\"\",BQ709)","v":""},null,"年",{"$f":"IF(報告書_全体_既存不適格=\"レ\",\"\",BR709)","v":""},null,"月に改善予定）",{"$nulls":8},{"$f":"IF(OR(報告書_全体_既存不適格=\"レ\",報告書_全体_指摘なし=\"レ\"),\"\",IF(換気検査結果表!AK107+排煙検査結果表!AK182+非照検査結果表!AK110+水検査結果表!AK94=0,\"\",IF(BP709=\"無\",\"レ\",\"\")))","v":""},"無",{"$nulls":19},"特記項目数",null,"AND($N55<>\"\",$N63=\"レ\",$X63=\"\",$BE69=0,$BO78>=1)",{"$f":"COUNTIF(N69,\"レ\")+COUNTIF(AG69,\"レ\")","v":0},"改善予定",{"$f":"換気検査結果表!AL123","v":""},{"$f":"排煙検査結果表!AL198","v":""},{"$f":"非照検査結果表!AL126","v":""},{"$f":"水検査結果表!AL110","v":""},"IF(OR(BP62=\"要是正\",BP62=\"既存不適格\"),\"レ\",\"\")"]
[null,null,"【ニ．その他特記事項】",{"$nulls":10},{"$f":"BM670","v":""},{"$nulls":32},{"$f":"IF(BB70=2,\"⠅\",IF(BB70=3,\"⠕\",IF(BB70=4,\"⠭\",\"\")))","v":""},"レ",{"$nulls":5},{"$f":"4-COUNTBLANK(BM670:BM673)","v":0},null,"AND($BB70>=2,$N71<>\"\")",{"$nulls":6},"IF(BP62=\"既存不適格\",\"レ\",\"\")"]
[{"$nulls":13},{"$f":"BM671","v":""},{"$nulls":41},"AND($BB70>=3,$N71<>\"\",$N72<>\"\")"]
[{"$nulls":13},{"$f":"BM672","v":""},{"$nulls":41},"AND($BB70>=3,$N71<>\"\",$N72<>\"\",$N73<>\"\")"]
[{"$nulls":13},{"$f":"BM673","v":""},{"$nulls":41},"IF(BB70=2,\"⠅\",IF(BB70=3,\"⠕\",IF(BB70=4,\"⠭\",\"\")))"]
[]
[]
[]
[{"$nulls":57},"大臣項目継続",{"$f":"IF(実施状況表!BT6=\"\",\"\",MID(実施状況表!BT6,17,8))","v":""},{"$f":"IF(実施状況表!BT20=\"\",\"\",MID(実施状況表!BT20,17,8))","v":""},null,{"$f":"IF(実施状況表!BT41=\"\",\"\",MID(実施状況表!BT41,17,8))","v":""},{"$f":"IF(換気検査結果表!S2=\"-----\",\"\",IF(換気検査結果表!S2=\"未入力\",\"\",換気検査結果表!S2))","v":""},{"$f":"IF(排煙検査結果表!S2=\"-----\",\"\",IF(排煙検査結果表!S2=\"未入力\",\"\",排煙検査結果表!S2))","v":""},{"$f":"IF(非照検査結果表!S2=\"-----\",\"\",IF(非照検査結果表!S2=\"未入力\",\"\",非照検査結果表!S2))","v":""},{"$f":"IF(水検査結果表!S2=\"-----\",\"\",IF(水検査結果表!S2=\"未入力\",\"\",水検査結果表!S2))","v":""},{"$f":"4-COUNTIF(BK77:BN77,\"\")","v":0}]
[null,"　※受付欄",{"$nulls":9},"※特記欄",{"$nulls":27}," ※整理番号欄",{"$nulls":22},{"$f":"1-COUNTIF(BK77,\"\")","v":0},{"$f":"1-COUNTIF(BL77,\"\")","v":0},{"$f":"1-COUNTIF(BM77,\"\")","v":0},{"$f":"1-COUNTIF(BN77,\"\")","v":0}]
[null,"　令和",null,null,{"$f":"IF(AX78<>\"○\",\"\",AL16)","v":""},"年",{"$f":"IF(AX78<>\"○\",\"\",AO16)","v":""},"月",{"$f":"IF(AX78<>\"○\",\"\",AR16)","v":""},"日"]
[null,"　令和","第",{"$nulls":6},"号",{"$nulls":55},{"$f":"E79","v":""},{"$f":"BN80+2018","v":{"$error":"#VALUE!"}},{"$f":"G79","v":""},{"$f":"TEXT(BP80,\"00\")","v":""},{"$f":"BO80&\"/\"&BQ80","v":{"$error":"#VALUE!"}},{"$f":"MID(BR80,1,1)","v":{"$error":"#VALUE!"}},{"$f":"MID(BR80,3,2)","v":{"$error":"#VALUE!"}},{"$f":"I79","v":""},{"$f":"TEXT(BU80,\"00\")","v":""},{"$f":"BR80&\"/\"&BV80","v":{"$error":"#VALUE!"}},{"$f":"IF(BN80<5,\"\",VALUE(BW80))","v":{"$error":"#VALUE!"}},{"$f":"IF(E79&G79&I79=\"\",\"\",BO80&BQ80&BV80)","v":""}]
[null,null,"係員氏名",{"$nulls":35},{"$f":"IF(BC414=0,\"\",IF(W451=\"レ\",\"*\",\"\"))","v":""},{"$nulls":28},{"$f":"G79","v":""},{"$f":"TEXT(BP81,\"0\")","v":""},{"$f":"\"R\"&BN80&\"．\"&BQ81","v":"R．"},{"$f":"MID(BR81,1,1)","v":"R"},{"$f":"MID(BR81,3,2)","v":""},{"$f":"I79","v":""},{"$f":"TEXT(BU81,\"0\")","v":""},{"$f":"IF(OR(E79=\"\",G79=\"\",I79=\"\"),\"\",BR81&\"．\"&BV81)","v":""},{"$f":"BF17","v":46035}]
[null,null,{"$f":"LEFT(SUBSTITUTE(SUBSTITUTE(DBCS(報告_1_03建築物_ハ_名称),\"　\",\"\"),\" \",\"\"),20)","v":""},{"$nulls":25},{"$f":"IF($C$84=\"\",\"\",IF($AX$82=\"○\",$C$84,\"\"))","v":""},{"$nulls":10},{"$f":"IF(BH14=\"\",\"\",IF(BH14<5000,\"①\",IF(AND(BH14>=5000,BH14<10000),\"②\",IF(AND(BH14>=10000,BH14<20000),\"③\",IF(AND(BH14>=20000,BH14<50000),\"④\",IF(BH14>=50000,\"⑤\",\"\")))))&シート表示区分!O1)","v":""},{"$nulls":5},"#:::.",{"$nulls":6},{"$f":"IF(報告_1_03建築物_ハ_名称=\"\",\"\",\"【BEEC受付】\"&BY16&\"_\"&受付用!A10&\"_\"&LEFT(SUBSTITUTE(SUBSTITUTE(報告_1_03建築物_ハ_名称,\"　\",\"\"),\" \",\"\"),14))","v":""},""]
[null,null,"【報告済証等送付先】",{"$nulls":22},"【次回案内送付先】"]
[{"$nulls":54},{"$f":"COUNTA(C84,C85,C86,C87)","v":0},{"$f":"COUNTA(Z84,Z85,Z86,Z87)","v":0},null,{"$f":"IF(C85=\"\",\"\",_xlfn.WEBSERVICE(\"https://api.excelapi.org/post/address?zipcode=\"&C85))","v":""},{"$nulls":3},"【報告済証等送付先】"]
[{"$nulls":54},{"$f":"IF(BC84=0,1,0)+IF(BC84=4,1,0)","v":1},{"$f":"IF(BD84=0,1,0)+IF(BD84=4,1,0)","v":1},null,{"$f":"IF(C87=\"\",\"\",_xlfn.WEBSERVICE(\"https://api.excelapi.org/phone/ispossible?number=\"&_xlfn.ENCODEURL(C87)))","v":""}]
[{"$nulls":54},"AND($N55<>\"\",$BC85=0)","AND($N55<>\"\",$BD85=0)",null,{"$f":"IF(Z85=\"\",\"\",_xlfn.WEBSERVICE(\"https://api.excelapi.org/post/address?zipcode=\"&Z85))","v":""},{"$nulls":3},"【次回案内送付先】"]
[{"$nulls":57},{"$f":"IF(Z87=\"\",\"\",_xlfn.WEBSERVICE(\"https://api.excelapi.org/phone/ispossible?number=\"&_xlfn.ENCODEURL(Z87)))","v":""}]
[]
[null,"（第二面）"]
[]
[null,"報告対象建築物（再掲）"]
[null,null,"【イ．所在地】",{"$nulls":10},{"$f":"IF(報告書!N53=\"\",\"\",報告書!N53)&IF(報告書!Q53=\"\",\"\",報告書!Q53)&IF(報告書!W53=\"\",\"\",報告書!W53)&IF(報告書!AC53=\"\",\"\",報告書!AC53)","v":""}]
[null,null,"【ロ．名称のフリガナ】",{"$nulls":10},{"$f":"IF(報告書!N54=\"\",\"\",報告書!N54)","v":""}]
[null,null,"【ハ．名称】",{"$nulls":10},{"$f":"IF(報告書!N55=\"\",\"\",報告書!N55)","v":""},{"$nulls":48},"AND($BF105<>\"\",$O104=\"\")"]
[null,null,"【ニ．用途】",{"$nulls":10},{"$f":"IF(報告書!N56&報告書!S56&報告書!T56&報告書!Y56&報告書!Z56&報告書!AE56&報告書!AF56&報告書!AK56&報告書!AL56=\"\",\"\",報告書!N56&報告書!S56&報告書!T56&報告書!Y56&報告書!Z56&報告書!AE56&報告書!AF56&報告書!AK56&報告書!AL56)","v":""},{"$nulls":48},"AND($BG105<>\"\",$V104=\"\")"]
[{"$nulls":62},"AND($BH105<>\"\",$AC104=\"\")"]
[null,"建築設備の状況等",{"$nulls":60},"AND($BI105<>\"\",$O105=\"\")"]
[]
[]
[null,"【1．建築物の概要】",{"$nulls":52},{"$f":"IF(N136=\"\",\"\",1)","v":""},{"$f":"IF(O104=\"\",\"\",1)","v":""}]
[null,null,"【イ．階数】",{"$nulls":9},"地上",{"$nulls":4},"階",null,null,"地下",{"$nulls":4},"階",{"$nulls":28},{"$f":"IF(N218=\"\",\"\",1)","v":""},{"$f":"IF(V104=\"\",\"\",1)","v":""},{"$f":"COUNTA(P101,X101)","v":0},{"$nulls":5},"AND($N55<>\"\",$P101=\"\",$X101=\"\")","AND($N55<>\"\",$P101=\"\",$X101=\"\")"]
[null,null,"【ロ．建築面積】",{"$nulls":17},"㎡",{"$nulls":33},{"$f":"IF(N295=\"\",\"\",1)","v":""},{"$f":"IF(AC104=\"\",\"\",1)","v":""},{"$f":"COUNTA(M102)","v":0},{"$nulls":5},"AND($N55<>\"\",$M102=\"\")"]
[null,null,"【ハ．延べ面積】",{"$nulls":17},"㎡",{"$nulls":29},{"$f":"IF(BH14=\"\",\"\",IF(BH14<5000,\"_1\",IF(AND(BH14>=5000,BH14<10000),\"_2\",IF(AND(BH14>=10000,BH14<20000),\"_3\",IF(AND(BH14>=20000,BH14<50000),\"_4\",IF(BH14>=50000,\"_5\",\"\")))))&シート表示区分!O1)","v":""},{"$nulls":3},{"$f":"IF(N376=\"\",\"\",1)","v":""},{"$f":"IF(O105=\"\",\"\",1)","v":""},{"$f":"COUNTA(M103)","v":0},{"$nulls":5},"AND($N55<>\"\",$M103=\"\")"]
[null,null,"【ニ．検査対象建築設備】",{"$nulls":11},{"$f":"IF(AND(報告_2_04換検査者代表_ハ_氏名<>\"\",報告_1_03建築物_ハ_名称<>\"\"),\"レ\",\"\")","v":""},"換気設備",{"$nulls":5},{"$f":"IF(AND(報告_2_08排検査者代表_ハ_氏名<>\"\",報告_1_03建築物_ハ_名称<>\"\"),\"レ\",\"\")","v":""},"排煙設備",{"$nulls":5},{"$f":"IF(AND(報告_2_12非検査者代表_ハ_氏名<>\"\",報告_1_03建築物_ハ_名称<>\"\"),\"レ\",\"\")","v":""},"非常用の照明装置",{"$nulls":24},{"$f":"SUM(BC100:BC103)","v":0},{"$f":"SUM(BD100:BD103)","v":0},null,"【4．換気","【8．排煙","【12．非常","【16．給水"]
[{"$nulls":14},{"$f":"IF(AND(報告_2_16給検査者代表_ハ_氏名<>\"\",報告_1_03建築物_ハ_名称<>\"\"),\"レ\",\"\")","v":""},"給水設備及び排水設備",{"$nulls":29},{"$f":"IF(BC104=1,\"・\",IF(BC104=2,\"‥\",IF(BC104=3,\"∴\",IF(BC104=4,\"：：\",\"\"))))","v":""},{"$nulls":8},"AND($N55<>\"\",$BD105=0)",{"$f":"IF(BC104=BD104,1,0)","v":1},null,{"$f":"IF(報告_2_04換検査者代表_ハ_氏名=\"\",\"\",\"●\")","v":""},{"$f":"IF(報告_2_08排検査者代表_ハ_氏名=\"\",\"\",\"●\")","v":""},{"$f":"IF(報告_2_12非検査者代表_ハ_氏名=\"\",\"\",\"●\")","v":""},{"$f":"IF(報告_2_16給検査者代表_ハ_氏名=\"\",\"\",\"●\")","v":""}]
[]
[]
[]
[]
[]
[null,"【2．確認済証交付年月日等】",{"$nulls":52},{"$f":"IF(X111=\"レ\",\"レ\",\"\")","v":""},{"$f":"IF(AND(N111=\"\",X111=\"レ\"),\"\",IF(X111=\"\",\"\",\"レ\"))","v":""}]
[null,null,"【イ．確認済証交付年月日】",{"$nulls":20},"年",null,null,"月",null,null,"日",null,"第",{"$nulls":8},"号",{"$nulls":14},"AND(N55<>\"\",BE112>=1)",{"$f":"5-COUNTA(T112,V112,Y112,AB112,AG112)","v":5},{"$nulls":5},"AND($N55<>\"\",$T112=\"\")","AND($N55<>\"\",$V112=\"\")"]
[null,null,"【ロ．確認済証交付者】",{"$nulls":14},"建築主事等",{"$nulls":5},"指定確認検査機関 （",{"$nulls":19},"）",{"$nulls":11},"AND($N55<>\"\",$BE113=0)",{"$f":"COUNTA(Q113,W113)","v":0}]
[null,null,"【ハ．検査済証交付年月日】",{"$nulls":20},"年",null,null,"月",null,null,"日",null,"第",{"$nulls":8},"号",{"$nulls":14},"AND(N55<>\"\",BE114>=1)",{"$f":"5-COUNTA(T114,V114,Y114,AB114,AG114)","v":5},{"$nulls":5},"AND($N55<>\"\",$T114=\"\")","AND($N55<>\"\",$V114=\"\")"]
[null,null,"【ニ．検査済証交付者】",{"$nulls":14},"建築主事等",{"$nulls":5},"指定確認検査機関 （",{"$nulls":19},"）",{"$nulls":11},"AND($N55<>\"\",$BE115=0)",{"$f":"COUNTA(Q115,W115)","v":0}]
[]
[]
[]
[]
[]
[null,"【3．検査日等】",{"$nulls":55},"報告日",null,"１か月以内",null,null,"検査日","１カ月後","3カ月後",{"$nulls":10},"検査日"]
[null,null,"【イ．今回の検査】",{"$nulls":12},"令和",{"$nulls":3},"年",null,null,"月",null,null,"日実施",{"$nulls":29},"AND(N55<>\"\",BE122>=1)",{"$f":"3-COUNTA(R122,U122,X122)","v":3},{"$f":"IF(OR(AL16=\"\",AO16=\"\",AR16=\"\"),\"\",BX16)","v":""},null,{"$f":"IF(OR(BH17=\"\",BI17=\"\"),\"\",IF(BL122=\"\",\"\",IF(BF122<=BL122,\"OK\",\"NG\")))","v":""},{"$f":"IF(OR(BH17=\"\",BI17=\"\"),\"\",IF(BM122=\"\",\"\",IF(BF122<=BM122,\"\",\"要再検査\")))","v":""},null,{"$f":"BX122","v":""},{"$f":"IF(BK122=\"\",\"\",EDATE(BK122,1))","v":""},{"$f":"IF(BK122=\"\",\"\",EDATE(BK122,3))","v":""},{"$f":"R122","v":0},{"$f":"BN122+2018","v":2018},{"$f":"U122","v":0},{"$f":"TEXT(BP122,\"00\")","v":"00"},{"$f":"BO122&\"/\"&BQ122","v":"2018/00"},{"$f":"MID(BR122,1,1)","v":"2"},{"$f":"MID(BR122,3,2)","v":"18"},{"$f":"X122","v":0},{"$f":"TEXT(BU122,\"00\")","v":"00"},{"$f":"BR122&\"/\"&BV122","v":"2018/00/00"},{"$f":"IF(BN122<5,\"\",VALUE(BW122))","v":""}]
[null,null,"【ロ．前回の検査】",{"$nulls":9},"実施（",{"$nulls":6},"年",null,null,"月",null,null,"日報告）",{"$nulls":5},"未実施",{"$nulls":22},"AND(N55<>\"\",BD123=0)",{"$f":"BK123+BL123","v":0},{"$f":"COUNTA(P123,R123,U123,X123)","v":0},{"$nulls":5},{"$f":"IF(AND(L123=\"レ\",BE123=4,AE123=\"\"),1,0)","v":0},{"$f":"IF(AND(L123=\"\",BF123=0,AE123=\"レ\"),1,0)","v":0}]
[null,null,"【ハ．前回の検査に関する書類の写し】",{"$nulls":18},"有",null,null,"無",{"$nulls":29},"AND(N55<>\"\",BD124=0)",{"$f":"BK124+BL124","v":0},{"$f":"COUNTA(U124,X124)","v":0},{"$nulls":5},{"$f":"IF(AND(AE123=\"レ\",BE124=0),1,0)","v":0},{"$f":"IF(AND(L123=\"レ\",BE124=1),1,0)","v":0}]
[]
[]
[]
[]
[]
[null,"【4．換気設備の検査者】"]
[null," （代表となる検査者）"]
[null,null,"【イ．資格】",{"$nulls":6},"（",null,null," ）建築士",{"$nulls":9},"（",{"$nulls":6},"）登録第",{"$nulls":10},"号",{"$nulls":13},"AND(N136<>\"\",BD132=0)",{"$f":"BK132+BL132+BM132","v":0},{"$f":"COUNTA(報告_2_04換検査者代表_イ_資格_建築士級,報告_2_04換検査者代表_イ_資格_建築士登録,報告_2_04換検査者代表_イ_資格_建築士番号)","v":0},{"$nulls":5},{"$f":"IF(AND(BE133=0,BE132=3),1,0)","v":0},{"$f":"IF(AND(BE133=1,BE132=0),1,0)","v":0},{"$f":"IF(AND(BE133=1,BE132=3),1,0)","v":0}]
[{"$nulls":9},"建築設備検査員",{"$nulls":22},"第",{"$nulls":7},"号",{"$nulls":13},"AND(N136<>\"\",K132=\"\",X132=\"\",K132=\"\",AH132=\"\",AH133=\"\")",null,{"$f":"COUNTA(報告_2_04換検査者代表_イ_資格_適合番号)","v":0}]
[{"$nulls":56},{"$f":"COUNTA(報告_2_04換検査者代表_イ_資格_適合番号)","v":0}]
[null,null,"【ロ．氏名のフリガナ】",{"$nulls":10},{"$f":"DBCS(PHONETIC(N136))","v":""},"ﾀｹﾀﾞﾃﾂﾔ","ﾀｹﾀﾞﾃﾂﾔ","ﾀｹﾀﾞﾃﾂﾔ","ﾀｹﾀﾞﾃﾂﾔ","ﾀｹﾀﾞﾃﾂﾔ","ﾀｹﾀﾞﾃﾂﾔ","ﾀｹﾀﾞﾃﾂﾔ","ﾀｹﾀﾞﾃﾂﾔ","ﾀｹﾀﾞﾃﾂﾔ","ﾀｹﾀﾞﾃﾂﾔ","ﾀｹﾀﾞﾃﾂﾔ","ﾀｹﾀﾞﾃﾂﾔ","ﾀｹﾀﾞﾃﾂﾔ","ﾀｹﾀﾞﾃﾂﾔ","ﾀｹﾀﾞﾃﾂﾔ","ﾀｹﾀﾞﾃﾂﾔ","ﾀｹﾀﾞﾃﾂﾔ","ﾀｹﾀﾞﾃﾂﾔ","ﾀｹﾀﾞﾃﾂﾔ","ﾀｹﾀﾞﾃﾂﾔ","ﾀｹﾀﾞﾃﾂﾔ","ﾀｹﾀﾞﾃﾂﾔ","ﾀｹﾀﾞﾃﾂﾔ","ﾀｹﾀﾞﾃﾂﾔ","ﾀｹﾀﾞﾃﾂﾔ","ﾀｹﾀﾞﾃﾂﾔ","ﾀｹﾀﾞﾃﾂﾔ","ﾀｹﾀﾞﾃﾂﾔ","ﾀｹﾀﾞﾃﾂﾔ","ﾀｹﾀﾞﾃﾂﾔ","ﾀｹﾀﾞﾃﾂﾔ","ﾀｹﾀﾞﾃﾂﾔ",{"$nulls":9},"AND(N136<>\"\",N135=\"\")"]
[null,null,"【ハ．氏名】",{"$nulls":52},"AND(N135<>\"\",N136=\"\")"]
[null,null,"【ニ．勤務先】",{"$nulls":52},"AND(N136<>\"\",N137=\"\",BE138>=1)"]
[{"$nulls":9},"（",null,null," ）建築士事務所",{"$nulls":9},"（",{"$nulls":4},"）知事登録第",{"$nulls":12},"号",{"$nulls":13},"AND($N136<>\"\",$BD138=0)",{"$f":"BK138+BL138","v":1},{"$f":"COUNTA(報告_2_04換検査者代表_ニ_勤務先_級,報告_2_04換検査者代表_ニ_勤務先_登録,報告_2_04換検査者代表_ニ_勤務先_番号)","v":0},{"$nulls":5},{"$f":"IF(BE138=0,1,0)","v":1},{"$f":"IF(BE138=3,1,0)","v":0}]
[null,null,"【ホ．郵便番号】",{"$nulls":52},"AND($N136<>\"\",$N139=\"\")"]
[null,null,"【ヘ．所在地】",{"$nulls":52},"AND($N136<>\"\",$N140=\"\")",null,{"$f":"IF(報告_2_04換検査者代表_ホ_郵便番号=\"\",\"\",_xlfn.WEBSERVICE(\"https://api.excelapi.org/post/address?zipcode=\"&報告_2_04換検査者代表_ホ_郵便番号))","v":""}]
[null,null,"【ト．電話番号】",{"$nulls":52},"AND($N136<>\"\",$N141=\"\")",null,{"$f":"IF(報告_2_04換検査者代表_ト_電話番号=\"\",\"\",_xlfn.WEBSERVICE(\"https://api.excelapi.org/phone/ispossible?number=\"&_xlfn.ENCODEURL(報告_2_04換検査者代表_ト_電話番号)))","v":""}]
[null," （その他の検査者）"]
[null,null,"【イ．資格】",{"$nulls":6},"（",null,null," ）建築士",{"$nulls":9},"（",{"$nulls":6},"）登録第",{"$nulls":10},"号",{"$nulls":13},"AND(N147<>\"\",BD143=0)",{"$f":"BK143+BL143+BM143","v":0},{"$f":"COUNTA(報告_2_04換検査者他1_イ_資格_建築士級,報告_2_04換検査者他1_イ_資格_建築士登録,報告_2_04換検査者他1_イ_資格_建築士番号)","v":0},{"$nulls":5},{"$f":"IF(AND(BE144=0,BE143=3),1,0)","v":0},{"$f":"IF(AND(BE144=1,BE143=0),1,0)","v":0},{"$f":"IF(AND(BE144=1,BE143=3),1,0)","v":0}]
[{"$nulls":9},"建築設備検査員",{"$nulls":22},"第",{"$nulls":7},"号",{"$nulls":13},"AND(N147<>\"\",K143=\"\",X143=\"\",K143=\"\",AH143=\"\",AH144=\"\")",null,{"$f":"COUNTA(報告_2_04換検査者他1_イ_資格_適合番号)","v":0}]
[]
[null,null,"【ロ．氏名のフリガナ】",{"$nulls":10},{"$f":"DBCS(PHONETIC(N147))","v":""},"","","","","","","","","","","","","","","","","","","","","","","","","","","","","","","","",{"$nulls":9},"AND(N147<>\"\",N146=\"\")"]
[null,null,"【ハ．氏名】",{"$nulls":52},"AND(N146<>\"\",N147=\"\")"]
[null,null,"【ニ．勤務先】",{"$nulls":52},"AND(N147<>\"\",N148=\"\",BE149>=1)"]
[{"$nulls":9},"（",null,null," ）建築士事務所",{"$nulls":9},"（",{"$nulls":4},"）知事登録第",{"$nulls":12},"号",{"$nulls":13},"AND($N147<>\"\",$BD149=0)",{"$f":"BK149+BL149","v":1},{"$f":"COUNTA(報告_2_04換検査者他1_ニ_勤務先_級,報告_2_04換検査者他1_ニ_勤務先_登録,報告_2_04換検査者他1_ニ_勤務先_番号)","v":0},{"$nulls":5},{"$f":"IF(BE149=0,1,0)","v":1},{"$f":"IF(BE149=3,1,0)","v":0}]
[null,null,"【ホ．郵便番号】",{"$nulls":52},"AND($N147<>\"\",$N150=\"\")"]
[null,null,"【ヘ．所在地】",{"$nulls":52},"AND($N147<>\"\",$N151=\"\")",null,{"$f":"IF(報告_2_04換検査者他1_ホ_郵便番号=\"\",\"\",_xlfn.WEBSERVICE(\"https://api.excelapi.org/post/address?zipcode=\"&報告_2_04換検査者他1_ホ_郵便番号))","v":""}]
[null,null,"【ト．電話番号】",{"$nulls":52},"AND($N147<>\"\",$N152=\"\")",null,{"$f":"IF(報告_2_04換検査者他1_ト_電話番号=\"\",\"\",_xlfn.WEBSERVICE(\"https://api.excelapi.org/phone/ispossible?number=\"&_xlfn.ENCODEURL(報告_2_04換検査者他1_ト_電話番号)))","v":""}]
[null," （その他の検査者２）"]
[null,null,"【イ．資格】",{"$nulls":6},"（",null,null," ）建築士",{"$nulls":9},"（",{"$nulls":9},")登録第",{"$nulls":7},"号",{"$nulls":13},"AND(N158<>\"\",BD154=0)",{"$f":"BK154+BL154+BM154","v":0},{"$f":"COUNTA(報告_2_04換検査者他2_イ_資格_建築士級,報告_2_04換検査者他2_イ_資格_建築士登録,報告_2_04換検査者他2_イ_資格_建築士番号)","v":0},{"$nulls":5},{"$f":"IF(AND(BE155=0,BE154=3),1,0)","v":0},{"$f":"IF(AND(BE155=1,BE154=0),1,0)","v":0},{"$f":"IF(AND(BE155=1,BE154=3),1,0)","v":0}]
[{"$nulls":9},"建築設備検査員",{"$nulls":22},"第",{"$nulls":7},"号",{"$nulls":13},"AND(N158<>\"\",K154=\"\",X154=\"\",K154=\"\",AH154=\"\",AH155=\"\")",null,{"$f":"COUNTA(報告_2_04換検査者他2_イ_資格_適合番号)","v":0}]
[]
[null,null,"【ロ．氏名のフリガナ】",{"$nulls":10},{"$f":"DBCS(PHONETIC(N158))","v":""},"","","","","","","","","","","","","","","","","","","","","","","","","","","","","","","","",{"$nulls":9},"AND(N158<>\"\",N157=\"\")"]
[null,null,"【ハ．氏名】",{"$nulls":52},"AND(N157<>\"\",N158=\"\")"]
[null,null,"【ニ．勤務先】",{"$nulls":52},"AND(N158<>\"\",N159=\"\",BE160>=1)"]
[{"$nulls":9},"（",null,null," ）建築士事務所",{"$nulls":9},"（",{"$nulls":9},")知事登録第",{"$nulls":7},"号",{"$nulls":13},"AND($N158<>\"\",$BD160=0)",{"$f":"BK160+BL160","v":1},{"$f":"COUNTA(報告_2_04換検査者他2_ニ_勤務先_級,報告_2_04換検査者他2_ニ_勤務先_登録,報告_2_04換検査者他2_ニ_勤務先_番号)","v":0},{"$nulls":5},{"$f":"IF(BE160=0,1,0)","v":1},{"$f":"IF(BE160=3,1,0)","v":0}]
[null,null,"【ホ．郵便番号】",{"$nulls":52},"AND($N158<>\"\",$N161=\"\")"]
[null,null,"【ヘ．所在地】",{"$nulls":52},"AND($N158<>\"\",$N162=\"\")",null,{"$f":"IF(報告_2_04換検査者他2_ホ_郵便番号=\"\",\"\",_xlfn.WEBSERVICE(\"https://api.excelapi.org/post/address?zipcode=\"&報告_2_04換検査者他2_ホ_郵便番号))","v":""}]
[null,null,"【ト．電話番号】",{"$nulls":52},"AND($N158<>\"\",$N163=\"\")",null,{"$f":"IF(報告_2_04換検査者他2_ト_電話番号=\"\",\"\",_xlfn.WEBSERVICE(\"https://api.excelapi.org/phone/ispossible?number=\"&_xlfn.ENCODEURL(報告_2_04換検査者他2_ト_電話番号)))","v":""}]
[]
[]
[]
[]
[]
[null,"【5．換気設備の概要】",{"$nulls":55},"【検査結果表】","機械換気設備1(1)-(10)","中央管理方式の空気調和設備1(11)-(21)"]
[null,null,"【イ．無窓居室】",{"$nulls":9},"自然換気設備 （",{"$nulls":6},"―",null,"系統",null,"―",null,"室）",{"$nulls":3},"機械換気設備 (",{"$nulls":8},"系統",{"$nulls":3},"室）",{"$nulls":11},{"$f":"IF(AC170=\"レ\",1,0)","v":0},"AND($N136<>\"\",$BE170=0)",{"$f":"COUNTA(L170,AC170,L171,L172,AC172)","v":0},"(無窓居室)",{"$f":"IF(換気検査結果表!AC24=0,\"\",\"●\")","v":""},{"$f":"IF(換気検査結果表!AC35=0,\"\",\"●\")","v":""}]
[{"$nulls":12},"中央管理方式の空気調和設備 (",{"$nulls":15},"系統",{"$nulls":3},"室）",{"$nulls":21},{"$f":"IF(L171=\"レ\",1,0)","v":0}]
[{"$nulls":12},"その他 (",{"$nulls":5},"系統",{"$nulls":3},"室）",{"$nulls":6},"無"]
[null,null,"【ロ．火気使用室】",{"$nulls":9},"自然換気設備 （",{"$nulls":6},"―",null,"系統",null,"―",null,"室）",{"$nulls":3},"機械換気設備 (",{"$nulls":8},"系統",{"$nulls":3},"室）",{"$nulls":12},"AND($N136<>\"\",$BE173=0)",{"$f":"COUNTA(L173,AC173,L174,AC174)","v":0},"火気使用室",{"$f":"IF(換気検査結果表!AC64=0,\"\",\"●\")","v":""}]
[{"$nulls":12},"その他 (",{"$nulls":5},"系統",{"$nulls":3},"室）",{"$nulls":6},"無"]
[null,null,"【ハ．居室等】",{"$nulls":9},"自然換気設備 （",{"$nulls":6},"―",null,"系統",null,"―",null,"室）",{"$nulls":3},"機械換気設備 (",{"$nulls":8},"系統",{"$nulls":3},"室）",{"$nulls":11},{"$f":"IF(AC175=\"レ\",1,0)","v":0},"AND($N136<>\"\",$BE175=0)",{"$f":"COUNTA(L175,AC175,L176,L177,AC177)","v":0},"(居室等)",{"$f":"IF(換気検査結果表!AC24=0,\"\",\"●\")","v":""},{"$f":"IF(換気検査結果表!AC35=0,\"\",\"●\")","v":""}]
[{"$nulls":12},"中央管理方式の空気調和設備 (",{"$nulls":15},"系統",{"$nulls":3},"室）",{"$nulls":21},{"$f":"IF(L176=\"レ\",1,0)","v":0}]
[{"$nulls":12},"その他 (",{"$nulls":5},"系統",{"$nulls":3},"室）",{"$nulls":6},"無",{"$nulls":24},{"$f":"BC170+BC171+BC175+BC176","v":0}]
[null,null,"【ニ．空気調和設備・冷暖房設備】",{"$nulls":16},"個別パッケージ",{"$nulls":9},"全空気",{"$nulls":5},"ヒートポンプ"]
[{"$nulls":19},"ファンコイルユニット併用",{"$nulls":15},"その他 (",{"$nulls":9},"）"]
[null,null,"【ニ．防火ダンパーの有無】",{"$nulls":16},"有",null,null,"無",{"$nulls":32},"AND($N136<>\"\",$BE180=0)",{"$f":"COUNTA(S180,V180)","v":0},"防火ダンパー等",{"$f":"IF(換気検査結果表!AC82=0,\"\",\"●\")","v":""}]
[]
[]
[]
[]
[null,"【6．換気設備の検査の状況】",{"$nulls":53},"AND($N136<>\"\",$BE185=0,$BK79=1)",{"$f":"COUNTIF(N186,\"レ\")+COUNTIF(X186,\"レ\")+COUNTIF(AG186,\"レ\")","v":0}]
[null,null,"【イ．指摘の内容】",{"$nulls":10},{"$f":"IF(OR(換気検査結果表!AL104=\"要是正\",換気検査結果表!AL104=\"既存不適格\"),\"レ\",\"\")","v":""},"要是正の指摘あり （",{"$nulls":8},{"$f":"IF(換気検査結果表!AL104=\"既存不適格\",\"レ\",\"\")","v":""},"既存不適格）",{"$nulls":7},{"$f":"IF(換気検査結果表!AL104=\"指摘なし\",\"レ\",\"\")","v":""},"指摘なし",{"$nulls":20},{"$f":"IF(X186=\"レ\",\"レ\",\"\")","v":""},{"$f":"IF(AND(N186=\"\",X186=\"レ\"),\"\",IF(X186=\"\",\"\",\"レ\"))","v":""},null,"要是正",{"$f":"換気検査結果表!U108","v":""}]
[null,null,"【ロ．指摘の概要】",{"$nulls":10},{"$f":"BI656","v":""},{"$nulls":43},"既存不適格",{"$f":"換気検査結果表!V108","v":""}]
[]
[]
[]
[]
[null,null,"【ハ．改善予定の有無】",{"$nulls":10},{"$f":"IF(報告書_換気_既存不適格=\"レ\",\"\",IF(換気検査結果表!AL122=\"有\",\"レ\",\"\"))","v":""},"有","（","令和",null,{"$f":"IF(報告書_換気_既存不適格=\"レ\",\"\",換気検査結果表!AM122)","v":""},null,"年",{"$f":"IF(報告書_換気_既存不適格=\"レ\",\"\",換気検査結果表!AN122)","v":""},null,"月に改善予定）",{"$nulls":8},{"$f":"IF(報告書_換気_既存不適格=\"レ\",\"\",IF(報告_2_04換検査者代表_ハ_氏名=\"\",\"\",IF(換気検査結果表!AL122=\"無\",\"レ\",\"\")))","v":""},"無",{"$nulls":21},"AND($N136<>\"\",$N186=\"レ\",$X186=\"\",$BE192=0,$BK79=1)",{"$f":"COUNTIF(N192,\"レ\")+COUNTIF(AG192,\"レ\")","v":0},"改善予定",{"$f":"換気検査結果表!AL123","v":""}]
[null,null,"【ニ．その他特記事項】",{"$nulls":10},{"$f":"BI670","v":""}]
[]
[]
[]
[]
[null,"【7．換気設備の不具合の発生状況】",{"$nulls":52},"IF(OR(換気検査結果表!S2=\"指摘なし\",換気検査結果表!S2=\"既存不適格\",換気検査結果表!S2=\"要是正\"),IF(報告_2_04換検査者代表_ハ_氏名=\"\",\"\",IF(COUNTA(H484:Q493)=0,\"レ\",\"\")),\"\")",null,null,"（第三面）"]
[null,null,"【イ．不具合】",{"$nulls":8},{"$f":"IF(報告_2_04換検査者代表_ハ_氏名=\"\",\"\",IF(COUNTA(H484:Q486)>=1,\"レ\",\"\"))","v":""},"有",null,{"$f":"IF(OR(換気検査結果表!S2=\"指摘なし\",換気検査結果表!S2=\"既存不適格\",換気検査結果表!S2=\"要是正\"),IF(報告_2_04換検査者代表_ハ_氏名=\"\",\"\",IF(COUNTA(H484:Q486)=0,\"レ\",\"\")),\"\")","v":""},"無",{"$nulls":39},"AND($N136<>\"\",$BE199=0,$BK79=1)",{"$f":"COUNTIF(L199,\"レ\")+COUNTIF(O199,\"レ\")","v":0},"不具合",{"$f":"IF(COUNTA(H484:Q486)=0,\"\",\"●\")","v":""}]
[null,null,"【ロ．不具合記録】",{"$nulls":9},"有",null,null,"無",{"$nulls":39},"AND($N136<>\"\",$L199=\"レ\",$BE200=0,$BK79=1)",{"$f":"COUNTA(#REF!,#REF!)","v":2},"記録"]
[null,null,"【ハ．改善の状況】",{"$nulls":8},{"$f":"IF(BZ495=\"改善済\",\"レ\",\"\")","v":""},"実施済",{"$nulls":3},{"$f":"IF(BZ495=\"有\",\"レ\",\"\")","v":""},"改善予定",{"$nulls":3},"（","令和",null,{"$f":"IF(BZ495=\"有\",CA495,\"\")","v":""},null,"年",{"$f":"IF(BZ495=\"有\",CB495,\"\")","v":""},null,"月に改善予定）",{"$nulls":7},{"$f":"IF(BZ495=\"無\",\"レ\",\"\")","v":""},"予定なし",{"$nulls":16},"AND($N136<>\"\",$L199=\"レ\",$BE201=0,$BK79=1)",{"$f":"COUNTIF(L201,\"レ\")+COUNTIF(Q201,\"レ\")+COUNTIF(AL201,\"レ\")","v":0},"改善状況",{"$f":"BZ496","v":""}]
{"$rows_empty":10}
[null,"【8．排煙設備の検査者】"]
[null," （代表となる検査者）"]
[null,null,"【イ．資格】",{"$nulls":6},"（",null,null," ）建築士",{"$nulls":9},"（",{"$nulls":6},"）登録第",{"$nulls":10},"号",{"$nulls":13},"AND(N218<>\"\",BD214=0)",{"$f":"BK214+BL214+BM214","v":0},{"$f":"COUNTA(報告_2_08排検査者代表_イ_資格_建築士級,報告_2_08排検査者代表_イ_資格_建築士登録,報告_2_08排検査者代表_イ_資格_建築士番号)","v":0},{"$nulls":5},{"$f":"IF(AND(BE215=0,BE214=3),1,0)","v":0},{"$f":"IF(AND(BE215=1,BE214=0),1,0)","v":0},{"$f":"IF(AND(BE215=1,BE214=3),1,0)","v":0}]
[{"$nulls":9},"建築設備検査員",{"$nulls":22},"第",{"$nulls":7},"号",{"$nulls":13},"AND(N218<>\"\",K214=\"\",X214=\"\",K214=\"\",AH214=\"\",AH215=\"\")",null,{"$f":"COUNTA(報告_2_08排検査者代表_イ_資格_適合番号)","v":0}]
[]
[null,null,"【ロ．氏名のフリガナ】",{"$nulls":10},{"$f":"DBCS(PHONETIC(N218))","v":""},"ﾀｹﾀﾞﾃﾂﾔ","ﾀｹﾀﾞﾃﾂﾔ","ﾀｹﾀﾞﾃﾂﾔ","ﾀｹﾀﾞﾃﾂﾔ","ﾀｹﾀﾞﾃﾂﾔ","ﾀｹﾀﾞﾃﾂﾔ","ﾀｹﾀﾞﾃﾂﾔ","ﾀｹﾀﾞﾃﾂﾔ","ﾀｹﾀﾞﾃﾂﾔ","ﾀｹﾀﾞﾃﾂﾔ","ﾀｹﾀﾞﾃﾂﾔ","ﾀｹﾀﾞﾃﾂﾔ","ﾀｹﾀﾞﾃﾂﾔ","ﾀｹﾀﾞﾃﾂﾔ","ﾀｹﾀﾞﾃﾂﾔ","ﾀｹﾀﾞﾃﾂﾔ","ﾀｹﾀﾞﾃﾂﾔ","ﾀｹﾀﾞﾃﾂﾔ","ﾀｹﾀﾞﾃﾂﾔ","ﾀｹﾀﾞﾃﾂﾔ","ﾀｹﾀﾞﾃﾂﾔ","ﾀｹﾀﾞﾃﾂﾔ","ﾀｹﾀﾞﾃﾂﾔ","ﾀｹﾀﾞﾃﾂﾔ","ﾀｹﾀﾞﾃﾂﾔ","ﾀｹﾀﾞﾃﾂﾔ","ﾀｹﾀﾞﾃﾂﾔ","ﾀｹﾀﾞﾃﾂﾔ","ﾀｹﾀﾞﾃﾂﾔ","ﾀｹﾀﾞﾃﾂﾔ","ﾀｹﾀﾞﾃﾂﾔ","ﾀｹﾀﾞﾃﾂﾔ",{"$nulls":9},"AND(N218<>\"\",N217=\"\")"]
[null,null,"【ハ．氏名】",{"$nulls":51},{"$f":"IF(N218=\"\",0,1)","v":0},"AND(N217<>\"\",N218=\"\")"]
[null,null,"【ニ．勤務先】",{"$nulls":52},"AND(N218<>\"\",N219=\"\",BE220>=1)"]
[{"$nulls":9},"（",null,null," ）建築士事務所",{"$nulls":9},"（",{"$nulls":4},"）知事登録第",{"$nulls":12},"号",{"$nulls":13},"AND($N218<>\"\",$BD220=0)",{"$f":"BK220+BL220","v":1},{"$f":"COUNTA(報告_2_08排検査者代表_ニ_勤務先_級,報告_2_08排検査者代表_ニ_勤務先_登録,報告_2_08排検査者代表_ニ_勤務先_番号)","v":0},{"$nulls":5},{"$f":"IF(BE220=0,1,0)","v":1},{"$f":"IF(BE220=3,1,0)","v":0}]
[null,null,"【ホ．郵便番号】",{"$nulls":52},"AND($N218<>\"\",$N221=\"\")"]
[null,null,"【ヘ．所在地】",{"$nulls":52},"AND($N218<>\"\",$N222=\"\")",null,{"$f":"IF(報告_2_08排検査者代表_ホ_郵便番号=\"\",\"\",_xlfn.WEBSERVICE(\"https://api.excelapi.org/post/address?zipcode=\"&報告_2_08排検査者代表_ホ_郵便番号))","v":""}]
[null,null,"【ト．電話番号】",{"$nulls":52},"AND($N218<>\"\",$N223=\"\")",null,{"$f":"IF(報告_2_08排検査者代表_ト_電話番号=\"\",\"\",_xlfn.WEBSERVICE(\"https://api.excelapi.org/phone/ispossible?number=\"&_xlfn.ENCODEURL(報告_2_08排検査者代表_ト_電話番号)))","v":""}]
[null," （その他の検査者）"]
[null,null,"【イ．資格】",{"$nulls":6},"（",null,null," ）建築士",{"$nulls":9},"（",{"$nulls":6},"）登録第",{"$nulls":10},"号",{"$nulls":13},"AND(N229<>\"\",BD225=0)",{"$f":"BK225+BL225+BM225","v":0},{"$f":"COUNTA(報告_2_08排検査者他1_イ_資格_建築士級,報告_2_08排検査者他1_イ_資格_建築士登録,報告_2_08排検査者他1_イ_資格_建築士番号)","v":0},{"$nulls":5},{"$f":"IF(AND(BE226=0,BE225=3),1,0)","v":0},{"$f":"IF(AND(BE226=1,BE225=0),1,0)","v":0},{"$f":"IF(AND(BE226=1,BE225=3),1,0)","v":0}]
[{"$nulls":9},"建築設備検査員",{"$nulls":22},"第",{"$nulls":7},"号",{"$nulls":13},"AND(N229<>\"\",K225=\"\",X225=\"\",K225=\"\",AH225=\"\",AH226=\"\")",null,{"$f":"COUNTA(報告_2_08排検査者他1_イ_資格_適合番号)","v":0}]
[]
[null,null,"【ロ．氏名のフリガナ】",{"$nulls":10},{"$f":"DBCS(PHONETIC(N229))","v":""},"","","","","","","","","","","","","","","","","","","","","","","","","","","","","","","","",{"$nulls":9},"AND(N229<>\"\",N228=\"\")"]
[null,null,"【ハ．氏名】",{"$nulls":52},"AND(N228<>\"\",N229=\"\")"]
[null,null,"【ニ．勤務先】",{"$nulls":52},"AND(N229<>\"\",N230=\"\",BE231>=1)"]
[{"$nulls":9},"（",null,null," ）建築士事務所",{"$nulls":9},"（",{"$nulls":4},"）知事登録第",{"$nulls":12},"号",{"$nulls":13},"AND($N229<>\"\",$BD231=0)",{"$f":"BK231+BL231","v":1},{"$f":"COUNTA(報告_2_08排検査者他1_ニ_勤務先_級,報告_2_08排検査者他1_ニ_勤務先_登録,報告_2_08排検査者他1_ニ_勤務先_番号)","v":0},{"$nulls":5},{"$f":"IF(BE231=0,1,0)","v":1},{"$f":"IF(BE231=3,1,0)","v":0}]
[null,null,"【ホ．郵便番号】",{"$nulls":52},"AND($N229<>\"\",$N232=\"\")"]
[null,null,"【ヘ．所在地】",{"$nulls":10},"",{"$nulls":41},"AND($N229<>\"\",$N233=\"\")",null,{"$f":"IF(報告_2_08排検査者他1_ホ_郵便番号=\"\",\"\",_xlfn.WEBSERVICE(\"https://api.excelapi.org/post/address?zipcode=\"&報告_2_08排検査者他1_ホ_郵便番号))","v":""}]
[null,null,"【ト．電話番号】",{"$nulls":52},"AND($N229<>\"\",$N234=\"\")",null,{"$f":"IF(報告_2_08排検査者他1_ト_電話番号=\"\",\"\",_xlfn.WEBSERVICE(\"https://api.excelapi.org/phone/ispossible?number=\"&_xlfn.ENCODEURL(報告_2_08排検査者他1_ト_電話番号)))","v":""}]
[null," （その他の検査者２）"]
[null,null,"【イ．資格】",{"$nulls":6},"（",null,null," ）建築士",{"$nulls":9},"（",{"$nulls":9},")登録第",{"$nulls":7},"号",{"$nulls":13},"AND(N240<>\"\",BD236=0)",{"$f":"BK236+BL236+BM236","v":0},{"$f":"COUNTA(報告_2_08排検査者他2_イ_資格_建築士級,報告_2_08排検査者他2_イ_資格_建築士登録,報告_2_08排検査者他2_イ_資格_建築士番号)","v":0},{"$nulls":5},{"$f":"IF(AND(BE237=0,BE236=3),1,0)","v":0},{"$f":"IF(AND(BE237=1,BE236=0),1,0)","v":0},{"$f":"IF(AND(BE237=1,BE236=3),1,0)","v":0}]
[{"$nulls":9},"建築設備検査員",{"$nulls":22},"第",{"$nulls":7},"号",{"$nulls":13},"AND(N240<>\"\",K236=\"\",X236=\"\",K236=\"\",AH236=\"\",AH237=\"\")",null,{"$f":"COUNTA(報告_2_08排検査者他2_イ_資格_適合番号)","v":0}]
[]
[null,null,"【ロ．氏名のフリガナ】",{"$nulls":10},{"$f":"DBCS(PHONETIC(N240))","v":""},"","","","","","","","","","","","","","","","","","","","","","","","","","","","","","","","",{"$nulls":9},"AND(N240<>\"\",N239=\"\")"]
[null,null,"【ハ．氏名】",{"$nulls":52},"AND(N239<>\"\",N240=\"\")"]
[null,null,"【ニ．勤務先】",{"$nulls":52},"AND(N240<>\"\",N241=\"\",BE242>=1)"]
[{"$nulls":9},"（",null,null," ）建築士事務所",{"$nulls":9},"（",{"$nulls":9},")知事登録第",{"$nulls":7},"号",{"$nulls":13},"AND($N240<>\"\",$BD242=0)",{"$f":"BK242+BL242","v":1},{"$f":"COUNTA(報告_2_08排検査者他2_ニ_勤務先_級,報告_2_08排検査者他2_ニ_勤務先_登録,報告_2_08排検査者他2_ニ_勤務先_番号)","v":0},{"$nulls":5},{"$f":"IF(BE242=0,1,0)","v":1},{"$f":"IF(BE242=3,1,0)","v":0}]
[null,null,"【ホ．郵便番号】",{"$nulls":52},"AND($N240<>\"\",$N243=\"\")"]
[null,null,"【ヘ．所在地】",{"$nulls":52},"AND($N240<>\"\",$N244=\"\")",null,{"$f":"IF(報告_2_08排検査者他2_ホ_郵便番号=\"\",\"\",_xlfn.WEBSERVICE(\"https://api.excelapi.org/post/address?zipcode=\"&報告_2_08排検査者他2_ホ_郵便番号))","v":""}]
[null,null,"【ト．電話番号】",{"$nulls":52},"AND($N240<>\"\",$N245=\"\")",null,{"$f":"IF(報告_2_08排検査者他2_ト_電話番号=\"\",\"\",_xlfn.WEBSERVICE(\"https://api.excelapi.org/phone/ispossible?number=\"&_xlfn.ENCODEURL(報告_2_08排検査者他2_ト_電話番号)))","v":""}]
[]
[]
[]
[null,"【9．排煙設備の概要】"]
[null,null,"【イ．避難安全検証法等の適用】",{"$nulls":15},"区画避難安全検証法(",{"$nulls":9},"",null,"階)",null,null,"階避難安全検証法(",{"$nulls":10},"階)",{"$nulls":11},{"$f":"COUNTA(R250,AG250,K251,V251)","v":0}]
[{"$nulls":11},"全館避難安全検証法",{"$nulls":10},"その他 (",{"$nulls":21},")"]
[null,null,"【ロ．特別避難階段の階段室又は付室】",{"$nulls":54},"【検査結果表】","吸引","給気","加圧"]
[{"$nulls":11},"吸引式 (",{"$nulls":5},"区画)",{"$nulls":4},"給気式 (",{"$nulls":5},"区画)",{"$nulls":4},"加圧式 (",{"$nulls":5},"区画)",{"$nulls":4},"無",{"$nulls":10},"AND($N218<>\"\",$BE253=0)",{"$f":"COUNTA(K253,V253,AG253,AR253)","v":0},"特避付室",{"$f":"IF(排煙検査結果表!AC25=0,\"\",\"●\")","v":""},{"$f":"IF(排煙検査結果表!AC56=0,\"\",\"●\")","v":""},{"$f":"IF(排煙検査結果表!AC88=0,\"\",\"●\")","v":""}]
[null,null,"【ハ．非常用エレベーターの昇降路又は乗降ロビー】",{"$nulls":54},"非EV乗降"]
[{"$nulls":11},"吸引式 (",{"$nulls":5},"区画)",{"$nulls":4},"給気式 (",{"$nulls":5},"区画)",{"$nulls":4},"加圧式 (",{"$nulls":5},"区画)",{"$nulls":4},"無",{"$nulls":10},"AND($N218<>\"\",$BE255=0)",{"$f":"COUNTA(K255,V255,AG255,AR255)","v":0},"非EV付室"]
[null,null,"【ニ．非常用エレベーターの乗降ロビーの用に供する付室】",{"$nulls":54},"居室"]
[{"$nulls":11},"吸引式 (",{"$nulls":5},"区画)",{"$nulls":4},"給気式 (",{"$nulls":5},"区画)",{"$nulls":4},"加圧式 (",{"$nulls":5},"区画)",{"$nulls":4},"無",{"$nulls":10},"AND($N218<>\"\",$BE257=0)",{"$f":"COUNTA(K257,V257,AG257,AR257)","v":0}]
[null,null,"【ホ．居室等】",{"$nulls":8},"吸引式 (",{"$nulls":5},"区画)",{"$nulls":4},"給気式 (",{"$nulls":5},"区画)",{"$nulls":15},"無",{"$nulls":10},"AND($N218<>\"\",$BE258=0)",{"$f":"COUNTA(K258,V258,AR258)","v":0},null,"蓄電池","自家発","直結エンジン"]
[null,null,"【ヘ．予備電源】",{"$nulls":8},"蓄電池",{"$nulls":4},"自家用発電装置",{"$nulls":8},"直結エンジン",{"$nulls":7},"その他(",{"$nulls":10},")",{"$nulls":10},"AND($N218<>\"\",$BE259=0)",{"$f":"COUNTA(K259,P259,Y259,AG259)","v":0},"予備電源",{"$f":"IF(排煙検査結果表!AC144+排煙検査結果表!AC158=0,\"\",\"●\")","v":""},{"$f":"IF(排煙検査結果表!AC139=0,\"\",\"●\")","v":""},{"$f":"IF(排煙検査結果表!AC156=0,\"\",\"●\")","v":""}]
[]
[]
[null,"【10．排煙設備の検査の状況】",{"$nulls":53},"AND($N218<>\"\",$BE262=0,$BL79=1)",{"$f":"COUNTIF(N263,\"レ\")+COUNTIF(X263,\"レ\")+COUNTIF(AG263,\"レ\")","v":0}]
[null,null,"【イ．指摘の内容】",{"$nulls":10},{"$f":"IF(OR(排煙検査結果表!AL179=\"要是正\",排煙検査結果表!AL179=\"既存不適格\"),\"レ\",\"\")","v":""},"要是正の指摘あり （",{"$nulls":8},{"$f":"IF(排煙検査結果表!AL179=\"既存不適格\",\"レ\",\"\")","v":""},"既存不適格）",{"$nulls":7},{"$f":"IF(排煙検査結果表!AL179=\"指摘なし\",\"レ\",\"\")","v":""},"指摘なし",{"$nulls":20},{"$f":"IF(X263=\"レ\",\"レ\",\"\")","v":""},{"$f":"IF(AND(N263=\"\",X263=\"レ\"),\"\",IF(X263=\"\",\"\",\"レ\"))","v":""},null,"要是正",{"$f":"排煙検査結果表!U183","v":""}]
[null,null,"【ロ．指摘の概要】",{"$nulls":10},{"$f":"BI657","v":""},{"$nulls":43},"既存不適格",{"$f":"排煙検査結果表!V183","v":""}]
[]
[]
[]
[]
[null,null,"【ハ．改善予定の有無】",{"$nulls":10},{"$f":"IF(報告書_排煙_既存不適格=\"レ\",\"\",IF(排煙検査結果表!AL197=\"有\",\"レ\",\"\"))","v":""},"有","（","令和",null,{"$f":"IF(報告書_排煙_既存不適格=\"レ\",\"\",排煙検査結果表!AM197)","v":""},null,"年",{"$f":"IF(報告書_排煙_既存不適格=\"レ\",\"\",排煙検査結果表!AN197)","v":""},null,"月に改善予定）",{"$nulls":8},{"$f":"IF(報告書_排煙_既存不適格=\"レ\",\"\",IF(報告_2_08排検査者代表_ハ_氏名=\"\",\"\",IF(排煙検査結果表!AL197=\"無\",\"レ\",\"\")))","v":""},"無",{"$nulls":21},"AND($N218<>\"\",$N263=\"レ\",$X263=\"\",$BE269=0,$BL79=1)",{"$f":"COUNTIF(N269,\"レ\")+COUNTIF(AG269,\"レ\")","v":0},"改善予定",{"$f":"排煙検査結果表!AL198","v":""}]
[null,null,"【ニ．その他特記事項】",{"$nulls":10},{"$f":"BI671","v":""}]
[]
[]
[]
[]
[null,"【11．排煙設備の不具合の発生状況】",{"$nulls":52},"IF(OR(排煙検査結果表!S2=\"指摘なし\",排煙検査結果表!S2=\"既存不適格\",排煙検査結果表!S2=\"要是正\"),IF(報告_2_08排検査者代表_ハ_氏名=\"\",\"\",IF(COUNTA(H499:Q508)=0,\"レ\",\"\")),\"\")",null,null,"（第三面）"]
[null,null,"【イ．不具合】",{"$nulls":8},{"$f":"IF(報告_2_08排検査者代表_ハ_氏名=\"\",\"\",IF(COUNTA(H499:Q501)>=1,\"レ\",\"\"))","v":""},"有",null,{"$f":"IF(OR(排煙検査結果表!S2=\"指摘なし\",排煙検査結果表!S2=\"既存不適格\",排煙検査結果表!S2=\"要是正\"),IF(報告_2_08排検査者代表_ハ_氏名=\"\",\"\",IF(COUNTA(H499:Q501)=0,\"レ\",\"\")),\"\")","v":""},"無",{"$nulls":39},"AND($N218<>\"\",$BE276=0,$BL79=1)",{"$f":"COUNTIF(L276,\"レ\")+COUNTIF(O276,\"レ\")","v":0},"不具合",{"$f":"IF(COUNTA(H499:Q501)=0,\"\",\"●\")","v":""}]
[null,null,"【ロ．不具合記録】",{"$nulls":9},"有",null,null,"無",{"$nulls":39},"AND($N218<>\"\",$L276=\"レ\",$BE277=0,$BL79=1)",{"$f":"COUNTA(L277,O277)","v":0},"記録"]
[null,null,"【ハ．改善の状況】",{"$nulls":8},{"$f":"IF(BZ510=\"改善済\",\"レ\",\"\")","v":""},"実施済",{"$nulls":3},{"$f":"IF(BZ510=\"有\",\"レ\",\"\")","v":""},"改善予定",{"$nulls":3},"（","令和",null,{"$f":"IF(BZ510=\"有\",CA510,\"\")","v":""},null,"年",{"$f":"IF(BZ510=\"有\",CB510,\"\")","v":""},null,"月に改善予定）",{"$nulls":7},{"$f":"IF(BZ510=\"無\",\"レ\",\"\")","v":""},"予定なし",{"$nulls":16},"AND($N218<>\"\",$L276=\"レ\",$BE278=0,$BL79=1)",{"$f":"COUNTIF(L278,\"レ\")+COUNTIF(Q278,\"レ\")+COUNTIF(AL278,\"レ\")","v":0},"改善状況",{"$f":"BZ511","v":""}]
{"$rows_empty":10}
[null,"【12．非常用の照明装置の検査者】"]
[null," （代表となる検査者）"]
[null,null,"【イ．資格】",{"$nulls":6},"（",null,null," ）建築士",{"$nulls":9},"（",{"$nulls":6},"）登録第",{"$nulls":10},"号",{"$nulls":13},"AND(N295<>\"\",BD291=0)",{"$f":"BK291+BL291+BM291","v":0},{"$f":"COUNTA(報告_2_12非検査者代表_イ_資格_建築士級,報告_2_12非検査者代表_イ_資格_建築士登録,報告_2_12非検査者代表_イ_資格_建築士番号)","v":0},{"$nulls":5},{"$f":"IF(AND(BE292=0,BE291=3),1,0)","v":0},{"$f":"IF(AND(BE292=1,BE291=0),1,0)","v":0},{"$f":"IF(AND(BE292=1,BE291=3),1,0)","v":0}]
[{"$nulls":9},"建築設備検査員",{"$nulls":22},"第",{"$nulls":7},"号",{"$nulls":13},"AND(N295<>\"\",K291=\"\",X291=\"\",K291=\"\",AH291=\"\",AH292=\"\")",null,{"$f":"COUNTA(報告_2_12非検査者代表_イ_資格_適合番号)","v":0}]
[]
[null,null,"【ロ．氏名のフリガナ】",{"$nulls":10},{"$f":"DBCS(PHONETIC(N295))","v":""},"ﾀｹﾀﾞﾃﾂﾔ","ﾀｹﾀﾞﾃﾂﾔ","ﾀｹﾀﾞﾃﾂﾔ","ﾀｹﾀﾞﾃﾂﾔ","ﾀｹﾀﾞﾃﾂﾔ","ﾀｹﾀﾞﾃﾂﾔ","ﾀｹﾀﾞﾃﾂﾔ","ﾀｹﾀﾞﾃﾂﾔ","ﾀｹﾀﾞﾃﾂﾔ","ﾀｹﾀﾞﾃﾂﾔ","ﾀｹﾀﾞﾃﾂﾔ","ﾀｹﾀﾞﾃﾂﾔ","ﾀｹﾀﾞﾃﾂﾔ","ﾀｹﾀﾞﾃﾂﾔ","ﾀｹﾀﾞﾃﾂﾔ","ﾀｹﾀﾞﾃﾂﾔ","ﾀｹﾀﾞﾃﾂﾔ","ﾀｹﾀﾞﾃﾂﾔ","ﾀｹﾀﾞﾃﾂﾔ","ﾀｹﾀﾞﾃﾂﾔ","ﾀｹﾀﾞﾃﾂﾔ","ﾀｹﾀﾞﾃﾂﾔ","ﾀｹﾀﾞﾃﾂﾔ","ﾀｹﾀﾞﾃﾂﾔ","ﾀｹﾀﾞﾃﾂﾔ","ﾀｹﾀﾞﾃﾂﾔ","ﾀｹﾀﾞﾃﾂﾔ","ﾀｹﾀﾞﾃﾂﾔ","ﾀｹﾀﾞﾃﾂﾔ","ﾀｹﾀﾞﾃﾂﾔ","ﾀｹﾀﾞﾃﾂﾔ","ﾀｹﾀﾞﾃﾂﾔ",{"$nulls":9},"AND(N295<>\"\",N294=\"\")"]
[null,null,"【ハ．氏名】",{"$nulls":52},"AND(N294<>\"\",N295=\"\")"]
[null,null,"【ニ．勤務先】",{"$nulls":52},"AND(N295<>\"\",N296=\"\",BE297>=1)"]
[{"$nulls":9},"（",null,null," ）建築士事務所",{"$nulls":9},"（",{"$nulls":4},"）知事登録第",{"$nulls":12},"号",{"$nulls":13},"AND($N295<>\"\",$BD297=0)",{"$f":"BK297+BL297","v":1},{"$f":"COUNTA(報告_2_12非検査者代表_ニ_勤務先_級,報告_2_12非検査者代表_ニ_勤務先_登録,報告_2_12非検査者代表_ニ_勤務先_番号)","v":0},{"$nulls":5},{"$f":"IF(BE297=0,1,0)","v":1},{"$f":"IF(BE297=3,1,0)","v":0}]
[null,null,"【ホ．郵便番号】",{"$nulls":52},"AND($N295<>\"\",$N298=\"\")"]
[null,null,"【ヘ．所在地】",{"$nulls":52},"AND($N295<>\"\",$N299=\"\")",null,{"$f":"IF(報告_2_12非検査者代表_ホ_郵便番号=\"\",\"\",_xlfn.WEBSERVICE(\"https://api.excelapi.org/post/address?zipcode=\"&報告_2_12非検査者代表_ホ_郵便番号))","v":""}]
[null,null,"【ト．電話番号】",{"$nulls":52},"AND($N295<>\"\",$N300=\"\")",null,{"$f":"IF(報告_2_12非検査者代表_ト_電話番号=\"\",\"\",_xlfn.WEBSERVICE(\"https://api.excelapi.org/phone/ispossible?number=\"&_xlfn.ENCODEURL(報告_2_12非検査者代表_ト_電話番号)))","v":""}]
[null," （その他の検査者）"]
[null,null,"【イ．資格】",{"$nulls":6},"（",null,null," ）建築士",{"$nulls":9},"（",{"$nulls":6},"）登録第",{"$nulls":10},"号",{"$nulls":13},"AND(N306<>\"\",BD302=0)",{"$f":"BK302+BL302+BM302","v":0},{"$f":"COUNTA(報告_2_12非検査者他1_イ_資格_建築士級,報告_2_12非検査者他1_イ_資格_建築士登録,報告_2_12非検査者他1_イ_資格_建築士番号)","v":0},{"$nulls":5},{"$f":"IF(AND(BE303=0,BE302=3),1,0)","v":0},{"$f":"IF(AND(BE303=1,BE302=0),1,0)","v":0},{"$f":"IF(AND(BE303=1,BE302=3),1,0)","v":0}]
[{"$nulls":9},"建築設備検査員",{"$nulls":22},"第",{"$nulls":7},"号",{"$nulls":13},"AND(N306<>\"\",K302=\"\",X302=\"\",K302=\"\",AH302=\"\",AH303=\"\")",null,{"$f":"COUNTA(報告_2_12非検査者他1_イ_資格_適合番号)","v":0}]
[]
[null,null,"【ロ．氏名のフリガナ】",{"$nulls":10},{"$f":"DBCS(PHONETIC(N306))","v":""},"","","","","","","","","","","","","","","","","","","","","","","","","","","","","","","","",{"$nulls":9},"AND(N306<>\"\",N305=\"\")"]
[null,null,"【ハ．氏名】",{"$nulls":52},"AND(N305<>\"\",N306=\"\")"]
[null,null,"【ニ．勤務先】",{"$nulls":52},"AND(N306<>\"\",N307=\"\",BE308>=1)"]
[{"$nulls":9},"（",null,null," ）建築士事務所",{"$nulls":9},"（",{"$nulls":4},"）知事登録第",{"$nulls":12},"号",{"$nulls":13},"AND($N306<>\"\",$BD308=0)",{"$f":"BK308+BL308","v":1},{"$f":"COUNTA(報告_2_12非検査者他1_ニ_勤務先_級,報告_2_12非検査者他1_ニ_勤務先_登録,報告_2_12非検査者他1_ニ_勤務先_番号)","v":0},{"$nulls":5},{"$f":"IF(BE308=0,1,0)","v":1},{"$f":"IF(BE308=3,1,0)","v":0}]
[null,null,"【ホ．郵便番号】",{"$nulls":52},"AND($N306<>\"\",$N309=\"\")"]
[null,null,"【ヘ．所在地】",{"$nulls":52},"AND($N306<>\"\",$N310=\"\")",null,{"$f":"IF(報告_2_12非検査者他1_ホ_郵便番号=\"\",\"\",_xlfn.WEBSERVICE(\"https://api.excelapi.org/post/address?zipcode=\"&報告_2_12非検査者他1_ホ_郵便番号))","v":""}]
[null,null,"【ト．電話番号】",{"$nulls":52},"AND($N306<>\"\",$N311=\"\")",null,{"$f":"IF(報告_2_12非検査者他1_ト_電話番号=\"\",\"\",_xlfn.WEBSERVICE(\"https://api.excelapi.org/phone/ispossible?number=\"&_xlfn.ENCODEURL(報告_2_12非検査者他1_ト_電話番号)))","v":""}]
[null," （その他の検査者２）"]
[null,null,"【イ．資格】",{"$nulls":6},"（",null,null," ）建築士",{"$nulls":9},"（",{"$nulls":9},")登録第",{"$nulls":7},"号",{"$nulls":13},"AND(N317<>\"\",BD313=0)",{"$f":"BK313+BL313+BM313","v":0},{"$f":"COUNTA(報告_2_12非検査者他2_イ_資格_建築士級,報告_2_12非検査者他2_イ_資格_建築士登録,報告_2_12非検査者他2_イ_資格_建築士番号)","v":0},{"$nulls":5},{"$f":"IF(AND(BE314=0,BE313=3),1,0)","v":0},{"$f":"IF(AND(BE314=1,BE313=0),1,0)","v":0},{"$f":"IF(AND(BE314=1,BE313=3),1,0)","v":0}]
[{"$nulls":9},"建築設備検査員",{"$nulls":22},"第",{"$nulls":7},"号",{"$nulls":13},"AND(N317<>\"\",K313=\"\",X313=\"\",K313=\"\",AH313=\"\",AH314=\"\")",null,{"$f":"COUNTA(報告_2_12非検査者他2_イ_資格_適合番号)","v":0}]
[]
[null,null,"【ロ．氏名のフリガナ】",{"$nulls":10},{"$f":"DBCS(PHONETIC(N317))","v":""},"","","","","","","","","","","","","","","","","","","","","","","","","","","","","","","","",{"$nulls":9},"AND(N317<>\"\",N316=\"\")"]
[null,null,"【ハ．氏名】",{"$nulls":52},"AND(N316<>\"\",N317=\"\")"]
[null,null,"【ニ．勤務先】",{"$nulls":52},"AND(N317<>\"\",N318=\"\",BE319>=1)"]
[{"$nulls":9},"（",null,null," ）建築士事務所",{"$nulls":9},"（",{"$nulls":9},")知事登録第",{"$nulls":7},"号",{"$nulls":13},"AND($N317<>\"\",$BD319=0)",{"$f":"BK319+BL319","v":1},{"$f":"COUNTA(報告_2_12非検査者他2_ニ_勤務先_級,報告_2_12非検査者他2_ニ_勤務先_登録,報告_2_12非検査者他2_ニ_勤務先_番号)","v":0},{"$nulls":5},{"$f":"IF(BE319=0,1,0)","v":1},{"$f":"IF(BE319=3,1,0)","v":0}]
[null,null,"【ホ．郵便番号】",{"$nulls":52},"AND($N317<>\"\",$N320=\"\")"]
[null,null,"【ヘ．所在地】",{"$nulls":52},"AND($N317<>\"\",$N321=\"\")",null,{"$f":"IF(報告_2_12非検査者他2_ホ_郵便番号=\"\",\"\",_xlfn.WEBSERVICE(\"https://api.excelapi.org/post/address?zipcode=\"&報告_2_12非検査者他2_ホ_郵便番号))","v":""}]
[null,null,"【ト．電話番号】",{"$nulls":52},"AND($N317<>\"\",$N322=\"\")",null,{"$f":"IF(報告_2_12非検査者他2_ト_電話番号=\"\",\"\",_xlfn.WEBSERVICE(\"https://api.excelapi.org/phone/ispossible?number=\"&_xlfn.ENCODEURL(報告_2_12非検査者他2_ト_電話番号)))","v":""}]
[]
[]
[]
[]
[]
[null,"【13．非常用の照明装置の概要】",{"$nulls":55},"【検査結果表】"]
[null,null,"【イ．照明器具】",{"$nulls":8},"白熱灯 （",{"$nulls":5},"灯）",{"$nulls":3},"蛍光灯 （",{"$nulls":5},"灯）",{"$nulls":3},"LEDランプ（",{"$nulls":7},"灯）",{"$nulls":15},"AND($N295<>\"\",$BE329=0)",{"$f":"COUNTA(K329,U329,AE329,K330)","v":0},"照明器具 ",{"$f":"IF(非照検査結果表!AD25=0,\"\",\"●\")","v":""}]
[{"$nulls":11},"その他 （",{"$nulls":5},"灯）"]
[]
[]
[null,null,"【ロ．予備電源】",{"$nulls":8},"蓄電池（内蔵形）",{"$nulls":7}," （居室",{"$nulls":4},"灯 、廊下",{"$nulls":5},"灯 、階段",{"$nulls":5},"灯）",{"$nulls":18},"AND($N295<>\"\",$BE333=0)",{"$f":"COUNTA(K333,K334,K335,K336,K337)","v":0},"電池内蔵",{"$f":"IF(非照検査結果表!AD55=0,\"\",\"●\")","v":""}]
[{"$nulls":11},"蓄電池（別置形）",{"$nulls":7}," （居室",{"$nulls":4},"灯 、廊下",{"$nulls":5},"灯 、階段",{"$nulls":5},"灯）",{"$nulls":20},"別置形",{"$f":"IF(非照検査結果表!AD63=0,\"\",\"●\")","v":""}]
[{"$nulls":11},"自家用発電装置 ",{"$nulls":7}," （居室",{"$nulls":4},"灯 、廊下",{"$nulls":5},"灯 、階段",{"$nulls":5},"灯）",{"$nulls":20},"自家発",{"$f":"IF(非照検査結果表!AD77=0,\"\",\"●\")","v":""}]
[{"$nulls":11},"蓄電池(別置形)・自家用発電装置併用",{"$nulls":18}," （居室",null,null,"灯 、廊下",{"$nulls":5},"灯 、階段",{"$nulls":5},"灯）",{"$nulls":11},"併用",{"$f":"IF(非照検査結果表!AD48=0,\"\",\"●\")","v":""}]
[{"$nulls":11},"その他 （",{"$nulls":10},")",{"$nulls":9},"イ：",null,{"$f":"P329+Z329+AL329+P330","v":0},null,null,"灯",null,"ロ：",null,{"$f":"W333+AC333+AI333+W334+AC334+AI334+W335+AC335+AI335+AF336+AL336+AR336","v":0},null,null,"灯",{"$nulls":10},"AND($N295<>\"\",$BE337=0)",{"$f":"IF(AI337+AP337=0,0,IF(AI337-AP337=0,1,0))","v":0}]
[]
[]
[]
[]
[]
[null,"【14．非常用の照明装置の検査の状況】",{"$nulls":53},"AND($N295<>\"\",$BE343=0,$BM79=1)",{"$f":"COUNTIF(N344,\"レ\")+COUNTIF(X344,\"レ\")+COUNTIF(AG344,\"レ\")","v":0}]
[null,null,"【イ．指摘の内容】",{"$nulls":10},{"$f":"IF(OR(非照検査結果表!AL107=\"要是正\",非照検査結果表!AL107=\"既存不適格\"),\"レ\",\"\")","v":""},"要是正の指摘あり （",{"$nulls":8},{"$f":"IF(非照検査結果表!AL107=\"既存不適格\",\"レ\",\"\")","v":""},"既存不適格）",{"$nulls":7},{"$f":"IF(非照検査結果表!AL107=\"指摘なし\",\"レ\",\"\")","v":""},"指摘なし",{"$nulls":20},{"$f":"IF(X344=\"レ\",\"レ\",\"\")","v":""},{"$f":"IF(AND(N344=\"\",X344=\"レ\"),\"\",IF(X344=\"\",\"\",\"レ\"))","v":""},null,"要是正",{"$f":"非照検査結果表!U111","v":""}]
[null,null,"【ロ．指摘の概要】",{"$nulls":10},{"$f":"BI658","v":""},{"$nulls":43},"既存不適格",{"$f":"非照検査結果表!V111","v":""}]
[]
[]
[]
[]
[null,null,"【ハ．改善予定の有無】",{"$nulls":10},{"$f":"IF(報告書_照明_既存不適格=\"レ\",\"\",IF(非照検査結果表!AL125=\"有\",\"レ\",\"\"))","v":""},"有","（","令和",null,{"$f":"IF(報告書_照明_既存不適格=\"レ\",\"\",非照検査結果表!AM125)","v":""},null,"年",{"$f":"IF(報告書_照明_既存不適格=\"レ\",\"\",非照検査結果表!AN125)","v":""},null,"月に改善予定）",{"$nulls":8},{"$f":"IF(報告書_照明_既存不適格=\"レ\",\"\",IF(報告_2_12非検査者代表_ハ_氏名=\"\",\"\",IF(非照検査結果表!AL125=\"無\",\"レ\",\"\")))","v":""},"無",{"$nulls":21},"AND($N295<>\"\",$N344=\"レ\",$X344=\"\",$BE350=0,$BM79=1)",{"$f":"COUNTIF(N350,\"レ\")+COUNTIF(AG350,\"レ\")","v":0},"改善予定",{"$f":"非照検査結果表!AL126","v":""}]
[null,null,"【ニ．その他特記事項】",{"$nulls":10},{"$f":"BI672","v":""}]
[]
[]
[]
[]
[null,"【15．非常用の照明装置の不具合の発生状況】",{"$nulls":52},"IF(OR(非照検査結果表!S2=\"指摘なし\",非照検査結果表!S2=\"既存不適格\",非照検査結果表!S2=\"要是正\"),IF(報告_2_12非検査者代表_ハ_氏名=\"\",\"\",IF(COUNTA(H514:Q523)=0,\"レ\",\"\")),\"\")",null,null,"（第三面）"]
[null,null,"【イ．不具合】",{"$nulls":8},{"$f":"IF(報告_2_12非検査者代表_ハ_氏名=\"\",\"\",IF(COUNTA(H514:Q516)>=1,\"レ\",\"\"))","v":""},"有",null,{"$f":"IF(OR(非照検査結果表!S2=\"指摘なし\",非照検査結果表!S2=\"既存不適格\",非照検査結果表!S2=\"要是正\"),IF(報告_2_12非検査者代表_ハ_氏名=\"\",\"\",IF(COUNTA(H514:Q516)=0,\"レ\",\"\")),\"\")","v":""},"無",{"$nulls":39},"AND($N295<>\"\",$BE357=0,$BM79=1)",{"$f":"COUNTIF(L357,\"レ\")+COUNTIF(O357,\"レ\")","v":0},"不具合",{"$f":"IF(COUNTA(H514:Q516)=0,\"\",\"●\")","v":""}]
[null,null,"【ロ．不具合記録】",{"$nulls":9},"有",null,null,"無",{"$nulls":39},"AND($N295<>\"\",$L357=\"レ\",$BE358=0,$BM79=1)",{"$f":"COUNTA(L358,O358)","v":0},"記録"]
[null,null,"【ハ．改善の状況】",{"$nulls":8},{"$f":"IF(BZ525=\"改善済\",\"レ\",\"\")","v":""},"実施済",{"$nulls":3},{"$f":"IF(BZ525=\"有\",\"レ\",\"\")","v":""},"改善予定",{"$nulls":3},"（","令和",null,{"$f":"IF(BZ525=\"有\",CA525,\"\")","v":""},null,"年",{"$f":"IF(BZ525=\"有\",CB525,\"\")","v":""},null,"月に改善予定）",{"$nulls":7},{"$f":"IF(BZ525=\"無\",\"レ\",\"\")","v":""},"予定なし",{"$nulls":16},"AND($N295<>\"\",$L357=\"レ\",$BE359=0,$BM79=1)",{"$f":"COUNTIF(L359,\"レ\")+COUNTIF(Q359,\"レ\")+COUNTIF(AL359,\"レ\")","v":0},"改善状況",{"$f":"BZ526","v":""}]
{"$rows_empty":10}
[null,"【16．給水設備及び排水設備の検査者】"]
[null," （代表となる検査者）"]
[null,null,"【イ．資格】",{"$nulls":6},"（",null,null," ）建築士",{"$nulls":9},"（",{"$nulls":6},"）登録第",{"$nulls":10},"号",{"$nulls":13},"AND(N376<>\"\",BD372=0)",{"$f":"BK372+BL372+BM372","v":0},{"$f":"COUNTA(報告_2_16給検査者代表_イ_資格_建築士級,報告_2_16給検査者代表_イ_資格_建築士登録,報告_2_16給検査者代表_イ_資格_建築士番号)","v":0},{"$nulls":5},{"$f":"IF(AND(BE373=0,BE372=3),1,0)","v":0},{"$f":"IF(AND(BE373=1,BE372=0),1,0)","v":0},{"$f":"IF(AND(BE373=1,BE372=3),1,0)","v":0}]
[{"$nulls":9},"建築設備検査員",{"$nulls":22},"第",{"$nulls":7},"号",{"$nulls":13},"AND(N376<>\"\",K372=\"\",X372=\"\",K372=\"\",AH372=\"\",AH373=\"\")",null,{"$f":"COUNTA(報告_2_16給検査者代表_イ_資格_適合番号)","v":0}]
[]
[null,null,"【ロ．氏名のフリガナ】",{"$nulls":10},{"$f":"DBCS(PHONETIC(N376))","v":""},"ﾀｹﾀﾞﾃﾂﾔ","ﾀｹﾀﾞﾃﾂﾔ","ﾀｹﾀﾞﾃﾂﾔ","ﾀｹﾀﾞﾃﾂﾔ","ﾀｹﾀﾞﾃﾂﾔ","ﾀｹﾀﾞﾃﾂﾔ","ﾀｹﾀﾞﾃﾂﾔ","ﾀｹﾀﾞﾃﾂﾔ","ﾀｹﾀﾞﾃﾂﾔ","ﾀｹﾀﾞﾃﾂﾔ","ﾀｹﾀﾞﾃﾂﾔ","ﾀｹﾀﾞﾃﾂﾔ","ﾀｹﾀﾞﾃﾂﾔ","ﾀｹﾀﾞﾃﾂﾔ","ﾀｹﾀﾞﾃﾂﾔ","ﾀｹﾀﾞﾃﾂﾔ","ﾀｹﾀﾞﾃﾂﾔ","ﾀｹﾀﾞﾃﾂﾔ","ﾀｹﾀﾞﾃﾂﾔ","ﾀｹﾀﾞﾃﾂﾔ","ﾀｹﾀﾞﾃﾂﾔ","ﾀｹﾀﾞﾃﾂﾔ","ﾀｹﾀﾞﾃﾂﾔ","ﾀｹﾀﾞﾃﾂﾔ","ﾀｹﾀﾞﾃﾂﾔ","ﾀｹﾀﾞﾃﾂﾔ","ﾀｹﾀﾞﾃﾂﾔ","ﾀｹﾀﾞﾃﾂﾔ","ﾀｹﾀﾞﾃﾂﾔ","ﾀｹﾀﾞﾃﾂﾔ","ﾀｹﾀﾞﾃﾂﾔ","ﾀｹﾀﾞﾃﾂﾔ",{"$nulls":9},"AND(N376<>\"\",N375=\"\")"]
[null,null,"【ハ．氏名】",{"$nulls":52},"AND(N375<>\"\",N376=\"\")"]
[null,null,"【ニ．勤務先】",{"$nulls":52},"AND(N376<>\"\",N377=\"\",BE378>=1)"]
[{"$nulls":9},"（",null,null," ）建築士事務所",{"$nulls":9},"（",{"$nulls":4},"）知事登録第",{"$nulls":12},"号",{"$nulls":13},"AND($N376<>\"\",$BD378=0)",{"$f":"BK378+BL378","v":1},{"$f":"COUNTA(報告_2_16給検査者代表_ニ_勤務先_級,報告_2_16給検査者代表_ニ_勤務先_登録,報告_2_16給検査者代表_ニ_勤務先_番号)","v":0},{"$nulls":5},{"$f":"IF(BE378=0,1,0)","v":1},{"$f":"IF(BE378=3,1,0)","v":0}]
[null,null,"【ホ．郵便番号】",{"$nulls":52},"AND($N376<>\"\",$N379=\"\")"]
[null,null,"【ヘ．所在地】",{"$nulls":52},"AND($N376<>\"\",$N380=\"\")",null,{"$f":"IF(報告_2_16給検査者代表_ホ_郵便番号=\"\",\"\",_xlfn.WEBSERVICE(\"https://api.excelapi.org/post/address?zipcode=\"&報告_2_16給検査者代表_ホ_郵便番号))","v":""}]
[null,null,"【ト．電話番号】",{"$nulls":52},"AND($N376<>\"\",$N381=\"\")",null,{"$f":"IF(報告_2_16給検査者代表_ト_電話番号=\"\",\"\",_xlfn.WEBSERVICE(\"https://api.excelapi.org/phone/ispossible?number=\"&_xlfn.ENCODEURL(報告_2_16給検査者代表_ト_電話番号)))","v":""}]
[null," （その他の検査者）"]
[null,null,"【イ．資格】",{"$nulls":6},"（",null,null," ）建築士",{"$nulls":9},"（",{"$nulls":6},"）登録第",{"$nulls":10},"号",{"$nulls":13},"AND(N387<>\"\",BD383=0)",{"$f":"BK383+BL383+BM383","v":0},{"$f":"COUNTA(報告_2_16給検査者他1_イ_資格_建築士級,報告_2_16給検査者他1_イ_資格_建築士登録,報告_2_16給検査者他1_イ_資格_建築士番号)","v":0},{"$nulls":5},{"$f":"IF(AND(BE384=0,BE383=3),1,0)","v":0},{"$f":"IF(AND(BE384=1,BE383=0),1,0)","v":0},{"$f":"IF(AND(BE384=1,BE383=3),1,0)","v":0}]
[{"$nulls":9},"建築設備検査員",{"$nulls":22},"第",{"$nulls":7},"号",{"$nulls":13},"AND(N387<>\"\",K383=\"\",X383=\"\",K383=\"\",AH383=\"\",AH384=\"\")",null,{"$f":"COUNTA(報告_2_16給検査者他1_イ_資格_適合番号)","v":0}]
[]
[null,null,"【ロ．氏名のフリガナ】",{"$nulls":10},{"$f":"DBCS(PHONETIC(N387))","v":""},"","","","","","","","","","","","","","","","","","","","","","","","","","","","","","","","",{"$nulls":9},"AND(N387<>\"\",N386=\"\")"]
[null,null,"【ハ．氏名】",{"$nulls":52},"AND(N386<>\"\",N387=\"\")"]
[null,null,"【ニ．勤務先】",{"$nulls":52},"AND(N387<>\"\",N388=\"\",BE389>=1)"]
[{"$nulls":9},"（",null,null," ）建築士事務所",{"$nulls":9},"（",{"$nulls":4},"）知事登録第",{"$nulls":12},"号",{"$nulls":13},"AND($N387<>\"\",$BD389=0)",{"$f":"BK389+BL389","v":1},{"$f":"COUNTA(報告_2_16給検査者他1_ニ_勤務先_級,報告_2_16給検査者他1_ニ_勤務先_登録,報告_2_16給検査者他1_ニ_勤務先_番号)","v":0},{"$nulls":5},{"$f":"IF(BE389=0,1,0)","v":1},{"$f":"IF(BE389=3,1,0)","v":0}]
[null,null,"【ホ．郵便番号】",{"$nulls":52},"AND($N387<>\"\",$N390=\"\")"]
[null,null,"【ヘ．所在地】",{"$nulls":52},"AND($N387<>\"\",$N391=\"\")",null,{"$f":"IF(報告_2_16給検査者他1_ホ_郵便番号=\"\",\"\",_xlfn.WEBSERVICE(\"https://api.excelapi.org/post/address?zipcode=\"&報告_2_16給検査者他1_ホ_郵便番号))","v":""}]
[null,null,"【ト．電話番号】",{"$nulls":52},"AND($N387<>\"\",$N392=\"\")",null,{"$f":"IF(報告_2_16給検査者他1_ト_電話番号=\"\",\"\",_xlfn.WEBSERVICE(\"https://api.excelapi.org/phone/ispossible?number=\"&_xlfn.ENCODEURL(報告_2_16給検査者他1_ト_電話番号)))","v":""}]
[null," （その他の検査者２）"]
[null,null,"【イ．資格】",{"$nulls":6},"（",null,null," ）建築士",{"$nulls":9},"（",{"$nulls":9},")登録第",{"$nulls":7},"号",{"$nulls":13},"AND(N398<>\"\",BD394=0)",{"$f":"BK394+BL394+BM394","v":0},{"$f":"COUNTA(報告_2_16給検査者他2_イ_資格_建築士級,報告_2_16給検査者他2_イ_資格_建築士登録,報告_2_16給検査者他2_イ_資格_建築士番号)","v":0},{"$nulls":5},{"$f":"IF(AND(BE395=0,BE394=3),1,0)","v":0},{"$f":"IF(AND(BE395=1,BE394=0),1,0)","v":0},{"$f":"IF(AND(BE395=1,BE394=3),1,0)","v":0}]
[{"$nulls":9},"建築設備検査員",{"$nulls":22},"第",{"$nulls":7},"号",{"$nulls":13},"AND(N398<>\"\",K394=\"\",X394=\"\",K394=\"\",AH394=\"\",AH395=\"\")",null,{"$f":"COUNTA(報告_2_16給検査者他1_イ_資格_適合番号)","v":0}]
[]
[null,null,"【ロ．氏名のフリガナ】",{"$nulls":10},{"$f":"DBCS(PHONETIC(N398))","v":""},"","","","","","","","","","","","","","","","","","","","","","","","","","","","","","","","",{"$nulls":9},"AND(N398<>\"\",N397=\"\")"]
[null,null,"【ハ．氏名】",{"$nulls":52},"AND(N397<>\"\",N398=\"\")"]
[null,null,"【ニ．勤務先】",{"$nulls":52},"AND(N398<>\"\",N399=\"\",BE400>=1)"]
[{"$nulls":9},"（",null,null," ）建築士事務所",{"$nulls":9},"（",{"$nulls":9},")知事登録第",{"$nulls":7},"号",{"$nulls":13},"AND($N398<>\"\",$BD400=0)",{"$f":"BK400+BL400","v":1},{"$f":"COUNTA(報告_2_16給検査者他2_ニ_勤務先_級,報告_2_16給検査者他2_ニ_勤務先_登録,報告_2_16給検査者他2_ニ_勤務先_番号)","v":0},{"$nulls":5},{"$f":"IF(BE400=0,1,0)","v":1},{"$f":"IF(BE400=3,1,0)","v":0}]
[null,null,"【ホ．郵便番号】",{"$nulls":52},"AND($N398<>\"\",$N401=\"\")"]
[null,null,"【ヘ．所在地】",{"$nulls":52},"AND($N398<>\"\",$N402=\"\")",null,{"$f":"IF(報告_2_16給検査者他2_ホ_郵便番号=\"\",\"\",_xlfn.WEBSERVICE(\"https://api.excelapi.org/post/address?zipcode=\"&報告_2_16給検査者他2_ホ_郵便番号))","v":""}]
[null,null,"【ト．電話番号】",{"$nulls":52},"AND($N398<>\"\",$N403=\"\")",null,{"$f":"IF(報告_2_16給検査者他2_ト_電話番号=\"\",\"\",_xlfn.WEBSERVICE(\"https://api.excelapi.org/phone/ispossible?number=\"&_xlfn.ENCODEURL(報告_2_16給検査者他2_ト_電話番号)))","v":""}]
[]
[]
[]
[]
[]
[null,"【17．給水設備及び排水設備の概要】",{"$nulls":55},"【検査結果表】"]
[null,null,"【イ．飲料水の配管設備】",{"$nulls":12},"給水タンク （",{"$nulls":7},"基",null,null,"ｍ3）",{"$nulls":4},"貯水タンク （",{"$nulls":7},"基",null,null,"ｍ3）",{"$nulls":11},"AND($N376<>\"\",$BD410=0)",{"$f":"BK410+BL410","v":0},{"$f":"COUNTA(O410,AE410,O411,C452)","v":0},"給水タンク等",{"$f":"IF(水検査結果表!AC42=0,\"\",\"●\")","v":""},{"$nulls":3},{"$f":"IF(AND(O412=\"\",BE410>=1),1,0)","v":0},{"$f":"IF(AND(O412=\"レ\",BE410>=0),1,0)","v":0}]
[{"$nulls":15},"その他 （",{"$nulls":18},"）"]
[null,null,"【ロ．排水設備】",{"$nulls":12},"排水槽 （",{"$nulls":4},"汚水槽",{"$nulls":4},"雑排水槽",{"$nulls":5},"合併槽",{"$nulls":4},"雨水槽・湧水槽）",{"$nulls":17},"AND(N376<>\"\",BD412=0)",{"$f":"BK412+BL412+BM412","v":0},{"$f":"IF(O412=\"レ\",1,0)","v":0},"排水槽",{"$f":"IF(水検査結果表!AC58=0,\"\",\"●\")","v":""},{"$nulls":3},{"$f":"IF(AND(BE410>=1,O412=\"\"),1,0)","v":0},{"$f":"IF(AND(BE410=0,O412=\"レ\"),1,0)","v":0},{"$f":"IF(AND(BE412=1,BE413>=1),1,0)","v":0}]
[{"$nulls":15},"排水再利用配管設備",{"$nulls":11},"その他 （",{"$nulls":18},"）",{"$nulls":7},{"$f":"IF(O413=\"レ\",1,0)","v":0},null,{"$f":"COUNTA(T412,Y412,AE412,AJ412,O413,AA413)","v":0},"排水再利用",{"$f":"IF(水検査結果表!AC64=0,\"\",\"●\")","v":""}]
[null,null,"【ハ．圧力タンクの有無】",{"$nulls":12},"有",{"$nulls":3},"無",{"$nulls":34},{"$f":"BC177+BC218+BC413","v":0},"AND($N376<>\"\",$BE414=0)",{"$f":"COUNTA(O414,S414)","v":0},"給水用圧力タンク",{"$f":"IF(水検査結果表!AC45=0,\"\",\"●\")","v":""}]
[null,null,"【ニ．給湯方式】",{"$nulls":9},"局所式",{"$nulls":5},"中央式",{"$nulls":36},"AND($N376<>\"\",$BE415=0)",{"$f":"COUNTA(L415,R415)","v":0},"給湯管及び膨張管",{"$f":"IF(水検査結果表!AC35=0,\"\",\"●\")","v":""}]
[null,null,"【ホ．湯沸器】",{"$nulls":9},"開放式燃焼器",{"$nulls":8},"半密閉式燃焼器",{"$nulls":9},"密閉式燃焼器",{"$nulls":23},"AND($N376<>\"\",$BE416=0)",{"$f":"COUNTA(L416,U416,AE416,L417)","v":0},"ガス湯沸器",{"$f":"IF(水検査結果表!AC50=0,\"\",\"●\")","v":""}]
[{"$nulls":12},"その他 （",{"$nulls":23},"）",{"$nulls":20},"ガス湯沸器以外",{"$f":"IF(水検査結果表!AC49=0,\"\",\"●\")","v":""}]
[]
[]
[]
[]
[]
[null,"【18．給水設備及び排水設備の検査の状況】",{"$nulls":53},"AND($N376<>\"\",$BE423=0,$BN79=1)",{"$f":"COUNTIF(N424,\"レ\")+COUNTIF(X424,\"レ\")+COUNTIF(AG424,\"レ\")","v":0}]
[null,null,"【イ．指摘の内容】",{"$nulls":10},{"$f":"IF(OR(水検査結果表!AL91=\"要是正\",水検査結果表!AL91=\"既存不適格\"),\"レ\",\"\")","v":""},"要是正の指摘あり （",{"$nulls":8},{"$f":"IF(水検査結果表!AL91=\"既存不適格\",\"レ\",\"\")","v":""},"既存不適格）",{"$nulls":7},{"$f":"IF(水検査結果表!AL91=\"指摘なし\",\"レ\",\"\")","v":""},"指摘なし",{"$nulls":20},{"$f":"IF(X424=\"レ\",\"レ\",\"\")","v":""},{"$f":"IF(AND(N424=\"\",X424=\"レ\"),\"\",IF(X424=\"\",\"\",\"レ\"))","v":""},null,"要是正",{"$f":"水検査結果表!U95","v":""}]
[null,null,"【ロ．指摘の概要】",{"$nulls":10},{"$f":"BI659","v":""},{"$nulls":43},"既存不適格",{"$f":"水検査結果表!V95","v":""}]
[]
[]
[]
[]
[null,null,"【ハ．改善予定の有無】",{"$nulls":10},{"$f":"IF(報告書_給水_既存不適格=\"レ\",\"\",IF(水検査結果表!AL109=\"有\",\"レ\",\"\"))","v":""},"有","（","令和",null,{"$f":"IF(報告書_給水_既存不適格=\"レ\",\"\",水検査結果表!AM109)","v":""},null,"年",{"$f":"IF(報告書_給水_既存不適格=\"レ\",\"\",水検査結果表!AN109)","v":""},null,"月に改善予定）",{"$nulls":8},{"$f":"IF(報告書_給水_既存不適格=\"レ\",\"\",IF(報告_2_16給検査者代表_ハ_氏名=\"\",\"\",IF(水検査結果表!AL109=\"無\",\"レ\",\"\")))","v":""},"無",{"$nulls":21},"AND($N376<>\"\",$N424=\"レ\",$X424=\"\",$BE430=0,$BN79=1)",{"$f":"COUNTIF(N430,\"レ\")+COUNTIF(AG430,\"レ\")","v":0},"改善予定",{"$f":"水検査結果表!AL110","v":""}]
[null,null,"【ニ．その他特記事項】",{"$nulls":10},{"$f":"BI673","v":""}]
[]
[]
[]
[]
[null,"【19．給水設備及び排水設備の不具合の発生状況】",{"$nulls":52},"IF(OR(水検査結果表!S2=\"指摘なし\",水検査結果表!S2=\"既存不適格\",水検査結果表!S2=\"要是正\"),IF(報告_2_16給検査者代表_ハ_氏名=\"\",\"\",IF(COUNTA(H529:Q538)=0,\"レ\",\"\")),\"\")",null,null,"（第三面）"]
[null,null,"【イ．不具合】",{"$nulls":8},{"$f":"IF(報告_2_16給検査者代表_ハ_氏名=\"\",\"\",IF(COUNTA(H529:Q531)>=1,\"レ\",\"\"))","v":""},"有",null,{"$f":"IF(OR(水検査結果表!S2=\"指摘なし\",水検査結果表!S2=\"既存不適格\",水検査結果表!S2=\"要是正\"),IF(報告_2_16給検査者代表_ハ_氏名=\"\",\"\",IF(COUNTA(H529:Q531)=0,\"レ\",\"\")),\"\")","v":""},"無",{"$nulls":39},"AND($N376<>\"\",$BE437=0,$BN79=1)",{"$f":"COUNTIF(L437,\"レ\")+COUNTIF(O437,\"レ\")","v":0},"不具合",{"$f":"IF(COUNTA(H529:Q531)=0,\"\",\"●\")","v":""}]
[null,null,"【ロ．不具合記録】",{"$nulls":9},"有",null,null,"無",{"$nulls":39},"AND($N376<>\"\",$L437=\"レ\",$BE438=0,$BN79=1)",{"$f":"COUNTA(L438,O438)","v":0},"記録"]
[null,null,"【ハ．改善の状況】",{"$nulls":8},{"$f":"IF(BZ540=\"改善済\",\"レ\",\"\")","v":""},"実施済",{"$nulls":3},{"$f":"IF(BZ540=\"有\",\"レ\",\"\")","v":""},"改善予定",{"$nulls":3},"（","令和",null,{"$f":"IF(BZ540=\"有\",CA540,\"\")","v":""},null,"年",{"$f":"IF(BZ540=\"有\",CB540,\"\")","v":""},null,"月に改善予定）",{"$nulls":7},{"$f":"IF(BZ540=\"無\",\"レ\",\"\")","v":""},"予定なし",{"$nulls":16},"AND($N376<>\"\",$L437=\"レ\",$BE439=0,$BN79=1)",{"$f":"COUNTIF(L439,\"レ\")+COUNTIF(Q439,\"レ\")+COUNTIF(AL439,\"レ\")","v":0},"改善状況",{"$f":"BZ541","v":""}]
{"$rows_empty":10}
[null,"【20．備考】",{"$nulls":55},"換気","排煙","給排水"]
[null,null,"【国土交通大臣が定める検査項目の有無】",{"$nulls":19},{"$f":"IF(OR(Z451=\"○\",AC451=\"○\",AF451=\"○\"),\"レ\",\"\")","v":""},"有（",null,{"$f":"IF(AND(実施状況表!N6=\"レ\",実施状況表!N13=\"レ\"),\"\",IF((6-COUNTBLANK(換気検査結果表!L33:N34))+(18-COUNTBLANK(換気検査結果表!L40:N45))=0,\"\",\"○\"))","v":""},null,"・",{"$f":"IF(AND(実施状況表!N20=\"レ\",実施状況表!N27=\"レ\",実施状況表!N34=\"レ\"),\"\",IF((6-COUNTBLANK(排煙検査結果表!L42:N43))+(6-COUNTBLANK(排煙検査結果表!L61:N62))+(3-COUNTBLANK(排煙検査結果表!L109:N109))=0,\"\",\"○\"))","v":""},null,"・",{"$f":"IF(AND(実施状況表!N41=\"レ\"),\"\",IF(3-COUNTBLANK(水検査結果表!L64:N64)=0,\"\",\"○\"))","v":""},null,null,"）",null,null,{"$f":"IF(W451=\"レ\",\"\",IF(換気検査結果表!AK107+排煙検査結果表!AK182+非照検査結果表!AK110+水検査結果表!AK94=0,\"\",\"レ\"))","v":""},"無",{"$nulls":5},{"$f":"IF(実施状況表!BN2=1,\"・\",IF(実施状況表!BN2=2,\"‥\",IF(実施状況表!BN2=3,\"∴\",\"\")))","v":""},{"$f":"IF(実施状況表!BO2=\"【完】\",\"○\",IF(実施状況表!BO2=\"-未-\",\"－\",\"\"))","v":""},{"$nulls":9},"AND($N55<>\"\",$BE451=0,$BO78>=1)",{"$f":"COUNTIF(W451,\"レ\")+COUNTIF(AL451,\"レ\")","v":0},{"$f":"IF(AND(実施状況表!N6=\"レ\",実施状況表!N13=\"レ\"),\"\",IF((6-COUNTBLANK(換気検査結果表!L33:N34))+(18-COUNTBLANK(換気検査結果表!L40:N45))=0,\"\",\"●\"))","v":""},{"$f":"IF(AND(実施状況表!N20=\"レ\",実施状況表!N27=\"レ\",実施状況表!N34=\"レ\"),\"\",IF((6-COUNTBLANK(排煙検査結果表!L42:N43))+(6-COUNTBLANK(排煙検査結果表!L61:N62))+(3-COUNTBLANK(排煙検査結果表!L109:N109))=0,\"\",\"●\"))","v":""},{"$f":"IF(AND(実施状況表!N41=\"レ\"),\"\",IF(3-COUNTBLANK(水検査結果表!L64:N64)=0,\"\",\"●\"))","v":""}]
[{"$nulls":57},{"$f":"IF(AND(報告_1_03建築物_ハ_名称<>\"\",報告_2_04換検査者代表_ハ_氏名<>\"\",OR(AC170=\"レ\",L171=\"レ\",AC175=\"レ\",L176=\"レ\")),\"●\",\"\")","v":""},{"$f":"IF(AND(実施状況表!N20=\"レ\",実施状況表!N27=\"レ\",実施状況表!N34=\"レ\"),\"\",IF((6-COUNTBLANK(排煙検査結果表!L42:N43))+(6-COUNTBLANK(排煙検査結果表!L61:N62))+(3-COUNTBLANK(排煙検査結果表!L109:N109))=0,\"\",\"●\"))","v":""},{"$f":"IF(AND(報告_1_03建築物_ハ_名称<>\"\",報告_2_16給検査者代表_ハ_氏名<>\"\",O413=\"レ\"),\"●\",\"\")","v":""}]
{"$rows_empty":20}
["（第三面）"]
[null,"建築設備に係る不具合の状況",{"$nulls":53},{"$f":"IF(OR(L199=\"レ\",L276=\"レ\",L357=\"レ\",L437=\"レ\"),\"○\",\"×\")","v":"×"},"AND($N55<>\"\",$BD474=\"×\")"]
[]
[null,"【1.換気設備】"]
[]
[null,null,"【イ．不具合】",{"$nulls":8},{"$f":"IF(報告_2_04換検査者代表_ハ_氏名=\"\",\"\",IF(COUNTA(H484:Q489)>=1,\"レ\",\"\"))","v":""},"有",null,{"$f":"IF(OR(換気検査結果表!S2=\"指摘なし\",換気検査結果表!S2=\"既存不適格\",換気検査結果表!S2=\"要是正\"),IF(報告_2_04換検査者代表_ハ_氏名=\"\",\"\",IF(COUNTA(H484:Q489)=0,\"レ\",\"\")),\"\")","v":""},"無"]
[null,null,"【ロ．不具合記録】",{"$nulls":9},"有",null,null,"無"]
[null,null,"【ハ．不具合の状況】"]
[]
[null,"不具合を把",{"$nulls":5},"不具合の概要",{"$nulls":9},"考えられる原因",{"$nulls":9},"改善（予定）",{"$nulls":5},"改善措置の概要等"]
[null,"握した年月",{"$nulls":25},"年月",{"$nulls":34},"入力区分の判定",{"$nulls":18},"順位（改善予定ありの最小を取得するために使用。右側は1位しか取得しないので1行目のみとなる。）"]
[{"$nulls":48},{"$f":"LEN(AB484)","v":0},null,{"$f":"IF(AH484=\"\",\"\",IF(AW484<=2,AH484,\"\"))","v":""},{"$nulls":11},{"$f":"IF(AW484=0,\"\",IF(COUNTIF(AB484,\"*改善済*\")=1,\"改善済\",IF(AW484<3,\"無\",\"有\")))","v":""},{"$f":"IF(BK484=\"有\",SUBSTITUTE(AB484,\"月\",\"月1日\"),\"\")","v":""},{"$nulls":8},{"$f":"IF(ISERROR(DATEVALUE(BL484)),\"\",DATEVALUE(BL484))","v":""},{"$f":"BU484","v":""},null,{"$f":"BK484","v":""},{"$nulls":5},{"$f":"IF(CE484=\"\",\"\",RANK(CE484,CE484:CE486,1))","v":""},{"$f":"IF(BV484=\"\",\"\",IF(AB484=\"\",\"\",VALUE(BV484)))","v":""},{"$f":"IF(CE484<>\"\",YEAR(CE484),\"\")","v":""},{"$f":"IF(CE484<>\"\",MONTH(CE484),\"\")","v":""},null,1,{"$f":"IF(CD494=0,\"\",VLOOKUP(CI484,CD484:CD486,1,FALSE))","v":""},{"$f":"IF(CD494=0,\"\",IF(CI484=CJ484,VLOOKUP(CI484,CD484:CH486,2,FALSE),\"\"))","v":""},{"$f":"IF(CK484<>\"\",TEXT(CK484,\"[$-ja-JP]e\"),\"\")","v":""},{"$f":"IF(CK484<>\"\",TEXT(CK484,\"[$-ja-JP]m\"),\"\")","v":""}]
[{"$nulls":48},{"$f":"LEN(AB485)","v":0},null,"",{"$nulls":11},{"$f":"IF(AW485=0,\"\",IF(COUNTIF(AB485,\"*改善済*\")=1,\"改善済\",IF(AW485<3,\"無\",\"有\")))","v":""},{"$f":"IF(BK485=\"有\",SUBSTITUTE(AB485,\"月\",\"月2日\"),\"\")","v":""},{"$nulls":8},{"$f":"IF(ISERROR(DATEVALUE(BL485)),\"\",DATEVALUE(BL485))","v":""},{"$f":"BU485","v":""},null,{"$f":"BK485","v":""},{"$nulls":5},{"$f":"IF(CE485=\"\",\"\",RANK(CE485,CE484:CE486,1))","v":""},{"$f":"IF(BV485=\"\",\"\",IF(AB485=\"\",\"\",VALUE(BV485)))","v":""},{"$f":"IF(CE485<>\"\",YEAR(CE485),\"\")","v":""},{"$f":"IF(CE485<>\"\",MONTH(CE485),\"\")","v":""}]
[{"$nulls":48},0,null,"",{"$nulls":11},{"$f":"IF(AW486=0,\"\",IF(COUNTIF(AB486,\"*改善済*\")=1,\"改善済\",IF(AW486<3,\"無\",\"有\")))","v":""},{"$f":"IF(BK486=\"有\",SUBSTITUTE(AB486,\"月\",\"月3日\"),\"\")","v":""},{"$nulls":8},{"$f":"IF(ISERROR(DATEVALUE(BL486)),\"\",DATEVALUE(BL486))","v":""},{"$f":"BU486","v":""},null,"",{"$nulls":5},{"$f":"IF(CE486=\"\",\"\",RANK(CE486,$CE$484:$CE$486,1))","v":""},{"$f":"IF(BV486=\"\",\"\",IF(AB486=\"\",\"\",VALUE(BV486)))","v":""},{"$f":"IF(CE486<>\"\",YEAR(CE486),\"\")","v":""},""]
[{"$nulls":48},0,null,"",{"$nulls":11},{"$f":"IF(AW487<5,\"\",IF(AB487=\"\",\"\",MID(AB487,3,1)+2018))","v":""},{"$f":"MID(AB487,5,1)","v":""},{"$f":"IF(AW487=6,\"0\",MID(AB487,6,1))","v":""},{"$f":"IF(AW487=7,BL487&BM487,BL487)","v":""},{"$f":"TEXT(BN487,\"00\")","v":""},{"$f":"BK487&\"/\"&BO487","v":"/"},{"$f":"MID(BP487,1,1)","v":"/"},{"$f":"MID(BP487,3,2)","v":""},4,{"$f":"TEXT(BS487,\"00\")","v":"04"},{"$f":"BP487&\"/\"&BT487","v":"//04"},{"$f":"IF(AW487<5,\"\",IF(AB487=\"\",\"\",VALUE(BU487)))","v":""},null,{"$f":"IF(AW487=3,\"改善済\",IF(AW487=0,\"\",IF(AW487>5,\"有\",IF(OR(AW487=1,AW487=2),\"無\"))))","v":""},{"$nulls":5},{"$f":"IF(CE487=\"\",\"\",RANK(CE487,$CE$484:$CE$493,1))","v":""},"",{"$f":"IF(BV487=\"\",\"\",IF(AB487=\"\",\"\",BK487-2018))","v":""},{"$f":"BN487","v":""},{"$f":"IF(CD487=\"\",\"\",CF487&\"　\"&CG487)","v":""},4,{"$f":"IF(CD494=0,\"\",VLOOKUP(CI487,CD484:CD493,1))","v":""},{"$f":"IF(CD494=0,\"\",IF(CI487=CJ487,VLOOKUP(CI487,CD484:CH493,5),\"\"))","v":""},{"$f":"LEFT(CK487,1)","v":""},{"$f":"TRIM(RIGHT(CK487,2))","v":""}]
[{"$nulls":48},0,null,"",{"$nulls":11},"","","","","","/","/","",5,"05","//05","",null,"",{"$nulls":5},"","","","","",5,{"$f":"IF(CD494=0,\"\",VLOOKUP(CI488,CD484:CD493,1))","v":""},{"$f":"IF(CD494=0,\"\",IF(CI488=CJ488,VLOOKUP(CI488,CD484:CH493,5),\"\"))","v":""},"",""]
[{"$nulls":48},0,null,"",{"$nulls":11},"","","","","","/","/","",6,"06","//06","",null,"",{"$nulls":5},"","","","","",6,{"$f":"IF(CD494=0,\"\",VLOOKUP(CI489,CD484:CD493,1))","v":""},{"$f":"IF(CD494=0,\"\",IF(CI489=CJ489,VLOOKUP(CI489,CD484:CH493,5),\"\"))","v":""},"",""]
[]
[null,"【2.排煙設備】",{"$nulls":75},"有",{"$f":"COUNTIF(BX484:BX493,\"有\")","v":0},null,null,"↑この結果は左下に反映される"]
[{"$nulls":77},"無",{"$f":"COUNTIF(BX484:BX493,\"無\")","v":0}]
[null,null,"【イ．不具合】",{"$nulls":8},{"$f":"IF(報告_2_08排検査者代表_ハ_氏名=\"\",\"\",IF(COUNTA(H499:Q504)>=1,\"レ\",\"\"))","v":""},"有",null,{"$f":"IF(OR(排煙検査結果表!S2=\"指摘なし\",排煙検査結果表!S2=\"既存不適格\",排煙検査結果表!S2=\"要是正\"),IF(報告_2_08排検査者代表_ハ_氏名=\"\",\"\",IF(COUNTA(H499:Q504)=0,\"レ\",\"\")),\"\")","v":""},"無",{"$nulls":61},"改善済",{"$f":"COUNTIF(BX484:BX493,\"改善済\")","v":0}]
[null,null,"【ロ．不具合記録】",{"$nulls":9},"有",null,null,"無",{"$nulls":62},{"$f":"SUM(CA491:CA493)","v":0},null,null,{"$f":"SUM(CD484:CD493)","v":0}]
[null,null,"【ハ．不具合の状況】",{"$nulls":73},"換気",{"$f":"IF(CA494=0,\"\",IF(CA492>=1,\"無\",IF(CA491>=1,\"有\",IF(CA493>=1,\"改善済\",\"\"))))","v":""},{"$f":"IF(BZ495=\"有\",CL484,\"\")","v":""},{"$f":"IF(BZ495=\"有\",CM484,\"\")","v":""}]
[{"$nulls":77},{"$f":"IF(BZ495=\"改善済\",\"改善済\",IF(AB484:AG486=\"\",\"\",IF(BZ495=\"無\",\"無\",\"(\"&CA495&\"年\"&CB495&\"月）\")))","v":""},"","","","",""]
[null,"不具合を把",{"$nulls":5},"不具合の概要",{"$nulls":9},"考えられる原因",{"$nulls":9},"改善（予定）",{"$nulls":5},"改善措置の概要等",{"$nulls":43},"","","","","",""]
[null,"握した年月",{"$nulls":25},"年月",{"$nulls":49},"","","","","",""]
[{"$nulls":48},{"$f":"LEN(AB499)","v":0},null,{"$f":"IF(AH499=\"\",\"\",IF(AW499<=2,AH499,\"\"))","v":""},{"$nulls":11},{"$f":"IF(AW499=0,\"\",IF(COUNTIF(AB499,\"*改善済*\")=1,\"改善済\",IF(AW499<3,\"無\",\"有\")))","v":""},{"$f":"IF(BK499=\"有\",SUBSTITUTE(AB499,\"月\",\"月1日\"),\"\")","v":""},{"$nulls":8},{"$f":"IF(ISERROR(DATEVALUE(BL499)),\"\",DATEVALUE(BL499))","v":""},{"$f":"BU499","v":""},null,{"$f":"BK499","v":""},{"$nulls":5},{"$f":"IF(CE499=\"\",\"\",RANK(CE499,$CE$499:$CE$501,1))","v":""},{"$f":"IF(BV499=\"\",\"\",IF(AB499=\"\",\"\",VALUE(BV499)))","v":""},{"$f":"IF(CE499<>\"\",YEAR(CE499),\"\")","v":""},{"$f":"IF(CE499<>\"\",MONTH(CE499),\"\")","v":""},null,1,{"$f":"IF(CD509=0,\"\",VLOOKUP(CI499,CD499:CD501,1,FALSE))","v":""},{"$f":"IF(CD509=0,\"\",IF(CI499=CJ499,VLOOKUP(CI499,CD499:CH501,2,FALSE),\"\"))","v":""},{"$f":"IF(CK499<>\"\",TEXT(CK499,\"[$-ja-JP]e\"),\"\")","v":""},{"$f":"IF(CK499<>\"\",TEXT(CK499,\"[$-ja-JP]m\"),\"\")","v":""}]
[{"$nulls":48},{"$f":"LEN(AB500)","v":0},null,"",{"$nulls":11},"",{"$f":"IF(BK500=\"有\",SUBSTITUTE(AB500,\"月\",\"月2日\"),\"\")","v":""},{"$nulls":8},"","",null,"",{"$nulls":5},{"$f":"IF(CE500=\"\",\"\",RANK(CE500,$CE$499:$CE$501,1))","v":""},{"$f":"IF(BV500=\"\",\"\",IF(AB500=\"\",\"\",VALUE(BV500)))","v":""},"",""]
[{"$nulls":48},0,null,"",{"$nulls":11},"",{"$f":"IF(BK501=\"有\",SUBSTITUTE(AB501,\"月\",\"月3日\"),\"\")","v":""},{"$nulls":8},"","",null,"",{"$nulls":5},{"$f":"IF(CE501=\"\",\"\",RANK(CE501,$CE$499:$CE$501,1))","v":""},{"$f":"IF(BV501=\"\",\"\",IF(AB501=\"\",\"\",VALUE(BV501)))","v":""},"",""]
[{"$nulls":48},0,null,"",{"$nulls":11},{"$f":"IF(AW502<5,\"\",IF(AB502=\"\",\"\",MID(AB502,3,1)+2018))","v":""},{"$f":"MID(AB502,5,1)","v":""},{"$f":"IF(AW502=6,\"0\",MID(AB502,6,1))","v":""},{"$f":"IF(AW502=7,BL502&BM502,BL502)","v":""},{"$f":"TEXT(BN502,\"00\")","v":""},{"$f":"BK502&\"/\"&BO502","v":"/"},{"$f":"MID(BP502,1,1)","v":"/"},{"$f":"MID(BP502,3,2)","v":""},4,{"$f":"TEXT(BS502,\"00\")","v":"04"},{"$f":"BP502&\"/\"&BT502","v":"//04"},{"$f":"IF(AW502<5,\"\",IF(AB502=\"\",\"\",VALUE(BU502)))","v":""},null,{"$f":"IF(AW502=3,\"改善済\",IF(AW502=0,\"\",IF(AW502>5,\"有\",IF(OR(AW502=1,AW502=2),\"無\"))))","v":""},{"$nulls":5},{"$f":"IF(CE502=\"\",\"\",RANK(CE502,$CE$499:$CE$508,1))","v":""},"",{"$f":"IF(BV502=\"\",\"\",IF(AB502=\"\",\"\",BK502-2018))","v":""},{"$f":"BN502","v":""},{"$f":"IF(CD502=\"\",\"\",CF502&\"　\"&CG502)","v":""},4,{"$f":"IF(CD509=0,\"\",VLOOKUP(CI502,CD499:CD508,1))","v":""},{"$f":"IF(CD509=0,\"\",IF(CI502=CJ502,VLOOKUP(CI502,CD499:CH508,5),\"\"))","v":""},{"$f":"LEFT(CK502,1)","v":""},{"$f":"TRIM(RIGHT(CK502,2))","v":""}]
[{"$nulls":48},0,null,"",{"$nulls":11},"","","","","","/","/","",5,"05","//05",{"$f":"IF(AW503<5,\"\",IF(AB503=\"\",\"\",VALUE(BU503)))","v":""},null,"",{"$nulls":5},"","","","","",5,{"$f":"IF(CD509=0,\"\",VLOOKUP(CI503,CD499:CD508,1))","v":""},{"$f":"IF(CD509=0,\"\",IF(CI503=CJ503,VLOOKUP(CI503,CD499:CH508,5),\"\"))","v":""},"",""]
[{"$nulls":48},0,null,"",{"$nulls":11},"","","","","","/","/","",6,"06","//06","",null,"",{"$nulls":5},"","","","","",6,{"$f":"IF(CD509=0,\"\",VLOOKUP(CI504,CD499:CD508,1))","v":""},{"$f":"IF(CD509=0,\"\",IF(CI504=CJ504,VLOOKUP(CI504,CD499:CH508,5),\"\"))","v":""},"",""]
[]
[null,"【3.非常用の照明装置】",{"$nulls":75},"有",{"$f":"COUNTIF(BX499:BX508,\"有\")","v":0}]
[{"$nulls":77},"無",{"$f":"COUNTIF(BX499:BX508,\"無\")","v":0}]
[null,null,"【イ．不具合】",{"$nulls":8},{"$f":"IF(報告_2_12非検査者代表_ハ_氏名=\"\",\"\",IF(COUNTA(H514:Q519)>=1,\"レ\",\"\"))","v":""},"有",null,{"$f":"IF(OR(非照検査結果表!S2=\"指摘なし\",非照検査結果表!S2=\"既存不適格\",非照検査結果表!S2=\"要是正\"),IF(報告_2_12非検査者代表_ハ_氏名=\"\",\"\",IF(COUNTA(H514:Q519)=0,\"レ\",\"\")),\"\")","v":""},"無",{"$nulls":61},"改善済",{"$f":"COUNTIF(BX499:BX508,\"改善済\")","v":0}]
[null,null,"【ロ．不具合記録】",{"$nulls":9},"有",null,null,"無",{"$nulls":62},{"$f":"SUM(CA506:CA508)","v":0},null,null,{"$f":"SUM(CD499:CD508)","v":0}]
[null,null,"【ハ．不具合の状況】",{"$nulls":73},"排煙",{"$f":"IF(CA509=0,\"\",IF(CA507>=1,\"無\",IF(CA506>=1,\"有\",IF(CA508>=1,\"改善済\",\"\"))))","v":""},{"$f":"IF(BZ510=\"有\",CL499,\"\")","v":""},{"$f":"IF(BZ510=\"有\",CM499,\"\")","v":""}]
[{"$nulls":77},{"$f":"IF(BZ510=\"改善済\",\"改善済\",IF(AB499:AG501=\"\",\"\",IF(BZ510=\"無\",\"無\",\"(\"&CA510&\"年\"&CB510&\"月）\")))","v":""},"","","","",""]
[null,"不具合を把",{"$nulls":5},"不具合の概要",{"$nulls":9},"考えられる原因",{"$nulls":9},"改善（予定）",{"$nulls":5},"改善措置の概要等",{"$nulls":43},"","","","","",""]
[null,"握した年月",{"$nulls":25},"年月",{"$nulls":49},"","","","","",""]
[{"$nulls":48},{"$f":"LEN(AB514)","v":0},null,{"$f":"IF(AH514=\"\",\"\",IF(AW514<=2,AH514,\"\"))","v":""},{"$nulls":11},{"$f":"IF(AW514=0,\"\",IF(COUNTIF(AB514,\"*改善済*\")=1,\"改善済\",IF(AW514<3,\"無\",\"有\")))","v":""},{"$f":"IF(BK514=\"有\",SUBSTITUTE(AB514,\"月\",\"月1日\"),\"\")","v":""},{"$nulls":8},{"$f":"IF(ISERROR(DATEVALUE(BL514)),\"\",DATEVALUE(BL514))","v":""},{"$f":"BU514","v":""},null,{"$f":"BK514","v":""},{"$nulls":5},{"$f":"IF(CE514=\"\",\"\",RANK(CE514,$CE$514:$CE$516,1))","v":""},{"$f":"IF(BV514=\"\",\"\",IF(AB514=\"\",\"\",VALUE(BV514)))","v":""},{"$f":"IF(CE514<>\"\",YEAR(CE514),\"\")","v":""},{"$f":"IF(CE514<>\"\",MONTH(CE514),\"\")","v":""},null,1,{"$f":"IF(CD524=0,\"\",VLOOKUP(CI514,CD514:CD516,1,FALSE))","v":""},{"$f":"IF(CD524=0,\"\",IF(CI514=CJ514,VLOOKUP(CI514,CD514:CH516,2,FALSE),\"\"))","v":""},{"$f":"IF(CK514<>\"\",TEXT(CK514,\"[$-ja-JP]e\"),\"\")","v":""},{"$f":"IF(CK514<>\"\",TEXT(CK514,\"[$-ja-JP]m\"),\"\")","v":""}]
[{"$nulls":48},{"$f":"LEN(AB515)","v":0},null,"",{"$nulls":11},"",{"$f":"IF(BK515=\"有\",SUBSTITUTE(AB515,\"月\",\"月2日\"),\"\")","v":""},{"$nulls":8},"","",null,"",{"$nulls":5},{"$f":"IF(CE515=\"\",\"\",RANK(CE515,$CE$514:$CE$516,1))","v":""},{"$f":"IF(BV515=\"\",\"\",IF(AB515=\"\",\"\",VALUE(BV515)))","v":""},"",""]
[{"$nulls":48},0,null,"",{"$nulls":11},"",{"$f":"IF(BK516=\"有\",SUBSTITUTE(AB516,\"月\",\"月3日\"),\"\")","v":""},{"$nulls":8},"","",null,"",{"$nulls":5},{"$f":"IF(CE516=\"\",\"\",RANK(CE516,$CE$514:$CE$516,1))","v":""},{"$f":"IF(BV516=\"\",\"\",IF(AB516=\"\",\"\",VALUE(BV516)))","v":""},"",""]
[{"$nulls":48},0,null,"",{"$nulls":11},{"$f":"IF(AW517<5,\"\",IF(AB517=\"\",\"\",MID(AB517,3,1)+2018))","v":""},{"$f":"MID(AB517,5,1)","v":""},{"$f":"IF(AW517=6,\"0\",MID(AB517,6,1))","v":""},{"$f":"IF(AW517=7,BL517&BM517,BL517)","v":""},{"$f":"TEXT(BN517,\"00\")","v":""},{"$f":"BK517&\"/\"&BO517","v":"/"},{"$f":"MID(BP517,1,1)","v":"/"},{"$f":"MID(BP517,3,2)","v":""},4,{"$f":"TEXT(BS517,\"00\")","v":"04"},{"$f":"BP517&\"/\"&BT517","v":"//04"},{"$f":"IF(AW517<5,\"\",IF(AB517=\"\",\"\",VALUE(BU517)))","v":""},null,{"$f":"IF(AW517=3,\"改善済\",IF(AW517=0,\"\",IF(AW517>5,\"有\",IF(OR(AW517=1,AW517=2),\"無\"))))","v":""},{"$nulls":5},{"$f":"IF(CE517=\"\",\"\",RANK(CE517,$CE$514:$CE$523,1))","v":""},{"$f":"IF(BV517=\"\",\"\",IF(AB517=\"\",\"\",VALUE(BV517)))","v":""},{"$f":"IF(BV517=\"\",\"\",IF(AB517=\"\",\"\",BK517-2018))","v":""},{"$f":"BN517","v":""},{"$f":"IF(CD517=\"\",\"\",CF517&\"　\"&CG517)","v":""},4,{"$f":"IF(CD524=0,\"\",VLOOKUP(CI517,$CD$514:$CD$523,1))","v":""},{"$f":"IF(CD524=0,\"\",IF(CI517=CJ517,VLOOKUP(CI517,CD514:CH523,5),\"\"))","v":""},{"$f":"LEFT(CK517,1)","v":""},{"$f":"TRIM(RIGHT(CK517,2))","v":""}]
[{"$nulls":48},0,null,"",{"$nulls":11},"","","","","","/","/","",5,"05","//05","",null,"",{"$nulls":5},{"$f":"IF(CE518=\"\",\"\",RANK(CE518,$CE$514:$CE$523,1))","v":""},{"$f":"IF(BV518=\"\",\"\",IF(AB518=\"\",\"\",VALUE(BV518)))","v":""},"","","",5,{"$f":"IF(CD524=0,\"\",VLOOKUP(CI518,$CD$514:$CD$523,1))","v":""},{"$f":"IF(CD524=0,\"\",IF(CI518=CJ518,VLOOKUP(CI518,CD514:CH523,5),\"\"))","v":""},"",""]
[{"$nulls":48},0,null,"",{"$nulls":11},"","","","","","/","/","",6,"06","//06","",null,"",{"$nulls":5},{"$f":"IF(CE519=\"\",\"\",RANK(CE519,$CE$514:$CE$523,1))","v":""},"","","","",6,{"$f":"IF(CD524=0,\"\",VLOOKUP(CI519,$CD$514:$CD$523,1))","v":""},{"$f":"IF(CD524=0,\"\",IF(CI519=CJ519,VLOOKUP(CI519,CD514:CH523,5),\"\"))","v":""},"",""]
[]
[null,"【4.給水設備及び排水設備】",{"$nulls":75},"有",{"$f":"COUNTIF(BX514:BX523,\"有\")","v":0}]
[{"$nulls":77},"無",{"$f":"COUNTIF(BX514:BX523,\"無\")","v":0}]
[null,null,"【イ．不具合】",{"$nulls":8},{"$f":"IF(報告_2_16給検査者代表_ハ_氏名=\"\",\"\",IF(COUNTA(H529:Q534)>=1,\"レ\",\"\"))","v":""},"有",null,{"$f":"IF(OR(水検査結果表!S2=\"指摘なし\",水検査結果表!S2=\"既存不適格\",水検査結果表!S2=\"要是正\"),IF(報告_2_16給検査者代表_ハ_氏名=\"\",\"\",IF(COUNTA(H529:Q534)=0,\"レ\",\"\")),\"\")","v":""},"無",{"$nulls":61},"改善済",{"$f":"COUNTIF(BX514:BX523,\"改善済\")","v":0}]
[null,null,"【ロ．不具合記録】",{"$nulls":9},"有",null,null,"無",{"$nulls":62},{"$f":"SUM(CA521:CA523)","v":0},null,null,{"$f":"SUM(CD514:CD523)","v":0}]
[null,null,"【ハ．不具合の状況】",{"$nulls":73},"非照",{"$f":"IF(CA524=0,\"\",IF(CA522>=1,\"無\",IF(CA521>=1,\"有\",IF(CA523>=1,\"改善済\",\"\"))))","v":""},{"$f":"IF(BZ525=\"有\",CL514,\"\")","v":""},{"$f":"IF(BZ525=\"有\",CM514,\"\")","v":""}]
[{"$nulls":77},{"$f":"IF(BZ525=\"改善済\",\"改善済\",IF(AB514:AG516=\"\",\"\",IF(BZ525=\"無\",\"無\",\"(\"&CA525&\"年\"&CB525&\"月）\")))","v":""},"","","","",""]
[null,"不具合を把",{"$nulls":5},"不具合の概要",{"$nulls":9},"考えられる原因",{"$nulls":9},"改善（予定）",{"$nulls":5},"改善措置の概要等",{"$nulls":43},"","","","","",""]
[null,"握した年月",{"$nulls":25},"年月",{"$nulls":49},"","","","","",""]
[{"$nulls":48},{"$f":"LEN(AB529)","v":0},null,{"$f":"IF(AH529=\"\",\"\",IF(AW529<=2,AH529,\"\"))","v":""},{"$nulls":11},{"$f":"IF(AW529=0,\"\",IF(COUNTIF(AB529,\"*改善済*\")=1,\"改善済\",IF(AW529<3,\"無\",\"有\")))","v":""},{"$f":"IF(BK529=\"有\",SUBSTITUTE(AB529,\"月\",\"月1日\"),\"\")","v":""},{"$nulls":8},{"$f":"IF(ISERROR(DATEVALUE(BL529)),\"\",DATEVALUE(BL529))","v":""},{"$f":"BU529","v":""},null,{"$f":"BK529","v":""},{"$nulls":5},{"$f":"IF(CE529=\"\",\"\",RANK(CE529,$CE$529:$CE$531,1))","v":""},{"$f":"IF(BV529=\"\",\"\",IF(AB529=\"\",\"\",VALUE(BV529)))","v":""},{"$f":"IF(CE529<>\"\",YEAR(CE529),\"\")","v":""},{"$f":"IF(CE529<>\"\",MONTH(CE529),\"\")","v":""},null,1,{"$f":"IF(CD539=0,\"\",VLOOKUP(CI529,CD529:CD531,1,FALSE))","v":""},{"$f":"IF(CD539=0,\"\",IF(CI529=CJ529,VLOOKUP(CI529,CD529:CH531,2,FALSE),\"\"))","v":""},{"$f":"IF(CK529<>\"\",TEXT(CK529,\"[$-ja-JP]e\"),\"\")","v":""},{"$f":"IF(CK529<>\"\",TEXT(CK529,\"[$-ja-JP]m\"),\"\")","v":""}]
[{"$nulls":48},{"$f":"LEN(AB530)","v":0},null,"",{"$nulls":11},"",{"$f":"IF(BK530=\"有\",SUBSTITUTE(AB530,\"月\",\"月2日\"),\"\")","v":""},{"$nulls":8},"","",null,"",{"$nulls":5},{"$f":"IF(CE530=\"\",\"\",RANK(CE530,$CE$529:$CE$531,1))","v":""},{"$f":"IF(BV530=\"\",\"\",IF(AB530=\"\",\"\",VALUE(BV530)))","v":""},"",""]
[{"$nulls":48},0,null,"",{"$nulls":11},"",{"$f":"IF(BK531=\"有\",SUBSTITUTE(AB531,\"月\",\"月3日\"),\"\")","v":""},{"$nulls":8},"","",null,"",{"$nulls":5},{"$f":"IF(CE531=\"\",\"\",RANK(CE531,$CE$529:$CE$531,1))","v":""},{"$f":"IF(BV531=\"\",\"\",IF(AB531=\"\",\"\",VALUE(BV531)))","v":""},"",""]
[{"$nulls":48},0,null,"",{"$nulls":11},{"$f":"IF(AW532<5,\"\",IF(AB532=\"\",\"\",MID(AB532,3,1)+2018))","v":""},{"$f":"MID(AB532,5,1)","v":""},{"$f":"IF(AW532=6,\"0\",MID(AB532,6,1))","v":""},{"$f":"IF(AW532=7,BL532&BM532,BL532)","v":""},{"$f":"TEXT(BN532,\"00\")","v":""},{"$f":"BK532&\"/\"&BO532","v":"/"},{"$f":"MID(BP532,1,1)","v":"/"},{"$f":"MID(BP532,3,2)","v":""},4,{"$f":"TEXT(BS532,\"00\")","v":"04"},{"$f":"BP532&\"/\"&BT532","v":"//04"},{"$f":"IF(AW532<5,\"\",IF(AB532=\"\",\"\",VALUE(BU532)))","v":""},null,{"$f":"IF(AW532=3,\"改善済\",IF(AW532=0,\"\",IF(AW532>5,\"有\",IF(OR(AW532=1,AW532=2),\"無\"))))","v":""},{"$nulls":5},{"$f":"IF(CE532=\"\",\"\",RANK(CE532,CE529:CE538,1))","v":""},{"$f":"IF(BV532=\"\",\"\",IF(AB532=\"\",\"\",VALUE(BV532)))","v":""},{"$f":"IF(BV532=\"\",\"\",IF(AB532=\"\",\"\",BK532-2018))","v":""},{"$f":"BN532","v":""},{"$f":"IF(CD532=\"\",\"\",CF532&\"　\"&CG532)","v":""},4,{"$f":"IF(CD539=0,\"\",VLOOKUP(CI532,CD529:CD538,1))","v":""},{"$f":"IF(CD539=0,\"\",IF(CI532=CJ532,VLOOKUP(CI532,CD529:CH538,5),\"\"))","v":""},{"$f":"LEFT(CK532,1)","v":""},{"$f":"TRIM(RIGHT(CK532,2))","v":""}]
[{"$nulls":48},0,null,"",{"$nulls":11},"","","","","","/","/","",5,"05","//05","",null,"",{"$nulls":5},{"$f":"IF(CE533=\"\",\"\",RANK(CE533,CE529:CE538,1))","v":""},"","","","",5,{"$f":"IF(CD539=0,\"\",VLOOKUP(CI533,CD529:CD538,1))","v":""},{"$f":"IF(CD539=0,\"\",IF(CI533=CJ533,VLOOKUP(CI533,CD529:CH538,5),\"\"))","v":""},"",""]
[{"$nulls":48},0,null,"",{"$nulls":11},"","","","","","/","/","",6,"06","//06","",null,"",{"$nulls":5},{"$f":"IF(CE534=\"\",\"\",RANK(CE534,CE529:CE538,1))","v":""},{"$f":"IF(BV534=\"\",\"\",IF(AB534=\"\",\"\",VALUE(BV534)))","v":""},"","","",6,{"$f":"IF(CD539=0,\"\",VLOOKUP(CI534,CD529:CD538,1))","v":""},{"$f":"IF(CD539=0,\"\",IF(CI534=CJ534,VLOOKUP(CI534,CD529:CH538,5),\"\"))","v":""},"",""]
[]
[{"$nulls":77},"有",{"$f":"COUNTIF(BX529:BX538,\"有\")","v":0}]
[{"$nulls":77},"無",{"$f":"COUNTIF(BX529:BX538,\"無\")","v":0}]
[{"$nulls":77},"改善済",{"$f":"COUNTIF(BX529:BX538,\"改善済\")","v":0}]
[{"$nulls":78},{"$f":"SUM(CA536:CA538)","v":0},null,null,{"$f":"SUM(CD529:CD538)","v":0}]
[{"$nulls":76},"水",{"$f":"IF(CA539=0,\"\",IF(CA537>=1,\"無\",IF(CA536>=1,\"有\",IF(CA538>=1,\"改善済\",\"\"))))","v":""},{"$f":"IF(BZ540=\"有\",CL529,\"\")","v":""},{"$f":"IF(BZ540=\"有\",CM529,\"\")","v":""}]
[null,"(注意)",{"$nulls":75},{"$f":"IF(BZ540=\"改善済\",\"改善済\",IF(AB529:AG531=\"\",\"\",IF(BZ540=\"無\",\"無\",\"(\"&CA540&\"年\"&CB540&\"月）\")))","v":""},"","","","",""]
[null,"1. 各面共通関係",{"$nulls":75},"","","","","",""]
[null,"　①　※印のある欄は記入しないでください。",{"$nulls":75},"","","","","",""]
[null,"　②　数字は算用数字を、単位はメートル法を用いてください。",{"$nulls":45},"　②　数字は算用数字を、単位はメートル法を用いてください。","　②　数字は算用数字を、単位はメートル法を用いてください。","　②　数字は算用数字を、単位はメートル法を用いてください。",{"$nulls":31},"こちらは４設備のもの。総合を取得するために使用している。上記同様に1位のみのため、他は割愛した。"]
[null,"　③　記入欄が不足する場合は、枠を拡大、行を追加して記入するか、別紙に必要な事項を記入し添えて",{"$nulls":73},{"$f":"BX484","v":""},{"$nulls":5},{"$f":"IF(CE545=\"\",\"\",RANK(CE545,CE545:CE556,1))","v":""},{"$f":"CE484","v":""},"","",0,1,{"$f":"IF(CD557=0,\"\",VLOOKUP(CI545,CD545:CD556,1,FALSE))","v":""},{"$f":"IF(CD557=0,\"\",IF(CI545=CJ545,VLOOKUP(CI545,CD545:CH556,2,FALSE),\"\"))","v":""},{"$f":"IF(CK545<>\"\",TEXT(CK545,\"[$-ja-JP]e\"),\"\")","v":""},{"$f":"IF(CK545<>\"\",TEXT(CK545,\"[$-ja-JP]m\"),\"\")","v":""}]
[null,"　　ください。",{"$nulls":73},{"$f":"BX485","v":""},{"$nulls":5},{"$f":"IF(CE546=\"\",\"\",RANK(CE546,CE545:CE556,1))","v":""},"","","",0]
[null,"2. 第一面関係",{"$nulls":73},{"$f":"BX486","v":""},{"$nulls":5},{"$f":"IF(CE547=\"\",\"\",RANK(CE547,CE545:CE556,1))","v":""},"","","",0]
[null,"　①　検査者が２人以上のときは、代表となる検査者を検査者氏名欄に記入してください。",{"$nulls":73},{"$f":"BX499","v":""},{"$nulls":5},{"$f":"IF(CE548=\"\",\"\",RANK(CE548,$CE$545:$CE$556,1))","v":""},{"$f":"CE499","v":""},"","",0]
[null,"　②　１欄及び２欄は、所有者又は管理者が法人のときは、「ロ」はそれぞれ法人の名称及び代表者氏名",{"$nulls":73},{"$f":"BX500","v":""},{"$nulls":5},{"$f":"IF(CE549=\"\",\"\",RANK(CE549,$CE$545:$CE$556,1))","v":""},"","","",0]
[null,"　　を、「ニ」はそれぞれ法人の所在地を記入してください。",{"$nulls":73},{"$f":"BX501","v":""},{"$nulls":5},{"$f":"IF(CE550=\"\",\"\",RANK(CE550,$CE$545:$CE$556,1))","v":""},"","","",0]
[null,"　③　第二面の６欄、10欄、14欄又は18欄のいずれかの「イ」において「要是正の指摘あり」のチェック",{"$nulls":73},{"$f":"BX514","v":""},{"$nulls":5},{"$f":"IF(CE551=\"\",\"\",RANK(CE551,CE545:CE556,1))","v":""},{"$f":"CE514","v":""},"","",0]
[null,"　　ボックスに「レ」マークを入れた場合においては、４欄の「イ」の「要是正の指摘あり」のチェック",{"$nulls":73},{"$f":"BX515","v":""},{"$nulls":5},{"$f":"IF(CE552=\"\",\"\",RANK(CE552,CE545:CE556,1))","v":""},"","","",0]
[null,"　　ボックスに「レ」マークを入れ、それ以外のときは、「指摘なし」のチェックボックスに「レ」マー",{"$nulls":73},{"$f":"BX516","v":""},{"$nulls":5},{"$f":"IF(CE553=\"\",\"\",RANK(CE553,CE545:CE556,1))","v":""},"","","",0]
[null,"　　クを入れてください。また、第二面の６欄、10欄、14欄及び18欄の「イ」の「要是正の指摘あり」の",{"$nulls":73},{"$f":"BX529","v":""},null,"有",{"$f":"COUNTIF(BX545:BX556,\"有\")","v":0},null,null,{"$f":"IF(CE554=\"\",\"\",RANK(CE554,CE545:CE556,1))","v":""},{"$f":"CE529","v":""},"","",0]
[null,"　　チェックボックスに「レ」マークを入れたものの全てにおいて、「既存不適格」のチェックボックス",{"$nulls":73},{"$f":"BX530","v":""},null,"無",{"$f":"COUNTIF(BX545:BX556,\"無\")","v":0},null,null,{"$f":"IF(CE555=\"\",\"\",RANK(CE555,CE545:CE556,1))","v":""},"","","",0]
[null,"　　に「レ」マークを入れたときは、併せて４欄の「イ」の「既存不適格」のチェックボックスに「レ」",{"$nulls":73},{"$f":"BX531","v":""},null,"改善済",{"$f":"COUNTIF(BX545:BX556,\"改善済\")","v":0},null,null,{"$f":"IF(CE556=\"\",\"\",RANK(CE556,CE545:CE556,1))","v":""},"","","",0]
[null,"　　マークを入れてください。",{"$nulls":76},{"$f":"SUM(CA554:CA556)","v":0},null,null,{"$f":"SUM(CD545:CD556)","v":0}]
[null,"　④　４欄の「ロ」は、指摘された事項のうち特に報告すべき事項があれば記入してください。",{"$nulls":74},"総合",{"$f":"IF(CA557=0,\"\",IF(CA555>=1,\"無\",IF(CA554>=1,\"有\",IF(CA556>=1,\"改善済\",\"\"))))","v":""},{"$f":"IF(BZ558=\"有\",CL545,\"\")","v":""},{"$f":"IF(BZ558=\"有\",CM545,\"\")","v":""}]
[null,"　⑤　４欄の「ハ」は、第二面の６欄、10欄、14欄又は18欄のいずれかの「ハ」において改善予定がある",{"$nulls":75},{"$f":"IF(BZ558=\"改善済\",\"改善済\",IF(AND($AB$484:$AG$486=\"\",$AB$499:$AG$501=\"\",$AB$514:$AG$516=\"\",$AB$529:$AG$531=\"\"),\"\",IF(BZ558=\"無\",\"無\",\"(\"&CA558&\"年\"&CB558&\"月）\")))","v":""}]
[null,"　　としているときは「有」のチェックボックスに「レ」マークを入れ、第二面の６欄、10欄、14欄又は"]
[null,"　　18欄の「ハ」に記入されている改善予定年月のうち最も早いものを併せて記入してください。"]
[null,"　⑥　４欄の「ニ」は、指摘された事項以外に特に報告すべき事項があれば記入してください。"]
[null,"3. 第二面関係"]
[null,"　①　この書類は、建築物ごとに、建築設備等の概要及び当該建築設備等の構造方法に係る検査結果につ"]
[null,"　　いて作成してください。"]
[null,"　②　１欄の「ニ」は、検査対象の建築設備について、該当する全てのチェックボックスに「レ」マーク"]
[null,"　　を入れてください。"]
[null,"　③　２欄の「イ」及び「ロ」は、検査対象の建築設備等に関する直前の確認（建築基準法第87条の４及"]
[null,"　　び同法第88条第２項の規定により準用して適用される同法第６条第１項に規定する確認を含む。以下"]
[null,"　　この様式において同じ。）について、「ハ」及び「ニ」は、検査対象の建築設備等に関する直前の完"]
[null,"　　了検査について、それぞれ記入してください。"]
[null,"　④　２欄の「ロ」及び「ニ」は、該当するチェックボックスに「レ」マークを入れ、「指定確認検査機"]
[null,"　　関」の場合には、併せてその名称を記入してください。"]
[null,"　⑤　３欄の「イ」は、検査が終了した年月日を記入し、「ロ」は、検査対象の建築設備等に関する直前"]
[null,"　　の報告について記入して下さい。"]
[null,"　⑥　３欄の「ロ」は、報告の対象となっていない場合には「未実施」のチェックボックスに「レ」マー"]
[null,"　　クを入れてください。"]
[null,"　⑦　３欄の「ハ」は、前回の定期検査の結果を記録した書類の写しの保存の有無について記入してくだ"]
[null,"　　さい。"]
[null,"　⑧　４欄から19欄までは、検査の対象となっていない建築設備等の欄には記入する必要はありません。"]
[null,"　⑨　４欄、８欄、12欄及び16欄は、代表となる検査者並びに検査に係る建築設備に係るすべての検査者"]
[null,"　　について記入してください。当該建築設備の検査を行った検査者が１人の場合は、その他の検査者欄"]
[null,"　　は削除して構いません。"]
[null,"　⑩　４欄、８欄、12欄及び16欄の「イ」は、検査者の有する資格について記入してください。検査者が"]
[null,"　　建築設備検査員である場合は、建築設備検査員資格証の交付番号を「建築設備検査員」の番号欄に記"]
[null,"　　入してください。"]
[null,"　⑪　４欄、８欄、12欄及び16欄の「ニ」は、検査者が法人に勤務している場合は、検査者の勤務先につ"]
[null,"　　いて記入し、勤務先が建築士事務所のときは、事務所登録番号を併せて記入してください。"]
[null,"　⑫　４欄、８欄、12欄及び16欄の「ホ」から「ト」までは、検査者が法人に勤務している場合は、検査"]
[null,"　　者の勤務先について記入し、検査者が法人に勤務していない場合は検査者の住所について記入してく"]
[null,"　　ださい。"]
[null,"　⑬　５欄の「イ」は、換気のための有効な部分の面積が居室の床面積の20分の１未満となる居室（建築"]
[null,"　　基準法第28条第３項に規定する特殊建築物の居室を除く。）について、「ロ」は、同項に規定する室"]
[null,"　　（同項に規定する特殊建築物の居室を除く。）ついて記入し、それぞれ該当する室がない場合におい"]
[null,"　　ては「無」のチェックボックスに「レ」マークを入れ、「ハ」は、同項に規定する特殊建築物の居室"]
[null,"　　について記入してください。"]
[null,"　⑭　17欄の「イ」、「ロ」及び「ホ」は、それぞれ該当するチェックボックスに「レ」マークを入れ、"]
[null,"　　「その他」の場合は併せて具体的な内容を記入してください。"]
[null,"　⑮　６欄、10欄、14欄及び18欄の「イ」は、検査結果において、是正が必要と認められるときは「要是"]
[null,"　　正の指摘あり」のチェックボックスに「レ」マークを入れ、当該指摘された箇所の全てに建築基準法"]
[null,"　　第３条第２項の規定の適用を受けているものであることが確認されたときは併せて「既存不適格」の"]
[null,"　　チェックボックスに「レ」マークを入れてください。"]
[null,"　⑯　６欄、10欄、14欄及び18欄の「イ」の「要是正の指摘あり」のチェックボックスに「レ」マークを"]
[null,"　　入れたとき（「既存不適格」のチェックボックスに「レ」を入れたときを除く。）は、「ロ」に指摘"]
[null,"　　の概要を記入してください。"]
[null,"　⑰　６欄、10欄、14欄及び18欄の「イ」の「要是正の指摘あり」のチェックボックスに「レ」マークを"]
[null,"　　入れ（「既存不適格」のチェックボックスに「レ」を入れたときを除く。）、当該指摘をうけた項目"]
[null,"　　について改善予定があるときは「ハ」の「有」のチェックボックスに「レ」マークを入れ、併せて改"]
[null,"　　善予定年月を記入してください。改善予定がないときは「ハ」の「無」のチェックボックスに「レ」"]
[null,"　　マークを入れてください。"]
[null,"　⑱　前回検査時以降に把握した火災時の排煙設備不作動等機器の故障、異常動作、損傷、腐食その他の"]
[null,"　　劣化に起因するもの（以下、「不具合」という。）について第三面の１欄、２欄、３欄又は４欄の「"]
[null,"　　不具合の概要」欄に記入したときは、７欄、11欄、15欄又は19欄の「イ」の「有」のチェックボック"]
[null,"　　スに「レ」マークを入れ、当該不具合について記録が有るときは７欄、11欄、15欄又は19欄の「ロ」"]
[null,"　　の「有」のチェックボックスに「レ」マークを入れ、記録が無いときは７欄、11欄、15欄又は19欄の"]
[null,"　　「ロ」の「無」のチェックボックスに「レ」マークを入れてください。また、第三面の１欄、２欄、"]
[null,"　　３欄又は４欄に記入された不具合のうち当該不具合を受けた改善を既に実施しているものがあり、か"]
[null,"　　つ、改善を行う予定があるものがない場合には７欄、11欄、15欄又は19欄の「ハ」の「実施済」のチ"]
[null,"　　ェックボックスに「レ」マークを入れ、第三面の１欄、２欄、３欄又は４欄に記入された不具合のう"]
[null,"　　ち改善を行う予定があるものがある場合には７欄、11欄、15欄又は19欄の「改善予定」のチェックボ"]
[null,"　　ックスに「レ」マークを入れ、併せて改善予定年月を記入し、改善の予定がない場合には７欄、11欄、"]
[null,"　　15欄又は19欄の「予定なし」のチェックボックスに「レ」マークを入れてください。"]
[null,"　⑲　９欄の「イ」は、建築基準法施行令第128条の７第３項に規定する区画避難安全検証法により区画避"]
[null,"　　難安全性能が検証された建築物のときは「区画避難安全検証法」のチェックボックスに、同令第129条"]
[null,"　　第３項に規定する階避難安全検証法により階避難安全性能が検証された建築物のときは「階避難安全"]
[null,"　　検証法」のチェックボックスに、同令第129条の２第４項に規定する全館避難安全検証法により全館避"]
[null,"　　難安全性能が検証された建築物のときは「全館避難安全検証法」のチェックボックスに、それぞれ"]
[null,"　　「レ」マークを入れ、「区画避難安全検証法」の場合は区画避難安全性能を検証した階を、「階避難"]
[null,"　　安全検証法」の場合は階避難安全性能を検証した階を、併せて記入してください。建築基準法第38条"]
[{"$nulls":3},"（同法第66条、第67条の２及び第88条第１項において準用する場合を含む。）の規定による特殊構造"]
[{"$nulls":3},"方法等認定、同法第68条の25第１項の規定による構造方法等の認定又は建築基準法の一部を改正する"]
[{"$nulls":3},"法律（平成10年法律第100号）による改正前の建築基準法第38条の規定による認定を受けている建築物"]
[{"$nulls":3},"のうち、当該適用について特に報告が必要なものについては「その他」のチェックボックスに「レ」"]
[{"$nulls":3},"マークを入れ、その概要を記入してください。"]
[null,"　⑳　９欄の「ロ」、「ハ」及び「ニ」は、それぞれ該当する室がないときに「無」のチェックボックス"]
[null,"　　に「レ」マークを入れ、「ホ」は、「ロ」、「ハ」及び「ニ」以外の居室、廊下及び階段の用に供す"]
[null,"　　る部分について記入してください。"]
[null,null,"㉑　　各欄に掲げられている項目以外で特に報告すべき事項は、20欄又は別紙に記載して添えてください。"]
[null,"4.第三面関係"]
[null,"　①　第三面の１欄、２欄、３欄又は４欄は、前回検査時以降に把握した建築設備に係る不具合のうち第"]
[null,"　　二面の６欄、10欄、14欄又は18欄において指摘されるもの以外のものについて、把握できる範囲にお"]
[null,"　　いて記入してください。前回検査時以降不具合を把握していない場合は、第三面を省略することがで"]
[null,"　　きます。"]
[null,"　②　「不具合を把握した年月」欄は、当該不具合を把握した年月を記入してください。"]
[null,"　③　「不具合の概要」欄は、当該不具合の箇所を特定した上で、当該不具合の具体的内容を記入してく"]
[null,"　　ださい。"]
[null,"　④　「考えられる原因」欄は、当該不具合が生じた原因として主として考えられるものを記入してくだ"]
[null,"　　さい。ただし、当該不具合が生じた原因が不明な場合は「不明」と記入してください。"]
[null,"　⑤　「改善(予定)年月」欄は、既に改善を実施している場合には実施年月を、改善を行う予定がある場"]
[null,"　　合には改善予定年月を記入し、改善を行う予定がない場合には「－」を記入してください。"]
[null,"　⑥　「改善措置の概要等」欄は、既に改善を実施している場合又は改善を行う予定がある場合に、具体"]
[null,"　　的措置の概要を記入してください。改善を行う予定がない場合には、その理由を記入してください。"]
[null,"　　"]
[]
["○",{"$nulls":55},"要是正","順位","№","設備名","結果表","設+結"]
[{"$nulls":51},151,"共同住宅",{"$nulls":4},{"$f":"IF(BG656=\"\",\"\",RANK(BG656,$BG$656:$BG$659,1))","v":""},{"$f":"IF(BI656=\"\",\"\",1)","v":""},{"$f":"IF(BI656=\"\",\"\",\"換気設備\")","v":""},{"$f":"換気検査結果表!U109","v":""},{"$f":"IF(BF656=\"\",\"\",BH656&\"　\"&BI656)","v":""},1,{"$f":"IF(BF660=0,\"\",VLOOKUP(BK656,$BF$656:$BF$659,1))","v":""},{"$f":"IF($BF$660=0,\"\",IF(BK656=BL656,VLOOKUP(BK656,$BF$656:$BJ$659,5),\"\"))","v":""}]
[{"$nulls":51},152,"寄宿舎",{"$nulls":4},{"$f":"IF(BG657=\"\",\"\",RANK(BG657,$BG$656:$BG$659,1))","v":""},{"$f":"IF(BI657=\"\",\"\",2)","v":""},{"$f":"IF(BI657=\"\",\"\",\"排煙設備\")","v":""},{"$f":"排煙検査結果表!U184","v":""},{"$f":"IF(BF657=\"\",\"\",BH657&\"　\"&BI657)","v":""},2,{"$f":"IF(BF660=0,\"\",VLOOKUP(BK657,$BF$656:$BF$659,1))","v":""},{"$f":"IF($BF$660=0,\"\",IF(BK657=BL657,VLOOKUP(BK657,$BF$656:$BJ$659,5),\"\"))","v":""}]
[{"$nulls":51},153,"下宿",{"$nulls":4},{"$f":"IF(BG658=\"\",\"\",RANK(BG658,BG656:BG659,1))","v":""},{"$f":"IF(BI658=\"\",\"\",3)","v":""},{"$f":"IF(BI658=\"\",\"\",\"非常用の照明装置\")","v":""},{"$f":"非照検査結果表!U112","v":""},{"$f":"IF(BF658=\"\",\"\",BH658&\"　\"&BI658)","v":""},3,{"$f":"IF(BF660=0,\"\",VLOOKUP(BK658,$BF$656:$BF$659,1))","v":""},{"$f":"IF($BF$660=0,\"\",IF(BK658=BL658,VLOOKUP(BK658,$BF$656:$BJ$659,5),\"\"))","v":""}]
[{"$nulls":51},131,"事務所",{"$nulls":4},{"$f":"IF(BG659=\"\",\"\",RANK(BG659,BG656:BG659,1))","v":""},{"$f":"IF(BI659=\"\",\"\",4)","v":""},{"$f":"IF(BI659=\"\",\"\",\"給水設備及び排水設備\")","v":""},{"$f":"水検査結果表!U96","v":""},{"$f":"IF(BF659=\"\",\"\",BH659&\"　\"&BI659)","v":""},4,{"$f":"IF(BF660=0,\"\",VLOOKUP(BK659,$BF$656:$BF$659,1))","v":""},{"$f":"IF($BF$660=0,\"\",IF(BK659=BL659,VLOOKUP(BK659,$BF$656:$BJ$659,5),\"\"))","v":""}]
[{"$nulls":51},101,"福祉施設",{"$nulls":4},{"$f":"SUM(BF656:BF659)","v":0}]
[{"$nulls":51},156,"就寝用福祉施設"]
[{"$nulls":51},111,"学校"]
[{"$nulls":51},41,"物販店舗"]
[{"$nulls":51},32,"マーケット"]
[{"$nulls":51},31,"百貨店"]
[{"$nulls":51},61,"飲食店"]
[{"$nulls":51},51,"料理店"]
[{"$nulls":51},121,"展示場"]
[{"$nulls":44},"屋外式",{"$nulls":6},163,"遊技場",{"$nulls":3},"既存不適格","順位","№","設備名","状況表","設+状況"]
[{"$nulls":44},"電気式",{"$nulls":6},161,"公衆浴場",{"$nulls":4},{"$f":"IF(BG670=\"\",\"\",RANK(BG670,BG670:BG673,1))","v":""},{"$f":"IF(BI670=\"\",\"\",1)","v":""},{"$f":"IF(BI670=\"\",\"\",\"換気設備\")","v":""},{"$f":"換気検査結果表!T111","v":""},{"$f":"IF(BF670=\"\",\"\",BH670&\"　\"&BI670)","v":""},1,{"$f":"IF(BF674=0,\"\",VLOOKUP(BK670,$BF$670:$BF$673,1))","v":""},{"$f":"IF($BF$674=0,\"\",IF(BK670=BL670,VLOOKUP(BK670,$BF$670:$BJ$673,5),\"\"))","v":""}]
[{"$nulls":44},"ボイラー",{"$nulls":6},162,"ダンスホール",{"$nulls":4},{"$f":"IF(BG671=\"\",\"\",RANK(BG671,$BG$670:$BG$673,1))","v":""},{"$f":"IF(BI671=\"\",\"\",2)","v":""},{"$f":"IF(BI671=\"\",\"\",\"排煙設備\")","v":""},{"$f":"排煙検査結果表!T186","v":""},{"$f":"IF(BF671=\"\",\"\",BH671&\"　\"&BI671)","v":""},2,{"$f":"IF(BF674=0,\"\",VLOOKUP(BK671,$BF$670:$BF$673,1))","v":""},{"$f":"IF($BF$674=0,\"\",IF(BK671=BL671,VLOOKUP(BK671,$BF$670:$BJ$673,5),\"\"))","v":""}]
[{"$nulls":44},{"$f":"IF(BA417=\"\",\"\",BA417)","v":""},{"$nulls":6},71,"ホテル",{"$nulls":4},{"$f":"IF(BG672=\"\",\"\",RANK(BG672,$BG$670:$BG$673,1))","v":""},{"$f":"IF(BI672=\"\",\"\",3)","v":""},{"$f":"IF(BI672=\"\",\"\",\"非常用の照明装置\")","v":""},{"$f":"非照検査結果表!T114","v":""},{"$f":"IF(BF672=\"\",\"\",BH672&\"　\"&BI672)","v":""},3,{"$f":"IF(BF674=0,\"\",VLOOKUP(BK672,$BF$670:$BF$673,1))","v":""},{"$f":"IF($BF$674=0,\"\",IF(BK672=BL672,VLOOKUP(BK672,$BF$670:$BJ$673,5),\"\"))","v":""}]
[{"$nulls":51},72,"旅館",{"$nulls":4},{"$f":"IF(BG673=\"\",\"\",RANK(BG673,$BG$670:$BG$673,1))","v":""},{"$f":"IF(BI673=\"\",\"\",4)","v":""},{"$f":"IF(BI673=\"\",\"\",\"給水設備及び排水設備\")","v":""},{"$f":"水検査結果表!T98","v":""},{"$f":"IF(BF673=\"\",\"\",BH673&\"　\"&BI673)","v":""},4,{"$f":"IF(BF674=0,\"\",VLOOKUP(BK673,$BF$670:$BF$673,1))","v":""},{"$f":"IF($BF$674=0,\"\",IF(BK673=BL673,VLOOKUP(BK673,$BF$670:$BJ$673,5),\"\"))","v":""}]
[{"$nulls":51},81,"病院",{"$nulls":4},{"$f":"SUM(BF670:BF673)","v":0}]
[{"$nulls":51},91,"診療所"]
[{"$nulls":51},21,"集会場"]
[{"$nulls":51},22,"観覧場"]
[{"$nulls":51},23,"公会堂"]
[{"$nulls":51},122,"博物館"]
[{"$nulls":51},123,"美術館"]
[{"$nulls":51},124,"図書館"]
[{"$nulls":51},141,"運動施設"]
[{"$nulls":51},11,"劇場"]
[{"$nulls":51},12,"映画館"]
[{"$nulls":51},13,"演芸場"]
[{"$nulls":51},181,"地下街"]
[{"$nulls":51},171,"複合用途",null,null,{"$f":"IF(ISBLANK(AS669),\"\",AS669)","v":"屋外式"}]
[{"$nulls":54},{"$f":"IF(BD688=\"\",\"\",\"・\")","v":"・"},{"$f":"IF(ISBLANK(AS670),\"\",AS670)","v":"電気式"}]
[{"$nulls":54},{"$f":"IF(BD689=\"\",\"\",\"・\")","v":"・"},{"$f":"IF(ISBLANK(AS670),\"\",IF(ISBLANK(AS671),BD687&BC688&BD688,IF(BD688=\"\",\"\",AS671)))","v":"ボイラー"}]
[{"$nulls":52},{"$f":"IF(BA113=\"\",\"\",BA113)","v":""},null,{"$f":"IF(BD690=\"\",\"\",\"・\")","v":""},{"$f":"IF(ISBLANK(AS671),\"\",IF(ISBLANK(AS672),BD688&BC689&BD689,IF(BD689=\"\",\"\",AS672)))","v":""}]
[{"$nulls":52},"アウェイ建築評価ネット（株）",null,null,{"$f":"IF(ISBLANK(AS671),\"\",BD687&BC688&BD688)","v":"屋外式・電気式"}]
[{"$nulls":52},"イーハウス建築センター（株）",null,null,{"$f":"IF(BD691=\"\",\"\",BD687&BC689&BD689)","v":"屋外式・ボイラー"}]
[{"$nulls":52},"イーホームズ（株）",null,null,{"$f":"IF(BD692=\"\",\"\",BD687&BC690&BD690)","v":"屋外式"}]
[{"$nulls":52},"ＡＩ確認検査センター（株）",null,null,{"$f":"IF(BD691=\"\",\"\",BD688&BC689&BD689)","v":"電気式・ボイラー"}]
[{"$nulls":52},"ＳＧＳジャパン（株）",null,null,{"$f":"IF(BD692=\"\",\"\",BD688&BC690&BD690)","v":"電気式"}]
[{"$nulls":52},"ＳＢＩアーキクオリティ（株）",null,null,{"$f":"IF(BD693=\"\",\"\",BD689&BC690&BD690)","v":"ボイラー"}]
[{"$nulls":52},"ＮＩＣ確認検査（株）",null,null,{"$f":"IF(BD691=\"\",\"\",BD691&BC689&BD689)","v":"屋外式・電気式・ボイラー"}]
[{"$nulls":52},"（株）ガイア",null,null,{"$f":"IF(BD692=\"\",\"\",BD691&BC690&BD690)","v":"屋外式・電気式"}]
[{"$nulls":52},"（株）確認検査機構トラスト",null,null,{"$f":"IF(BD692=\"\",\"\",BD692&BC690&BD690)","v":"屋外式・ボイラー"}]
[{"$nulls":52},"（株）確認サービス",null,null,{"$f":"IF(BD694=\"\",\"\",BD694&BC690&BD690)","v":"電気式・ボイラー"}]
[{"$nulls":52},"（株）神奈川建築確認検査機関",null,null,{"$f":"IF(BD697=\"\",\"\",BD697&BC690&BD690)","v":"屋外式・電気式・ボイラー"}]
[{"$nulls":52},"（株）グッド・アイズ建築検査機構"]
[{"$nulls":52},"（株）国際確認検査センター"]
[{"$nulls":52},"（財）さいたま住宅検査センター"]
[{"$nulls":52},"（一財）さいたま住宅検査センター",{"$nulls":4},"順位"]
[{"$nulls":52},"シー・アイ建築認証機構（株）",{"$nulls":3},"換気",{"$f":"IF(BG706=\"\",\"\",RANK(BG706,$BG$706:$BG$745,1))","v":""},{"$f":"換気検査結果表!AB142","v":""},{"$f":"換気検査結果表!AC142","v":""},{"$f":"換気検査結果表!AD142","v":""},{"$f":"換気検査結果表!AE142","v":""},1,{"$f":"IF(BF746=0,\"\",VLOOKUP(BK706,BF706:BF745,1,FALSE))","v":""},{"$f":"IF($BF$746=0,\"\",IF(BK706=BL706,VLOOKUP(BK706,$BF$706:$BJ$745,5,FALSE),\"\"))","v":""},{"$f":"IF(MID(BM706,2,1)>=0,LEFT(BM706,2),LEFT(BM706,1))","v":""},{"$f":"TRIM(RIGHT(BM706,2))","v":""},"有",{"$f":"IF(換気検査結果表!AM119+排煙検査結果表!AM194+非照検査結果表!AM122+水検査結果表!AM106>=1,換気検査結果表!AM119+排煙検査結果表!AM194+非照検査結果表!AM122+水検査結果表!AM106)","v":false}]
[{"$nulls":52},"シー・アイ・ジャパン（株）",{"$nulls":4},{"$f":"IF(BG707=\"\",\"\",RANK(BG707,$BG$706:$BG$745,1))","v":""},{"$f":"換気検査結果表!AB143","v":""},{"$f":"換気検査結果表!AC143","v":""},{"$f":"換気検査結果表!AD143","v":""},{"$f":"換気検査結果表!AE143","v":""},2,{"$f":"IF(BF746=0,\"\",VLOOKUP(BK707,BF706:BF745,1,FALSE))","v":""},"",{"$f":"IF(MID(BM707,2,1)>=0,LEFT(BM707,2),LEFT(BM707,1))","v":""},{"$f":"TRIM(RIGHT(BM707,2))","v":""},"無",{"$f":"IF(換気検査結果表!AM120+排煙検査結果表!AM195+非照検査結果表!AM123+水検査結果表!AM107>=1,換気検査結果表!AM120+排煙検査結果表!AM195+非照検査結果表!AM123+水検査結果表!AM107)","v":false}]
[{"$nulls":52},"（株）ジェイ・イー・サポート",{"$nulls":4},"",{"$f":"換気検査結果表!AB144","v":""},{"$f":"換気検査結果表!AC144","v":""},{"$f":"換気検査結果表!AD144","v":""},{"$f":"換気検査結果表!AE144","v":""},3,{"$f":"IF(BF746=0,\"\",VLOOKUP(BK708,BF706:BF745,1,FALSE))","v":""},"","","",null,{"$f":"SUM(BQ706:BQ707)","v":0}]
[{"$nulls":52},"（株）Ｊ建築検査センター",{"$nulls":4},"",{"$f":"換気検査結果表!AB145","v":""},{"$f":"換気検査結果表!AC145","v":""},{"$f":"換気検査結果表!AD145","v":""},{"$f":"換気検査結果表!AE145","v":""},4,{"$f":"IF(BF746=0,\"\",VLOOKUP(BK709,BF706:BF745,1,FALSE))","v":""},"","","",{"$f":"IF(BQ708-BQ707=0,\"無\",\"有\")","v":"無"},{"$f":"IF(BP709=\"有\",BN706,\"\")","v":""},{"$f":"IF(BP709=\"有\",BO706,\"\")","v":""}]
[{"$nulls":52},"（財）住宅金融普及協会",{"$nulls":4},"",{"$f":"換気検査結果表!AB146","v":""},{"$f":"換気検査結果表!AC146","v":""},{"$f":"換気検査結果表!AD146","v":""},{"$f":"換気検査結果表!AE146","v":""},5,{"$f":"IF(BF746=0,\"\",VLOOKUP(BK710,BF706:BF745,1,FALSE))","v":""},"","",""]
[{"$nulls":52},"（一財）住宅金融普及協会",{"$nulls":4},"",{"$f":"換気検査結果表!AB147","v":""},{"$f":"換気検査結果表!AC147","v":""},{"$f":"換気検査結果表!AD147","v":""},{"$f":"換気検査結果表!AE147","v":""},6,{"$f":"IF(BF746=0,\"\",VLOOKUP(BK711,BF706:BF745,1,FALSE))","v":""},"","",""]
[{"$nulls":52},"（株）住宅性能評価センター",{"$nulls":4},"",{"$f":"換気検査結果表!AB148","v":""},{"$f":"換気検査結果表!AC148","v":""},{"$f":"換気検査結果表!AD148","v":""},{"$f":"換気検査結果表!AE148","v":""},7,{"$f":"IF(BF746=0,\"\",VLOOKUP(BK712,BF706:BF745,1,FALSE))","v":""},"","",""]
[{"$nulls":52},"（株）湘南建築センター",{"$nulls":4},"",{"$f":"換気検査結果表!AB149","v":""},{"$f":"換気検査結果表!AC149","v":""},{"$f":"換気検査結果表!AD149","v":""},{"$f":"換気検査結果表!AE149","v":""},8,{"$f":"IF(BF746=0,\"\",VLOOKUP(BK713,BF706:BF745,1,FALSE))","v":""},"","",""]
[{"$nulls":52},"（株）高良ＧＵＴ",{"$nulls":4},"",{"$f":"換気検査結果表!AB150","v":""},{"$f":"換気検査結果表!AC150","v":""},{"$f":"換気検査結果表!AD150","v":""},{"$f":"換気検査結果表!AE150","v":""},9,{"$f":"IF(BF746=0,\"\",VLOOKUP(BK714,BF706:BF745,1,FALSE))","v":""},"","",""]
[{"$nulls":52},"多摩確認検査（株）",{"$nulls":4},"",{"$f":"換気検査結果表!AB151","v":""},{"$f":"換気検査結果表!AC151","v":""},{"$f":"換気検査結果表!AD151","v":""},{"$f":"換気検査結果表!AE151","v":""},10,{"$f":"IF(BF746=0,\"\",VLOOKUP(BK715,BF706:BF745,1,FALSE))","v":""},"","",""]
[{"$nulls":52},"（株）ＴＳＫ建築確認安全センター",{"$nulls":3},"排煙","",{"$f":"排煙検査結果表!AB217","v":""},{"$f":"排煙検査結果表!AC217","v":""},{"$f":"排煙検査結果表!AD217","v":""},{"$f":"排煙検査結果表!AE217","v":""}]
[{"$nulls":52},"（株）東京建築検査機構",{"$nulls":4},"",{"$f":"排煙検査結果表!AB218","v":""},{"$f":"排煙検査結果表!AC218","v":""},{"$f":"排煙検査結果表!AD218","v":""},{"$f":"排煙検査結果表!AE218","v":""}]
[{"$nulls":52},"（財）東京都防災・建築まちづくりセンター",{"$nulls":4},"",{"$f":"排煙検査結果表!AB219","v":""},{"$f":"排煙検査結果表!AC219","v":""},{"$f":"排煙検査結果表!AD219","v":""},{"$f":"排煙検査結果表!AE219","v":""}]
[{"$nulls":52},"（公財）東京都防災・建築まちづくりセンター",{"$nulls":4},"",{"$f":"排煙検査結果表!AB220","v":""},{"$f":"排煙検査結果表!AC220","v":""},{"$f":"排煙検査結果表!AD220","v":""},{"$f":"排煙検査結果表!AE220","v":""}]
[{"$nulls":52},"（株）都市居住評価センター",{"$nulls":4},"",{"$f":"排煙検査結果表!AB221","v":""},{"$f":"排煙検査結果表!AC221","v":""},{"$f":"排煙検査結果表!AD221","v":""},{"$f":"排煙検査結果表!AE221","v":""}]
[{"$nulls":52},"（株）都市建築確認センター",{"$nulls":4},"",{"$f":"排煙検査結果表!AB222","v":""},{"$f":"排煙検査結果表!AC222","v":""},{"$f":"排煙検査結果表!AD222","v":""},{"$f":"排煙検査結果表!AE222","v":""}]
[{"$nulls":52},"日本ＥＲＩ（株）",{"$nulls":4},"",{"$f":"排煙検査結果表!AB223","v":""},{"$f":"排煙検査結果表!AC223","v":""},{"$f":"排煙検査結果表!AD223","v":""},{"$f":"排煙検査結果表!AE223","v":""}]
[{"$nulls":52},"日本確認センター（株）",{"$nulls":4},"",{"$f":"排煙検査結果表!AB224","v":""},{"$f":"排煙検査結果表!AC224","v":""},{"$f":"排煙検査結果表!AD224","v":""},{"$f":"排煙検査結果表!AE224","v":""}]
[{"$nulls":52},"日本建築検査協会（株）",{"$nulls":4},"",{"$f":"排煙検査結果表!AB225","v":""},{"$f":"排煙検査結果表!AC225","v":""},{"$f":"排煙検査結果表!AD225","v":""},{"$f":"排煙検査結果表!AE225","v":""}]
[{"$nulls":52},"（財）日本建築設備・昇降機センター",{"$nulls":4},"",{"$f":"排煙検査結果表!AB226","v":""},{"$f":"排煙検査結果表!AC226","v":""},{"$f":"排煙検査結果表!AD226","v":""},{"$f":"排煙検査結果表!AE226","v":""}]
[{"$nulls":52},"（一財）日本建築設備・昇降機センター",{"$nulls":3},"非照","",{"$f":"非照検査結果表!AB145","v":""},{"$f":"非照検査結果表!AC145","v":""},{"$f":"非照検査結果表!AD145","v":""},{"$f":"非照検査結果表!AE145","v":""}]
[{"$nulls":52},"（財）日本建築センター",{"$nulls":4},"",{"$f":"非照検査結果表!AB146","v":""},{"$f":"非照検査結果表!AC146","v":""},{"$f":"非照検査結果表!AD146","v":""},{"$f":"非照検査結果表!AE146","v":""}]
[{"$nulls":52},"（一財）日本建築センター",{"$nulls":4},"",{"$f":"非照検査結果表!AB147","v":""},{"$f":"非照検査結果表!AC147","v":""},{"$f":"非照検査結果表!AD147","v":""},{"$f":"非照検査結果表!AE147","v":""}]
[{"$nulls":52},"（一社）日本住宅性能評価機構",{"$nulls":4},"",{"$f":"非照検査結果表!AB148","v":""},{"$f":"非照検査結果表!AC148","v":""},{"$f":"非照検査結果表!AD148","v":""},{"$f":"非照検査結果表!AE148","v":""}]
[{"$nulls":52},"日本建物評価機構（株）",{"$nulls":4},"",{"$f":"非照検査結果表!AB149","v":""},{"$f":"非照検査結果表!AC149","v":""},{"$f":"非照検査結果表!AD149","v":""},{"$f":"非照検査結果表!AE149","v":""}]
[{"$nulls":52},"日本タリアセン（株）",{"$nulls":4},"",{"$f":"非照検査結果表!AB150","v":""},{"$f":"非照検査結果表!AC150","v":""},{"$f":"非照検査結果表!AD150","v":""},{"$f":"非照検査結果表!AE150","v":""}]
[{"$nulls":52},"ハウスプラス住宅保証（株）",{"$nulls":4},"",{"$f":"非照検査結果表!AB151","v":""},{"$f":"非照検査結果表!AC151","v":""},{"$f":"非照検査結果表!AD151","v":""},{"$f":"非照検査結果表!AE151","v":""}]
[{"$nulls":52},"ハウスプラス確認検査（株）",{"$nulls":4},"",{"$f":"非照検査結果表!AB152","v":""},{"$f":"非照検査結果表!AC152","v":""},{"$f":"非照検査結果表!AD152","v":""},{"$f":"非照検査結果表!AE152","v":""}]
[{"$nulls":52},"（株）東日本住宅評価センター",{"$nulls":4},"",{"$f":"非照検査結果表!AB153","v":""},{"$f":"非照検査結果表!AC153","v":""},{"$f":"非照検査結果表!AD153","v":""},{"$f":"非照検査結果表!AE153","v":""}]
[{"$nulls":52},"ビューローベリタスジャパン（株）",{"$nulls":4},"",{"$f":"非照検査結果表!AB154","v":""},{"$f":"非照検査結果表!AC154","v":""},{"$f":"非照検査結果表!AD154","v":""},{"$f":"非照検査結果表!AE154","v":""}]
[{"$nulls":52},"（株）ビルディングナビゲーション確認評価機構",{"$nulls":3},"水","",{"$f":"水検査結果表!AB129","v":""},{"$f":"水検査結果表!AC129","v":""},{"$f":"水検査結果表!AD129","v":""},{"$f":"水検査結果表!AE129","v":""}]
[{"$nulls":52},"富士建築コンサルティング（株）",{"$nulls":4},"",{"$f":"水検査結果表!AB130","v":""},{"$f":"水検査結果表!AC130","v":""},{"$f":"水検査結果表!AD130","v":""},{"$f":"水検査結果表!AE130","v":""}]
[{"$nulls":52},"富士建築センター（株）",{"$nulls":4},"",{"$f":"水検査結果表!AB131","v":""},{"$f":"水検査結果表!AC131","v":""},{"$f":"水検査結果表!AD131","v":""},{"$f":"水検査結果表!AE131","v":""}]
[{"$nulls":52},"（財）ベターリビング",{"$nulls":4},"",{"$f":"水検査結果表!AB132","v":""},{"$f":"水検査結果表!AC132","v":""},{"$f":"水検査結果表!AD132","v":""},{"$f":"水検査結果表!AE132","v":""}]
[{"$nulls":52},"（一財）ベターリビング",{"$nulls":4},"",{"$f":"水検査結果表!AB133","v":""},{"$f":"水検査結果表!AC133","v":""},{"$f":"水検査結果表!AD133","v":""},{"$f":"水検査結果表!AE133","v":""}]
[{"$nulls":52},"ユーディーアイ確認検査（株）",{"$nulls":4},"",{"$f":"水検査結果表!AB134","v":""},{"$f":"水検査結果表!AC134","v":""},{"$f":"水検査結果表!AD134","v":""},{"$f":"水検査結果表!AE134","v":""}]
[{"$nulls":52},"（株）ＹＫＳ確認検査機構",{"$nulls":4},"",{"$f":"水検査結果表!AB135","v":""},{"$f":"水検査結果表!AC135","v":""},{"$f":"水検査結果表!AD135","v":""},{"$f":"水検査結果表!AE135","v":""}]
[{"$nulls":57},"",{"$f":"水検査結果表!AB136","v":""},{"$f":"水検査結果表!AC136","v":""},{"$f":"水検査結果表!AD136","v":""},{"$f":"水検査結果表!AE136","v":""}]
[{"$nulls":57},"",{"$f":"水検査結果表!AB137","v":""},{"$f":"水検査結果表!AC137","v":""},{"$f":"水検査結果表!AD137","v":""},{"$f":"水検査結果表!AE137","v":""}]
[{"$nulls":57},"",{"$f":"水検査結果表!AB138","v":""},{"$f":"水検査結果表!AC138","v":""},{"$f":"水検査結果表!AD138","v":""},{"$f":"水検査結果表!AE138","v":""}]
[{"$nulls":57},{"$f":"SUM(BF706:BF745)","v":0}]
[]
[]
[]
[{"$nulls":57},"順位","№",null,null,"改善予定ない理由"]
[{"$nulls":57},{"$f":"IF(BG751=\"\",\"\",RANK(BG751,$BG$751:$BG$790,1))","v":""},{"$f":"IF(AY484=\"\",\"\",1)","v":""},null,null,{"$f":"AY484","v":""},1,{"$f":"IF(BF791=0,\"\",VLOOKUP(BK751,BF751:BF790,1,FALSE))","v":""},{"$f":"IF($BF$791=0,\"\",IF(BK751=BL751,VLOOKUP(BK751,$BF$751:$BJ$790,5,FALSE),\"\"))","v":""}]
[{"$nulls":57},{"$f":"IF(BG752=\"\",\"\",RANK(BG752,$BG$751:$BG$790,1))","v":""},{"$f":"IF(AY485=\"\",\"\",2)","v":""},null,null,"",2,{"$f":"IF(BF791=0,\"\",VLOOKUP(BK752,BF751:BF790,1,FALSE))","v":""},{"$f":"IF($BF$791=0,\"\",IF(BK752=BL752,VLOOKUP(BK752,$BF$751:$BJ$790,5,FALSE),\"\"))","v":""}]
[{"$nulls":57},"",{"$f":"IF(AY486=\"\",\"\",3)","v":""},null,null,"",3,{"$f":"IF(BF791=0,\"\",VLOOKUP(BK753,BF751:BF790,1,FALSE))","v":""},{"$f":"IF($BF$791=0,\"\",IF(BK753=BL753,VLOOKUP(BK753,$BF$751:$BJ$790,5,FALSE),\"\"))","v":""}]
[{"$nulls":57},"",{"$f":"IF(AY487=\"\",\"\",4)","v":""},null,null,"",4,{"$f":"IF(BF791=0,\"\",VLOOKUP(BK754,BF751:BF790,1,FALSE))","v":""},{"$f":"IF($BF$791=0,\"\",IF(BK754=BL754,VLOOKUP(BK754,$BF$751:$BJ$790,5,FALSE),\"\"))","v":""}]
[{"$nulls":57},"",{"$f":"IF(AY488=\"\",\"\",5)","v":""},null,null,""]
[{"$nulls":57},"",{"$f":"IF(AY489=\"\",\"\",6)","v":""},null,null,""]
[{"$nulls":57},"",{"$f":"IF(AY490=\"\",\"\",7)","v":""},null,null,0]
[{"$nulls":57},"",{"$f":"IF(AY491=\"\",\"\",8)","v":""},null,null,0]
[{"$nulls":57},"",{"$f":"IF(AY492=\"\",\"\",9)","v":""},null,null,0]
[{"$nulls":57},"",{"$f":"IF(AY493=\"\",\"\",10)","v":""},null,null,0]
[{"$nulls":57},"",{"$f":"IF(AY499=\"\",\"\",11)","v":""},null,null,{"$f":"AY499","v":""}]
[{"$nulls":57},"",{"$f":"IF(AY500=\"\",\"\",12)","v":""},null,null,""]
[{"$nulls":57},"",{"$f":"IF(AY501=\"\",\"\",13)","v":""},null,null,""]
[{"$nulls":57},"",{"$f":"IF(AY502=\"\",\"\",14)","v":""},null,null,""]
[{"$nulls":57},"",{"$f":"IF(AY503=\"\",\"\",15)","v":""},null,null,""]
[{"$nulls":57},"",{"$f":"IF(AY504=\"\",\"\",16)","v":""},null,null,""]
[{"$nulls":57},"",{"$f":"IF(AY505=\"\",\"\",17)","v":""},null,null,0]
[{"$nulls":57},"",{"$f":"IF(AY506=\"\",\"\",18)","v":""},null,null,0]
[{"$nulls":57},"",{"$f":"IF(AY507=\"\",\"\",19)","v":""},null,null,0]
[{"$nulls":57},"",{"$f":"IF(AY508=\"\",\"\",20)","v":""},null,null,0]
[{"$nulls":57},"",{"$f":"IF(AY514=\"\",\"\",21)","v":""},null,null,{"$f":"AY514","v":""}]
[{"$nulls":57},"",{"$f":"IF(AY515=\"\",\"\",22)","v":""},null,null,""]
[{"$nulls":57},"",{"$f":"IF(AY516=\"\",\"\",23)","v":""},null,null,""]
[{"$nulls":57},"",{"$f":"IF(AY517=\"\",\"\",24)","v":""},null,null,""]
[{"$nulls":57},"",{"$f":"IF(AY518=\"\",\"\",25)","v":""},null,null,""]
[{"$nulls":57},"",{"$f":"IF(AY519=\"\",\"\",26)","v":""},null,null,""]
[{"$nulls":57},"",{"$f":"IF(AY520=\"\",\"\",27)","v":""},null,null,0]
[{"$nulls":57},"",{"$f":"IF(AY521=\"\",\"\",28)","v":""},null,null,0]
[{"$nulls":57},"",{"$f":"IF(AY522=\"\",\"\",29)","v":""},null,null,0]
[{"$nulls":57},{"$f":"IF(BG780=\"\",\"\",RANK(BG780,$BG$751:$BG$790,1))","v":""},{"$f":"IF(AY523=\"\",\"\",30)","v":""},null,null,0]
[{"$nulls":57},{"$f":"IF(BG781=\"\",\"\",RANK(BG781,$BG$751:$BG$790,1))","v":""},{"$f":"IF(AY529=\"\",\"\",31)","v":""},null,null,{"$f":"AY529","v":""}]
[{"$nulls":57},"",{"$f":"IF(AY530=\"\",\"\",32)","v":""},null,null,""]
[{"$nulls":57},"",{"$f":"IF(AY531=\"\",\"\",33)","v":""},null,null,""]
[{"$nulls":57},{"$f":"IF(BG784=\"\",\"\",RANK(BG784,$BG$751:$BG$790,1))","v":""},{"$f":"IF(AY532=\"\",\"\",34)","v":""},null,null,""]
[{"$nulls":57},"",{"$f":"IF(AY533=\"\",\"\",35)","v":""},null,null,""]
[{"$nulls":57},"",{"$f":"IF(AY534=\"\",\"\",36)","v":""},null,null,""]
[{"$nulls":57},"",{"$f":"IF(AY535=\"\",\"\",37)","v":""},null,null,0]
[{"$nulls":57},"",{"$f":"IF(AY536=\"\",\"\",38)","v":""},null,null,0]
[{"$nulls":57},"",{"$f":"IF(AY537=\"\",\"\",39)","v":""},null,null,0]
[{"$nulls":57},"",{"$f":"IF(AY538=\"\",\"\",40)","v":""},null,null,0]
[{"$nulls":57},{"$f":"SUM(BF751:BF790)","v":0}]
[]
[]
[]
[]
[{"$nulls":52},45926]
[]
[]
[]
[{"$nulls":58},1,2,3,4,null,1,2,3,4]
[{"$nulls":57},"5,000㎡未満",{"$f":"IF($BX$16=\"\",BL801,IF($BX$16>=46113,3500,2900))","v":{"v":2900,"d":"2,900"}},{"$f":"IF($BX$16=\"\",BM801,IF($BX$16>=46113,5300,4700))","v":{"v":4700,"d":"4,700"}},{"$f":"IF($BX$16=\"\",BN801,IF($BX$16>=46113,7000,6400))","v":{"v":6400,"d":"6,400"}},{"$f":"IF($BX$16=\"\",BO801,IF($BX$16>=46113,9000,8200))","v":{"v":8200,"d":"8,200"}},null,{"$f":"IF($BX$17>=46113,3500,2900)","v":{"v":2900,"d":"2,900"}},{"$f":"IF($BX$17>=46113,5300,4700)","v":{"v":4700,"d":"4,700"}},{"$f":"IF($BX$17>=46113,7000,6400)","v":{"v":6400,"d":"6,400"}},{"$f":"IF($BX$17>=46113,9000,8200)","v":{"v":8200,"d":"8,200"}}]
[{"$nulls":57},"5,000㎡以上10,000㎡未満",{"$f":"IF($BX$16=\"\",BL802,IF($BX$16>=46113,5700,5000))","v":{"v":5000,"d":"5,000"}},{"$f":"IF($BX$16=\"\",BM802,IF($BX$16>=46113,7500,6800))","v":{"v":6800,"d":"6,800"}},{"$f":"IF($BX$16=\"\",BN802,IF($BX$16>=46113,9500,8500))","v":{"v":8500,"d":"8,500"}},{"$f":"IF($BX$16=\"\",BO802,IF($BX$16>=46113,12000,10300))","v":{"v":10300,"d":"10,300"}},null,{"$f":"IF($BX$17>=46113,5700,5000)","v":{"v":5000,"d":"5,000"}},{"$f":"IF($BX$17>=46113,7500,6800)","v":{"v":6800,"d":"6,800"}},{"$f":"IF($BX$17>=46113,9500,8500)","v":{"v":8500,"d":"8,500"}},{"$f":"IF($BX$17>=46113,12000,10300)","v":{"v":10300,"d":"10,300"}}]
[{"$nulls":57},"10,000㎡以上20,000㎡未満",{"$f":"IF($BX$16=\"\",BL803,IF($BX$16>=46113,6900,6100))","v":{"v":6100,"d":"6,100"}},{"$f":"IF($BX$16=\"\",BM803,IF($BX$16>=46113,10500,9100))","v":{"v":9100,"d":"9,100"}},{"$f":"IF($BX$16=\"\",BN803,IF($BX$16>=46113,12500,10900))","v":{"v":10900,"d":"10,900"}},{"$f":"IF($BX$16=\"\",BO803,IF($BX$16>=46113,15000,12800))","v":{"v":12800,"d":"12,800"}},null,{"$f":"IF($BX$17>=46113,6900,6100)","v":{"v":6100,"d":"6,100"}},{"$f":"IF($BX$17>=46113,10500,9100)","v":{"v":9100,"d":"9,100"}},{"$f":"IF($BX$17>=46113,12500,10900)","v":{"v":10900,"d":"10,900"}},{"$f":"IF($BX$17>=46113,15000,12800)","v":{"v":12800,"d":"12,800"}}]
[{"$nulls":57},"20,000㎡以上50,000㎡未満",{"$f":"IF($BX$16=\"\",BL804,IF($BX$16>=46113,8000,7200))","v":{"v":7200,"d":"7,200"}},{"$f":"IF($BX$16=\"\",BM804,IF($BX$16>=46113,13000,11200))","v":{"v":11200,"d":"11,200"}},{"$f":"IF($BX$16=\"\",BN804,IF($BX$16>=46113,18000,13000))","v":{"v":13000,"d":"13,000"}},{"$f":"IF($BX$16=\"\",BO804,IF($BX$16>=46113,21000,14900))","v":{"v":14900,"d":"14,900"}},null,{"$f":"IF($BX$17>=46113,8000,7200)","v":{"v":7200,"d":"7,200"}},{"$f":"IF($BX$17>=46113,13000,11200)","v":{"v":11200,"d":"11,200"}},{"$f":"IF($BX$17>=46113,18000,13000)","v":{"v":13000,"d":"13,000"}},{"$f":"IF($BX$17>=46113,21000,14900)","v":{"v":14900,"d":"14,900"}}]
[{"$nulls":57},"50,000㎡以上",{"$f":"IF($BX$16=\"\",BL805,IF($BX$16>=46113,10000,7200))","v":{"v":7200,"d":"7,200"}},{"$f":"IF($BX$16=\"\",BM805,IF($BX$16>=46113,15500,11200))","v":{"v":11200,"d":"11,200"}},{"$f":"IF($BX$16=\"\",BN805,IF($BX$16>=46113,22000,13000))","v":{"v":13000,"d":"13,000"}},{"$f":"IF($BX$16=\"\",BO805,IF($BX$16>=46113,29000,14900))","v":{"v":14900,"d":"14,900"}},null,{"$f":"IF($BX$17>=46113,10000,7200)","v":{"v":7200,"d":"7,200"}},{"$f":"IF($BX$17>=46113,15500,11200)","v":{"v":11200,"d":"11,200"}},{"$f":"IF($BX$17>=46113,22000,13000)","v":{"v":13000,"d":"13,000"}},{"$f":"IF($BX$17>=46113,29000,14900)","v":{"v":14900,"d":"14,900"}}]
[{"$nulls":58},1,2,3,4]
[{"$nulls":57},"東京都知事",0,0,0,0,"東京都知事","東京都",null,"001","東京都都市整備局","市街地建築部建築企画課"]
[{"$nulls":57},"多摩建築指導事務所長　",0,0,0,0,"多摩建築指導事務所長　","東京都多摩建築",null,"004","東京都都市整備局","多摩建築指導事務所管理課"]
[{"$nulls":57},"千代田区長　",0,0,0,0,"千代田区長　","千代田区",null,101,"千代田区環境まちづくり部","建築指導課"]
[{"$nulls":57},"中央区長　",0,0,0,0,"中央区長　","中央区",null,102,"中央区都市整備部","建築課"]
[{"$nulls":57},"港区長　",0,0,0,0,"港区長　","港　区",null,103,"港区街づくり支援部","建築課"]
[{"$nulls":57},"新宿区長　",0,0,0,0,"新宿区長　","新宿区",null,104,"新宿区都市計画部","建築調整課"]
[{"$nulls":57},"文京区長　",0,0,0,0,"文京区長　","文京区",null,105,"文京区都市計画部","建築指導課"]
[{"$nulls":57},"台東区長　",0,0,0,0,"台東区長　","台東区",null,106,"台東区都市づくり部","建築課"]
[{"$nulls":57},"北区長　",0,0,0,0,"北区長　","北　区",null,117,"北区まちづくり部","建築課"]
[{"$nulls":57},"荒川区長　",0,0,0,0,"荒川区長　","荒川区",null,118,"荒川区防災都市づくり部","建築指導課"]
[{"$nulls":57},"品川区長　",0,0,0,0,"品川区長　","品川区",null,109,"品川区都市環境部","建築課"]
[{"$nulls":57},"目黒区長　",0,0,0,0,"目黒区長　","目黒区",null,110,"目黒区都市整備部","建築課"]
[{"$nulls":57},"大田区長　",0,0,0,0,"大田区長　","大田区",null,111,"大田区まちづくり推進部","建築審査課"]
[{"$nulls":57},"世田谷区長　",0,0,0,0,"世田谷区長　","世田谷区",null,112,"世田谷区防災街づくり担当部","建築安全課"]
[{"$nulls":57},"渋谷区長　",0,0,0,0,"渋谷区長　","渋谷区",null,113,"渋谷区都市整備部","建築課"]
[{"$nulls":57},"中野区長　",0,0,0,0,"中野区長　","中野区",null,114,"中野区都市基盤部","建築課"]
[{"$nulls":57},"杉並区長　",0,0,0,0,"杉並区長　","杉並区",null,115,"杉並区都市整備部","建築課"]
[{"$nulls":57},"豊島区長　",0,0,0,0,"豊島区長　","豊島区",null,116,"豊島区都市整備部","建築課"]
[{"$nulls":57},"板橋区長　",0,0,0,0,"板橋区長　","板橋区",null,119,"板橋区都市整備部","建築指導課"]
[{"$nulls":57},"練馬区長　",0,0,0,0,"練馬区長　","練馬区",null,120,"練馬区建築・開発担当部","建築審査課"]
[{"$nulls":57},"墨田区長　",0,0,0,0,"墨田区長　","墨田区",null,107,"墨田区都市計画部","建築指導課"]
[{"$nulls":57},"江東区長　",0,0,0,0,"江東区長　","江東区",null,108,"江東区都市整備部","建築調整課"]
[{"$nulls":57},"足立区長　",0,0,0,0,"足立区長　","足立区",null,121,"足立区都市建設部建築室","建築審査課"]
[{"$nulls":57},"葛飾区長　",0,0,0,0,"葛飾区長　","葛飾区",null,122,"葛飾区都市整備部","建築課"]
[{"$nulls":57},"江戸川区長　",0,0,0,0,"江戸川区長　","江戸川区",null,123,"江戸川区都市開発部","建築指導課"]
[{"$nulls":57},"八王子市長　",0,0,0,0,"八王子市長　","八王子市",null,201,"八王子市まちなみ整備部","建築指導課"]
[{"$nulls":57},"町田市長　",0,0,0,0,"町田市長　","町田市",null,209,"町田市都市づくり部","建築開発審査課"]
[{"$nulls":57},"府中市長　",0,0,0,0,"府中市長　","府中市",null,206,"府中市都市整備部","建築指導課"]
[{"$nulls":57},"調布市長　",0,0,0,0,"調布市長　","調布市",null,208,"調布市都市整備部","建築指導課"]
[{"$nulls":57},"武蔵野市長　",0,0,0,0,"武蔵野市長　","武蔵野市",null,203,"武蔵野市都市整備部","建築指導課"]
[{"$nulls":57},"三鷹市長　",0,0,0,0,"三鷹市長　","三鷹市",null,204,"三鷹市都市整備部","建築指導課"]
[{"$nulls":57},"日野市長　",0,0,0,0,"日野市長　","日野市",null,212,"日野市まちづくり部","建築指導課"]
[{"$nulls":57},"立川市長　",0,0,0,0,"立川市長　","立川市",null,202,"立川市都市整備部","建築指導課"]
[{"$nulls":57},"国分寺市長　",0,0,0,0,"国分寺市長　","国分寺市",null,214,"国分寺市まちづくり部","建築指導課"]
[{"$nulls":57},"西東京市長　",0,0,0,0,"西東京市長　","西東京市",null,229,"西東京市まちづくり部","建築指導課"]
[{"$nulls":57},"小平市長　",0,0,0,0,"小平市長　","小平市",null,211,"小平市都市開発部","建築指導課"]
[]
[]
[]
[]
[{"$nulls":59},{"$f":"IF(BH849=\"\",\"\",IF(BJ849=\"\",\"\",INDEX($BF$800:$BJ$805,MATCH(BH849,$BF$800:$BF$805,0),MATCH(BJ849,$BF$800:$BJ$800,0))))","v":""},{"$f":"IF(BJ849=\"\",\"\",IF(BF849=\"\",\"\",INDEX($BF$806:$CM$842,MATCH(BF849,BF806:BF842,0),MATCH(BJ849,$BF$806:$BJ$806,0))))","v":""}]
[{"$nulls":57},"所　管",null,"延べ面積",null,"建築設備数"]
[{"$nulls":57},{"$f":"IF(C14=\"\",\"\",C14)","v":""},null,{"$f":"IF(BH14=\"\",\"\",IF(BH14<5000,\"5,000㎡未満\",IF(AND(BH14>=5000,BH14<10000),\"5,000㎡以上10,000㎡未満\",IF(AND(BH14>=10000,BH14<20000),\"10,000㎡以上20,000㎡未満\",IF(AND(BH14>=20000,BH14<50000),\"20,000㎡以上50,000㎡未満\",IF(BH14>=50000,\"50,000㎡以上\",\"\"))))))","v":""},null,{"$f":"IF(BC104=0,\"\",BC104)","v":""}]
[{"$nulls":57},"報告手数料は、",null,{"$f":"IF(AND(BH847=\"\",BI847=\"\"),\"\",BH847+BI847)","v":""},null,"円（税込み）です。"]
[]
[]
[]
[]
[{"$nulls":57},"順位"]
[{"$nulls":56},"換気",{"$f":"IF(BG856=\"\",\"\",RANK(BG856,$BG$856:$BG$895,1))","v":""},{"$f":"IF(BI856=\"\",\"\",11)","v":""},{"$f":"\"換気設備:\"&換気検査結果表!C109","v":"換気設備:"},{"$f":"換気検査結果表!D109","v":""},{"$f":"IF(BI856=\"\",\"\",BH856&BI856)","v":""},1,{"$f":"IF(BF896=0,\"\",VLOOKUP(BK856,BF856:BI895,1))","v":""},{"$f":"IF($BF$896=0,\"\",IF(BK856=BL856,VLOOKUP(BK856,$BF$856:$BJ$895,5),\"\"))","v":""}]
[{"$nulls":57},"",{"$f":"IF(BI857=\"\",\"\",12)","v":""},{"$f":"\"換気設備:\"&換気検査結果表!C110","v":"換気設備:"},{"$f":"換気検査結果表!D110","v":""},"",2,{"$f":"IF(BF896=0,\"\",VLOOKUP(BK857,BF856:BF895,1))","v":""},""]
[{"$nulls":57},"",{"$f":"IF(BI858=\"\",\"\",13)","v":""},{"$f":"\"換気設備:\"&換気検査結果表!C111","v":"換気設備:"},{"$f":"換気検査結果表!D111","v":""},"",3,{"$f":"IF(BF896=0,\"\",VLOOKUP(BK858,BF856:BF895,1))","v":""},""]
[{"$nulls":57},"",{"$f":"IF(BI859=\"\",\"\",14)","v":""},{"$f":"\"換気設備:\"&換気検査結果表!C112","v":"換気設備:"},{"$f":"換気検査結果表!D112","v":""},"",4,{"$f":"IF(BF896=0,\"\",VLOOKUP(BK859,BF856:BF895,1))","v":""},""]
[{"$nulls":57},"",{"$f":"IF(BI860=\"\",\"\",15)","v":""},{"$f":"\"換気設備:\"&換気検査結果表!C113","v":"換気設備:"},{"$f":"換気検査結果表!D113","v":""},"",5,{"$f":"IF(BF896=0,\"\",VLOOKUP(BK860,BF856:BF895,1))","v":""},""]
[{"$nulls":57},"",{"$f":"IF(BI861=\"\",\"\",16)","v":""},{"$f":"\"換気設備:\"&換気検査結果表!C114","v":"換気設備:"},{"$f":"換気検査結果表!D114","v":""},"",6,{"$f":"IF(BF896=0,\"\",VLOOKUP(BK861,BF856:BF895,1))","v":""},""]
[{"$nulls":57},"",{"$f":"IF(BI862=\"\",\"\",17)","v":""},{"$f":"\"換気設備:\"&換気検査結果表!C115","v":"換気設備:"},{"$f":"換気検査結果表!D115","v":""},"",7,{"$f":"IF(BF896=0,\"\",VLOOKUP(BK862,BF856:BF895,1))","v":""},""]
[{"$nulls":57},"",{"$f":"IF(BI863=\"\",\"\",18)","v":""},{"$f":"\"換気設備:\"&換気検査結果表!C116","v":"換気設備:"},{"$f":"換気検査結果表!D116","v":""},"",8,{"$f":"IF(BF896=0,\"\",VLOOKUP(BK863,BF856:BF895,1))","v":""},""]
[{"$nulls":57},"",{"$f":"IF(BI864=\"\",\"\",19)","v":""},{"$f":"\"換気設備:\"&換気検査結果表!C117","v":"換気設備:"},{"$f":"換気検査結果表!D117","v":""},"",9,{"$f":"IF(BF896=0,\"\",VLOOKUP(BK864,BF856:BF895,1))","v":""},""]
[{"$nulls":57},"",{"$f":"IF(BI865=\"\",\"\",20)","v":""},{"$f":"\"換気設備:\"&換気検査結果表!C118","v":"換気設備:"},{"$f":"換気検査結果表!D118","v":""},"",10,{"$f":"IF($BF$896=0,\"\",VLOOKUP(BK865,$BF$856:$BF$895,1))","v":""},""]
[{"$nulls":56},"排煙","",{"$f":"IF(BI866=\"\",\"\",21)","v":""},{"$f":"\"排煙設備:\"&排煙検査結果表!C184","v":"排煙設備:"},{"$f":"排煙検査結果表!D184","v":""},"",11,"",""]
[{"$nulls":57},"",{"$f":"IF(BI867=\"\",\"\",22)","v":""},{"$f":"\"排煙設備:\"&排煙検査結果表!C185","v":"排煙設備:"},{"$f":"排煙検査結果表!D185","v":""},"",12,"",""]
[{"$nulls":57},"",{"$f":"IF(BI868=\"\",\"\",23)","v":""},{"$f":"\"排煙設備:\"&排煙検査結果表!C186","v":"排煙設備:"},{"$f":"排煙検査結果表!D186","v":""},"",13,"",""]
[{"$nulls":57},"",{"$f":"IF(BI869=\"\",\"\",24)","v":""},{"$f":"\"排煙設備:\"&排煙検査結果表!C187","v":"排煙設備:"},{"$f":"排煙検査結果表!D187","v":""},"",14,"",""]
[{"$nulls":57},"",{"$f":"IF(BI870=\"\",\"\",25)","v":""},{"$f":"\"排煙設備:\"&排煙検査結果表!C188","v":"排煙設備:"},{"$f":"排煙検査結果表!D188","v":""},"",15,"",""]
[{"$nulls":57},"",{"$f":"IF(BI871=\"\",\"\",26)","v":""},{"$f":"\"排煙設備:\"&排煙検査結果表!C189","v":"排煙設備:"},{"$f":"排煙検査結果表!D189","v":""},"",16,"",""]
[{"$nulls":57},"",{"$f":"IF(BI872=\"\",\"\",27)","v":""},{"$f":"\"排煙設備:\"&排煙検査結果表!C190","v":"排煙設備:"},{"$f":"排煙検査結果表!D190","v":""},"",17,"",""]
[{"$nulls":57},"",{"$f":"IF(BI873=\"\",\"\",28)","v":""},{"$f":"\"排煙設備:\"&排煙検査結果表!C191","v":"排煙設備:"},{"$f":"排煙検査結果表!D191","v":""},"",18,"",""]
[{"$nulls":57},"",{"$f":"IF(BI874=\"\",\"\",29)","v":""},{"$f":"\"排煙設備:\"&排煙検査結果表!C192","v":"排煙設備:"},{"$f":"排煙検査結果表!D192","v":""},"",19,"",""]
[{"$nulls":57},"",{"$f":"IF(BI875=\"\",\"\",30)","v":""},{"$f":"\"排煙設備:\"&排煙検査結果表!C193","v":"排煙設備:"},{"$f":"排煙検査結果表!D193","v":""},"",20,"",""]
[{"$nulls":56},"非照","",{"$f":"IF(BI876=\"\",\"\",31)","v":""},{"$f":"\"非常用の照明装置:\"&非照検査結果表!C112","v":"非常用の照明装置:"},{"$f":"非照検査結果表!D112","v":""},""]
[{"$nulls":57},"",{"$f":"IF(BI877=\"\",\"\",32)","v":""},{"$f":"\"非常用の照明装置:\"&非照検査結果表!C113","v":"非常用の照明装置:"},{"$f":"非照検査結果表!D113","v":""},""]
[{"$nulls":57},"",{"$f":"IF(BI878=\"\",\"\",33)","v":""},{"$f":"\"非常用の照明装置:\"&非照検査結果表!C114","v":"非常用の照明装置:"},{"$f":"非照検査結果表!D114","v":""},""]
[{"$nulls":57},"",{"$f":"IF(BI879=\"\",\"\",34)","v":""},{"$f":"\"非常用の照明装置:\"&非照検査結果表!C115","v":"非常用の照明装置:"},{"$f":"非照検査結果表!D115","v":""},""]
[{"$nulls":57},"",{"$f":"IF(BI880=\"\",\"\",35)","v":""},{"$f":"\"非常用の照明装置:\"&非照検査結果表!C116","v":"非常用の照明装置:"},{"$f":"非照検査結果表!D116","v":""},""]
[{"$nulls":57},"",{"$f":"IF(BI881=\"\",\"\",36)","v":""},{"$f":"\"非常用の照明装置:\"&非照検査結果表!C117","v":"非常用の照明装置:"},{"$f":"非照検査結果表!D117","v":""},""]
[{"$nulls":57},"",{"$f":"IF(BI882=\"\",\"\",37)","v":""},{"$f":"\"非常用の照明装置:\"&非照検査結果表!C118","v":"非常用の照明装置:"},{"$f":"非照検査結果表!D118","v":""},""]
[{"$nulls":57},"",{"$f":"IF(BI883=\"\",\"\",38)","v":""},{"$f":"\"非常用の照明装置:\"&非照検査結果表!C119","v":"非常用の照明装置:"},{"$f":"非照検査結果表!D119","v":""},""]
[{"$nulls":57},"",{"$f":"IF(BI884=\"\",\"\",39)","v":""},{"$f":"\"非常用の照明装置:\"&非照検査結果表!C120","v":"非常用の照明装置:"},{"$f":"非照検査結果表!D120","v":""},""]
[{"$nulls":57},"",{"$f":"IF(BI885=\"\",\"\",40)","v":""},{"$f":"\"非常用の照明装置:\"&非照検査結果表!C121","v":"非常用の照明装置:"},{"$f":"非照検査結果表!D121","v":""},""]
[{"$nulls":56},"水","",{"$f":"IF(BI886=\"\",\"\",41)","v":""},{"$f":"\"給水設備及び排水設備:\"&水検査結果表!C96","v":"給水設備及び排水設備:"},{"$f":"水検査結果表!D96","v":""},""]
[{"$nulls":57},"",{"$f":"IF(BI887=\"\",\"\",42)","v":""},{"$f":"\"給水設備及び排水設備:\"&水検査結果表!C97","v":"給水設備及び排水設備:"},{"$f":"水検査結果表!D97","v":""},""]
[{"$nulls":57},"",{"$f":"IF(BI888=\"\",\"\",43)","v":""},{"$f":"\"給水設備及び排水設備:\"&水検査結果表!C98","v":"給水設備及び排水設備:"},{"$f":"水検査結果表!D98","v":""},""]
[{"$nulls":57},"",{"$f":"IF(BI889=\"\",\"\",44)","v":""},{"$f":"\"給水設備及び排水設備:\"&水検査結果表!C99","v":"給水設備及び排水設備:"},{"$f":"水検査結果表!D99","v":""},""]
[{"$nulls":57},"",{"$f":"IF(BI890=\"\",\"\",45)","v":""},{"$f":"\"給水設備及び排水設備:\"&水検査結果表!C100","v":"給水設備及び排水設備:"},{"$f":"水検査結果表!D100","v":""},""]
[{"$nulls":57},"",{"$f":"IF(BI891=\"\",\"\",46)","v":""},{"$f":"\"給水設備及び排水設備:\"&水検査結果表!C101","v":"給水設備及び排水設備:"},{"$f":"水検査結果表!D101","v":""},""]
[{"$nulls":57},"",{"$f":"IF(BI892=\"\",\"\",47)","v":""},{"$f":"\"給水設備及び排水設備:\"&水検査結果表!C102","v":"給水設備及び排水設備:"},{"$f":"水検査結果表!D102","v":""},""]
[{"$nulls":57},"",{"$f":"IF(BI893=\"\",\"\",48)","v":""},{"$f":"\"給水設備及び排水設備:\"&水検査結果表!C103","v":"給水設備及び排水設備:"},{"$f":"水検査結果表!D103","v":""},""]
[{"$nulls":57},"",{"$f":"IF(BI894=\"\",\"\",49)","v":""},{"$f":"\"給水設備及び排水設備:\"&水検査結果表!C104","v":"給水設備及び排水設備:"},{"$f":"水検査結果表!D104","v":""},""]
[{"$nulls":57},"",{"$f":"IF(BI895=\"\",\"\",50)","v":""},{"$f":"\"給水設備及び排水設備:\"&水検査結果表!C105","v":"給水設備及び排水設備:"},{"$f":"水検査結果表!D105","v":""},""]
["○",{"$nulls":56},{"$f":"SUM(BF856:BF895)","v":0}]

{"sheet":"建築物概要書","index":2,"n_rows":60,"n_cols":66,"rows_kept":60,"merged":[[4,1,4,57],[8,38,8,56],[9,1,10,3],[9,7,10,9],[9,13,10,47],[9,48,9,52],[9,53,9,57],[10,48,10,52],[10,53,10,57],[11,1,11,2],[11,7,11,9],[11,14,11,16],[11,18,11,21],[11,23,11,25],[11,27,11,29],[11,31,11,32],[11,34,11,37],[11,39,11,42],[11,43,11,46],[11,48,11,49],[11,51,11,52],[11,53,11,54],[11,56,11,57],[12,1,12,2],[12,7,12,9],[12,14,12,16],[12,18,12,21],[12,23,12,25],[12,27,12,29],[12,31,12,32],[12,34,12,37],[12,39,12,42],[12,43,12,46],[12,48,12,49],[12,51,12,52],[12,53,12,54],[12,56,12,57],[13,1,13,2],[13,7,13,9],[13,14,13,16],[13,18,13,21],[13,23,13,25],[13,27,13,29],[13,31,13,32],[13,34,13,37],[13,39,13,42],[13,43,13,46],[13,48,13,49],[13,51,13,52],[13,53,13,54],[13,56,13,57],[14,1,14,2],[14,7,14,9],[14,14,14,16],[14,18,14,21],[14,23,14,25],[14,27,14,29],[14,31,14,32],[14,34,14,37],[14,39,14,42],[14,43,14,46],[14,48,14,49],[14,51,14,52],[14,53,14,54],[14,56,14,57],[15,1,15,2],[15,7,15,9],[15,14,15,16],[15,18,15,21],[15,23,15,25],[15,27,15,29],[15,31,15,32],[15,34,15,37],[15,39,15,42],[15,43,15,46],[15,48,15,49],[15,51,15,52],[15,53,15,54],[15,56,15,57],[16,1,16,2],[16,7,16,9],[16,14,16,16],[16,18,16,21],[16,23,16,25],[16,27,16,29],[16,31,16,32],[16,34,16,37],[16,39,16,42],[16,43,16,46],[16,48,16,49],[16,51,16,52],[16,53,16,54],[16,56,16,57],[17,1,17,2],[17,7,17,9],[17,14,17,16],[17,18,17,21],[17,23,17,25],[17,27,17,29],[17,31,17,32],[17,34,17,37],[17,39,17,42],[17,43,17,46],[17,48,17,49],[17,51,17,52],[17,53,17,54],[17,56,17,57],[18,1,18,2],[18,7,18,9],[18,14,18,16],[18,18,18,21],[18,23,18,25],[18,27,18,29],[18,31,18,32],[18,34,18,37],[18,39,18,42],[18,43,18,46],[18,48,18,49],[18,51,18,52],[18,53,18,54],[18,56,18,57],[19,1,19,2],[19,7,19,9],[19,14,19,16],[19,18,19,21],[19,23,19,25],[19,27,19,29],[19,31,19,32],[19,34,19,37],[19,39,19,42],[19,43,19,46],[19,48,19,49],[19,51,19,52],[19,53,19,54],[19,56,19,57],[20,1,20,2],[20,7,20,9],[20,14,20,16],[20,18,20,21],[20,23,20,25],[20,27,20,29],[20,31,20,32],[20,34,20,37],[20,39,20,42],[20,43,20,46],[20,48,20,49],[20,51,20,52],[20,53,20,54],[20,56,20,57],[21,1,21,2],[21,7,21,9],[21,14,21,16],[21,18,21,21],[21,23,21,25],[21,27,21,29],[21,31,21,32],[21,34,21,37],[21,39,21,42],[21,43,21,46],[21,48,21,49],[21,51,21,52],[21,53,21,54],[21,56,21,57],[22,1,22,2],[22,7,22,9],[22,14,22,16],[22,18,22,21],[22,23,22,25],[22,27,22,29],[22,31,22,32],[22,34,22,37],[22,39,22,42],[22,43,22,46],[22,48,22,49],[22,51,22,52],[22,53,22,54],[22,56,22,57],[23,1,23,2],[23,7,23,9],[23,14,23,16],[23,18,23,21],[23,23,23,25],[23,27,23,29],[23,31,23,32],[23,34,23,37],[23,39,23,42],[23,43,23,46],[23,48,23,49],[23,51,23,52],[23,53,23,54],[23,56,23,57],[24,1,24,2],[24,7,24,9],[24,14,24,16],[24,18,24,21],[24,23,24,25],[24,27,24,29],[24,31,24,32],[24,34,24,37],[24,39,24,42],[24,43,24,46],[24,48,24,49],[24,51,24,52],[24,53,24,54],[24,56,24,57],[25,1,25,2],[25,7,25,9],[25,14,25,16],[25,18,25,21],[25,23,25,25],[25,27,25,29],[25,31,25,32],[25,34,25,37],[25,39,25,42],[25,43,25,46],[25,48,25,49],[25,51,25,52],[25,53,25,54],[25,56,25,57],[26,1,26,2],[26,7,26,9],[26,14,26,16],[26,18,26,21],[26,23,26,25],[26,27,26,29],[26,31,26,32],[26,34,26,37],[26,39,26,42],[26,43,26,46],[26,48,26,49],[26,51,26,52],[26,53,26,54],[26,56,26,57],[27,1,27,2],[27,7,27,9],[27,14,27,16],[27,18,27,21],[27,23,27,25],[27,27,27,29],[27,31,27,32],[27,34,27,37],[27,39,27,42],[27,43,27,46],[27,48,27,49],[27,51,27,52],[27,53,27,54],[27,56,27,57],[28,1,28,2],[28,7,28,9],[28,14,28,16],[28,18,28,21],[28,23,28,25],[28,27,28,29],[28,31,28,32],[28,34,28,37],[28,39,28,42],[28,43,28,46],[28,48,28,49],[28,51,28,52],[28,53,28,54],[28,56,28,57],[29,1,29,2],[29,7,29,9],[29,14,29,16],[29,18,29,21],[29,23,29,25],[29,27,29,29],[29,31,29,32],[29,34,29,37],[29,39,29,42],[29,43,29,46],[29,48,29,49],[29,51,29,52],[29,53,29,54],[29,56,29,57],[30,1,30,2],[30,7,30,9],[30,14,30,16],[30,18,30,21],[30,23,30,25],[30,27,30,29],[30,31,30,32],[30,34,30,37],[30,39,30,42],[30,43,30,46],[30,48,30,49],[30,51,30,52],[30,53,30,54],[30,56,30,57],[31,1,31,2],[31,7,31,9],[31,14,31,16],[31,18,31,21],[31,23,31,25],[31,27,31,29],[31,31,31,32],[31,34,31,37],[31,39,31,42],[31,43,31,46],[31,48,31,49],[31,51,31,52],[31,53,31,54],[31,56,31,57],[32,1,32,2],[32,7,32,9],[32,14,32,16],[32,18,32,21],[32,23,32,25],[32,27,32,29],[32,31,32,32],[32,34,32,37],[32,39,32,42],[32,43,32,46],[32,48,32,49],[32,51,32,52],[32,53,32,54],[32,56,32,57],[33,1,33,2],[33,7,33,9],[33,14,33,16],[33,18,33,21],[33,23,33,25],[33,27,33,29],[33,31,33,32],[33,34,33,37],[33,39,33,42],[33,43,33,46],[33,48,33,49],[33,51,33,52],[33,53,33,54],[33,56,33,57],[34,1,34,2],[34,7,34,9],[34,14,34,16],[34,18,34,21],[34,23,34,25],[34,27,34,29],[34,31,34,32],[34,34,34,37],[34,39,34,42],[34,43,34,46],[34,48,34,49],[34,51,34,52],[34,53,34,54],[34,56,34,57],[35,1,35,2],[35,7,35,9],[35,14,35,16],[35,18,35,21],[35,23,35,25],[35,27,35,29],[35,31,35,32],[35,34,35,37],[35,39,35,42],[35,43,35,46],[35,48,35,49],[35,51,35,52],[35,53,35,54],[35,56,35,57],[36,1,36,2],[36,7,36,9],[36,14,36,16],[36,18,36,21],[36,23,36,25],[36,27,36,29],[36,31,36,32],[36,34,36,37],[36,39,36,42],[36,43,36,46],[36,48,36,49],[36,51,36,52],[36,53,36,54],[36,56,36,57],[37,1,37,2],[37,7,37,9],[37,14,37,16],[37,18,37,21],[37,23,37,25],[37,27,37,29],[37,31,37,32],[37,34,37,37],[37,39,37,42],[37,43,37,46],[37,48,37,49],[37,51,37,52],[37,53,37,54],[37,56,37,57],[38,1,38,2],[38,7,38,9],[38,14,38,16],[38,18,38,21],[38,23,38,25],[38,27,38,29],[38,31,38,32],[38,34,38,37],[38,39,38,42],[38,43,38,46],[38,48,38,49],[38,51,38,52],[38,53,38,54],[38,56,38,57],[39,1,39,2],[39,7,39,9],[39,14,39,16],[39,18,39,21],[39,23,39,25],[39,27,39,29],[39,31,39,32],[39,34,39,37],[39,39,39,42],[39,43,39,46],[39,48,39,49],[39,51,39,52],[39,53,39,54],[39,56,39,57],[40,1,40,2],[40,7,40,9],[40,14,40,16],[40,18,40,21],[40,23,40,25],[40,27,40,29],[40,31,40,32],[40,34,40,37],[40,39,40,42],[40,43,40,46],[40,48,40,49],[40,51,40,52],[40,53,40,54],[40,56,40,57],[41,7,41,9],[41,14,41,16],[41,18,41,21],[41,23,41,25],[41,27,41,29],[41,31,41,32],[41,34,41,37],[41,39,41,42],[41,43,41,46],[41,48,41,49],[41,51,41,52],[41,53,41,54],[41,56,41,57],[42,7,42,9],[42,14,42,16],[42,18,42,21],[42,23,42,25],[42,27,42,29],[42,31,42,32],[42,34,42,37],[42,39,42,42],[42,43,42,46],[42,48,42,49],[42,51,42,52],[42,53,42,54],[42,56,42,57],[43,7,43,9],[43,14,43,16],[43,18,43,21],[43,23,43,25],[43,27,43,29],[43,31,43,32],[43,34,43,37],[43,39,43,42],[43,43,43,46],[43,48,43,49],[43,51,43,52],[43,53,43,54],[43,56,43,57],[44,7,44,9],[44,14,44,16],[44,18,44,21],[44,23,44,25],[44,27,44,29],[44,31,44,32],[44,34,44,37],[44,39,44,42],[44,43,44,46],[44,48,44,49],[44,51,44,52],[44,53,44,54],[44,56,44,57],[45,7,45,9],[45,14,45,16],[45,18,45,21],[45,23,45,25],[45,27,45,29],[45,31,45,32],[45,34,45,37],[45,39,45,42],[45,43,45,46],[45,48,45,49],[45,51,45,52],[45,53,45,54],[45,56,45,57],[46,7,46,9],[46,14,46,16],[46,18,46,21],[46,23,46,25],[46,27,46,29],[46,31,46,32],[46,34,46,37],[46,39,46,42],[46,43,46,46],[46,48,46,49],[46,51,46,52],[46,53,46,54],[46,56,46,57],[47,7,47,9],[47,14,47,16],[47,18,47,21],[47,23,47,25],[47,27,47,29],[47,31,47,32],[47,34,47,37],[47,39,47,42],[47,43,47,46],[47,48,47,49],[47,51,47,52],[47,53,47,54],[47,56,47,57],[48,7,48,9],[48,14,48,16],[48,18,48,21],[48,23,48,25],[48,27,48,29],[48,31,48,32],[48,34,48,37],[48,39,48,42],[48,43,48,46],[48,48,48,49],[48,51,48,52],[48,53,48,54],[48,56,48,57],[49,7,49,9],[49,14,49,16],[49,18,49,21],[49,23,49,25],[49,27,49,29],[49,31,49,32],[49,34,49,37],[49,39,49,42],[49,43,49,46],[49,48,49,49],[49,51,49,52],[49,53,49,54],[49,56,49,57],[50,1,50,2],[50,7,50,9],[50,14,50,16],[50,18,50,21],[50,23,50,25],[50,27,50,29],[50,31,50,32],[50,34,50,37],[50,39,50,42],[50,43,50,46],[50,48,50,49],[50,51,50,52],[50,53,50,54],[50,56,50,57],[51,1,51,2],[51,7,51,9],[51,14,51,16],[51,18,51,21],[51,23,51,25],[51,27,51,29],[51,31,51,32],[51,34,51,37],[51,39,51,42],[51,43,51,46],[51,48,51,49],[51,51,51,52],[51,53,51,54],[51,56,51,57],[52,7,52,9],[52,14,52,16],[52,18,52,21],[52,23,52,25],[52,27,52,29],[52,31,52,32],[52,34,52,37],[52,39,52,42],[52,43,52,46],[52,48,52,49],[52,51,52,52],[52,53,52,54],[52,56,52,57],[53,7,53,9],[53,14,53,16],[53,18,53,21],[53,23,53,25],[53,27,53,29],[53,31,53,32],[53,34,53,37],[53,39,53,42],[53,43,53,46],[53,48,53,49],[53,51,53,52],[53,53,53,54],[53,56,53,57],[54,1,54,2],[54,7,54,9],[54,14,54,16],[54,18,54,21],[54,23,54,25],[54,27,54,29],[54,31,54,32],[54,34,54,37],[54,39,54,42],[54,43,54,46],[54,48,54,49],[54,51,54,52],[54,53,54,54],[54,56,54,57],[55,1,55,2],[55,7,55,9],[55,14,55,16],[55,18,55,21],[55,23,55,25],[55,27,55,29],[55,31,55,32],[55,34,55,37],[55,39,55,42],[55,43,55,46],[55,48,55,49],[55,51,55,52],[55,53,55,54],[55,56,55,57],[56,7,56,9],[57,39,60,57]]}
[]
[{"$nulls":57},"別記第１号様式"]
[]
[]
[null,"建　築　物　概　要　書"]
[]
[]
[]
[{"$nulls":36},"建築物名称","（",{"$f":"報告書!N55","v":0},{"$nulls":18},"）"]
[null,"階　数",{"$nulls":5},"階別床\n面積(㎡)",{"$nulls":5},"用　　　　　　途",{"$nulls":34},"換気上の",{"$nulls":4},"機械排煙"]
[{"$nulls":48},"無窓居室",{"$nulls":4},"設　備"]
[{"$nulls":3},"階",{"$nulls":10},"事務所",null,null,"・","物品販売",{"$nulls":3},"・","飲食店",null,null,"・","ホテル",null,null,"・","病院",null,"・","共同住宅",{"$nulls":3},"・","その他（",{"$nulls":7},"）","有",null,"･","無",null,"有",null,"･","無"]
[{"$nulls":3},"階",{"$nulls":10},"事務所",null,null,"・","物品販売",{"$nulls":3},"・","飲食店",null,null,"・","ホテル",null,null,"・","病院",null,"・","共同住宅",{"$nulls":3},"・","その他（",{"$nulls":7},"）","有",null,"･","無",null,"有",null,"･","無"]
[{"$nulls":3},"階",{"$nulls":10},"事務所",null,null,"・","物品販売",{"$nulls":3},"・","飲食店",null,null,"・","ホテル",null,null,"・","病院",null,"・","共同住宅",{"$nulls":3},"・","その他（",{"$nulls":7},"）","有",null,"･","無",null,"有",null,"･","無"]
[{"$nulls":3},"階",{"$nulls":10},"事務所",null,null,"・","物品販売",{"$nulls":3},"・","飲食店",null,null,"・","ホテル",null,null,"・","病院",null,"・","共同住宅",{"$nulls":3},"・","その他（",{"$nulls":7},"）","有",null,"･","無",null,"有",null,"･","無"]
[{"$nulls":3},"階",{"$nulls":10},"事務所",null,null,"・","物品販売",{"$nulls":3},"・","飲食店",null,null,"・","ホテル",null,null,"・","病院",null,"・","共同住宅",{"$nulls":3},"・","その他（",{"$nulls":7},"）","有",null,"･","無",null,"有",null,"･","無"]
[{"$nulls":3},"階",{"$nulls":10},"事務所",null,null,"・","物品販売",{"$nulls":3},"・","飲食店",null,null,"・","ホテル",null,null,"・","病院",null,"・","共同住宅",{"$nulls":3},"・","その他（",{"$nulls":7},"）","有",null,"･","無",null,"有",null,"･","無"]
[{"$nulls":3},"階",{"$nulls":10},"事務所",null,null,"・","物品販売",{"$nulls":3},"・","飲食店",null,null,"・","ホテル",null,null,"・","病院",null,"・","共同住宅",{"$nulls":3},"・","その他（",{"$nulls":7},"）","有",null,"･","無",null,"有",null,"･","無"]
[{"$nulls":3},"階",{"$nulls":10},"事務所",null,null,"・","物品販売",{"$nulls":3},"・","飲食店",null,null,"・","ホテル",null,null,"・","病院",null,"・","共同住宅",{"$nulls":3},"・","その他（",{"$nulls":7},"）","有",null,"･","無",null,"有",null,"･","無"]
[{"$nulls":3},"階",{"$nulls":10},"事務所",null,null,"・","物品販売",{"$nulls":3},"・","飲食店",null,null,"・","ホテル",null,null,"・","病院",null,"・","共同住宅",{"$nulls":3},"・","その他（",{"$nulls":7},"）","有",null,"･","無",null,"有",null,"･","無"]
[{"$nulls":3},"階",{"$nulls":10},"事務所",null,null,"・","物品販売",{"$nulls":3},"・","飲食店",null,null,"・","ホテル",null,null,"・","病院",null,"・","共同住宅",{"$nulls":3},"・","その他（",{"$nulls":7},"）","有",null,"･","無",null,"有",null,"･","無"]
[{"$nulls":3},"階",{"$nulls":10},"事務所",null,null,"・","物品販売",{"$nulls":3},"・","飲食店",null,null,"・","ホテル",null,null,"・","病院",null,"・","共同住宅",{"$nulls":3},"・","その他（",{"$nulls":7},"）","有",null,"･","無",null,"有",null,"･","無"]
[{"$nulls":3},"階",{"$nulls":10},"事務所",null,null,"・","物品販売",{"$nulls":3},"・","飲食店",null,null,"・","ホテル",null,null,"・","病院",null,"・","共同住宅",{"$nulls":3},"・","その他（",{"$nulls":7},"）","有",null,"･","無",null,"有",null,"･","無"]
[{"$nulls":3},"階",{"$nulls":10},"事務所",null,null,"・","物品販売",{"$nulls":3},"・","飲食店",null,null,"・","ホテル",null,null,"・","病院",null,"・","共同住宅",{"$nulls":3},"・","その他（",{"$nulls":7},"）","有",null,"･","無",null,"有",null,"･","無"]
[{"$nulls":3},"階",{"$nulls":10},"事務所",null,null,"・","物品販売",{"$nulls":3},"・","飲食店",null,null,"・","ホテル",null,null,"・","病院",null,"・","共同住宅",{"$nulls":3},"・","その他（",{"$nulls":7},"）","有",null,"･","無",null,"有",null,"･","無"]
[{"$nulls":3},"階",{"$nulls":10},"事務所",null,null,"・","物品販売",{"$nulls":3},"・","飲食店",null,null,"・","ホテル",null,null,"・","病院",null,"・","共同住宅",{"$nulls":3},"・","その他（",{"$nulls":7},"）","有",null,"･","無",null,"有",null,"･","無"]
[{"$nulls":3},"階",{"$nulls":10},"事務所",null,null,"・","物品販売",{"$nulls":3},"・","飲食店",null,null,"・","ホテル",null,null,"・","病院",null,"・","共同住宅",{"$nulls":3},"・","その他（",{"$nulls":7},"）","有",null,"･","無",null,"有",null,"･","無"]
[{"$nulls":3},"階",{"$nulls":10},"事務所",null,null,"・","物品販売",{"$nulls":3},"・","飲食店",null,null,"・","ホテル",null,null,"・","病院",null,"・","共同住宅",{"$nulls":3},"・","その他（",{"$nulls":7},"）","有",null,"･","無",null,"有",null,"･","無"]
[{"$nulls":3},"階",{"$nulls":10},"事務所",null,null,"・","物品販売",{"$nulls":3},"・","飲食店",null,null,"・","ホテル",null,null,"・","病院",null,"・","共同住宅",{"$nulls":3},"・","その他（",{"$nulls":7},"）","有",null,"･","無",null,"有",null,"･","無"]
[{"$nulls":3},"階",{"$nulls":10},"事務所",null,null,"・","物品販売",{"$nulls":3},"・","飲食店",null,null,"・","ホテル",null,null,"・","病院",null,"・","共同住宅",{"$nulls":3},"・","その他（",{"$nulls":7},"）","有",null,"･","無",null,"有",null,"･","無"]
[{"$nulls":3},"階",{"$nulls":10},"事務所",null,null,"・","物品販売",{"$nulls":3},"・","飲食店",null,null,"・","ホテル",null,null,"・","病院",null,"・","共同住宅",{"$nulls":3},"・","その他（",{"$nulls":7},"）","有",null,"･","無",null,"有",null,"･","無"]
[{"$nulls":3},"階",{"$nulls":10},"事務所",null,null,"・","物品販売",{"$nulls":3},"・","飲食店",null,null,"・","ホテル",null,null,"・","病院",null,"・","共同住宅",{"$nulls":3},"・","その他（",{"$nulls":7},"）","有",null,"･","無",null,"有",null,"･","無"]
[{"$nulls":3},"階",{"$nulls":10},"事務所",null,null,"・","物品販売",{"$nulls":3},"・","飲食店",null,null,"・","ホテル",null,null,"・","病院",null,"・","共同住宅",{"$nulls":3},"・","その他（",{"$nulls":7},"）","有",null,"･","無",null,"有",null,"･","無"]
[{"$nulls":3},"階",{"$nulls":10},"事務所",null,null,"・","物品販売",{"$nulls":3},"・","飲食店",null,null,"・","ホテル",null,null,"・","病院",null,"・","共同住宅",{"$nulls":3},"・","その他（",{"$nulls":7},"）","有",null,"･","無",null,"有",null,"･","無"]
[{"$nulls":3},"階",{"$nulls":10},"事務所",null,null,"・","物品販売",{"$nulls":3},"・","飲食店",null,null,"・","ホテル",null,null,"・","病院",null,"・","共同住宅",{"$nulls":3},"・","その他（",{"$nulls":7},"）","有",null,"･","無",null,"有",null,"･","無"]
[{"$nulls":3},"階",{"$nulls":10},"事務所",null,null,"・","物品販売",{"$nulls":3},"・","飲食店",null,null,"・","ホテル",null,null,"・","病院",null,"・","共同住宅",{"$nulls":3},"・","その他（",{"$nulls":7},"）","有",null,"･","無",null,"有",null,"･","無"]
[{"$nulls":3},"階",{"$nulls":10},"事務所",null,null,"・","物品販売",{"$nulls":3},"・","飲食店",null,null,"・","ホテル",null,null,"・","病院",null,"・","共同住宅",{"$nulls":3},"・","その他（",{"$nulls":7},"）","有",null,"･","無",null,"有",null,"･","無"]
[{"$nulls":3},"階",{"$nulls":10},"事務所",null,null,"・","物品販売",{"$nulls":3},"・","飲食店",null,null,"・","ホテル",null,null,"・","病院",null,"・","共同住宅",{"$nulls":3},"・","その他（",{"$nulls":7},"）","有",null,"･","無",null,"有",null,"･","無"]
[{"$nulls":3},"階",{"$nulls":10},"事務所",null,null,"・","物品販売",{"$nulls":3},"・","飲食店",null,null,"・","ホテル",null,null,"・","病院",null,"・","共同住宅",{"$nulls":3},"・","その他（",{"$nulls":7},"）","有",null,"･","無",null,"有",null,"･","無"]
[{"$nulls":3},"階",{"$nulls":10},"事務所",null,null,"・","物品販売",{"$nulls":3},"・","飲食店",null,null,"・","ホテル",null,null,"・","病院",null,"・","共同住宅",{"$nulls":3},"・","その他（",{"$nulls":7},"）","有",null,"･","無",null,"有",null,"･","無"]
[{"$nulls":3},"階",{"$nulls":10},"事務所",null,null,"・","物品販売",{"$nulls":3},"・","飲食店",null,null,"・","ホテル",null,null,"・","病院",null,"・","共同住宅",{"$nulls":3},"・","その他（",{"$nulls":7},"）","有",null,"･","無",null,"有",null,"･","無"]
[null,null,{"$f":"E42","v":""},"階",{"$f":"IF(AND(報告書!$P$101=\"\",報告書!$X$101=\"\"),\"\",IF(報告書!$P$101>10,\"\",IF(報告書!$P$101=10,\"\",\"―\")))","v":""},{"$nulls":9},"事務所",null,null,"・","物品販売",{"$nulls":3},"・","飲食店",null,null,"・","ホテル",null,null,"・","病院",null,"・","共同住宅",{"$nulls":3},"・","その他（",{"$nulls":7},"）","有",null,"･","無",null,"有",null,"･","無"]
[null,null,{"$f":"E43","v":""},"階",{"$f":"IF(AND(報告書!$P$101=\"\",報告書!$X$101=\"\"),\"\",IF(報告書!$P$101>9,\"\",IF(報告書!$P$101=9,\"\",\"―\")))","v":""},{"$nulls":9},"事務所",null,null,"・","物品販売",{"$nulls":3},"・","飲食店",null,null,"・","ホテル",null,null,"・","病院",null,"・","共同住宅",{"$nulls":3},"・","その他（",{"$nulls":7},"）","有",null,"･","無",null,"有",null,"･","無"]
[null,null,{"$f":"E44","v":""},"階",{"$f":"IF(AND(報告書!$P$101=\"\",報告書!$X$101=\"\"),\"\",IF(報告書!$P$101>8,\"\",IF(報告書!$P$101=8,\"\",\"―\")))","v":""},{"$nulls":9},"事務所",null,null,"・","物品販売",{"$nulls":3},"・","飲食店",null,null,"・","ホテル",null,null,"・","病院",null,"・","共同住宅",{"$nulls":3},"・","その他（",{"$nulls":7},"）","有",null,"･","無",null,"有",null,"･","無"]
[null,null,{"$f":"E45","v":""},"階",{"$f":"IF(AND(報告書!$P$101=\"\",報告書!$X$101=\"\"),\"\",IF(報告書!$P$101>7,\"\",IF(報告書!$P$101=7,\"\",\"―\")))","v":""},{"$nulls":9},"事務所",null,null,"・","物品販売",{"$nulls":3},"・","飲食店",null,null,"・","ホテル",null,null,"・","病院",null,"・","共同住宅",{"$nulls":3},"・","その他（",{"$nulls":7},"）","有",null,"･","無",null,"有",null,"･","無"]
[null,null,"","階",{"$f":"IF(AND(報告書!$P$101=\"\",報告書!$X$101=\"\"),\"\",IF(報告書!$P$101>6,\"\",IF(報告書!$P$101=6,\"\",\"―\")))","v":""},{"$nulls":9},"事務所",null,null,"・","物品販売",{"$nulls":3},"・","飲食店",null,null,"・","ホテル",null,null,"・","病院",null,"・","共同住宅",{"$nulls":3},"・","その他（",{"$nulls":7},"）","有",null,"･","無",null,"有",null,"･","無"]
[null,null,"","階",{"$f":"IF(AND(報告書!$P$101=\"\",報告書!$X$101=\"\"),\"\",IF(報告書!$P$101>5,\"\",IF(報告書!$P$101=5,\"\",\"―\")))","v":""},{"$nulls":9},"事務所",null,null,"・","物品販売",{"$nulls":3},"・","飲食店",null,null,"・","ホテル",null,null,"・","病院",null,"・","共同住宅",{"$nulls":3},"・","その他（",{"$nulls":7},"）","有",null,"･","無",null,"有",null,"･","無"]
[null,null,"","階",{"$f":"IF(AND(報告書!$P$101=\"\",報告書!$X$101=\"\"),\"\",IF(報告書!$P$101>4,\"\",IF(報告書!$P$101=4,\"\",\"―\")))","v":""},{"$nulls":9},"事務所",null,null,"・","物品販売",{"$nulls":3},"・","飲食店",null,null,"・","ホテル",null,null,"・","病院",null,"・","共同住宅",{"$nulls":3},"・","その他（",{"$nulls":7},"）","有",null,"･","無",null,"有",null,"･","無"]
[null,null,"","階",{"$f":"IF(AND(報告書!$P$101=\"\",報告書!$X$101=\"\"),\"\",IF(報告書!$P$101>3,\"\",IF(報告書!$P$101=3,\"\",\"―\")))","v":""},{"$nulls":9},"事務所",null,null,"・","物品販売",{"$nulls":3},"・","飲食店",null,null,"・","ホテル",null,null,"・","病院",null,"・","共同住宅",{"$nulls":3},"・","その他（",{"$nulls":7},"）","有",null,"･","無",null,"有",null,"･","無"]
[null,null,{"$f":"E50","v":""},"階",{"$f":"IF(AND(報告書!$P$101=\"\",報告書!$X$101=\"\"),\"\",IF(報告書!$P$101>2,\"\",IF(報告書!$P$101=2,\"\",\"―\")))","v":""},{"$nulls":9},"事務所",null,null,"・","物品販売",{"$nulls":3},"・","飲食店",null,null,"・","ホテル",null,null,"・","病院",null,"・","共同住宅",{"$nulls":3},"・","その他（",{"$nulls":7},"）","有",null,"･","無",null,"有",null,"･","無"]
[null,{"$f":"E51","v":""},null,"階",{"$f":"IF(AND(報告書!$P$101=\"\",報告書!$X$101=\"\"),\"\",IF(報告書!$P$101>1,\"\",IF(報告書!$P$101=1,\"\",\"―――\")))","v":""},{"$nulls":9},"事務所",null,null,"・","物品販売",{"$nulls":3},"・","飲食店",null,null,"・","ホテル",null,null,"・","病院",null,"・","共同住宅",{"$nulls":3},"・","その他（",{"$nulls":7},"）","有",null,"･","無",null,"有",null,"･","無",{"$nulls":3},"【イ．階数(地上)】",{"$f":"報告書!P101","v":0}]
[null,{"$f":"E52","v":""},null,"階",{"$f":"IF(AND(報告書!$P$101=\"\",報告書!$X$101=\"\"),\"\",IF(報告書!$X$101>1,\"\",IF(報告書!$X$101=1,\"\",\"―――\")))","v":""},{"$nulls":9},"事務所",null,null,"・","物品販売",{"$nulls":3},"・","飲食店",null,null,"・","ホテル",null,null,"・","病院",null,"・","共同住宅",{"$nulls":3},"・","その他（",{"$nulls":7},"）","有",null,"･","無",null,"有",null,"･","無",{"$nulls":3},"(地下)",{"$f":"報告書!X101","v":0}]
[null,null,{"$f":"E53","v":""},"階",{"$f":"IF(AND(報告書!$P$101=\"\",報告書!$X$101=\"\"),\"\",IF(報告書!$X$101>2,\"\",IF(報告書!$X$101=2,\"\",\"―\")))","v":""},{"$nulls":9},"事務所",null,null,"・","物品販売",{"$nulls":3},"・","飲食店",null,null,"・","ホテル",null,null,"・","病院",null,"・","共同住宅",{"$nulls":3},"・","その他（",{"$nulls":7},"）","有",null,"･","無",null,"有",null,"･","無"]
[null,null,{"$f":"E54","v":""},"階",{"$f":"IF(AND(報告書!$P$101=\"\",報告書!$X$101=\"\"),\"\",IF(報告書!$X$101>3,\"\",IF(報告書!$X$101=3,\"\",\"―\")))","v":""},{"$nulls":9},"事務所",null,null,"・","物品販売",{"$nulls":3},"・","飲食店",null,null,"・","ホテル",null,null,"・","病院",null,"・","共同住宅",{"$nulls":3},"・","その他（",{"$nulls":7},"）","有",null,"･","無",null,"有",null,"･","無",{"$nulls":3},"【ハ．延べ面積】",{"$f":"IF(報告書!M103=\"\",\"\",報告書!M103)","v":""}]
[{"$nulls":3},"階",{"$nulls":10},"事務所",null,null,"・","物品販売",{"$nulls":3},"・","飲食店",null,null,"・","ホテル",null,null,"・","病院",null,"・","共同住宅",{"$nulls":3},"・","その他（",{"$nulls":7},"）","有",null,"･","無",null,"有",null,"･","無",{"$nulls":3},"(報告対象床面積)",{"$f":"IF(報告書!X103=\"\",\"\",報告書!X103)","v":""}]
[{"$nulls":3},"階",{"$nulls":10},"事務所",null,null,"・","物品販売",{"$nulls":3},"・","飲食店",null,null,"・","ホテル",null,null,"・","病院",null,"・","共同住宅",{"$nulls":3},"・","その他（",{"$nulls":7},"）","有",null,"･","無",null,"有",null,"･","無"]
[null,"(注）",{"$nulls":5},{"$f":"IF(SUM(H12:J56)=0,\"\",SUM(H12:J56))","v":""},{"$nulls":31},"建築物の概要に関する補足事項等",{"$nulls":20},"【ニ．用途】",{"$f":"報告書!N56","v":0},{"$f":"報告書!T56","v":0},{"$f":"報告書!Z56","v":0},{"$f":"報告書!AF56","v":0},{"$f":"報告書!AL56","v":0}]
[null,null,"１","物品販売とは、百貨店、マーケット又は物品販売業を営む店舗をいう。"]
[null,null,"２","ホテルとは、旅館又はホテルをいう。",{"$nulls":56},"【イ．無窓居室(機械換気設備)】",{"$f":"IF(報告書!AC170=\"レ\",\"有\",\"\")","v":""},"【(排煙)ニ．検査対象建築設備】",{"$f":"IF(報告書!V104=\"レ\",\"有\",\"\")","v":""}]
[null,null,"３","病院とは、病院又は診療所（患者の収容施設があるものに限る。）をいう。",{"$nulls":56},"(中央管理方式の空気調和設備)",{"$f":"IF(報告書!L171=\"レ\",\"有\",\"\")","v":""}]

{"sheet":"換気検査結果表","index":3,"n_rows":152,"n_cols":47,"rows_kept":152,"merged":[[1,2,1,14],[1,18,1,19],[2,2,2,14],[2,18,3,43],[3,2,3,14],[7,2,10,3],[7,7,7,12],[7,13,7,14],[8,7,8,12],[8,13,8,14],[9,6,10,6],[9,7,9,12],[9,13,9,14],[10,7,10,12],[10,13,10,14],[11,2,11,14],[12,2,12,14],[13,2,13,14],[14,2,14,14],[15,2,17,2],[15,3,17,8],[15,10,17,10],[15,11,15,13],[15,14,17,14],[16,11,17,11],[22,3,22,13],[23,3,33,3],[23,6,31,6],[23,7,23,8],[24,7,24,8],[25,7,25,8],[26,7,26,8],[27,7,27,8],[28,7,28,8],[29,7,29,8],[30,7,30,8],[31,7,31,8],[32,6,33,6],[32,7,32,8],[33,7,33,8],[34,3,44,3],[34,6,38,6],[34,7,34,8],[35,7,35,8],[36,7,36,8],[37,7,37,8],[38,7,38,8],[39,6,44,6],[39,7,39,8],[40,7,40,8],[41,7,41,8],[42,7,42,8],[43,7,43,8],[44,7,44,8],[45,7,45,8],[46,7,46,8],[47,3,47,13],[48,3,56,3],[48,6,48,8],[49,6,49,8],[50,6,50,8],[51,6,51,8],[52,6,52,8],[53,6,53,8],[54,6,54,8],[55,6,55,8],[56,6,56,8],[62,3,62,13],[63,3,71,3],[63,6,63,8],[64,6,64,8],[65,6,65,8],[66,6,66,8],[67,6,67,8],[68,6,68,8],[69,6,69,8],[70,6,70,8],[71,6,71,8],[72,6,72,8],[73,3,76,3],[73,6,73,8],[74,6,74,8],[75,6,75,8],[76,6,76,8],[80,3,80,13],[81,3,89,3],[81,6,81,8],[82,6,82,8],[83,6,83,8],[84,6,84,8],[85,6,85,8],[86,6,86,8],[87,6,87,8],[88,6,88,8],[89,6,89,8],[95,3,95,14],[96,3,96,8],[97,3,97,8],[98,3,98,8],[99,3,99,8],[100,3,100,8],[101,3,101,8],[102,3,102,8],[103,3,103,8],[104,3,104,8],[105,3,105,8],[106,2,106,6],[107,3,107,6],[107,8,107,13],[108,3,108,6],[108,8,108,13],[109,3,109,6],[109,8,109,13],[110,3,110,6],[110,8,110,13],[111,3,111,6],[111,8,111,13],[112,3,112,6],[112,8,112,13],[113,3,113,6],[113,8,113,13],[114,3,114,6],[114,8,114,13],[115,3,115,6],[115,8,115,13],[116,3,116,6],[116,8,116,13],[117,3,117,6],[117,8,117,13],[118,2,118,14],[119,2,119,14],[120,3,120,14],[121,3,121,14],[122,3,122,14],[123,3,123,14],[124,3,124,14],[125,3,125,14],[126,3,126,14],[127,3,127,14],[128,3,128,14],[129,3,129,14],[130,3,130,14],[131,3,131,14],[132,3,132,14],[133,3,133,14],[134,3,134,14]]}
[null,null,"別記第一号（Ａ４）",{"$nulls":17},"○",{"$nulls":18},"〇"]
[null,null,"検査結果表",{"$nulls":15},{"$f":"IF(報告_2_04換検査者代表_ハ_氏名=\"\",\"-----\",IF(換気検査結果表!AK107=0,\"未入力\",IF(AJ98=\"YES\",換気検査結果表!AL104,\"未入力\")))","v":"-----"},null,null,"IF(報告_2_04換検査者代表_ハ_氏名=\"\",\"-----\",IF(換気検査結果表!AK97=0,\"未入力\",IF(AJ88=\"YES\",換気検査結果表!AL94,\"未入力\")))"]
[null,null,"（換気設備）",{"$nulls":15},{"$f":"IF(実施状況表!BT6=\"\",\"\",実施状況表!BT6)","v":""}]
[]
[]
[]
[]
[null,null,"当該検査に関与した検査者",{"$nulls":4},"　　氏　名",{"$nulls":5},"検査者番号"]
[{"$nulls":6},"代表となる検査者",{"$f":"IF(報告_2_04換検査者代表_ハ_氏名=\"\",\"\",報告_2_04換検査者代表_ハ_氏名)","v":""}]
[{"$nulls":6},"その他の検査者",{"$f":"IF(報告_2_04換検査者他1_ハ_氏名=\"\",\"\",報告_2_04換検査者他1_ハ_氏名)","v":""}]
[{"$nulls":7},{"$f":"IF(報告_2_04換検査者他2_ハ_氏名=\"\",\"\",報告_2_04換検査者他2_ハ_氏名)","v":""}]
[]
[]
[]
[]
[null,null,"番号","検　査　項　目　等",{"$nulls":7},"検査結果",null,null,"担当\n検査者\n番号"]
[{"$nulls":11},"指摘\nなし","要是正"]
[{"$nulls":13},"既　存\n不適格"]
[]
[]
[]
[]
[null,null,1,"法第28条第2項又は第3項に基づき換気設備が設けられた居室（換気設備を設けるべき調理室等を除く。）",{"$nulls":16},{"$f":"U24&U25&U26&U27&U28&U29&U30&U31&U32&U33&U34&U35&U36&U37&U38&U39&U40&U41&U42&U43&U44&U45","v":""},{"$f":"V24&V25&V26&V27&V28&V29&V30&V31&V32&V33&V34&V35&V36&V37&V38&V39&V40&V41&V42&V43&V44&V45","v":""},{"$f":"IF(U23=\"\",\"\",$C23)","v":""},{"$f":"IF(V23=\"\",\"\",$C23)","v":""},{"$f":"IF(W23=\"\",\"\",IF(W63&W81&W96=\"\",\"\",\"、\"))","v":""},{"$f":"IF(X23=\"\",\"\",IF(X63&X81&X96=\"\",\"\",\"、\"))","v":""},{"$nulls":15},"【イ．無窓居室】","系統","室",null,"系統","室"]
[null,null,"(1)","機械換気設備",null,null,"機械換気設備（中央管理方式の空気調和設備を含む。）の外観","給気機の外気取入口並びに直接外気に開放された給気口及び排気口への雨水の浸入等の防止措置の状況",null,"AND($H$9<>\"\",$AN$25+$AN$27+$AN$36+$AN$38>=1)",{"$f":"IF(AND($H$9<>\"\",$AN$24+$AN$26+$AN$36+$AN$38=0,$AD24=0),\"○\",IF(P24=\"\",\"\",P24))","v":""},{"$nulls":4},{"$f":"IF(AND(L24=\"\",M24=\"○\",N24=\"○\"),\"○\",IF(AND(L24=\"\",M24=\"○\",N24=\"\"),\"○\",IF(AND(L24=\"○\",M24=\"\",N24=\"\"),\"○\",IF(AND(L24=\"―\",M24=\"―\",N24=\"―\",O24=\"―\"),\"○\",\"\"))))","v":""},null,"IF(AND($H$9<>\"\",$AN$25+$AN$27+$AN$36+$AN$38=0,$AD24=0),\"○\",IF(P24=\"\",\"\",P24))",null,null,{"$f":"IF(AND(M24=\"○\",N24=\"\"),C24,\"\")","v":""},{"$f":"IF(AND(M24=\"○\",N24=\"○\"),C24,\"\")","v":""},null,null,{"$f":"IF(H9=\"\",\"\",\"―\")","v":""},null,"AND($N10<>\"\",$AD25=1,$O25=\"\")","居室等：換気設備",{"$f":"COUNTIF(L24:N34,\"○\")","v":0},{"$f":"AE24+AF24+AG24","v":0},{"$f":"COUNTIF(L24,\"○\")","v":0},{"$f":"COUNTIF(M24,\"○\")-AG24","v":0},{"$f":"COUNTIF(N24,\"○\")","v":0},{"$f":"IF(AF24>=1,\"要是正\",IF(AG24=1,\"既存不適格\",IF(AE24>=1,\"指摘なし\")))","v":false},{"$f":"IF(AD24=1,0,COUNTIF(P24,\"○\"))","v":0},{"$f":"AD24+AI24","v":0},{"$nulls":3},{"$f":"COUNT(AQ24,AR24)","v":0},null,"機械換気設備",{"$f":"IF(報告書!AK170=\"\",\"\",報告書!AK170)","v":""},{"$f":"IF(報告書!AO170=\"\",\"\",報告書!AO170)","v":""},"中央管理方式の空気調和設備",{"$f":"IF(報告書!AA171=\"\",\"\",報告書!AA171)","v":""},{"$f":"IF(報告書!AE171=\"\",\"\",報告書!AE171)","v":""}]
[null,null,"(2)",{"$nulls":4},"給気機の外気取入口及び排気機の排気口の取付けの状況",null,"AND($H$9<>\"\",$AN$25+$AN$27+$AN$36+$AN$38>=1)","",{"$nulls":4},{"$f":"IF(AND(L25=\"\",M25=\"○\",N25=\"○\"),\"○\",IF(AND(L25=\"\",M25=\"○\",N25=\"\"),\"○\",IF(AND(L25=\"○\",M25=\"\",N25=\"\"),\"○\",IF(AND(L25=\"―\",M25=\"―\",N25=\"―\",O25=\"―\"),\"○\",\"\"))))","v":""},null,"IF(AND($H$9<>\"\",$AN$25+$AN$27+$AN$36+$AN$38=0,$AD25=0),\"○\",IF(P25=\"\",\"\",P25))",null,null,{"$f":"IF(AND(M25=\"○\",N25=\"\"),C25,\"\")","v":""},{"$f":"IF(AND(M25=\"○\",N25=\"○\"),C25,\"\")","v":""},null,null,{"$f":"IF(ISBLANK(N9),\"\",\"〃\")","v":""},null,"AND($N10<>\"\",$AD26=1,$O26=\"\")",null,null,{"$f":"AE25+AF25+AG25","v":0},{"$f":"COUNTIF(L25,\"○\")","v":0},{"$f":"COUNTIF(M25,\"○\")-AG25","v":0},{"$f":"COUNTIF(N25,\"○\")","v":0},{"$f":"IF(AF25>=1,\"要是正\",IF(AG25=1,\"既存不適格\",IF(AE25>=1,\"指摘なし\")))","v":false},0,{"$f":"AD25+AI25","v":0},null,null,"AND($H$9<>\"\",$AN$25+$AN$27+$AN$36+$AN$38>=1,$AJ25=0)",null,null,"【ハ．居室等】"]
[null,null,"(3)",{"$nulls":4},"各居室の給気口及び排気口の設置位置",null,"AND($H$9<>\"\",$AN$25+$AN$27+$AN$36+$AN$38>=1)","",{"$nulls":4},{"$f":"IF(AND(L26=\"\",M26=\"○\",N26=\"○\"),\"○\",IF(AND(L26=\"\",M26=\"○\",N26=\"\"),\"○\",IF(AND(L26=\"○\",M26=\"\",N26=\"\"),\"○\",IF(AND(L26=\"―\",M26=\"―\",N26=\"―\",O26=\"―\"),\"○\",\"\"))))","v":""},null,"IF(AND($H$9<>\"\",$AN$25+$AN$27+$AN$36+$AN$38=0,$AD26=0),\"○\",IF(P26=\"\",\"\",P26))",null,null,{"$f":"IF(AND(M26=\"○\",N26=\"\"),C26,\"\")","v":""},"",null,null,{"$f":"IF(ISBLANK(N9),\"\",N9)","v":""},null,"AND($N10<>\"\",$AD26=1,$O26=\"\")",null,null,{"$f":"AE26+AF26+AG26","v":0},0,0,0,false,0,0,null,null,"AND($H$9<>\"\",$AN$25+$AN$27+$AN$36+$AN$38>=1,$AJ26=0)",{"$f":"COUNT(AQ26,AR26)","v":0},null,"機械換気設備",{"$f":"IF(報告書!AK175=\"\",\"\",報告書!AK175)","v":""},{"$f":"IF(報告書!AO175=\"\",\"\",報告書!AO175)","v":""},"中央管理方式の空気調和設備",{"$f":"IF(報告書!AA177=\"\",\"\",報告書!AA177)","v":""},{"$f":"IF(報告書!AE176=\"\",\"\",報告書!AE176)","v":""}]
[null,null,"(4)",{"$nulls":4},"各居室の給気口及び排気口の取付けの状況",null,"AND($H$9<>\"\",$AN$25+$AN$27+$AN$36+$AN$38>=1)","",{"$nulls":4},"",null,"IF(AND($H$9<>\"\",$AN$25+$AN$27+$AN$36+$AN$38=0,$AD27=0),\"○\",IF(P27=\"\",\"\",P27))",null,null,"","",null,{"$f":"IF(Y27=\"\",\"\",\"・\")","v":""},{"$f":"IF(ISBLANK(N10),\"\",N10)","v":""},null,"AND($N10<>\"\",$AD27=1,$O27=\"\")",null,null,0,0,0,0,false,0,0,null,null,"AND($H$9<>\"\",$AN$25+$AN$27+$AN$36+$AN$38>=1,$AJ27=0)"]
[null,null,"(5)",{"$nulls":4},"風道の取付けの状況",null,"AND($H$9<>\"\",$AN$25+$AN$27+$AN$36+$AN$38>=1)","",{"$nulls":4},"",null,"IF(AND($H$9<>\"\",$AN$25+$AN$27+$AN$36+$AN$38=0,$AD28=0),\"○\",IF(P28=\"\",\"\",P28))",null,null,"","",null,{"$f":"IF(Y28=\"\",\"\",\"・\")","v":""},{"$f":"IF(ISBLANK(N10),\"\",IF(ISBLANK(N11),Y26&X27&Y27,IF(Y27=\"\",\"\",N11)))","v":""},null,"AND($N10<>\"\",$AD28=1,$O28=\"\")",null,null,0,0,0,0,false,0,0,null,null,"AND($H$9<>\"\",$AN$25+$AN$27+$AN$36+$AN$38>=1,$AJ28=0)"]
[null,null,"(6)",{"$nulls":4},"風道の材質",null,"AND($H$9<>\"\",$AN$25+$AN$27+$AN$36+$AN$38>=1)","",{"$nulls":4},"",null,"IF(AND($H$9<>\"\",$AN$25+$AN$27+$AN$36+$AN$38=0,$AD29=0),\"○\",IF(P29=\"\",\"\",P29))",null,null,"","",null,null,{"$f":"IF(ISBLANK(N11),\"\",Y26&X27&Y27)","v":""},null,"AND($N10<>\"\",$AD29=1,$O29=\"\")",null,null,0,0,0,0,false,0,0,null,null,"AND($H$9<>\"\",$AN$25+$AN$27+$AN$36+$AN$38>=1,$AJ29=0)"]
[null,null,"(7)",{"$nulls":4},"給気機又は排気機の設置の状況",null,"AND($H$9<>\"\",$AN$25+$AN$27+$AN$36+$AN$38>=1)","",{"$nulls":4},"",null,"IF(AND($H$9<>\"\",$AN$25+$AN$27+$AN$36+$AN$38=0,$AD30=0),\"○\",IF(P30=\"\",\"\",P30))",null,null,"","",null,null,{"$f":"IF(Y29=\"\",\"\",Y26&X28&Y28)","v":""},null,"AND($N10<>\"\",$AD30=1,$O30=\"\")",null,null,0,0,0,0,false,0,0,null,null,"AND($H$9<>\"\",$AN$25+$AN$27+$AN$36+$AN$38>=1,$AJ30=0)"]
[null,null,"(8)",{"$nulls":4},"換気扇による換気の状況",null,"AND($H$9<>\"\",$AN$25+$AN$27+$AN$36+$AN$38>=1)","",{"$nulls":4},"",null,"IF(AND($H$9<>\"\",$AN$25+$AN$27+$AN$36+$AN$38=0,$AD31=0),\"○\",IF(P31=\"\",\"\",P31))",null,null,"","",null,null,{"$f":"IF(Y29=\"\",\"\",Y27&X28&Y28)","v":""},null,"AND($N10<>\"\",$AD31=1,$O31=\"\")",null,null,0,0,0,0,false,0,0,null,null,"AND($H$9<>\"\",$AN$25+$AN$27+$AN$36+$AN$38>=1,$AJ31=0)"]
[null,null,"(9)",{"$nulls":4},"各居室の給気口及び排気口における物品の放置の状況",null,null,{"$f":"IF(AND($H$9<>\"\",$AN$24+$AN$26+$AN$36+$AN$38=0,$AD32=0),\"○\",IF(P32=\"\",\"\",P32))","v":""},{"$nulls":4},"",null,"IF(AND($H$9<>\"\",$AN$25+$AN$27+$AN$36+$AN$38=0,$AD32=0),\"○\",IF(P32=\"\",\"\",P32))",null,null,"","",null,null,{"$f":"IF(Y29=\"\",\"\",Y29&X28&Y28)","v":""},null,"AND($N10<>\"\",$AD32=1,$O32=\"\")",null,null,{"$f":"AE32+AF32+AG32","v":0},{"$f":"COUNTIF(L32,\"○\")","v":0},{"$f":"COUNTIF(M32,\"○\")-AG32","v":0},{"$f":"COUNTIF(N32,\"○\")","v":0},{"$f":"IF(AF32>=1,\"要是正\",IF(AG32=1,\"既存不適格\",IF(AE32>=1,\"指摘なし\")))","v":false},{"$f":"IF(AD32=1,0,COUNTIF(P32,\"○\"))","v":0},0,null,null,"AND($H$9<>\"\",$AN$25+$AN$27+$AN$36+$AN$38>=1,$AJ32=0)"]
[null,null,"(10)",{"$nulls":3},"機械換気設備（中央管理方式の空気調和設備を含む。）の性能","各居室の換気量",null,"AND($H$9<>\"\",$AN$25+$AN$27+$AN$36+$AN$38>=1)",{"$f":"IF(AND($H$9<>\"\",$AN$24+$AN$26+$AN$36+$AN$38=0,$AD33=0),\"○\",IF(P33=\"\",\"\",P33))","v":""},{"$nulls":4},{"$f":"IF(AND(L33=\"実施せず\",M33=\"\",N33=\"\"),\"○\",IF(AND(L33=\"\",M33=\"○\",N33=\"○\"),\"○\",IF(AND(L33=\"\",M33=\"○\",N33=\"\"),\"○\",IF(AND(L33=\"○\",M33=\"\",N33=\"\"),\"○\",IF(AND(L33=\"―\",M33=\"―\",N33=\"―\",O33=\"―\"),\"○\",\"\")))))","v":""},null,"IF(AND($H$9<>\"\",$AN$25+$AN$27+$AN$36+$AN$38=0,$AD33=0),\"○\",IF(P33=\"\",\"\",P33))",null,null,"","",{"$nulls":4},"AND($N10<>\"\",$AD33=1,$O33=\"\",$L33<>\"実施せず\")",null,null,0,{"$f":"COUNTA(L33)","v":0},0,0,false,{"$f":"IF(AD33=1,0,COUNTIF(P33,\"○\"))","v":0},0,null,null,"AND($H$9<>\"\",$AN$25+$AN$27+$AN$36+$AN$38>=1,$AJ33=0)"]
[null,null,"(11)",{"$nulls":4},"中央管理室における制御及び作動状態の監視の状況",null,"AND($H$9<>\"\",$AN$25+$AN$27+$AN$36+$AN$38>=1)",{"$f":"IF(AND($H$9<>\"\",$AN$24+$AN$26+$AN$36+$AN$38=0,$AD34=0),\"○\",IF(P34=\"\",\"\",P34))","v":""},{"$nulls":4},{"$f":"IF(AND(L34=\"実施せず\",M34=\"\",N34=\"\"),\"○\",IF(AND(L34=\"\",M34=\"○\",N34=\"○\"),\"○\",IF(AND(L34=\"\",M34=\"○\",N34=\"\"),\"○\",IF(AND(L34=\"○\",M34=\"\",N34=\"\"),\"○\",IF(AND(L34=\"―\",M34=\"―\",N34=\"―\",O34=\"―\"),\"○\",\"\")))))","v":""},null,"IF(AND($H$9<>\"\",$AN$25+$AN$27+$AN$36+$AN$38=0,$AD34=0),\"○\",IF(P34=\"\",\"\",P34))",null,null,"","",{"$nulls":4},"AND($N10<>\"\",$AD34=1,$O34=\"\",$L34<>\"実施せず\")",null,null,0,{"$f":"COUNTA(L34)","v":0},0,0,false,{"$f":"IF(AD34=1,0,COUNTIF(P34,\"○\"))","v":0},0,null,null,"AND($H$9<>\"\",$AN$25+$AN$27+$AN$36+$AN$38>=1,$AJ34=0)"]
[null,null,"(12)","中央管理方式の空気調和設備",null,null,"空気調和設備の主要機器及び配管の外観","空気調和設備の設置の状況",null,"AND($H$9<>\"\",$AN$36+$AN$38>=1)",{"$f":"IF(AND($H$9<>\"\",$AN$36+$AN$38=0,$AD35=0),\"○\",IF(P35=\"\",\"\",P35))","v":""},{"$nulls":4},"",null,"IF(AND($H$9<>\"\",$AN$36+$AN$38=0,$AD35=0),\"○\",IF(P35=\"\",\"\",P35))",null,null,"","",{"$nulls":4},"AND($N10<>\"\",$AD35=1,$O35=\"\")","居室等：中央管理空調",{"$f":"COUNTIF(L35:N45,\"○\")","v":0},0,0,0,0,false,{"$f":"IF(AD35=1,0,COUNTIF(P35,\"○\"))","v":0},0,null,null,"AND($H$9<>\"\",$AN$36+$AN$38>=1,$AJ35=0)",null,null,"【イ．無窓居室】","系統","室"]
[null,null,"(13)",{"$nulls":4},"空気調和設備及び配管の劣化及び損傷の状況",null,"AND($H$9<>\"\",$AN$36+$AN$38>=1)","",{"$nulls":4},"",null,"IF(AND($H$9<>\"\",$AN$36+$AN$38=0,$AD36=0),\"○\",IF(P36=\"\",\"\",P36))",null,null,"","",{"$nulls":4},"AND($N10<>\"\",$AD36=1,$O36=\"\")",null,null,0,0,0,0,false,{"$f":"IF(AD36=1,0,COUNTIF(P36,\"○\"))","v":0},0,null,null,"AND($H$9<>\"\",$AN$36+$AN$38>=1,$AJ36=0)",{"$f":"COUNT(AQ36,AR36)","v":0},null,"中央管理方式の空気調和設備",{"$f":"IF(報告書!AA171=\"\",\"\",報告書!AA171)","v":""},{"$f":"IF(報告書!AE171=\"\",\"\",報告書!AE171)","v":""}]
[null,null,"(14)",{"$nulls":4},"空気調和設備の運転の状況",null,"AND($H$9<>\"\",$AN$36+$AN$38>=1)","",{"$nulls":4},"",null,"IF(AND($H$9<>\"\",$AN$36+$AN$38=0,$AD37=0),\"○\",IF(P37=\"\",\"\",P37))",null,null,"","",{"$nulls":4},"AND($N10<>\"\",$AD37=1,$O37=\"\")",null,null,0,0,0,0,false,0,0,null,null,"AND($H$9<>\"\",$AN$36+$AN$38>=1,$AJ37=0)",null,null,"【ハ．居室等】"]
[null,null,"(15)",{"$nulls":4},"空気ろ過器の点検口",null,"AND($H$9<>\"\",$AN$36+$AN$38>=1)","",{"$nulls":4},"",null,"IF(AND($H$9<>\"\",$AN$36+$AN$38=0,$AD38=0),\"○\",IF(P38=\"\",\"\",P38))",null,null,"","",{"$nulls":4},"AND($N10<>\"\",$AD38=1,$O38=\"\")",null,null,0,0,0,0,false,0,0,null,null,"AND($H$9<>\"\",$AN$36+$AN$38>=1,$AJ38=0)",{"$f":"COUNT(AQ38,AR38)","v":0},null,"中央管理方式の空気調和設備",{"$f":"IF(報告書!AA177=\"\",\"\",報告書!AA177)","v":""},{"$f":"IF(報告書!AE176=\"\",\"\",報告書!AE176)","v":""}]
[null,null,"(16)",{"$nulls":4},"冷却塔と建築物の他の部分との離隔距離",null,"AND($H$9<>\"\",$AN$36+$AN$38>=1)","",{"$nulls":4},"",null,"IF(AND($H$9<>\"\",$AN$36+$AN$38=0,$AD39=0),\"○\",IF(P39=\"\",\"\",P39))",null,null,"","",{"$nulls":4},"AND($N10<>\"\",$AD39=1,$O39=\"\")",null,null,0,0,0,0,false,{"$f":"IF(AD39=1,0,COUNTIF(P39,\"○\"))","v":0},0,null,null,"AND($H$9<>\"\",$AN$36+$AN$38>=1,$AJ39=0)"]
[null,null,"(17)",{"$nulls":3},"空気調和設備の性能","各居室の温度",null,"AND($H$9<>\"\",$AN$36+$AN$38>=1)","",{"$nulls":4},{"$f":"IF(AND(L40=\"実施せず\",M40=\"\",N40=\"\"),\"○\",IF(AND(L40=\"\",M40=\"○\",N40=\"○\"),\"○\",IF(AND(L40=\"\",M40=\"○\",N40=\"\"),\"○\",IF(AND(L40=\"○\",M40=\"\",N40=\"\"),\"○\",IF(AND(L40=\"―\",M40=\"―\",N40=\"―\",O40=\"―\"),\"○\",\"\")))))","v":""},null,"IF(AND($H$9<>\"\",$AN$36+$AN$38=0,$AD40=0),\"○\",IF(P40=\"\",\"\",P40))",null,null,"","",{"$nulls":4},"AND($N10<>\"\",$AD40=1,$O40=\"\",$L40<>\"実施せず\")",null,null,0,{"$f":"COUNTA(L40)","v":0},0,0,false,{"$f":"IF(AD40=1,0,COUNTIF(P40,\"○\"))","v":0},0,null,null,"AND($H$9<>\"\",$AN$36+$AN$38>=1,$AJ40=0)"]
[null,null,"(18)",{"$nulls":4},"各居室の相対湿度",null,"AND($H$9<>\"\",$AN$36+$AN$38>=1)","",{"$nulls":4},{"$f":"IF(AND(L41=\"実施せず\",M41=\"\",N41=\"\"),\"○\",IF(AND(L41=\"\",M41=\"○\",N41=\"○\"),\"○\",IF(AND(L41=\"\",M41=\"○\",N41=\"\"),\"○\",IF(AND(L41=\"○\",M41=\"\",N41=\"\"),\"○\",IF(AND(L41=\"―\",M41=\"―\",N41=\"―\",O41=\"―\"),\"○\",\"\")))))","v":""},null,"IF(AND($H$9<>\"\",$AN$36+$AN$38=0,$AD41=0),\"○\",IF(P41=\"\",\"\",P41))",null,null,"","",{"$nulls":4},"AND($N10<>\"\",$AD41=1,$O41=\"\",$L41<>\"実施せず\")",null,null,0,{"$f":"COUNTA(L41)","v":0},0,0,false,{"$f":"IF(AD41=1,0,COUNTIF(P41,\"○\"))","v":0},0,null,null,"AND($H$9<>\"\",$AN$36+$AN$38>=1,$AJ41=0)"]
[null,null,"(19)",{"$nulls":4},"各居室の浮遊粉じん量",null,"AND($H$9<>\"\",$AN$36+$AN$38>=1)","",{"$nulls":4},"",null,"IF(AND($H$9<>\"\",$AN$36+$AN$38=0,$AD42=0),\"○\",IF(P42=\"\",\"\",P42))",null,null,"","",{"$nulls":4},"AND($N10<>\"\",$AD42=1,$O42=\"\",$L42<>\"実施せず\")",null,null,0,0,0,0,false,0,0,null,null,"AND($H$9<>\"\",$AN$36+$AN$38>=1,$AJ42=0)"]
[null,null,"(20)",{"$nulls":4},"各居室の一酸化炭素含有率",null,"AND($H$9<>\"\",$AN$36+$AN$38>=1)","",{"$nulls":4},"",null,"IF(AND($H$9<>\"\",$AN$36+$AN$38=0,$AD43=0),\"○\",IF(P43=\"\",\"\",P43))",null,null,"","",{"$nulls":4},"AND($N10<>\"\",$AD43=1,$O43=\"\",$L43<>\"実施せず\")",null,null,0,0,0,0,false,0,0,null,null,"AND($H$9<>\"\",$AN$36+$AN$38>=1,$AJ43=0)"]
[null,null,"(21)",{"$nulls":4},"各居室の二酸化炭素含有率",null,"AND($H$9<>\"\",$AN$36+$AN$38>=1)","",{"$nulls":4},"",null,"IF(AND($H$9<>\"\",$AN$36+$AN$38=0,$AD44=0),\"○\",IF(P44=\"\",\"\",P44))",null,null,"","",{"$nulls":4},"AND($N10<>\"\",$AD44=1,$O44=\"\",$L44<>\"実施せず\")",null,null,0,0,0,0,false,0,0,null,null,"AND($H$9<>\"\",$AN$36+$AN$38>=1,$AJ44=0)"]
[null,null,"(22)",{"$nulls":4},"各居室の気流",null,"AND($H$9<>\"\",$AN$36+$AN$38>=1)","",{"$nulls":4},"",null,"IF(AND($H$9<>\"\",$AN$36+$AN$38=0,$AD45=0),\"○\",IF(P45=\"\",\"\",P45))",null,null,"","",{"$nulls":4},"AND($N10<>\"\",$AD45=1,$O45=\"\",$L45<>\"実施せず\")",null,null,{"$f":"AE45+AF45+AG45","v":0},{"$f":"COUNTA(L45)","v":0},0,0,false,0,{"$f":"AD45+AI45","v":0},null,null,"AND($H$9<>\"\",$AN$36+$AN$38>=1,$AJ45=0)"]
[{"$nulls":20},{"$f":"IF(AND(M46=\"○\",N46=\"\"),C46,\"\")","v":""}]
[{"$nulls":20},""]
[{"$nulls":20},{"$f":"U49&U50&U51&U52&U53&U54&U55&U56&U57&U58&U59&U60&U61","v":""},{"$f":"V49&V50&V51&V52&V53&V54&V55&V56&V57&V58&V59&V60&V61","v":""},{"$f":"IF(U48=\"\",\"\",$C48)","v":""},{"$f":"IF(V48=\"\",\"\",$C48)","v":""},{"$f":"IF(W48=\"\",\"\",IF(W63=\"\",\"\",\"、\"))","v":""},{"$f":"IF(X48=\"\",\"\",IF(X63=\"\",\"\",\"、\"))","v":""},{"$nulls":15},"【ニ．防火ダンパーの有無】"]
[null,null,"(1)","防火ダンパー等（外壁の開口部で延焼のおそれのある部分に設けるものを除く。）",null,null,"防火ダンパーの設置の状況",null,null,"AND($H$9<>\"\",$AN$72>=1)",{"$f":"IF(AND($H$9<>\"\",$AN$82=0,$AD49=0),\"○\",IF(P49=\"\",\"\",P49))","v":""},{"$nulls":4},{"$f":"IF(AND(L49=\"\",M49=\"○\",N49=\"○\"),\"○\",IF(AND(L49=\"\",M49=\"○\",N49=\"\"),\"○\",IF(AND(L49=\"○\",M49=\"\",N49=\"\"),\"○\",IF(AND(L49=\"―\",M49=\"―\",N49=\"―\",O49=\"―\"),\"○\",\"\"))))","v":""},null,"IF(AND($H$9<>\"\",$AN$72=0,$AD72=0),\"○\",IF(P72=\"\",\"\",P72))",null,null,{"$f":"IF(AND(M49=\"○\",N49=\"\"),C49,\"\")","v":""},{"$f":"IF(AND(M49=\"○\",N49=\"○\"),C49,\"\")","v":""},{"$nulls":4},"AND($N10<>\"\",$AD72=1,$O72=\"\")","ダンパー",{"$f":"COUNTIF(L49:N57,\"○\")","v":0},{"$f":"AE49+AF49+AG49","v":0},{"$f":"COUNTIF(L49,\"○\")","v":0},{"$f":"COUNTIF(M49,\"○\")-AG49","v":0},{"$f":"COUNTIF(N49,\"○\")","v":0},{"$f":"IF(AF49>=1,\"要是正\",IF(AG49=1,\"既存不適格\",IF(AE49>=1,\"指摘なし\")))","v":false},{"$nulls":4},"AND($H$9<>\"\",$AN$72>=1,$AJ72=0)",{"$f":"IF(AP49=\"●\",1,IF(AP49=\"無\",0,AP49))","v":0},null,{"$f":"IF(報告書!S147=\"レ\",\"●\",\"無\")","v":"無"}]
[null,null,"(2)",{"$nulls":3},"防火ダンパーの取付けの状況",null,null,"AND($H$9<>\"\",$AN$72>=1)","",{"$nulls":4},"",null,"IF(AND($H$9<>\"\",$AN$72=0,$AD73=0),\"○\",IF(P73=\"\",\"\",P73))",null,null,{"$f":"IF(AND(M50=\"○\",N50=\"\"),C50,\"\")","v":""},{"$f":"IF(AND(M50=\"○\",N50=\"○\"),C50,\"\")","v":""},{"$nulls":4},"AND($N10<>\"\",$AD73=1,$O73=\"\")",null,null,{"$f":"AE50+AF50+AG50","v":0},0,0,0,false,{"$nulls":4},"AND($H$9<>\"\",$AN$72>=1,$AJ73=0)"]
[null,null,"(3)",{"$nulls":3},"防火ダンパーの作動の状況",null,null,"AND($H$9<>\"\",$AN$72>=1)","",{"$nulls":4},"",null,"IF(AND($H$9<>\"\",$AN$72=0,$AD74=0),\"○\",IF(P74=\"\",\"\",P74))",null,null,"",{"$f":"IF(AND(M51=\"○\",N51=\"○\"),C51,\"\")","v":""},{"$nulls":4},"AND($N10<>\"\",$AD74=1,$O74=\"\")",null,null,0,0,0,0,false,{"$nulls":4},"AND($H$9<>\"\",$AN$72>=1,$AJ74=0)"]
[null,null,"(4)",{"$nulls":3},"防火ダンパーの劣化及び損傷の状況",null,null,"AND($H$9<>\"\",$AN$72>=1)","",{"$nulls":4},"",null,"IF(AND($H$9<>\"\",$AN$72=0,$AD75=0),\"○\",IF(P75=\"\",\"\",P75))",null,null,"","",{"$nulls":4},"AND($N10<>\"\",$AD75=1,$O75=\"\")",null,null,0,0,0,0,false,{"$nulls":4},"AND($H$9<>\"\",$AN$72>=1,$AJ75=0)"]
[null,null,"(5)",{"$nulls":3},"防火ダンパーの点検口の有無及び大きさ並びに検査口の有無",null,null,"AND($H$9<>\"\",$AN$72>=1)","",{"$nulls":4},"",null,"IF(AND($H$9<>\"\",$AN$72=0,$AD76=0),\"○\",IF(P76=\"\",\"\",P76))",null,null,"","",{"$nulls":4},"AND($N10<>\"\",$AD76=1,$O76=\"\")",null,null,0,0,0,0,false,{"$nulls":4},"AND($H$9<>\"\",$AN$72>=1,$AJ76=0)"]
[null,null,"(6)",{"$nulls":3},"防火ダンパーの温度ヒューズ",null,null,"AND($H$9<>\"\",$AN$72>=1)","",{"$nulls":4},"",null,"IF(AND($H$9<>\"\",$AN$72=0,$AD77=0),\"○\",IF(P77=\"\",\"\",P77))",null,null,"","",{"$nulls":4},"AND($N10<>\"\",$AD77=1,$O77=\"\")",null,null,0,0,0,0,false,{"$nulls":4},"AND($H$9<>\"\",$AN$72>=1,$AJ77=0)"]
[null,null,"(7)",{"$nulls":3},"壁及び床の防火区画貫通部の措置の状況",null,null,"AND($H$9<>\"\",$AN$72>=1)","",{"$nulls":4},"",null,"IF(AND($H$9<>\"\",$AN$72=0,$AD78=0),\"○\",IF(P78=\"\",\"\",P78))",null,null,"","",{"$nulls":4},"AND($N10<>\"\",$AD78=1,$O78=\"\")",null,null,0,0,0,0,false,{"$nulls":4},"AND($H$9<>\"\",$AN$72>=1,$AJ78=0)"]
[null,null,"(8)",{"$nulls":3},"連動型防火ダンパーの煙感知器、熱煙複合式感知器及び熱感知器の位置",null,null,"AND($H$9<>\"\",$AN$72>=1)","",{"$nulls":4},"",null,"IF(AND($H$9<>\"\",$AN$72=0,$AD79=0),\"○\",IF(P79=\"\",\"\",P79))",null,null,"","",{"$nulls":4},"AND($N10<>\"\",$AD79=1,$O79=\"\")",null,null,0,0,0,0,false,{"$nulls":4},"AND($H$9<>\"\",$AN$72>=1,$AJ79=0)"]
[null,null,"(9)",{"$nulls":3},"連動型防火ダンパーの煙感知器、熱煙複合式感知器及び熱感知器との連動の状況",null,null,"AND($H$9<>\"\",$AN$72>=1)","",{"$nulls":4},"",null,"IF(AND($H$9<>\"\",$AN$72=0,$AD80=0),\"○\",IF(P80=\"\",\"\",P80))",null,null,"","",{"$nulls":4},"AND($N10<>\"\",$AD80=1,$O80=\"\")",null,null,0,0,0,0,false,{"$nulls":4},"AND($H$9<>\"\",$AN$72>=1,$AJ80=0)"]
[]
[]
[]
[]
[]
[null,null,2,"換気設備を設けるべき調理室等",{"$nulls":16},{"$f":"U64&U65&U66&U67&U68&U69&U70&U71&U72&U73&U74&U75&U76&U77","v":""},{"$f":"V64&V65&V66&V67&V68&V69&V70&V71&V72&V73&V74&V75&V76&V77","v":""},{"$f":"IF(U63=\"\",\"\",$C63)","v":""},{"$f":"IF(V63=\"\",\"\",$C63)","v":""},{"$f":"IF(W63=\"\",\"\",IF(W81&W96=\"\",\"\",\"、\"))","v":""},{"$f":"IF(X63=\"\",\"\",IF(X81&X96=\"\",\"\",\"、\"))","v":""},{"$nulls":15},"【ロ．火気使用室】","系統","室"]
[null,null,"(1)","自然換気設備及び機械換気設備",null,null,"排気筒、排気フード及び煙突の材質",null,null,"AND($H$9<>\"\",$AN$54>=1)",{"$f":"IF(AND($H$9<>\"\",$AN$64=0,$AD64=0),\"○\",IF(P64=\"\",\"\",P64))","v":""},{"$nulls":4},{"$f":"IF(AND(L64=\"\",M64=\"○\",N64=\"○\"),\"○\",IF(AND(L64=\"\",M64=\"○\",N64=\"\"),\"○\",IF(AND(L64=\"○\",M64=\"\",N64=\"\"),\"○\",IF(AND(L64=\"―\",M64=\"―\",N64=\"―\",O64=\"―\"),\"○\",\"\"))))","v":""},null,"IF(AND($H$9<>\"\",$AN$54=0,$AD54=0),\"○\",IF(P54=\"\",\"\",P54))",null,null,{"$f":"IF(AND(M64=\"○\",N64=\"\"),C64,\"\")","v":""},{"$f":"IF(AND(M64=\"○\",N64=\"○\"),C64,\"\")","v":""},{"$nulls":4},"AND($N10<>\"\",$AD54=1,$O54=\"\")","火気：機械換気",{"$f":"COUNTIF(L64:N72,\"○\")+COUNTIF(L74:N77,\"○\")","v":0},{"$f":"AE64+AF64+AG64","v":0},0,0,0,false,{"$f":"IF(AD64=1,0,COUNTIF(P64,\"○\"))","v":0},{"$f":"AD64+AI64","v":0},null,null,"AND($H$9<>\"\",$AN$54>=1,$AJ54=0)",{"$f":"COUNT(AQ64,AR64)","v":0},null,"機械換気設備",{"$f":"IF(報告書!AK173=\"\",\"\",報告書!AK173)","v":""},{"$f":"IF(報告書!AO173=\"\",\"\",報告書!AO173)","v":""}]
[null,null,"(2)",{"$nulls":3},"排気筒、排気フード及び煙突の取付けの状況",null,null,"AND($H$9<>\"\",$AN$54>=1)","",{"$nulls":4},"",null,"IF(AND($H$9<>\"\",$AN$54=0,$AD55=0),\"○\",IF(P55=\"\",\"\",P55))",null,null,{"$f":"IF(AND(M65=\"○\",N65=\"\"),C65,\"\")","v":""},{"$f":"IF(AND(M65=\"○\",N65=\"○\"),C65,\"\")","v":""},{"$nulls":4},"AND($N10<>\"\",$AD55=1,$O55=\"\")",null,null,{"$f":"AE65+AF65+AG65","v":0},0,0,0,false,{"$f":"IF(AD65=1,0,COUNTIF(P65,\"○\"))","v":0},{"$f":"AD65+AI65","v":0},null,null,"AND($H$9<>\"\",$AN$54>=1,$AJ55=0)"]
[null,null,"(3)",{"$nulls":3},"給気口、給気筒、排気口、排気筒、排気フード及び煙突の大きさ",null,null,"AND($H$9<>\"\",$AN$54>=1)","",{"$nulls":4},"",null,"IF(AND($H$9<>\"\",$AN$54=0,$AD56=0),\"○\",IF(P56=\"\",\"\",P56))",null,null,"","",{"$nulls":4},"AND($N10<>\"\",$AD56=1,$O56=\"\")",null,null,0,0,0,0,false,0,0,null,null,"AND($H$9<>\"\",$AN$54>=1,$AJ56=0)"]
[null,null,"(4)",{"$nulls":3},"給気口、排気口及び排気フードの位置",null,null,"AND($H$9<>\"\",$AN$54>=1)","",{"$nulls":4},"",null,"IF(AND($H$9<>\"\",$AN$54=0,$AD57=0),\"○\",IF(P57=\"\",\"\",P57))",null,null,"","",{"$nulls":4},"AND($N10<>\"\",$AD57=1,$O57=\"\")",null,null,0,0,0,0,false,0,0,null,null,"AND($H$9<>\"\",$AN$54>=1,$AJ57=0)"]
[null,null,"(5)",{"$nulls":3},"給気口、給気筒、排気口、排気筒、排気フード及び煙突の設置の状況",null,null,"AND($H$9<>\"\",$AN$54>=1)","",{"$nulls":4},"",null,"IF(AND($H$9<>\"\",$AN$54=0,$AD58=0),\"○\",IF(P58=\"\",\"\",P58))",null,null,"","",{"$nulls":4},"AND($N10<>\"\",$AD58=1,$O58=\"\")",null,null,0,0,0,0,false,0,0,null,null,"AND($H$9<>\"\",$AN$54>=1,$AJ58=0)"]
[null,null,"(6)",{"$nulls":3},"排気筒及び煙突の断熱の状況",null,null,"AND($H$9<>\"\",$AN$54>=1)","",{"$nulls":4},"",null,"IF(AND($H$9<>\"\",$AN$54=0,$AD59=0),\"○\",IF(P59=\"\",\"\",P59))",null,null,"","",{"$nulls":4},"AND($N10<>\"\",$AD59=1,$O59=\"\")",null,null,0,0,0,0,false,0,0,null,null,"AND($H$9<>\"\",$AN$54>=1,$AJ59=0)"]
[null,null,"(7)",{"$nulls":3},"排気筒及び煙突と可燃物、電線等との離隔距離",null,null,"AND($H$9<>\"\",$AN$54>=1)","",{"$nulls":4},"",null,"IF(AND($H$9<>\"\",$AN$54=0,$AD60=0),\"○\",IF(P60=\"\",\"\",P60))",null,null,"","",{"$nulls":4},"AND($N10<>\"\",$AD60=1,$O60=\"\")",null,null,0,0,0,0,false,0,0,null,null,"AND($H$9<>\"\",$AN$54>=1,$AJ60=0)"]
[null,null,"(8)",{"$nulls":3},"煙突等への防火ダンパー、風道等の設置の状況",null,null,"AND($H$9<>\"\",$AN$54>=1)","",{"$nulls":4},"",null,"IF(AND($H$9<>\"\",$AN$54=0,$AD61=0),\"○\",IF(P61=\"\",\"\",P61))",null,null,"","",{"$nulls":4},"AND($N10<>\"\",$AD61=1,$O61=\"\")",null,null,0,0,0,0,false,0,0,null,null,"AND($H$9<>\"\",$AN$54>=1,$AJ61=0)"]
[null,null,"(9)",{"$nulls":3},"各居室の給気口及び排気口における物品の放置の状況",{"$nulls":3},"",{"$nulls":4},"",null,"IF(AND($H$9<>\"\",$AN$54=0,$AD62=0),\"○\",IF(P62=\"\",\"\",P62))",null,null,"","",{"$nulls":4},"AND($N10<>\"\",$AD61=1,$O62=\"\")",null,null,0,0,0,0,false,0,0,null,null,"AND($H$9<>\"\",$AN$54>=1,$AJ62=0)"]
[null,null,"(10)","自然換気設備　　　　　　　　　　　　　　　　　　　　　",null,null,"煙突の先端の立ち上がりの状況（密閉型燃焼器具の煙突を除く。）",{"$nulls":3},{"$f":"IF(P73=\"\",\"\",P73)","v":""},"―","―","―","―",{"$nulls":5},"","",{"$nulls":7},0,{"$nulls":11},"【ホ．湯沸器】","開放式","半密閉式","密閉式","その他"]
[null,null,"(11)","機械換気設備",null,null,"煙突に連結した排気筒及び半密閉式瞬間湯沸器等の設置の状況",null,null,"AND($H$9<>\"\",$AN$54>=1)",{"$f":"IF(AND($H$9<>\"\",$AN$64=0,$AD74=0),\"○\",IF(P74=\"\",\"\",P74))","v":""},{"$nulls":4},"",null,"IF(AND($H$9<>\"\",$AN$54=0,$AD64=0),\"○\",IF(P64=\"\",\"\",P64))",null,null,"","",{"$nulls":4},"AND($N10<>\"\",$AD63=1,$O63=\"\")",null,null,0,0,0,0,false,0,0,null,null,"AND($H$9<>\"\",$AN$54>=1,$AJ63=0)",{"$nulls":3},{"$f":"IF(報告書!L416=\"レ\",\"●\",\"\")","v":""},{"$f":"IF(報告書!U416=\"レ\",\"●\",\"\")","v":""},{"$f":"IF(報告書!AE416=\"レ\",\"●\",\"\")","v":""},{"$f":"IF(報告書!Q417=\"\",\"\",報告書!Q417)","v":""}]
[null,null,"(12)",{"$nulls":3},"換気扇による換気の状況",null,null,"AND($H$9<>\"\",$AN$54>=1)",{"$f":"IF(AND($H$9<>\"\",$AN$64=0,$AD75=0),\"○\",IF(P75=\"\",\"\",P75))","v":""},{"$nulls":4},"",null,"IF(AND($H$9<>\"\",$AN$54=0,$AD65=0),\"○\",IF(P65=\"\",\"\",P65))",null,null,"","",{"$nulls":4},"AND($N10<>\"\",$AD64=1,$O64=\"\")",null,null,0,0,0,0,false,0,0,null,null,"AND($H$9<>\"\",$AN$54>=1,$AJ64=0)"]
[null,null,"(13)",{"$nulls":3},"給気機又は排気機の設置の状況",null,null,"AND($H$9<>\"\",$AN$54>=1)",{"$f":"IF(AND($H$9<>\"\",$AN$64=0,$AD76=0),\"○\",IF(P76=\"\",\"\",P76))","v":""},{"$nulls":4},"",null,"IF(AND($H$9<>\"\",$AN$54=0,$AD66=0),\"○\",IF(P66=\"\",\"\",P66))",null,null,"","",{"$nulls":4},"AND($N10<>\"\",$AD65=1,$O65=\"\")",null,null,0,0,0,0,false,0,0,null,null,"AND($H$9<>\"\",$AN$54>=1,$AJ65=0)"]
[null,null,"(14)",{"$nulls":3},"機械換気設備の換気量",null,null,"AND($H$9<>\"\",$AN$54>=1)",{"$f":"IF(AND($H$9<>\"\",$AN$64=0,$AD77=0),\"○\",IF(P77=\"\",\"\",P77))","v":""},{"$nulls":4},{"$f":"IF(AND(L77=\"測定できず\",M77=\"\",N77=\"\"),\"○\",IF(AND(L77=\"\",M77=\"○\",N77=\"○\"),\"○\",IF(AND(L77=\"\",M77=\"○\",N77=\"\"),\"○\",IF(AND(L77=\"○\",M77=\"\",N77=\"\"),\"○\",IF(AND(L77=\"―\",M77=\"―\",N77=\"―\",O77=\"―\"),\"○\",\"\")))))","v":""},null,"IF(AND($H$9<>\"\",$AN$54=0,$AD67=0),\"○\",IF(P67=\"\",\"\",P67))",null,null,"","",{"$nulls":4},"AND($N10<>\"\",$AD66=1,$O66=\"\")",null,null,0,{"$f":"COUNTA(L77)","v":0},0,0,false,{"$f":"IF(AD77=1,0,COUNTIF(P77,\"○\"))","v":0},0,null,null,"AND($H$9<>\"\",$AN$54>=1,$AJ66=0)"]
[]
[]
[]
[null,null,3,"法第28条第2項又は第3項に基づき換気設備が設けられた居室等",{"$nulls":16},{"$f":"U82&U83&U84&U85&U86&U87&U88&U89&U90&U91&U92&U93&U94","v":""},{"$f":"V82&V83&V84&V85&V86&V87&V88&V89&V90&V91&V92&V93&V94","v":""},{"$f":"IF(U81=\"\",\"\",$C81)","v":""},{"$f":"IF(V81=\"\",\"\",$C81)","v":""},{"$f":"IF(W81=\"\",\"\",IF(W96=\"\",\"\",\"、\"))","v":""},{"$f":"IF(X81=\"\",\"\",IF(X96=\"\",\"\",\"、\"))","v":""},{"$nulls":15},"【ニ．防火ダンパーの有無】"]
[null,null,"(1)","防火ダンパー等（外壁の開口部で延焼のおそれのある部分に設けるものを除く。）",null,null,"防火ダンパーの設置の状況",null,null,"AND($H$9<>\"\",$AN$72>=1)",{"$f":"IF(AND($H$9<>\"\",$AN$82=0,$AD82=0),\"○\",IF(P82=\"\",\"\",P82))","v":""},{"$nulls":4},{"$f":"IF(AND(L82=\"\",M82=\"○\",N82=\"○\"),\"○\",IF(AND(L82=\"\",M82=\"○\",N82=\"\"),\"○\",IF(AND(L82=\"○\",M82=\"\",N82=\"\"),\"○\",IF(AND(L82=\"―\",M82=\"―\",N82=\"―\",O82=\"―\"),\"○\",\"\"))))","v":""},null,"IF(AND($H$9<>\"\",$AN$72=0,$AD72=0),\"○\",IF(P72=\"\",\"\",P72))",null,null,{"$f":"IF(AND(M82=\"○\",N82=\"\"),C82,\"\")","v":""},{"$f":"IF(AND(M82=\"○\",N82=\"○\"),C82,\"\")","v":""},{"$nulls":4},"AND($N10<>\"\",$AD72=1,$O72=\"\")","ダンパー",{"$f":"COUNTIF(L82:N90,\"○\")","v":0},{"$f":"AE82+AF82+AG82","v":0},0,0,0,false,{"$f":"IF(AD82=1,0,COUNTIF(P82,\"○\"))","v":0},{"$f":"AD82+AI82","v":0},null,null,"AND($H$9<>\"\",$AN$72>=1,$AJ72=0)",{"$f":"IF(AP82=\"●\",1,IF(AP82=\"無\",0,AP82))","v":0},null,{"$f":"IF(報告書!S180=\"レ\",\"●\",\"無\")","v":"無"}]
[null,null,"(2)",{"$nulls":3},"防火ダンパーの取付けの状況",null,null,"AND($H$9<>\"\",$AN$72>=1)","",{"$nulls":4},"",null,"IF(AND($H$9<>\"\",$AN$72=0,$AD73=0),\"○\",IF(P73=\"\",\"\",P73))",null,null,{"$f":"IF(AND(M83=\"○\",N83=\"\"),C83,\"\")","v":""},{"$f":"IF(AND(M83=\"○\",N83=\"○\"),C83,\"\")","v":""},{"$nulls":4},"AND($N10<>\"\",$AD73=1,$O73=\"\")",null,null,{"$f":"AE83+AF83+AG83","v":0},0,0,0,false,0,{"$f":"AD83+AI83","v":0},null,null,"AND($H$9<>\"\",$AN$72>=1,$AJ73=0)"]
[null,null,"(3)",{"$nulls":3},"防火ダンパーの作動の状況",null,null,"AND($H$9<>\"\",$AN$72>=1)","",{"$nulls":4},"",null,"IF(AND($H$9<>\"\",$AN$72=0,$AD74=0),\"○\",IF(P74=\"\",\"\",P74))",null,null,"",{"$f":"IF(AND(M84=\"○\",N84=\"○\"),C84,\"\")","v":""},{"$nulls":4},"AND($N10<>\"\",$AD74=1,$O74=\"\")",null,null,0,0,0,0,false,0,0,null,null,"AND($H$9<>\"\",$AN$72>=1,$AJ74=0)"]
[null,null,"(4)",{"$nulls":3},"防火ダンパーの劣化及び損傷の状況",null,null,"AND($H$9<>\"\",$AN$72>=1)","",{"$nulls":4},"",null,"IF(AND($H$9<>\"\",$AN$72=0,$AD75=0),\"○\",IF(P75=\"\",\"\",P75))",null,null,"","",{"$nulls":4},"AND($N10<>\"\",$AD75=1,$O75=\"\")",null,null,0,0,0,0,false,0,0,null,null,"AND($H$9<>\"\",$AN$72>=1,$AJ75=0)"]
[null,null,"(5)",{"$nulls":3},"防火ダンパーの点検口の有無及び大きさ並びに検査口の有無",null,null,"AND($H$9<>\"\",$AN$72>=1)","",{"$nulls":4},"",null,"IF(AND($H$9<>\"\",$AN$72=0,$AD76=0),\"○\",IF(P76=\"\",\"\",P76))",null,null,"","",{"$nulls":4},"AND($N10<>\"\",$AD76=1,$O76=\"\")",null,null,0,0,0,0,false,0,0,null,null,"AND($H$9<>\"\",$AN$72>=1,$AJ76=0)"]
[null,null,"(6)",{"$nulls":3},"防火ダンパーの温度ヒューズ",null,null,"AND($H$9<>\"\",$AN$72>=1)","",{"$nulls":4},"",null,"IF(AND($H$9<>\"\",$AN$72=0,$AD77=0),\"○\",IF(P77=\"\",\"\",P77))",null,null,"","",{"$nulls":4},"AND($N10<>\"\",$AD77=1,$O77=\"\")",null,null,0,0,0,0,false,0,0,null,null,"AND($H$9<>\"\",$AN$72>=1,$AJ77=0)"]
[null,null,"(7)",{"$nulls":3},"壁及び床の防火区画貫通部の措置の状況",null,null,"AND($H$9<>\"\",$AN$72>=1)","",{"$nulls":4},"",null,"IF(AND($H$9<>\"\",$AN$72=0,$AD78=0),\"○\",IF(P78=\"\",\"\",P78))",null,null,"","",{"$nulls":4},"AND($N10<>\"\",$AD78=1,$O78=\"\")",null,null,0,0,0,0,false,0,0,null,null,"AND($H$9<>\"\",$AN$72>=1,$AJ78=0)"]
[null,null,"(8)",{"$nulls":3},"連動型防火ダンパーの煙感知器、熱煙複合式感知器及び熱感知器の位置",null,null,"AND($H$9<>\"\",$AN$72>=1)","",{"$nulls":4},"",null,"IF(AND($H$9<>\"\",$AN$72=0,$AD79=0),\"○\",IF(P79=\"\",\"\",P79))",null,null,"","",{"$nulls":4},"AND($N10<>\"\",$AD79=1,$O79=\"\")",null,null,0,0,0,0,false,0,0,null,null,"AND($H$9<>\"\",$AN$72>=1,$AJ79=0)"]
[null,null,"(9)",{"$nulls":3},"連動型防火ダンパーの煙感知器、熱煙複合式感知器及び熱感知器との連動の状況",null,null,"AND($H$9<>\"\",$AN$72>=1)","",{"$nulls":4},"",null,"IF(AND($H$9<>\"\",$AN$72=0,$AD80=0),\"○\",IF(P80=\"\",\"\",P80))",null,null,"","",{"$nulls":4},"AND($N10<>\"\",$AD80=1,$O80=\"\")",null,null,0,{"$f":"COUNTIF(L90,\"○\")","v":0},{"$f":"COUNTIF(M90,\"○\")-AG90","v":0},{"$f":"COUNTIF(N90,\"○\")","v":0},{"$f":"IF(AF90>=1,\"要是正\",IF(AG90=1,\"既存不適格\",IF(AE90>=1,\"指摘なし\")))","v":false},0,0,null,null,"AND($H$9<>\"\",$AN$72>=1,$AJ80=0)"]
[]
[]
[]
[]
[]
[null,null,4,"上記以外の検査項目等",{"$nulls":16},{"$f":"U97&U98&U99&U100&U101&U102&U103&U104&U105&U106","v":""},{"$f":"V97&V98&V99&V100&V101&V102&V103&V104&V105&V106","v":""},{"$f":"IF(U96=\"\",\"\",$C96)","v":""},{"$f":"IF(V96=\"\",\"\",$C96)","v":""},{"$nulls":10},{"$f":"COUNTA(AI24:AI90)","v":44},{"$f":"SUM(AJ24:AJ90)","v":0}]
[null,null,{"$f":"IF(D97=\"\",\"\",\"(1)\")","v":""},{"$nulls":17},{"$f":"IF(AND(M97=\"○\",N97=\"\"),C97,\"\")","v":""},{"$f":"IF(AND(M97=\"○\",N97=\"○\"),C97,\"\")","v":""},{"$nulls":4},"AND($N10<>\"\",$AD87=1,$O87=\"\")",null,null,{"$f":"AE97+AF97+AG97","v":0},0,0,0,false,{"$f":"AI96+AC107","v":44},{"$f":"AJ96+AD107","v":0}]
[null,null,{"$f":"IF(D98=\"\",\"\",\"(2)\")","v":""},{"$nulls":17},{"$f":"IF(AND(M98=\"○\",N98=\"\"),C98,\"\")","v":""},{"$f":"IF(AND(M98=\"○\",N98=\"○\"),C98,\"\")","v":""},{"$nulls":4},"AND($N10<>\"\",$AD88=1,$O88=\"\")",null,null,0,0,0,0,false,null,{"$f":"IF(AI97=AJ97,\"YES\",\"NO\")","v":"NO"}]
[null,null,{"$f":"IF(D99=\"\",\"\",\"(3)\")","v":""},{"$nulls":17},{"$f":"IF(AND(M99=\"○\",N99=\"\"),C99,\"\")","v":""},{"$f":"IF(AND(M99=\"○\",N99=\"○\"),C99,\"\")","v":""},{"$nulls":4},"AND($N10<>\"\",$AD89=1,$O89=\"\")",null,null,0,0,0,0,false]
[null,null,{"$f":"IF(D100=\"\",\"\",\"(4)\")","v":""},{"$nulls":17},"","",{"$nulls":4},"AND($N10<>\"\",$AD90=1,$O90=\"\")",null,null,0,{"$f":"COUNTIF(L100,\"○\")","v":0},{"$f":"COUNTIF(M100,\"○\")-AG100","v":0},{"$f":"COUNTIF(N100,\"○\")","v":0},{"$f":"IF(AF100>=1,\"要是正\",IF(AG100=1,\"既存不適格\",IF(AE100>=1,\"指摘なし\")))","v":false}]
[null,null,{"$f":"IF(D101=\"\",\"\",\"(5)\")","v":""},{"$nulls":17},"","",{"$nulls":4},"AND($N10<>\"\",$AD91=1,$O91=\"\")",null,null,0,0,0,0,false]
[null,null,{"$f":"IF(D102=\"\",\"\",\"(6)\")","v":""},{"$nulls":17},"","",{"$nulls":4},"AND($N10<>\"\",$AD92=1,$O92=\"\")",null,null,0,0,0,0,false]
[null,null,{"$f":"IF(D103=\"\",\"\",\"(7)\")","v":""},{"$nulls":17},"","",{"$nulls":4},"AND($N10<>\"\",$AD93=1,$O93=\"\")",null,null,0,0,0,0,false]
[null,null,{"$f":"IF(D104=\"\",\"\",\"(8)\")","v":""},{"$nulls":17},"","",{"$nulls":4},"AND($N10<>\"\",$AD94=1,$O94=\"\")",null,null,0,0,0,0,false,null,"指摘なし",{"$f":"COUNTIF($AH$24:$AH$106,AJ104)","v":0},{"$f":"IF(AK105>=1,\"要是正\",IF(AND(AK106>=1,AK105=0),\"既存不適格\",IF(AK104>=1,\"指摘なし\")))","v":false}]
[null,null,{"$f":"IF(D105=\"\",\"\",\"(9)\")","v":""},{"$nulls":17},"","",{"$nulls":4},"AND($N10<>\"\",$AD95=1,$O95=\"\")",null,null,0,0,0,0,false,null,"要是正",{"$f":"COUNTIF($AH$24:$AH$106,AJ105)","v":0}]
[null,null,{"$f":"IF(D106=\"\",\"\",\"(10)\")","v":""},{"$nulls":17},{"$f":"IF(AND(M106=\"○\",N106=\"\"),C106,\"\")","v":""},"",{"$nulls":4},"AND($N10<>\"\",$AD96=1,$O96=\"\")",null,null,0,0,0,0,false,null,"既存不適格",{"$f":"COUNTIF($AH$24:$AH$106,AJ106)","v":0}]
[null,null,"特記事項",{"$nulls":17},{"$f":"W23&U23&Y23&W63&U63&Y63&W81&U81&Y81&W96&U96","v":""},{"$f":"X23&V23&Z23&X63&V63&Z63&X81&V81&Z81&X96&V96","v":""},{"$f":"IF(U107=\"\",\"\",\"の指摘あり\")","v":""},{"$f":"IF(V107=\"\",\"\",\"の指摘あり\")","v":""},{"$nulls":4},{"$f":"COUNTA(D97:I106)","v":0},{"$f":"SUM(AD97:AD106)","v":0},{"$nulls":6},{"$f":"SUM(AK104:AK106)","v":0}]
[null,null,"番号","検査項目等",{"$nulls":3},"指摘の具体的内容等","改善策の具体的内容等",{"$nulls":5},"改善（予定）年月",{"$nulls":5},{"$f":"IF(U107=\"\",\"\",U107&\"　に要是正\")","v":""},{"$f":"IF(V107=\"\",\"\",V107&\"　に既存不適格\")","v":""}]
[{"$nulls":3},{"$f":"IFERROR(VLOOKUP(C109,リスト_検査項目内容_換気,2,0),\"\")","v":""},{"$nulls":11},{"$f":"LEN(O109)","v":0},{"$nulls":3},{"$f":"U109","v":""},{"$f":"U108&W107","v":""},null,"AND(($AK95+$AK96)>=1,$C99=\"\")","AND($C99<>\"\",$O99=\"\")",{"$f":"IF(AND(P109=7,Z109=\"年\"),MID(O109,2,2)+2018,IF(AND(P109=8,AC109>=10),MID(O109,2,2)+2018,IF(P109<5,\"\",IF(O109=\"\",\"\",MID(O109,2,1)+2018))))","v":""},{"$f":"IF(P109=8,MID(O109,5,1),MID(O109,4,1))","v":""},{"$f":"IF(P109=8,MID(O109,6,1),IF(P109=6,\"0\",MID(O109,5,1)))","v":""},{"$f":"IF(Z109=\"年\",AA109,IF(P109>6,Z109&AA109,Z109))","v":""},{"$f":"IF(Z109=\"年\",TEXT(AA109,\"00\"),TEXT(AB109,\"00\"))","v":""},{"$f":"Y109&\"/\"&AC109","v":"/"},{"$f":"MID(AD109,1,1)","v":"/"},{"$f":"MID(AD109,3,2)","v":""},1,{"$f":"TEXT(AG109,\"00\")","v":"01"},{"$f":"AD109&\"/\"&AH109","v":"//01"},{"$f":"IF(P109<5,\"\",IF(O109=\"\",\"\",VALUE(AI109)))","v":""},null,{"$f":"IF(P109=0,\"\",IF(P109>5,\"有\",IF(OR(P109=4,P109=2),\"無\")))","v":""}]
[{"$nulls":3},"",{"$nulls":11},{"$f":"LEN(O110)","v":0},{"$nulls":4},{"$f":"V108&X107","v":""},{"$f":"IF(実施状況表!BT6=\"\",\"\",実施状況表!BT6)","v":""},{"$f":"IF(T110=\"\",\"\",IF(U110=\"\",\"\",\"　及び　\"))","v":""},"AND($C100<>\"\",$O100=\"\")",{"$f":"IF(AND(P110=7,Z110=\"年\"),MID(O110,2,2)+2018,IF(AND(P110=8,AC110>=10),MID(O110,2,2)+2018,IF(P110<5,\"\",IF(O110=\"\",\"\",MID(O110,2,1)+2018))))","v":""},{"$f":"IF(P110=8,MID(O110,5,1),MID(O110,4,1))","v":""},{"$f":"IF(P110=8,MID(O110,6,1),IF(P110=6,\"0\",MID(O110,5,1)))","v":""},{"$f":"IF(Z110=\"年\",AA110,IF(P110>6,Z110&AA110,Z110))","v":""},{"$f":"IF(Z110=\"年\",TEXT(AA110,\"00\"),TEXT(AB110,\"00\"))","v":""},{"$f":"Y110&\"/\"&AC110","v":"/"},{"$f":"MID(AD110,1,1)","v":"/"},{"$f":"MID(AD110,3,2)","v":""},1,{"$f":"TEXT(AG110,\"00\")","v":"01"},{"$f":"AD110&\"/\"&AH110","v":"//01"},{"$f":"IF(P110<5,\"\",IF(O110=\"\",\"\",VALUE(AI110)))","v":""},null,{"$f":"IF(P110=0,\"\",IF(P110>5,\"有\",IF(OR(P110=4,P110=2),\"無\")))","v":""}]
[{"$nulls":3},"",{"$nulls":11},0,{"$nulls":3},{"$f":"U111","v":""},{"$f":"U110&W110&V110","v":""},null,"AND(($AK95+$AK96)>=3,$C101=\"\")","AND($C101<>\"\",$O101=\"\")","","","","","","/","/","",1,"01",{"$f":"AD111&\"/\"&AH111","v":"//01"},"",null,{"$f":"IF(P111=0,\"\",IF(P111>5,\"有\",IF(OR(P111=4,P111=2),\"無\")))","v":""}]
[{"$nulls":3},"",{"$nulls":11},0,{"$nulls":6},"AND(($AK95+$AK96)>=4,$C102=\"\")","AND($C102<>\"\",$O102=\"\")","","","","","","/","/","",1,"01",{"$f":"AD112&\"/\"&AH112","v":"//01"},"",null,""]
[{"$nulls":3},"",{"$nulls":11},0,{"$nulls":6},"AND(($AK95+$AK96)>=5,$C103=\"\")","AND($C103<>\"\",$O103=\"\")","","","","","","/","/","",1,"01",{"$f":"AD113&\"/\"&AH113","v":"//01"},"",null,""]
[{"$nulls":3},"",{"$nulls":11},0,{"$nulls":6},"AND(($AK95+$AK96)>=6,$C104=\"\")","AND($C104<>\"\",$O104=\"\")","","","","","","/","/","",2,"02",{"$f":"AD114&\"/\"&AH114","v":"//02"},"",null,""]
[{"$nulls":3},"",{"$nulls":11},0,{"$nulls":6},"AND(($AK95+$AK96)>=7,$C105=\"\")","AND($C105<>\"\",$O105=\"\")","","","","","","/","/","",3,"03","//03","",null,""]
[{"$nulls":3},"",{"$nulls":11},0,{"$nulls":6},"AND(($AK95+$AK96)>=8,$C106=\"\")","AND($C106<>\"\",$O106=\"\")","","","","","","/","/","",4,"04","//04","",null,""]
[{"$nulls":3},"",{"$nulls":11},0,{"$nulls":6},"AND(($AK95+$AK96)>=9,$C107=\"\")","AND($C107<>\"\",$O107=\"\")","","","","","","/","/","",5,"05","//05","",null,""]
[{"$nulls":3},"",{"$nulls":11},0,{"$nulls":6},"AND(($AK95+$AK96)>=10,$C108=\"\")","AND($C108<>\"\",$O108=\"\")","","","","","","/","/","",6,"06","//06","",null,""]
[{"$nulls":37},"有",{"$f":"COUNTIF($AL$109:$AL$118,\"有\")","v":0}]
[null,null,"（注意）",{"$nulls":34},"無",{"$f":"COUNTIF($AL$109:$AL$118,\"無\")","v":0}]
[null,null,"①","　この書類は、建築物ごとに作成してください。",{"$nulls":34},{"$f":"SUM(AM119:AM120)","v":0}]
[null,null,"②","　記入欄が不足する場合は、枠を拡大、行を追加して記入するか、別紙に必要な事項を記入して添えてください。",{"$nulls":33},{"$f":"IF(AM121=0,\"\",IF(AM121-AM120=0,\"無\",\"有\"))","v":""},{"$f":"IF(AL122=\"無\",\"\",AI142)","v":""},{"$f":"IF(AL122=\"無\",\"\",AJ142)","v":""}]
[null,null,"③","　「当該検査に関与した検査者」欄は、建築基準法施行規則別記第36号の６様式第二面４欄に記入した検査者について記入し、「検査者番号」欄に検査者を特定できる番号、記号等を記入してください。当該建築設備の検査を行った検査者が１人の場合は、その他の検査者欄は記入不要です。",{"$nulls":33},{"$f":"IF(O109:O118=\"\",\"\",IF(AL122=\"無\",\"無\",\"(\"&AM122&\"年\"&AN122&\"月）\"))","v":""}]
[null,null,"④","　検査対象建築物に換気設備がない場合は、この様式は記入不要です。",{"$nulls":33},""]
[null,null,"⑤","　該当しない検査項目等がある場合は、当該項目の「検査結果」欄及び「担当検査者番号」欄に「―」を記入してください。",{"$nulls":33},""]
[null,null,"⑥","　「検査結果」欄は、別表第１（ろ）欄に掲げる各検査事項ごとに記入してください。",{"$nulls":33},""]
[null,null,"⑦","　「検査結果」欄のうち「要是正」欄は、別表第１（ろ）欄に掲げる検査事項について同表（に）欄に掲げる判定基準に該当する場合に○印を記入してください。",{"$nulls":33},""]
[null,null,"⑧","　「検査結果」欄のうち「指摘なし」欄は、⑦に該当しない場合に○印を記入してください。",{"$nulls":33},""]
[null,null,"⑨","　「既存不適格」欄は、「要是正」欄に○印を記入した場合で、建築基準法第３条第２項の規定の適用を受けているものであることが確認されたときは、○印を記入してください。",{"$nulls":33},""]
[null,null,"⑩","　「担当検査者番号」欄は、「検査に関与した検査者」欄で記入した番号、記号等を記入してください。ただし、当該建築設備の検査を行った検査者が１人の場合は、記入不要です。",{"$nulls":33},""]
[null,null,"⑪","　１ (10) 「各居室の換気量」については、法第28条第２項又は第３項に基づき換気設備が設けられた居室（換気設備を設けるべき調理室等を除く。）の換気状況評価表（別表１）を添付してください。",{"$nulls":33},""]
[null,null,"⑫","　２ (14) 「機械換気設備の換気量」については、換気設備を設けるべき調理室等の換気風量測定表（別表２）を添付してください。",{"$nulls":33},""]
[null,null,"⑬","　４　「上記以外の検査項目等」欄は、第２第２項の規定により特定行政庁が検査項目等を付加している場合に、当該検査項目等を追加し、⑥から⑩までに準じて検査結果等を記入してください。また、第２第３項に規定する認定検査項目等が定められている場合に、当該認定検査項目等を追加し、⑥から⑩までに準じて検査結果等を記入してください。"]
[null,null,"⑭","　「特記事項」は、検査の結果、要是正の指摘があった場合のほか、指摘がない場合にあっても特記すべき事項がある場合に、該当する検査項目等の番号、検査項目等を記入し、「指摘の具体的内容等」欄に指摘又は特記すべき事項の具体的内容を記入するとともに、改善済みの場合及び改善策が明らかになっている場合は「改善策の具体的内容等」欄にその内容を記入し、改善した場合は「改善（予定）年月」欄に当該年月を記入し、改善予定年月が明らかになっている場合は「改善（予定）年月」欄に当該年月を（　）書きで記入してください。"]
[null,null,"⑮","　要是正とされた検査項目（既存不適格の場合を除く。）については、要是正とされた部分を撮影した写真を別添の様式に従い添付してください。"]
[]
[]
[]
[]
[]
[{"$nulls":26},"順位"]
[{"$nulls":26},{"$f":"IF(AB142=\"\",\"\",RANK(AB142,$AB$142:$AB$151,1))","v":""},{"$f":"IF(AJ109=\"\",\"\",IF(O109=\"\",\"\",VALUE(AJ109)))","v":""},{"$f":"IF(AJ109=\"\",\"\",IF(O109=\"\",\"\",Y109-2018))","v":""},{"$f":"AB109","v":""},{"$f":"IF(AA142=\"\",\"\",AC142&\"　\"&AD142)","v":""},1,{"$f":"IF(AA152=0,\"\",VLOOKUP(AF142,$AA$142:$AA$151,1,FALSE))","v":""},{"$f":"IF(AA152=0,\"\",IF(AF142=AG142,VLOOKUP(AF142,$AA$142:$AE$151,5,FALSE),\"\"))","v":""},{"$f":"IF(MID(AH142,2,1)>=0,LEFT(AH142,2),LEFT(AH142,1))","v":""},{"$f":"TRIM(RIGHT(AH142,2))","v":""}]
[{"$nulls":26},{"$f":"IF(AB143=\"\",\"\",RANK(AB143,$AB$142:$AB$151,1))","v":""},{"$f":"IF(AJ110=\"\",\"\",IF(O110=\"\",\"\",VALUE(AJ110)))","v":""},{"$f":"IF(AJ110=\"\",\"\",IF(O110=\"\",\"\",Y110-2018))","v":""},{"$f":"AB110","v":""},{"$f":"IF(AA143=\"\",\"\",AC143&\"　\"&AD143)","v":""},2,{"$f":"IF(AA152=0,\"\",VLOOKUP(AF143,$AA$142:$AA$151,1,FALSE))","v":""},{"$f":"IF(AA152=0,\"\",IF(AF143=AG143,VLOOKUP(AF143,$AA$142:$AE$151,5,FALSE),\"\"))","v":""},{"$f":"IF(MID(AH143,2,1)>=0,LEFT(AH143,2),LEFT(AH143,1))","v":""},{"$f":"TRIM(RIGHT(AH143,2))","v":""}]
[{"$nulls":26},{"$f":"IF(AB144=\"\",\"\",RANK(AB144,$AB$142:$AB$151,1))","v":""},{"$f":"IF(AJ111=\"\",\"\",IF(O111=\"\",\"\",VALUE(AJ111)))","v":""},"","",{"$f":"IF(AA144=\"\",\"\",AC144&\"　\"&AD144)","v":""},3,{"$f":"IF(AA152=0,\"\",VLOOKUP(AF144,$AA$142:$AA$151,1,FALSE))","v":""},{"$f":"IF(AA152=0,\"\",IF(AF144=AG144,VLOOKUP(AF144,$AA$142:$AE$151,5,FALSE),\"\"))","v":""},"",""]
[{"$nulls":26},"","","","","",4,{"$f":"IF(AA152=0,\"\",VLOOKUP(AF145,$AA$142:$AA$151,1,FALSE))","v":""},{"$f":"IF(AA152=0,\"\",IF(AF145=AG145,VLOOKUP(AF145,$AA$142:$AE$151,5,FALSE),\"\"))","v":""},"",""]
[{"$nulls":26},"","","","","",5,{"$f":"IF(AA152=0,\"\",VLOOKUP(AF146,$AA$142:$AA$151,1,FALSE))","v":""},{"$f":"IF(AA152=0,\"\",IF(AF146=AG146,VLOOKUP(AF146,$AA$142:$AE$151,5,FALSE),\"\"))","v":""},"",""]
[{"$nulls":26},"","","","","",6,{"$f":"IF(AA152=0,\"\",VLOOKUP(AF147,$AA$142:$AA$151,1,FALSE))","v":""},{"$f":"IF(AA152=0,\"\",IF(AF147=AG147,VLOOKUP(AF147,$AA$142:$AE$151,5,FALSE),\"\"))","v":""},"",""]
[{"$nulls":26},"","","","","",7,{"$f":"IF(AA152=0,\"\",VLOOKUP(AF148,$AA$142:$AA$151,1,FALSE))","v":""},{"$f":"IF(AA152=0,\"\",IF(AF148=AG148,VLOOKUP(AF148,$AA$142:$AE$151,5,FALSE),\"\"))","v":""},"",""]
[{"$nulls":26},"","","","","",8,{"$f":"IF(AA152=0,\"\",VLOOKUP(AF149,$AA$142:$AA$151,1,FALSE))","v":""},{"$f":"IF(AA152=0,\"\",IF(AF149=AG149,VLOOKUP(AF149,$AA$142:$AE$151,5,FALSE),\"\"))","v":""},"",""]
[{"$nulls":26},"","","","","",9,{"$f":"IF(AA152=0,\"\",VLOOKUP(AF150,$AA$142:$AA$151,1,FALSE))","v":""},{"$f":"IF(AA152=0,\"\",IF(AF150=AG150,VLOOKUP(AF150,$AA$142:$AE$151,5,FALSE),\"\"))","v":""},"",""]
[{"$nulls":26},"","","","","",10,{"$f":"IF(AA152=0,\"\",VLOOKUP(AF151,$AA$142:$AA$151,1,FALSE))","v":""},{"$f":"IF(AA152=0,\"\",IF(AF151=AG151,VLOOKUP(AF151,$AA$142:$AE$151,5,FALSE),\"\"))","v":""},"",""]
[{"$nulls":26},{"$f":"SUM(AA142:AA151)","v":0}]

{"sheet":"排煙検査結果表","index":4,"n_rows":227,"n_cols":45,"rows_kept":227,"merged":[[1,2,1,14],[1,18,1,19],[2,2,2,14],[2,18,3,43],[3,2,3,14],[7,2,10,3],[7,7,7,12],[7,13,7,14],[8,7,8,12],[8,13,8,14],[9,4,10,4],[9,7,9,12],[9,13,9,14],[10,7,10,12],[10,13,10,14],[11,2,11,14],[12,2,12,14],[13,2,13,14],[14,2,14,14],[15,2,17,2],[15,3,17,8],[15,10,17,10],[15,11,15,13],[15,14,17,14],[16,11,17,11],[23,3,23,14],[24,3,33,3],[24,4,28,4],[24,7,24,8],[25,7,25,8],[26,7,26,8],[27,7,27,8],[28,7,28,8],[29,4,33,4],[29,7,29,8],[30,7,30,8],[31,7,31,8],[32,7,32,8],[33,7,33,8],[34,3,43,3],[34,4,38,4],[34,7,34,8],[35,7,35,8],[36,7,36,8],[37,7,37,8],[38,7,38,8],[39,4,43,4],[39,7,39,8],[40,7,40,8],[41,7,41,8],[42,7,42,8],[43,7,43,8],[44,3,54,3],[44,4,48,4],[44,7,44,8],[45,7,45,8],[46,7,46,8],[47,7,47,8],[48,7,48,8],[49,4,54,4],[49,7,49,8],[50,7,50,8],[51,7,51,8],[52,7,52,8],[53,7,53,8],[54,7,54,8],[55,3,72,3],[55,4,59,4],[55,7,55,8],[56,7,56,8],[57,7,57,8],[58,7,58,8],[59,7,59,8],[60,4,62,4],[60,7,60,8],[61,7,61,8],[62,7,62,8],[63,4,66,4],[63,7,63,8],[64,7,64,8],[65,7,65,8],[66,7,66,8],[67,4,68,4],[67,7,67,8],[68,7,68,8],[69,4,73,4],[69,7,69,8],[70,7,70,8],[71,7,71,8],[72,7,72,8],[73,7,73,8],[74,3,76,3],[74,4,78,4],[74,7,74,8],[75,7,75,8],[76,7,76,8],[77,7,77,8],[78,7,78,8],[84,3,84,14],[85,3,86,4],[85,7,85,8],[86,7,86,8],[87,3,116,3],[87,4,89,4],[87,7,87,8],[88,7,88,8],[89,7,89,8],[90,4,93,4],[90,7,90,8],[91,7,91,8],[92,7,92,8],[93,7,93,8],[94,4,95,4],[94,7,94,8],[95,7,95,8],[96,4,98,4],[96,7,96,8],[97,7,97,8],[98,7,98,8],[99,4,100,4],[99,7,99,8],[100,7,100,8],[101,4,104,4],[101,7,101,8],[102,7,102,8],[103,7,103,8],[104,7,104,8],[105,4,107,4],[105,7,105,8],[106,7,106,8],[107,7,107,8],[108,7,108,8],[109,4,111,4],[109,7,109,8],[110,7,110,8],[111,7,111,8],[112,7,112,8],[113,4,115,4],[113,7,113,8],[114,7,114,8],[115,7,115,8],[116,7,116,8],[125,3,125,14],[126,3,131,4],[126,7,126,8],[127,7,127,8],[128,7,128,8],[129,7,129,8],[130,7,130,8],[131,7,131,8],[137,3,137,14],[138,3,149,3],[138,4,149,4],[138,7,138,8],[139,7,139,8],[140,7,140,8],[141,7,141,8],[142,7,142,8],[143,7,143,8],[144,7,144,8],[145,7,145,8],[146,7,146,8],[147,7,147,8],[148,7,148,8],[149,7,149,8],[150,3,154,3],[150,4,154,4],[150,7,150,8],[151,7,151,8],[152,7,152,8],[153,7,153,8],[154,7,154,8],[155,3,163,3],[155,4,162,4],[155,7,155,8],[156,7,156,8],[157,7,157,8],[158,7,158,8],[159,7,159,8],[160,7,160,8],[161,7,161,8],[162,7,162,8],[163,7,163,8],[164,7,164,8],[170,3,170,14],[171,3,171,8],[172,3,172,8],[173,3,173,8],[174,3,174,8],[175,3,175,8],[176,3,176,8],[177,3,177,8],[178,3,178,8],[179,3,179,8],[180,3,180,8],[181,2,181,6],[182,3,182,6],[182,8,182,13],[183,3,183,6],[183,8,183,13],[184,3,184,6],[184,8,184,13],[185,3,185,6],[185,8,185,13],[186,3,186,6],[186,8,186,13],[187,3,187,6],[187,8,187,13],[188,3,188,6],[188,8,188,13],[189,3,189,6],[189,8,189,13],[190,3,190,6],[190,8,190,13],[191,3,191,6],[191,8,191,13],[192,3,192,6],[192,8,192,13],[193,2,193,14],[194,2,194,14],[195,3,195,14],[196,3,196,14],[197,3,197,14],[198,3,198,14],[199,3,199,14],[200,3,200,14],[201,3,201,14],[202,3,202,14],[203,3,203,14],[204,3,204,14],[205,3,205,14],[206,3,206,14],[207,3,207,14],[208,3,208,14],[209,3,209,14],[210,3,210,14]]}
[null,null,"別記第二号（Ａ４）",{"$nulls":17},"○",{"$nulls":18},"○"]
[null,null,"検査結果表",{"$nulls":15},{"$f":"IF(報告_2_08排検査者代表_ハ_氏名=\"\",\"-----\",IF(AK182=0,\"未入力\",IF(AJ173=\"YES\",排煙検査結果表!AL179,\"未入力\")))","v":"-----"},null,null,"IF(報告_2_08排検査者代表_ハ_氏名=\"\",\"-----\",IF(AK182=0,\"未入力\",IF(AJ173=\"YES\",排煙検査結果表!AL179,\"未入力\")))"]
[null,null,"（排煙設備）",{"$nulls":15},{"$f":"IF(実施状況表!BT20=\"\",\"\",実施状況表!BT20)","v":""}]
[]
[]
[]
[]
[null,null,"当該検査に関与した検査者",{"$nulls":4},"　　氏　名",{"$nulls":5},"検査者番号"]
[{"$nulls":4},"代表となる検査者",null,null,{"$f":"IF(報告_2_08排検査者代表_ハ_氏名=\"\",\"\",報告_2_08排検査者代表_ハ_氏名)","v":""}]
[{"$nulls":4},"その他の検査者",null,null,{"$f":"IF(報告_2_08排検査者他1_ハ_氏名=\"\",\"\",報告_2_08排検査者他1_ハ_氏名)","v":""}]
[{"$nulls":7},{"$f":"IF(報告_2_08排検査者他2_ハ_氏名=\"\",\"\",報告_2_08排検査者他2_ハ_氏名)","v":""}]
[]
[]
[]
[]
[null,null,"番号","検　査　項　目　等",{"$nulls":7},"検査結果",null,null,"担当\n検査者\n番号"]
[{"$nulls":11},"指摘\nなし","要是正"]
[{"$nulls":13},"既　存\n不適格"]
[]
[]
[]
[]
[]
[null,null,1,"令第123条第３項第２号に規定する階段室又は付室、令第129条の13の３第13項に規定する昇降路又は乗降ロビー、令第126条の２第１項に規定する居室等",{"$nulls":16},{"$f":"U25&U26&U27&U28&U29&U30&U31&U32&U33&U34&U35&U36&U37&U38&U39&U40&U41&U42&U43&U44&U45&U46&U47&U48&U49&U50&U51&U52&U53&U54&U55&U56&U57&U58&U59&U60&U61&U62&U63&U64&U65&U66&U67&U68&U69&U70&U71&U72&U73&U74&U75&U76&U77","v":""},{"$f":"V25&V26&V27&V28&V29&V30&V31&V32&V33&V34&V35&V36&V37&V38&V39&V40&V41&V42&V43&V44&V45&V46&V47&V48&V49&V50&V51&V52&V53&V54&V55&V56&V57&V58&V59&V60&V61&V62&V63&V64&V65&V66&V67&V68&V69&V70&V71&V72&V73&V74&V75&V76&V77","v":""},{"$f":"IF(U24=\"\",\"\",$C24)","v":""},{"$f":"IF(V24=\"\",\"\",$C24)","v":""},{"$f":"IF(W24=\"\",\"\",IF(W85&W126&W138&W171=\"\",\"\",\"、\"))","v":""},{"$f":"IF(X24=\"\",\"\",IF(X85&X126&X138&X171=\"\",\"\",\"、\"))","v":""},{"$nulls":16},"吸引式","給気式","加圧式"]
[null,null,"(1)","排煙機　　　　　　　　　　　　　　","排煙機の外観",null,null,"排煙機の設置の状況",null,"AND($H$9<>\"\",$AN$25>=1,$AN$26=1)",{"$f":"IF(AND($H$9<>\"\",$AN$25=0,$AD25=0),\"○\",IF(P25=\"\",\"\",P25))","v":""},{"$nulls":4},{"$f":"IF(AND(L25=\"\",M25=\"○\",N25=\"○\"),\"○\",IF(AND(L25=\"\",M25=\"○\",N25=\"\"),\"○\",IF(AND(L25=\"○\",M25=\"\",N25=\"\"),\"○\",IF(AND(L25=\"―\",M25=\"―\",N25=\"―\",O25=\"―\"),\"○\",\"\"))))","v":""},null,"IF(AND($H$9<>\"\",$AN$25=0,$AD25=0),\"○\",IF(P25=\"\",\"\",P25))",null,null,{"$f":"IF(AND(M25=\"○\",N25=\"\"),C25,\"\")","v":""},{"$f":"IF(AND(M25=\"○\",N25=\"○\"),C25,\"\")","v":""},null,null,{"$f":"IF(H9=\"\",\"\",\"―\")","v":""},"AND($H$9<>\"\",$AN$25>=1,$AJ25=0)","AND($N10<>\"\",$AD25=1,$O25=\"\")","特避付室+非EV乗降+居室",{"$f":"COUNTIF(L25:N55,\"○\")","v":0},{"$f":"AE25+AF25+AG25","v":0},{"$f":"COUNTIF(L25,\"○\")","v":0},{"$f":"COUNTIF(M25,\"○\")-AG25","v":0},{"$f":"COUNTIF(N25,\"○\")","v":0},{"$f":"IF(AF25>=1,\"要是正\",IF(AG25=1,\"既存不適格\",IF(AE25>=1,\"指摘なし\")))","v":false},{"$f":"IF(AD25=1,0,COUNTIF(P25,\"○\"))","v":0},{"$f":"AD25+AI25","v":0},{"$f":"COUNT(AQ25,AQ26,AQ27,AQ28)","v":0},{"$f":"COUNT(AR25,AR26,AR27,AR28)","v":0},{"$f":"COUNT(AS25,AS26,AS27)","v":0},{"$f":"AK25+AL25+AM25","v":0},null,"【ロ．特別避難階段の階段室又は付室】",{"$f":"IF(報告書!P253=\"\",\"\",報告書!P253)","v":""},{"$f":"IF(報告書!AA253=\"\",\"\",報告書!AA253)","v":""},{"$f":"IF(報告書!AL253=\"\",\"\",報告書!AL253)","v":""}]
[null,null,"(2)",{"$nulls":4},"排煙風道との接続の状況",null,"AND($H$9<>\"\",$AN$25>=1,$AN$26=1)","",{"$nulls":4},{"$f":"IF(AND(L26=\"\",M26=\"○\",N26=\"○\"),\"○\",IF(AND(L26=\"\",M26=\"○\",N26=\"\"),\"○\",IF(AND(L26=\"○\",M26=\"\",N26=\"\"),\"○\",IF(AND(L26=\"―\",M26=\"―\",N26=\"―\",O26=\"―\"),\"○\",\"\"))))","v":""},null,"IF(AND($H$9<>\"\",$AN$25=0,$AD26=0),\"○\",IF(P26=\"\",\"\",P26))",null,null,{"$f":"IF(AND(M26=\"○\",N26=\"\"),C26,\"\")","v":""},{"$f":"IF(AND(M26=\"○\",N26=\"○\"),C26,\"\")","v":""},null,null,{"$f":"IF(ISBLANK(N9),\"\",\"〃\")","v":""},"AND($H$9<>\"\",$AN$25>=1,$AJ26=0)","AND($N10<>\"\",$AD26=1,$O26=\"\")",null,null,{"$f":"AE26+AF26+AG26","v":0},{"$f":"COUNTIF(L26,\"○\")","v":0},{"$f":"COUNTIF(M26,\"○\")-AG26","v":0},{"$f":"COUNTIF(N26,\"○\")","v":0},{"$f":"IF(AF26>=1,\"要是正\",IF(AG26=1,\"既存不適格\",IF(AE26>=1,\"指摘なし\")))","v":false},{"$f":"IF(AD26=1,0,COUNTIF(P26,\"○\"))","v":0},{"$f":"AD26+AI26","v":0},{"$nulls":3},{"$f":"IF(AND(AL25>=1,AK25=0,AM25=0),0,1)","v":1},null,"【ハ．非常用エレベーターの昇降路又は乗降ロビー】",{"$f":"IF(報告書!P255=\"\",\"\",報告書!P255)","v":""},{"$f":"IF(報告書!AA255=\"\",\"\",報告書!AA255)","v":""},{"$f":"IF(報告書!AL255=\"\",\"\",報告書!AL255)","v":""}]
[null,null,"(3)",{"$nulls":4},"煙排出口の設置の状況",null,"AND($H$9<>\"\",$AN$25>=1,$AN$26=1)","",{"$nulls":4},"",null,"IF(AND($H$9<>\"\",$AN$25=0,$AD27=0),\"○\",IF(P27=\"\",\"\",P27))",null,null,"","",null,null,{"$f":"IF(ISBLANK(N9),\"\",N9)","v":""},"AND($H$9<>\"\",$AN$25>=1,$AJ27=0)","AND($N10<>\"\",$AD27=1,$O27=\"\")",null,null,0,0,0,0,false,0,0,{"$nulls":5},"【ニ．非常用エレベーターの乗降ロビーの用に供する付室】",{"$f":"IF(報告書!P257=\"\",\"\",報告書!P257)","v":""},{"$f":"IF(報告書!AA257=\"\",\"\",報告書!AA257)","v":""},{"$f":"IF(報告書!AL257=\"\",\"\",報告書!AL257)","v":""}]
[null,null,"(4)",{"$nulls":4},"煙排出口の周囲の状況",null,"AND($H$9<>\"\",$AN$25>=1,$AN$26=1)","",{"$nulls":4},"",null,"IF(AND($H$9<>\"\",$AN$25=0,$AD28=0),\"○\",IF(P28=\"\",\"\",P28))",null,null,"","",null,{"$f":"IF(Y28=\"\",\"\",\"・\")","v":""},{"$f":"IF(ISBLANK(N10),\"\",N10)","v":""},"AND($H$9<>\"\",$AN$25>=1,$AJ28=0)","AND($N10<>\"\",$AD28=1,$O28=\"\")",null,null,0,0,0,0,false,0,0,{"$nulls":5},"【ホ．居室等】",{"$f":"IF(報告書!P258=\"\",\"\",報告書!P258)","v":""},{"$f":"IF(報告書!AA258=\"\",\"\",報告書!AA258)","v":""}]
[null,null,"(5)",{"$nulls":4},"屋外に設置された煙排出口への雨水等の防止措置の状況",null,"AND($H$9<>\"\",$AN$25>=1,$AN$26=1)","",{"$nulls":4},"",null,"IF(AND($H$9<>\"\",$AN$25=0,$AD29=0),\"○\",IF(P29=\"\",\"\",P29))",null,null,"","",null,{"$f":"IF(Y29=\"\",\"\",\"・\")","v":""},{"$f":"IF(ISBLANK(N10),\"\",IF(ISBLANK(N11),Y27&X28&Y28,IF(Y28=\"\",\"\",N11)))","v":""},"AND($H$9<>\"\",$AN$25>=1,$AJ29=0)","AND($N10<>\"\",$AD29=1,$O29=\"\")",null,null,0,0,0,0,false,0,0,{"$nulls":3},{"$f":"IF(AND((報告書!P253+報告書!P255+報告書!P257)>0,報告書!AA253=\"\",報告書!AL253=\"\",報告書!AA255=\"\",報告書!AL255=\"\",報告書!AA257=\"\",報告書!AL257=\"\",報告書!P258=\"\",報告書!AA258=\"\"),1,0)","v":0}]
[null,null,"(6)",null,"排煙機の性能",null,null,"排煙口の開放と連動起動の状況",null,"AND($H$9<>\"\",$AN$25>=1,$AN$26=1)","",{"$nulls":4},"",null,"IF(AND($H$9<>\"\",$AN$25=0,$AD30=0),\"○\",IF(P30=\"\",\"\",P30))",null,null,"","",null,null,{"$f":"IF(ISBLANK(N11),\"\",Y27&X28&Y28)","v":""},"AND($H$9<>\"\",$AN$25>=1,$AJ30=0)","AND($N10<>\"\",$AD30=1,$O30=\"\")",null,null,0,0,0,0,false,0,0]
[null,null,"(7)",{"$nulls":4},"作動の状況",null,"AND($H$9<>\"\",$AN$25>=1,$AN$26=1)","",{"$nulls":4},"",null,"IF(AND($H$9<>\"\",$AN$25=0,$AD31=0),\"○\",IF(P31=\"\",\"\",P31))",null,null,"","",null,null,{"$f":"IF(Y30=\"\",\"\",Y27&X29&Y29)","v":""},"AND($H$9<>\"\",$AN$25>=1,$AJ31=0)","AND($N10<>\"\",$AD31=1,$O31=\"\")",null,null,0,0,0,0,false,0,0]
[null,null,"(8)",{"$nulls":4},"電源を必要とする排煙機の予備電源による作動の状況",null,"AND($H$9<>\"\",$AN$25>=1,$AN$26=1)","",{"$nulls":4},"",null,"IF(AND($H$9<>\"\",$AN$25=0,$AD32=0),\"○\",IF(P32=\"\",\"\",P32))",null,null,"","",null,null,{"$f":"IF(Y30=\"\",\"\",Y28&X29&Y29)","v":""},"AND($H$9<>\"\",$AN$25>=1,$AJ32=0)","AND($N10<>\"\",$AD32=1,$O32=\"\")",null,null,0,0,0,0,false,0,0]
[null,null,"(9)",{"$nulls":4},"排煙機の排煙風量",null,"AND($H$9<>\"\",$AN$25>=1,$AN$26=1)","",{"$nulls":4},"",null,"IF(AND($H$9<>\"\",$AN$25=0,$AD33=0),\"○\",IF(P33=\"\",\"\",P33))",null,null,"","",null,null,{"$f":"IF(Y30=\"\",\"\",Y30&X29&Y29)","v":""},"AND($H$9<>\"\",$AN$25>=1,$AJ33=0)","AND($N10<>\"\",$AD33=1,$O33=\"\")",null,null,0,0,0,0,false,0,0]
[null,null,"(10)",{"$nulls":4},"中央管理室における制御及び作動状態の監視の状況",null,"AND($H$9<>\"\",$AN$25>=1,$AN$26=1)","",{"$nulls":4},"",null,"IF(AND($H$9<>\"\",$AN$25=0,$AD34=0),\"○\",IF(P34=\"\",\"\",P34))",null,null,"","",{"$nulls":3},"AND($H$9<>\"\",$AN$25>=1,$AJ34=0)","AND($N10<>\"\",$AD34=1,$O34=\"\")",null,null,0,0,0,0,false,0,0]
[null,null,"(11)","排煙口","機械排煙設備の排煙口の外観",null,null,"排煙口の位置",null,"AND($H$9<>\"\",$AN$25>=1,$AN$26=1)","",{"$nulls":4},"",null,"IF(AND($H$9<>\"\",$AN$25=0,$AD35=0),\"○\",IF(P35=\"\",\"\",P35))",null,null,"","",{"$nulls":3},"AND($H$9<>\"\",$AN$25>=1,$AJ35=0)","AND($N10<>\"\",$AD35=1,$O35=\"\")",null,null,0,0,0,0,false,0,0]
[null,null,"(12)",{"$nulls":4},"排煙口の周囲の状況",null,"AND($H$9<>\"\",$AN$25>=1,$AN$26=1)","",{"$nulls":4},"",null,"IF(AND($H$9<>\"\",$AN$25=0,$AD36=0),\"○\",IF(P36=\"\",\"\",P36))",null,null,"","",{"$nulls":3},"AND($H$9<>\"\",$AN$25>=1,$AJ36=0)","AND($N10<>\"\",$AD36=1,$O36=\"\")",null,null,0,0,0,0,false,0,0]
[null,null,"(13)",{"$nulls":4},"排煙口の取付けの状況",null,"AND($H$9<>\"\",$AN$25>=1,$AN$26=1)","",{"$nulls":4},"",null,"IF(AND($H$9<>\"\",$AN$25=0,$AD37=0),\"○\",IF(P37=\"\",\"\",P37))",null,null,"","",{"$nulls":3},"AND($H$9<>\"\",$AN$25>=1,$AJ37=0)","AND($N10<>\"\",$AD37=1,$O37=\"\")",null,null,0,0,0,0,false,0,0]
[null,null,"(14)",{"$nulls":4},"手動開放装置の周囲の状況",null,"AND($H$9<>\"\",$AN$25>=1,$AN$26=1)","",{"$nulls":4},"",null,"IF(AND($H$9<>\"\",$AN$25=0,$AD38=0),\"○\",IF(P38=\"\",\"\",P38))",null,null,"","",{"$nulls":3},"AND($H$9<>\"\",$AN$25>=1,$AJ38=0)","AND($N10<>\"\",$AD38=1,$O38=\"\")",null,null,0,0,0,0,false,0,0]
[null,null,"(15)",{"$nulls":4},"手動開放装置の操作方法の表示の状況",null,"AND($H$9<>\"\",$AN$25>=1,$AN$26=1)","",{"$nulls":4},"",null,"IF(AND($H$9<>\"\",$AN$25=0,$AD39=0),\"○\",IF(P39=\"\",\"\",P39))",null,null,"","",{"$nulls":3},"AND($H$9<>\"\",$AN$25>=1,$AJ39=0)","AND($N10<>\"\",$AD39=1,$O39=\"\")",null,null,0,0,0,0,false,0,0]
[null,null,"(16)",null,"機械排煙設備の排煙口の性能",null,null,"手動開放装置による開放の状況",null,"AND($H$9<>\"\",$AN$25>=1,$AN$26=1)","",{"$nulls":4},"",null,"IF(AND($H$9<>\"\",$AN$25=0,$AD40=0),\"○\",IF(P40=\"\",\"\",P40))",null,null,"","",{"$nulls":3},"AND($H$9<>\"\",$AN$25>=1,$AJ40=0)","AND($N10<>\"\",$AD40=1,$O40=\"\")",null,null,0,0,0,0,false,0,0]
[null,null,"(17)",{"$nulls":4},"排煙口の開放の状況",null,"AND($H$9<>\"\",$AN$25>=1,$AN$26=1)","",{"$nulls":4},"",null,"IF(AND($H$9<>\"\",$AN$25=0,$AD41=0),\"○\",IF(P41=\"\",\"\",P41))",null,null,"","",{"$nulls":3},"AND($H$9<>\"\",$AN$25>=1,$AJ41=0)","AND($N10<>\"\",$AD41=1,$O41=\"\")",null,null,0,0,0,0,false,{"$f":"IF(AD41=1,0,COUNTIF(P41,\"○\"))","v":0},0]
[null,null,"(18)",{"$nulls":4},"排煙口の排煙風量",null,"AND($H$9<>\"\",$AN$25>=1,$AN$26=1,$AN$29=0)","",{"$nulls":4},{"$f":"IF(AND(L42=\"実施せず\",M42=\"\",N42=\"\"),\"○\",IF(AND(L42=\"\",M42=\"○\",N42=\"○\"),\"○\",IF(AND(L42=\"\",M42=\"○\",N42=\"\"),\"○\",IF(AND(L42=\"○\",M42=\"\",N42=\"\"),\"○\",IF(AND(L42=\"―\",M42=\"―\",N42=\"―\",O42=\"―\"),\"○\",\"\")))))","v":""},null,"IF(AND($H$9<>\"\",$AN$25=0,$AD42=0),\"○\",IF(P42=\"\",\"\",P42))",null,null,"","",{"$nulls":3},"AND($H$9<>\"\",$AN$25>=1,$AJ42=0)","AND($N10<>\"\",$AD42=1,$O42=\"\",$L42<>\"実施せず\")",null,null,0,{"$f":"COUNTA(L42)","v":0},0,0,false,{"$f":"IF(AD42=1,0,COUNTIF(P42,\"○\"))","v":0},0]
[null,null,"(19)",{"$nulls":4},"中央管理室における制御及び作動状態の監視の状況",null,"AND($H$9<>\"\",$AN$25>=1,$AN$26=1)","",{"$nulls":4},{"$f":"IF(AND(L43=\"実施せず\",M43=\"\",N43=\"\"),\"○\",IF(AND(L43=\"\",M43=\"○\",N43=\"○\"),\"○\",IF(AND(L43=\"\",M43=\"○\",N43=\"\"),\"○\",IF(AND(L43=\"○\",M43=\"\",N43=\"\"),\"○\",IF(AND(L43=\"―\",M43=\"―\",N43=\"―\",O43=\"―\"),\"○\",\"\")))))","v":""},null,"IF(AND($H$9<>\"\",$AN$25=0,$AD43=0),\"○\",IF(P43=\"\",\"\",P43))",null,null,"","",{"$nulls":3},"AND($H$9<>\"\",$AN$25>=1,$AJ43=0)","AND($N10<>\"\",$AD43=1,$O43=\"\",$L43<>\"実施せず\")",null,null,0,{"$f":"COUNTA(L43)","v":0},0,0,false,{"$f":"IF(AD43=1,0,COUNTIF(P43,\"○\"))","v":0},0]
[null,null,"(20)",{"$nulls":4},"煙感知器による作動の状況",null,"AND($H$9<>\"\",$AN$25>=1,$AN$26=1)","",{"$nulls":4},"",null,"IF(AND($H$9<>\"\",$AN$25=0,$AD44=0),\"○\",IF(P44=\"\",\"\",P44))",null,null,"","",{"$nulls":3},"AND($H$9<>\"\",$AN$25>=1,$AJ44=0)","AND($N10<>\"\",$AD44=1,$O44=\"\")",null,null,0,0,0,0,false,{"$f":"IF(AD44=1,0,COUNTIF(P44,\"○\"))","v":0},0]
[null,null,"(21)","排煙風道","機械排煙設備の排煙風道（隠蔽部分及び埋設部分を除く。）",null,null,"排煙風道の劣化及び損傷の状況",null,"AND($H$9<>\"\",$AN$25>=1)","",{"$nulls":4},"",null,"IF(AND($H$9<>\"\",$AN$25=0,$AD45=0),\"○\",IF(P45=\"\",\"\",P45))",null,null,"","",{"$nulls":3},"AND($H$9<>\"\",$AN$25>=1,$AJ45=0)","AND($N10<>\"\",$AD45=1,$O45=\"\")",null,null,{"$f":"AE45+AF45+AG45","v":0},0,0,0,false,{"$f":"IF(AD45=1,0,COUNTIF(P45,\"○\"))","v":0},0]
[null,null,"(22)",{"$nulls":4},"排煙風道の取付けの状況",null,"AND($H$9<>\"\",$AN$25>=1)","",{"$nulls":4},"",null,"IF(AND($H$9<>\"\",$AN$25=0,$AD46=0),\"○\",IF(P46=\"\",\"\",P46))",null,null,"","",{"$nulls":3},"AND($H$9<>\"\",$AN$25>=1,$AJ46=0)","AND($N10<>\"\",$AD46=1,$O46=\"\")",null,null,{"$f":"AE46+AF46+AG46","v":0},0,0,0,false,0,0]
[null,null,"(23)",{"$nulls":4},"排煙風道の材質",null,"AND($H$9<>\"\",$AN$25>=1)","",{"$nulls":4},"",null,"IF(AND($H$9<>\"\",$AN$25=0,$AD47=0),\"○\",IF(P47=\"\",\"\",P47))",null,null,"","",{"$nulls":3},"AND($H$9<>\"\",$AN$25>=1,$AJ47=0)","AND($N10<>\"\",$AD47=1,$O47=\"\")",null,null,0,0,0,0,false,0,0]
[null,null,"(24)",{"$nulls":4},"防煙壁の貫通措置の状況",null,"AND($H$9<>\"\",$AN$25>=1)","",{"$nulls":4},"",null,"IF(AND($H$9<>\"\",$AN$25=0,$AD48=0),\"○\",IF(P48=\"\",\"\",P48))",null,null,"","",{"$nulls":3},"AND($H$9<>\"\",$AN$25>=1,$AJ48=0)","AND($N10<>\"\",$AD48=1,$O48=\"\")",null,null,0,0,0,0,false,0,0]
[null,null,"(25)",{"$nulls":4},"排煙風道と可燃物、電線等との離隔距離及び断熱の状況",null,"AND($H$9<>\"\",$AN$25>=1)","",{"$nulls":4},"",null,"IF(AND($H$9<>\"\",$AN$25=0,$AD49=0),\"○\",IF(P49=\"\",\"\",P49))",null,null,"","",{"$nulls":3},"AND($H$9<>\"\",$AN$25>=1,$AJ49=0)","AND($N10<>\"\",$AD49=1,$O49=\"\")",null,null,0,0,0,0,false,0,0]
[null,null,"(26)",null,"防火ダンパー（外壁の開口部で延焼のおそれのある部分に設けるものを除く。）",null,null,"防火ダンパーの取付けの状況",null,"AND($H$9<>\"\",$AN$25>=1)","",{"$nulls":4},"",null,"IF(AND($H$9<>\"\",$AN$25=0,$AD50=0),\"○\",IF(P50=\"\",\"\",P50))",null,null,"","",{"$nulls":3},"AND($H$9<>\"\",$AN$25>=1,$AJ50=0)","AND($N10<>\"\",$AD50=1,$O50=\"\")",null,null,0,0,0,0,false,0,0]
[null,null,"(27)",{"$nulls":4},"防火ダンパーの作動の状況",null,"AND($H$9<>\"\",$AN$25>=1)","",{"$nulls":4},"",null,"IF(AND($H$9<>\"\",$AN$25=0,$AD51=0),\"○\",IF(P51=\"\",\"\",P51))",null,null,"","",{"$nulls":3},"AND($H$9<>\"\",$AN$25>=1,$AJ51=0)","AND($N10<>\"\",$AD51=1,$O51=\"\")",null,null,0,0,0,0,false,0,{"$f":"AD51+AI51","v":0}]
[null,null,"(28)",{"$nulls":4},"防火ダンパーの劣化及び損傷の状況",null,"AND($H$9<>\"\",$AN$25>=1)","",{"$nulls":4},"",null,"IF(AND($H$9<>\"\",$AN$25=0,$AD52=0),\"○\",IF(P52=\"\",\"\",P52))",null,null,"","",{"$nulls":3},"AND($H$9<>\"\",$AN$25>=1,$AJ52=0)","AND($N10<>\"\",$AD52=1,$O52=\"\")",null,null,0,0,0,0,false,0,0]
[null,null,"(29)",{"$nulls":4},"防火ダンパーの点検口の有無及び大きさ並びに検査口の有無",null,"AND($H$9<>\"\",$AN$25>=1)","",{"$nulls":4},"",null,"IF(AND($H$9<>\"\",$AN$25=0,$AD53=0),\"○\",IF(P53=\"\",\"\",P53))",null,null,"","",{"$nulls":3},"AND($H$9<>\"\",$AN$25>=1,$AJ53=0)","AND($N10<>\"\",$AD53=1,$O53=\"\")",null,null,0,0,0,0,false,0,0]
[null,null,"(30)",{"$nulls":4},"防火ダンパーの温度ヒューズ",null,"AND($H$9<>\"\",$AN$25>=1)","",{"$nulls":4},"",null,"IF(AND($H$9<>\"\",$AN$25=0,$AD54=0),\"○\",IF(P54=\"\",\"\",P54))",null,null,"","",{"$nulls":3},"AND($H$9<>\"\",$AN$25>=1,$AJ54=0)","AND($N10<>\"\",$AD54=1,$O54=\"\")",null,null,0,0,0,0,false,0,0]
[null,null,"(31)",{"$nulls":4},"壁及び床の防火区画貫通部の措置の状況",null,"AND($H$9<>\"\",$AN$25>=1)","",{"$nulls":4},"",null,"IF(AND($H$9<>\"\",$AN$25=0,$AD55=0),\"○\",IF(P55=\"\",\"\",P55))",null,null,"","",{"$nulls":3},"AND($H$9<>\"\",$AN$25>=1,$AJ55=0)","AND($N10<>\"\",$AD55=1,$O55=\"\")",null,null,0,0,0,0,false,0,0]
[null,null,"(32)","特殊な構造の排煙設備","特殊な構造の排煙設備の排煙口及び給気口の外観",null,null,"排煙口及び給気口の大きさ及び位置",null,"AND($H$9<>\"\",$AN$57>=1)",{"$f":"IF(AND($H$9<>\"\",$AN$57=0,$AD56=0),\"○\",IF(P56=\"\",\"\",P56))","v":""},{"$nulls":4},"",null,"IF(AND($H$9<>\"\",$AN$57=0,$AD56=0),\"○\",IF(P56=\"\",\"\",P56))",null,null,"","",{"$nulls":3},"AND($H$9<>\"\",$AN$57>=1,$AJ56=0)","AND($N10<>\"\",$AD56=1,$O56=\"\")","特殊排煙：給気",{"$f":"COUNTIF(L56:N77,\"○\")","v":0},0,0,0,0,false,0,0,{"$nulls":6},"給気式"]
[null,null,"(33)",{"$nulls":4},"排煙口及び給気口の周囲の状況",null,"AND($H$9<>\"\",$AN$57>=1)","",{"$nulls":4},"",null,"IF(AND($H$9<>\"\",$AN$57=0,$AD57=0),\"○\",IF(P57=\"\",\"\",P57))",null,null,"","",{"$nulls":3},"AND($H$9<>\"\",$AN$57>=1,$AJ57=0)","AND($N10<>\"\",$AD57=1,$O57=\"\")",null,null,0,0,0,0,false,0,0,{"$nulls":3},{"$f":"COUNT(AQ57,AQ58,AQ59,AQ60)","v":0},null,"【ロ．特別避難階段の階段室又は付室】",{"$f":"IF(報告書!AA253=\"\",\"\",報告書!AA253)","v":""}]
[null,null,"(34)",{"$nulls":4},"排煙口及び給気口の取付けの状況",null,"AND($H$9<>\"\",$AN$57>=1)","",{"$nulls":4},"",null,"IF(AND($H$9<>\"\",$AN$57=0,$AD58=0),\"○\",IF(P58=\"\",\"\",P58))",null,null,"","",{"$nulls":3},"AND($H$9<>\"\",$AN$57>=1,$AJ58=0)","AND($N10<>\"\",$AD58=1,$O58=\"\")",null,null,0,0,0,0,false,0,0,{"$nulls":5},"【ハ．非常用エレベーターの昇降路又は乗降ロビー】",{"$f":"IF(報告書!AA255=\"\",\"\",報告書!AA255)","v":""}]
[null,null,"(35)",{"$nulls":4},"手動開放装置の周囲の状況",null,"AND($H$9<>\"\",$AN$57>=1)","",{"$nulls":4},"",null,"IF(AND($H$9<>\"\",$AN$57=0,$AD59=0),\"○\",IF(P59=\"\",\"\",P59))",null,null,"","",{"$nulls":3},"AND($H$9<>\"\",$AN$57>=1,$AJ59=0)","AND($N10<>\"\",$AD59=1,$O59=\"\")",null,null,0,0,0,0,false,0,0,{"$nulls":5},"【ニ．非常用エレベーターの乗降ロビーの用に供する付室】",{"$f":"IF(報告書!AA257=\"\",\"\",報告書!AA257)","v":""}]
[null,null,"(36)",{"$nulls":4},"手動開放装置の操作方法の表示の状況",null,"AND($H$9<>\"\",$AN$57>=1)","",{"$nulls":4},"",null,"IF(AND($H$9<>\"\",$AN$57=0,$AD60=0),\"○\",IF(P60=\"\",\"\",P60))",null,null,"","",{"$nulls":3},"AND($H$9<>\"\",$AN$57>=1,$AJ60=0)","AND($N10<>\"\",$AD60=1,$O60=\"\")",null,null,0,0,0,0,false,0,0,{"$nulls":5},"【ホ．居室等】",{"$f":"IF(報告書!AA258=\"\",\"\",報告書!AA258)","v":""}]
[null,null,"(37)",null,"特殊な構造の排煙設備の排煙口の性能",null,null,"排煙口の排煙風量",null,"AND($H$9<>\"\",$AN$57>=1)","",{"$nulls":4},{"$f":"IF(AND(L61=\"実施せず\",M61=\"\",N61=\"\"),\"○\",IF(AND(L61=\"\",M61=\"○\",N61=\"○\"),\"○\",IF(AND(L61=\"\",M61=\"○\",N61=\"\"),\"○\",IF(AND(L61=\"○\",M61=\"\",N61=\"\"),\"○\",IF(AND(L61=\"―\",M61=\"―\",N61=\"―\",O61=\"―\"),\"○\",\"\")))))","v":""},null,"IF(AND($H$9<>\"\",$AN$57=0,$AD61=0),\"○\",IF(P61=\"\",\"\",P61))",null,null,"","",{"$nulls":3},"AND($H$9<>\"\",$AN$57>=1,$AJ61=0)","AND($N10<>\"\",$AD61=1,$O61=\"\",$L61<>\"実施せず\")",null,null,0,{"$f":"COUNTA(L61)","v":0},0,0,false,{"$f":"IF(AD61=1,0,COUNTIF(P61,\"○\"))","v":0},0]
[null,null,"(38)",{"$nulls":4},"中央管理室における制御及び作動状態の監視の状況",null,"AND($H$9<>\"\",$AN$57>=1)","",{"$nulls":4},{"$f":"IF(AND(L62=\"実施せず\",M62=\"\",N62=\"\"),\"○\",IF(AND(L62=\"\",M62=\"○\",N62=\"○\"),\"○\",IF(AND(L62=\"\",M62=\"○\",N62=\"\"),\"○\",IF(AND(L62=\"○\",M62=\"\",N62=\"\"),\"○\",IF(AND(L62=\"―\",M62=\"―\",N62=\"―\",O62=\"―\"),\"○\",\"\")))))","v":""},null,"IF(AND($H$9<>\"\",$AN$57=0,$AD62=0),\"○\",IF(P62=\"\",\"\",P62))",null,null,"","",{"$nulls":3},"AND($H$9<>\"\",$AN$57>=1,$AJ62=0)","AND($N10<>\"\",$AD62=1,$O62=\"\",$L62<>\"実施せず\")",null,null,0,{"$f":"COUNTA(L62)","v":0},0,0,false,{"$f":"IF(AD62=1,0,COUNTIF(P62,\"○\"))","v":0},0]
[null,null,"(39)",{"$nulls":4},"煙感知器による作動の状況",null,"AND($H$9<>\"\",$AN$57>=1)","",{"$nulls":4},"",null,"IF(AND($H$9<>\"\",$AN$57=0,$AD63=0),\"○\",IF(P63=\"\",\"\",P63))",null,null,"","",{"$nulls":3},"AND($H$9<>\"\",$AN$57>=1,$AJ63=0)","AND($N10<>\"\",$AD63=1,$O63=\"\")",null,null,0,0,0,0,false,{"$f":"IF(AD63=1,0,COUNTIF(P63,\"○\"))","v":0},0]
[null,null,"(40)",null,"特殊な構造の排煙設備の給気風道（隠蔽部分及び埋設部分を除く。）",null,null,"給気風道の劣化及び損傷の状況",null,"AND($H$9<>\"\",$AN$57>=1)","",{"$nulls":4},"",null,"IF(AND($H$9<>\"\",$AN$57=0,$AD64=0),\"○\",IF(P64=\"\",\"\",P64))",null,null,"","",{"$nulls":3},"AND($H$9<>\"\",$AN$57>=1,$AJ64=0)","AND($N10<>\"\",$AD64=1,$O64=\"\")",null,null,0,0,0,0,false,0,0]
[null,null,"(41)",{"$nulls":4},"給気風道の材質",null,"AND($H$9<>\"\",$AN$57>=1)","",{"$nulls":4},"",null,"IF(AND($H$9<>\"\",$AN$57=0,$AD65=0),\"○\",IF(P65=\"\",\"\",P65))",null,null,"","",{"$nulls":3},"AND($H$9<>\"\",$AN$57>=1,$AJ65=0)","AND($N10<>\"\",$AD65=1,$O65=\"\")",null,null,0,0,0,0,false,0,0]
[null,null,"(42)",{"$nulls":4},"給気風道の取付けの状況",null,"AND($H$9<>\"\",$AN$57>=1)","",{"$nulls":4},"",null,"IF(AND($H$9<>\"\",$AN$57=0,$AD66=0),\"○\",IF(P66=\"\",\"\",P66))",null,null,"","",{"$nulls":3},"AND($H$9<>\"\",$AN$57>=1,$AJ66=0)","AND($N10<>\"\",$AD66=1,$O66=\"\")",null,null,0,0,0,0,false,0,0]
[null,null,"(43)",{"$nulls":4},"防煙壁の貫通措置の状況",null,"AND($H$9<>\"\",$AN$57>=1)","",{"$nulls":4},"",null,"IF(AND($H$9<>\"\",$AN$57=0,$AD67=0),\"○\",IF(P67=\"\",\"\",P67))",null,null,"","",{"$nulls":3},"AND($H$9<>\"\",$AN$57>=1,$AJ67=0)","AND($N10<>\"\",$AD67=1,$O67=\"\")",null,null,0,0,0,0,false,0,0]
[null,null,"(44)",null,"特殊な構造の排煙設備の給気送風機の外観",null,null,"給気送風機の設置の状況",null,"AND($H$9<>\"\",$AN$57>=1)","",{"$nulls":4},"",null,"IF(AND($H$9<>\"\",$AN$57=0,$AD68=0),\"○\",IF(P68=\"\",\"\",P68))",null,null,"","",{"$nulls":3},"AND($H$9<>\"\",$AN$57>=1,$AJ68=0)","AND($N10<>\"\",$AD68=1,$O68=\"\")",null,null,0,0,0,0,false,0,0]
[null,null,"(45)",{"$nulls":4},"給気風道との接続の状況",null,"AND($H$9<>\"\",$AN$57>=1)","",{"$nulls":4},"",null,"IF(AND($H$9<>\"\",$AN$57=0,$AD69=0),\"○\",IF(P69=\"\",\"\",P69))",null,null,"","",{"$nulls":3},"AND($H$9<>\"\",$AN$57>=1,$AJ69=0)","AND($N10<>\"\",$AD69=1,$O69=\"\")",null,null,0,0,0,0,false,0,0]
[null,null,"(46)",null,"特殊な構造の排煙設備の給気送風機の性能",null,null,"排煙口の開放と連動起動の状況",null,"AND($H$9<>\"\",$AN$57>=1)","",{"$nulls":4},"",null,"IF(AND($H$9<>\"\",$AN$57=0,$AD70=0),\"○\",IF(P70=\"\",\"\",P70))",null,null,"","",{"$nulls":3},"AND($H$9<>\"\",$AN$57>=1,$AJ70=0)","AND($N10<>\"\",$AD70=1,$O70=\"\")",null,null,0,0,0,0,false,0,0]
[null,null,"(47)",{"$nulls":4},"作動の状況",null,"AND($H$9<>\"\",$AN$57>=1)","",{"$nulls":4},"",null,"IF(AND($H$9<>\"\",$AN$57=0,$AD71=0),\"○\",IF(P71=\"\",\"\",P71))",null,null,"","",{"$nulls":3},"AND($H$9<>\"\",$AN$57>=1,$AJ71=0)","AND($N10<>\"\",$AD71=1,$O71=\"\")",null,null,0,0,0,0,false,0,0]
[null,null,"(48)",{"$nulls":4},"電源を必要とする給気送風機の予備電源による作動の状況",null,"AND($H$9<>\"\",$AN$57>=1)","",{"$nulls":4},"",null,"IF(AND($H$9<>\"\",$AN$57=0,$AD72=0),\"○\",IF(P72=\"\",\"\",P72))",null,null,"","",{"$nulls":3},"AND($H$9<>\"\",$AN$57>=1,$AJ72=0)","AND($N10<>\"\",$AD72=1,$O72=\"\")",null,null,0,0,0,0,false,0,0]
[null,null,"(49)",{"$nulls":4},"給気送風機の給気風量",null,"AND($H$9<>\"\",$AN$57>=1)","",{"$nulls":4},"",null,"IF(AND($H$9<>\"\",$AN$57=0,$AD73=0),\"○\",IF(P73=\"\",\"\",P73))",null,null,"","",{"$nulls":3},"AND($H$9<>\"\",$AN$57>=1,$AJ73=0)","AND($N10<>\"\",$AD73=1,$O73=\"\")",null,null,0,0,0,0,false,0,0]
[null,null,"(50)",{"$nulls":4},"中央管理室における制御及び作動状態の監視の状況",null,"AND($H$9<>\"\",$AN$57>=1)","",{"$nulls":4},"",null,"IF(AND($H$9<>\"\",$AN$57=0,$AD74=0),\"○\",IF(P74=\"\",\"\",P74))",null,null,"","",{"$nulls":3},"AND($H$9<>\"\",$AN$57>=1,$AJ74=0)","AND($N10<>\"\",$AD74=1,$O74=\"\")",null,null,0,0,0,0,false,0,0]
[null,null,"(51)",null,"特殊な構造の排煙設備の給気送風機の吸込口",null,null,"吸込口の設置位置",null,"AND($H$9<>\"\",$AN$57>=1)","",{"$nulls":4},"",null,"IF(AND($H$9<>\"\",$AN$57=0,$AD75=0),\"○\",IF(P75=\"\",\"\",P75))",null,null,"","",{"$nulls":3},"AND($H$9<>\"\",$AN$57>=1,$AJ75=0)","AND($N10<>\"\",$AD75=1,$O75=\"\")",null,null,0,0,0,0,false,0,0]
[null,null,"(52)",{"$nulls":4},"吸込口の周囲の状況",null,"AND($H$9<>\"\",$AN$57>=1)","",{"$nulls":4},"",null,"IF(AND($H$9<>\"\",$AN$57=0,$AD76=0),\"○\",IF(P76=\"\",\"\",P76))",null,null,"","",{"$nulls":3},"AND($H$9<>\"\",$AN$57>=1,$AJ76=0)","AND($N10<>\"\",$AD76=1,$O76=\"\")",null,null,0,0,0,0,false,0,0]
[null,null,"(53)",{"$nulls":4},"屋外に設置された吸込口への雨水等の防止措置の状況",null,"AND($H$9<>\"\",$AN$57>=1)","",{"$nulls":4},"",null,"IF(AND($H$9<>\"\",$AN$57=0,$AD77=0),\"○\",IF(P77=\"\",\"\",P77))",null,null,"","",{"$nulls":3},"AND($H$9<>\"\",$AN$57>=1,$AJ77=0)","AND($N10<>\"\",$AD77=1,$O77=\"\")",null,null,0,0,0,0,false,0,0]
[null,null,"(54)",{"$nulls":4},"吸込口の周囲の状況"]
[null,null,"(55)",{"$nulls":4},"屋外に設置された吸込口への雨水等の防止措置の状況"]
[]
[]
[]
[]
[]
[null,null,2,"令第123条第３項第２号に規定する階段室又は付室及び令第129条の13の３第13項に規定する昇降路又は乗降ロビー",{"$nulls":16},{"$f":"U86&U87&U88&U89&U90&U91&U92&U93&U94&U95&U96&U97&U98&U99&U100&U101&U102&U103&U104&U105&U106&U107&U108&U109&U110&U111&U112&U113&U114&U115&U116&U117","v":""},{"$f":"V86&V87&V88&V89&V90&V91&V92&V93&V94&V95&V96&V97&V98&V99&V100&V101&V102&V103&V104&V105&V106&V107&V108&V109&V110&V111&V112&V113&V114&V115&V116&V117","v":""},{"$f":"IF(U85=\"\",\"\",$C85)","v":""},{"$f":"IF(V85=\"\",\"\",$C85)","v":""},{"$f":"IF(W85=\"\",\"\",IF(W126&W138&W171=\"\",\"\",\"、\"))","v":""},{"$f":"IF(X85=\"\",\"\",IF(X126&X138&X171=\"\",\"\",\"、\"))","v":""},{"$nulls":16},"吸引式","給気式","加圧式"]
[null,null,"(1)","特別避難階段の階段室又は付室及び非常用エレベーターの昇降路又は乗降ロビーに設ける排煙口及び給気口",{"$nulls":3},"排煙機、排煙口及び給気口の作動の状況",null,"AND($H$9<>\"\",$AN$86>=1)",{"$f":"IF(AND($H$9<>\"\",$AN$86=0,$AD86=0),\"○\",IF(P86=\"\",\"\",P86))","v":""},{"$nulls":4},{"$f":"IF(AND(L86=\"\",M86=\"○\",N86=\"○\"),\"○\",IF(AND(L86=\"\",M86=\"○\",N86=\"\"),\"○\",IF(AND(L86=\"○\",M86=\"\",N86=\"\"),\"○\",IF(AND(L86=\"―\",M86=\"―\",N86=\"―\",O86=\"―\"),\"○\",\"\"))))","v":""},null,"IF(AND($H$9<>\"\",$AN$86=0,$AD86=0),\"○\",IF(P86=\"\",\"\",P86))",null,null,{"$f":"IF(AND(M86=\"○\",N86=\"\"),C86,\"\")","v":""},{"$f":"IF(AND(M86=\"○\",N86=\"○\"),C86,\"\")","v":""},{"$nulls":3},"AND($H$9<>\"\",$AN$86>=1,$AJ86=0)","AND($N10<>\"\",$AD86=1,$O86=\"\")","特避付室+非EV乗降",{"$f":"COUNTIF(L86:N87,\"○\")","v":0},{"$f":"AE86+AF86+AG86","v":0},{"$f":"COUNTIF(L86,\"○\")","v":0},{"$f":"COUNTIF(M86,\"○\")-AG86","v":0},{"$f":"COUNTIF(N86,\"○\")","v":0},{"$f":"IF(AF86>=1,\"要是正\",IF(AG86=1,\"既存不適格\",IF(AE86>=1,\"指摘なし\")))","v":false},{"$f":"IF(AD86=1,0,COUNTIF(P86,\"○\"))","v":0},{"$f":"AD86+AI86","v":0},{"$f":"COUNT(AQ86,AQ87,AQ88)","v":0},{"$f":"COUNT(AR86,AR87,AR88)","v":0},{"$f":"COUNT(AS86,AS87,AS88)","v":0},{"$f":"AK86+AL86+AM86","v":0},null,"【ロ．特別避難階段の階段室又は付室】",{"$f":"IF(報告書!P253=\"\",\"\",報告書!P253)","v":""},{"$f":"IF(報告書!AA253=\"\",\"\",報告書!AA253)","v":""},{"$f":"IF(報告書!AL253=\"\",\"\",報告書!AL253)","v":""}]
[null,null,"(2)",{"$nulls":4},"給気口の周囲の状況",null,"AND($H$9<>\"\",$AN$86>=1)",{"$f":"IF(AND($H$9<>\"\",$AN$86=0,$AD87=0),\"○\",IF(P87=\"\",\"\",P87))","v":""},{"$nulls":4},"",null,"IF(AND($H$9<>\"\",$AN$86=0,$AD87=0),\"○\",IF(P87=\"\",\"\",P87))",null,null,{"$f":"IF(AND(M87=\"○\",N87=\"\"),C87,\"\")","v":""},"",{"$nulls":3},"AND($H$9<>\"\",$AN$86>=1,$AJ87=0)","AND($N10<>\"\",$AD87=1,$O87=\"\")",null,null,0,{"$f":"COUNTIF(L87,\"○\")","v":0},{"$f":"COUNTIF(M87,\"○\")-AG87","v":0},{"$f":"COUNTIF(N87,\"○\")","v":0},{"$f":"IF(AF87>=1,\"要是正\",IF(AG87=1,\"既存不適格\",IF(AE87>=1,\"指摘なし\")))","v":false},0,{"$f":"AD87+AI87","v":0},{"$nulls":5},"【ハ．非常用エレベーターの昇降路又は乗降ロビー】",{"$f":"IF(報告書!P255=\"\",\"\",報告書!P255)","v":""},{"$f":"IF(報告書!AA255=\"\",\"\",報告書!AA255)","v":""},{"$f":"IF(報告書!AL255=\"\",\"\",報告書!AL255)","v":""}]
[null,null,"(3)","加圧防排煙設備","排煙風道（隠蔽部分及び埋設部分を除く。）",null,null,"排煙風道の劣化及び損傷の状況",null,"AND($H$9<>\"\",$AM$86>=1)",{"$f":"IF(AND($H$9<>\"\",$AM$86=0,$AD88=0),\"○\",IF(P88=\"\",\"\",P88))","v":""},{"$nulls":4},"",null,"IF(AND($H$9<>\"\",$AM$86=0,$AD88=0),\"○\",IF(P88=\"\",\"\",P88))",null,null,"","",{"$nulls":3},"AND($H$9<>\"\",$AM$86>=1,$AJ88=0)","AND($N10<>\"\",$AD88=1,$O88=\"\")","加圧防排煙",{"$f":"COUNTIF(L88:N117,\"○\")","v":0},0,0,0,0,false,0,0,{"$nulls":5},"【ニ．非常用エレベーターの乗降ロビーの用に供する付室】",{"$f":"IF(報告書!P257=\"\",\"\",報告書!P257)","v":""},{"$f":"IF(報告書!AA257=\"\",\"\",報告書!AA257)","v":""},{"$f":"IF(報告書!AL257=\"\",\"\",報告書!AL257)","v":""}]
[null,null,"(4)",{"$nulls":4},"排煙風道の取付けの状況",null,"AND($H$9<>\"\",$AM$86>=1)","",{"$nulls":4},"",null,"IF(AND($H$9<>\"\",$AM$86=0,$AD89=0),\"○\",IF(P89=\"\",\"\",P89))",null,null,"","",{"$nulls":3},"AND($H$9<>\"\",$AM$86>=1,$AJ89=0)","AND($N10<>\"\",$AD89=1,$O89=\"\")",null,null,0,0,0,0,false,0,0]
[null,null,"(5)",{"$nulls":4},"排煙風道の材質",null,"AND($H$9<>\"\",$AM$86>=1)","",{"$nulls":4},"",null,"IF(AND($H$9<>\"\",$AM$86=0,$AD90=0),\"○\",IF(P90=\"\",\"\",P90))",null,null,"","",{"$nulls":3},"AND($H$9<>\"\",$AM$86>=1,$AJ90=0)","AND($N10<>\"\",$AD90=1,$O90=\"\")",null,null,0,0,0,0,false,0,0]
[null,null,"(6)",null,"給気口の外観",null,null,"給気口の周囲の状況",null,"AND($H$9<>\"\",$AM$86>=1)","",{"$nulls":4},"",null,"IF(AND($H$9<>\"\",$AM$86=0,$AD91=0),\"○\",IF(P91=\"\",\"\",P91))",null,null,"","",{"$nulls":3},"AND($H$9<>\"\",$AM$86>=1,$AJ91=0)","AND($N10<>\"\",$AD91=1,$O91=\"\")",null,null,0,0,0,0,false,0,0]
[null,null,"(7)",{"$nulls":4},"給気口の取付けの状況",null,"AND($H$9<>\"\",$AM$86>=1)","",{"$nulls":4},"",null,"IF(AND($H$9<>\"\",$AM$86=0,$AD92=0),\"○\",IF(P92=\"\",\"\",P92))",null,null,"","",{"$nulls":3},"AND($H$9<>\"\",$AM$86>=1,$AJ92=0)","AND($N10<>\"\",$AD92=1,$O92=\"\")",null,null,0,0,0,0,false,0,0]
[null,null,"(8)",{"$nulls":4},"給気口の手動開放装置の周囲の状況",null,"AND($H$9<>\"\",$AM$86>=1)","",{"$nulls":4},"",null,"IF(AND($H$9<>\"\",$AM$86=0,$AD93=0),\"○\",IF(P93=\"\",\"\",P93))",null,null,"","",{"$nulls":3},"AND($H$9<>\"\",$AM$86>=1,$AJ93=0)","AND($N10<>\"\",$AD93=1,$O93=\"\")",null,null,0,0,0,0,false,0,0]
[null,null,"(9)",{"$nulls":4},"給気口の手動開放装置の操作方法の表示の状況",null,"AND($H$9<>\"\",$AM$86>=1)","",{"$nulls":4},"",null,"IF(AND($H$9<>\"\",$AM$86=0,$AD94=0),\"○\",IF(P94=\"\",\"\",P94))",null,null,"","",{"$nulls":3},"AND($H$9<>\"\",$AM$86>=1,$AJ94=0)","AND($N10<>\"\",$AD94=1,$O94=\"\")",null,null,0,0,0,0,false,0,0]
[null,null,"(10)",null,"給気口の性能",null,null,"給気口の手動開放装置による開放の状況",null,"AND($H$9<>\"\",$AM$86>=1)","",{"$nulls":4},"",null,"IF(AND($H$9<>\"\",$AM$86=0,$AD95=0),\"○\",IF(P95=\"\",\"\",P95))",null,null,"","",{"$nulls":3},"AND($H$9<>\"\",$AM$86>=1,$AJ95=0)","AND($N10<>\"\",$AD95=1,$O95=\"\")",null,null,0,0,0,0,false,0,0]
[null,null,"(11)",{"$nulls":4},"給気口の開放の状況",null,"AND($H$9<>\"\",$AM$86>=1)","",{"$nulls":4},"",null,"IF(AND($H$9<>\"\",$AM$86=0,$AD96=0),\"○\",IF(P96=\"\",\"\",P96))",null,null,"","",{"$nulls":3},"AND($H$9<>\"\",$AM$86>=1,$AJ96=0)","AND($N10<>\"\",$AD96=1,$O96=\"\")",null,null,0,0,0,0,false,0,0]
[null,null,"(12)",null,"給気風道（隠蔽部分及び埋設部分を除く。）",null,null,"給気風道の劣化及び損傷の状況",null,"AND($H$9<>\"\",$AM$86>=1)","",{"$nulls":4},"",null,"IF(AND($H$9<>\"\",$AM$86=0,$AD97=0),\"○\",IF(P97=\"\",\"\",P97))",null,null,"","",{"$nulls":3},"AND($H$9<>\"\",$AM$86>=1,$AJ97=0)","AND($N10<>\"\",$AD97=1,$O97=\"\")",null,null,0,0,0,0,false,0,0]
[null,null,"(13)",{"$nulls":4},"給気風道の取付けの状況",null,"AND($H$9<>\"\",$AM$86>=1)","",{"$nulls":4},"",null,"IF(AND($H$9<>\"\",$AM$86=0,$AD98=0),\"○\",IF(P98=\"\",\"\",P98))",null,null,"","",{"$nulls":3},"AND($H$9<>\"\",$AM$86>=1,$AJ98=0)","AND($N10<>\"\",$AD98=1,$O98=\"\")",null,null,0,0,0,0,false,0,0]
[null,null,"(14)",{"$nulls":4},"給気風道の材質",null,"AND($H$9<>\"\",$AM$86>=1)","",{"$nulls":4},"",null,"IF(AND($H$9<>\"\",$AM$86=0,$AD99=0),\"○\",IF(P99=\"\",\"\",P99))",null,null,"","",{"$nulls":3},"AND($H$9<>\"\",$AM$86>=1,$AJ99=0)","AND($N10<>\"\",$AD99=1,$O99=\"\")",null,null,0,0,0,0,false,0,0]
[null,null,"(15)",null,"給気送風機の外観",null,null,"給気送風機の設置の状況",null,"AND($H$9<>\"\",$AM$86>=1)","",{"$nulls":4},"",null,"IF(AND($H$9<>\"\",$AM$86=0,$AD100=0),\"○\",IF(P100=\"\",\"\",P100))",null,null,"","",{"$nulls":3},"AND($H$9<>\"\",$AM$86>=1,$AJ100=0)","AND($N10<>\"\",$AD100=1,$O100=\"\")",null,null,0,0,0,0,false,0,0]
[null,null,"(16)",{"$nulls":4},"給気風道との接続の状況",null,"AND($H$9<>\"\",$AM$86>=1)","",{"$nulls":4},"",null,"IF(AND($H$9<>\"\",$AM$86=0,$AD101=0),\"○\",IF(P101=\"\",\"\",P101))",null,null,"","",{"$nulls":3},"AND($H$9<>\"\",$AM$86>=1,$AJ101=0)","AND($N10<>\"\",$AD101=1,$O101=\"\")",null,null,0,0,0,0,false,0,0]
[null,null,"(17)",null,"給気送風機の性能",null,null,"給気口の開放と連動起動の状況",null,"AND($H$9<>\"\",$AM$86>=1)","",{"$nulls":4},"",null,"IF(AND($H$9<>\"\",$AM$86=0,$AD102=0),\"○\",IF(P102=\"\",\"\",P102))",null,null,"","",{"$nulls":3},"AND($H$9<>\"\",$AM$86>=1,$AJ102=0)","AND($N10<>\"\",$AD102=1,$O102=\"\")",null,null,0,0,0,0,false,0,0]
[null,null,"(18)",{"$nulls":4},"給気送風機の作動の状況",null,"AND($H$9<>\"\",$AM$86>=1)","",{"$nulls":4},"",null,"IF(AND($H$9<>\"\",$AM$86=0,$AD103=0),\"○\",IF(P103=\"\",\"\",P103))",null,null,"","",{"$nulls":3},"AND($H$9<>\"\",$AM$86>=1,$AJ103=0)","AND($N10<>\"\",$AD103=1,$O103=\"\")",null,null,0,0,0,0,false,0,0]
[null,null,"(19)",{"$nulls":4},"電源を必要とする給気送風機の予備電源による作動の状況",null,"AND($H$9<>\"\",$AM$86>=1)","",{"$nulls":4},"",null,"IF(AND($H$9<>\"\",$AM$86=0,$AD104=0),\"○\",IF(P104=\"\",\"\",P104))",null,null,"","",{"$nulls":3},"AND($H$9<>\"\",$AM$86>=1,$AJ104=0)","AND($N10<>\"\",$AD104=1,$O104=\"\")",null,null,0,0,0,0,false,0,0]
[null,null,"(20)",{"$nulls":4},"中央管理室における制御及び作動状態の監視の状況",null,"AND($H$9<>\"\",$AM$86>=1)","",{"$nulls":4},"",null,"IF(AND($H$9<>\"\",$AM$86=0,$AD105=0),\"○\",IF(P105=\"\",\"\",P105))",null,null,"","",{"$nulls":3},"AND($H$9<>\"\",$AM$86>=1,$AJ105=0)","AND($N10<>\"\",$AD105=1,$O105=\"\")",null,null,0,0,0,0,false,0,{"$f":"AD105+AI105","v":0}]
[null,null,"(21)",null,"給気送風機の吸込口",null,null,"吸込口の設置位置",null,"AND($H$9<>\"\",$AM$86>=1)","",{"$nulls":4},"",null,"IF(AND($H$9<>\"\",$AM$86=0,$AD106=0),\"○\",IF(P106=\"\",\"\",P106))",null,null,"","",{"$nulls":3},"AND($H$9<>\"\",$AM$86>=1,$AJ106=0)","AND($N10<>\"\",$AD106=1,$O106=\"\")",null,null,0,0,0,0,false,0,0]
[null,null,"(22)",{"$nulls":4},"吸込口の周囲の状況",null,"AND($H$9<>\"\",$AM$86>=1)","",{"$nulls":4},"",null,"IF(AND($H$9<>\"\",$AM$86=0,$AD107=0),\"○\",IF(P107=\"\",\"\",P107))",null,null,"","",{"$nulls":3},"AND($H$9<>\"\",$AM$86>=1,$AJ107=0)","AND($N10<>\"\",$AD107=1,$O107=\"\")",null,null,0,0,0,0,false,0,0]
[null,null,"(23)",{"$nulls":4},"屋外に設置された吸込口への雨水等の防止措置の状況",null,"AND($H$9<>\"\",$AM$86>=1)","",{"$nulls":4},"",null,"IF(AND($H$9<>\"\",$AM$86=0,$AD108=0),\"○\",IF(P108=\"\",\"\",P108))",null,null,"","",{"$nulls":3},"AND($H$9<>\"\",$AM$86>=1,$AJ108=0)","AND($N10<>\"\",$AD108=1,$O108=\"\")",null,null,0,0,0,0,false,0,0]
[null,null,"(24)",null,"遮煙開口部の性能",null,null,"遮煙開口部の排出風速",null,"AND($H$9<>\"\",$AM$86>=1)","",{"$nulls":4},{"$f":"IF(AND(L109=\"実施せず\",M109=\"\",N109=\"\"),\"○\",IF(AND(L109=\"\",M109=\"○\",N109=\"○\"),\"○\",IF(AND(L109=\"\",M109=\"○\",N109=\"\"),\"○\",IF(AND(L109=\"○\",M109=\"\",N109=\"\"),\"○\",IF(AND(L109=\"―\",M109=\"―\",N109=\"―\",O109=\"―\"),\"○\",\"\")))))","v":""},null,"IF(AND($H$9<>\"\",$AM$86=0,$AD109=0),\"○\",IF(P109=\"\",\"\",P109))",null,null,"","",{"$nulls":3},"AND($H$9<>\"\",$AM$86>=1,$AJ109=0)","AND($N10<>\"\",$AD109=1,$O109=\"\",$L109<>\"実施せず\")",null,null,0,{"$f":"COUNTA(L109)","v":0},0,0,false,{"$f":"IF(AD109=1,0,COUNTIF(P109,\"○\"))","v":0},0]
[null,null,"(25)",null,"空気逃し口の外観",null,null,"空気逃し口の大きさ及び位置",null,"AND($H$9<>\"\",$AM$86>=1)","",{"$nulls":4},"",null,"IF(AND($H$9<>\"\",$AM$86=0,$AD110=0),\"○\",IF(P110=\"\",\"\",P110))",null,null,"","",{"$nulls":3},"AND($H$9<>\"\",$AM$86>=1,$AJ110=0)","AND($N10<>\"\",$AD110=1,$O110=\"\")",null,null,0,0,0,0,false,0,0]
[null,null,"(26)",{"$nulls":4},"空気逃し口の周囲の状況",null,"AND($H$9<>\"\",$AM$86>=1)","",{"$nulls":4},"",null,"IF(AND($H$9<>\"\",$AM$86=0,$AD111=0),\"○\",IF(P111=\"\",\"\",P111))",null,null,"","",{"$nulls":3},"AND($H$9<>\"\",$AM$86>=1,$AJ111=0)","AND($N10<>\"\",$AD111=1,$O111=\"\")",null,null,0,0,0,0,false,0,0]
[null,null,"(27)",{"$nulls":4},"空気逃し口の取付けの状況",null,"AND($H$9<>\"\",$AM$86>=1)","",{"$nulls":4},"",null,"IF(AND($H$9<>\"\",$AM$86=0,$AD112=0),\"○\",IF(P112=\"\",\"\",P112))",null,null,"","",{"$nulls":3},"AND($H$9<>\"\",$AM$86>=1,$AJ112=0)","AND($N10<>\"\",$AD112=1,$O112=\"\")",null,null,0,0,0,0,false,0,0]
[null,null,"(28)",null,"空気逃し口の性能",null,null,"空気逃し口の作動の状況",null,"AND($H$9<>\"\",$AM$86>=1)","",{"$nulls":4},"",null,"IF(AND($H$9<>\"\",$AM$86=0,$AD113=0),\"○\",IF(P113=\"\",\"\",P113))",null,null,"","",{"$nulls":3},"AND($H$9<>\"\",$AM$86>=1,$AJ113=0)","AND($N10<>\"\",$AD113=1,$O113=\"\")",null,null,0,0,0,0,false,0,0]
[null,null,"(29)",null,"圧力調整装置の外観",null,null,"圧力調整装置の大きさ及び位置",null,"AND($H$9<>\"\",$AM$86>=1)","",{"$nulls":4},"",null,"IF(AND($H$9<>\"\",$AM$86=0,$AD114=0),\"○\",IF(P114=\"\",\"\",P114))",null,null,"","",{"$nulls":3},"AND($H$9<>\"\",$AM$86>=1,$AJ114=0)","AND($N10<>\"\",$AD114=1,$O114=\"\")",null,null,0,0,0,0,false,0,0]
[null,null,"(30)",{"$nulls":4},"圧力調整装置の周囲の状況",null,"AND($H$9<>\"\",$AM$86>=1)","",{"$nulls":4},"",null,"IF(AND($H$9<>\"\",$AM$86=0,$AD115=0),\"○\",IF(P115=\"\",\"\",P115))",null,null,"","",{"$nulls":3},"AND($H$9<>\"\",$AM$86>=1,$AJ115=0)","AND($N10<>\"\",$AD115=1,$O115=\"\")",null,null,0,0,0,0,false,0,0]
[null,null,"(31)",{"$nulls":4},"圧力調整装置の取付けの状況",null,"AND($H$9<>\"\",$AM$86>=1)","",{"$nulls":4},"",null,"IF(AND($H$9<>\"\",$AM$86=0,$AD116=0),\"○\",IF(P116=\"\",\"\",P116))",null,null,"","",{"$nulls":3},"AND($H$9<>\"\",$AM$86>=1,$AJ116=0)","AND($N10<>\"\",$AD116=1,$O116=\"\")",null,null,0,0,0,0,false,0,0]
[null,null,"(32)",null,"圧力調整装置の性能",null,null,"圧力調整装置の作動の状況",null,"AND($H$9<>\"\",$AM$86>=1)","",{"$nulls":4},"",null,"IF(AND($H$9<>\"\",$AM$86=0,$AD117=0),\"○\",IF(P117=\"\",\"\",P117))",null,null,"","",{"$nulls":3},"AND($H$9<>\"\",$AM$86>=1,$AJ117=0)","AND($N10<>\"\",$AD117=1,$O117=\"\")",null,null,0,0,0,0,false,0,0]
{"$rows_empty":8}
[null,null,3,"令第126条の２第１項に規定する居室等",{"$nulls":16},{"$f":"U127&U128&U129&U130&U131&U132","v":""},{"$f":"V127&V128&V129&V130&V131&V132","v":""},{"$f":"IF(U126=\"\",\"\",$C126)","v":""},{"$f":"IF(V126=\"\",\"\",$C126)","v":""},{"$f":"IF(W126=\"\",\"\",IF(W138&W171=\"\",\"\",\"、\"))","v":""},{"$f":"IF(X126=\"\",\"\",IF(X138&X171=\"\",\"\",\"、\"))","v":""},{"$nulls":16},"吸引式","給気式"]
[null,null,"(1)","可動防煙壁　　　　　　",{"$nulls":3},"手動降下装置の作動の状況",null,"AND($H$9<>\"\",$AN$127>=1)",{"$f":"IF(AND($H$9<>\"\",$AN$127=0,$AD127=0),\"○\",IF(P127=\"\",\"\",P127))","v":""},{"$nulls":4},{"$f":"IF(AND(L127=\"\",M127=\"○\",N127=\"○\"),\"○\",IF(AND(L127=\"\",M127=\"○\",N127=\"\"),\"○\",IF(AND(L127=\"○\",M127=\"\",N127=\"\"),\"○\",IF(AND(L127=\"―\",M127=\"―\",N127=\"―\",O127=\"―\"),\"○\",\"\"))))","v":""},null,"IF(AND($H$9<>\"\",$AN$127=0,$AD127=0),\"○\",IF(P127=\"\",\"\",P127))",null,null,{"$f":"IF(AND(M127=\"○\",N127=\"\"),C127,\"\")","v":""},{"$f":"IF(AND(M127=\"○\",N127=\"○\"),C127,\"\")","v":""},{"$nulls":3},"AND($H$9<>\"\",$AN$127>=1,$AJ127=0)","AND($N10<>\"\",$AD127=1,$O127=\"\")",null,null,{"$f":"AE127+AF127+AG127","v":0},{"$f":"COUNTIF(L127,\"○\")","v":0},{"$f":"COUNTIF(M127,\"○\")-AG127","v":0},{"$f":"COUNTIF(N127,\"○\")","v":0},{"$f":"IF(AF127>=1,\"要是正\",IF(AG127=1,\"既存不適格\",IF(AE127>=1,\"指摘なし\")))","v":false},{"$f":"IF(AD127=1,0,COUNTIF(P127,\"○\"))","v":0},{"$f":"AD127+AI127","v":0},{"$nulls":3},{"$f":"COUNT(AQ127,AR127)","v":0},null,"【ホ．居室等】",{"$f":"IF(報告書!P258=\"\",\"\",報告書!P258)","v":""},{"$f":"IF(報告書!AA258=\"\",\"\",報告書!AA258)","v":""}]
[null,null,"(2)",{"$nulls":4},"手動降下装置による連動の状況",null,"AND($H$9<>\"\",$AN$127>=1)","",{"$nulls":4},"",null,"IF(AND($H$9<>\"\",$AN$127=0,$AD128=0),\"○\",IF(P128=\"\",\"\",P128))",null,null,{"$f":"IF(AND(M128=\"○\",N128=\"\"),C128,\"\")","v":""},"",{"$nulls":3},"AND($H$9<>\"\",$AN$127>=1,$AJ128=0)","AND($N10<>\"\",$AD128=1,$O128=\"\")",null,null,0,{"$f":"COUNTIF(L128,\"○\")","v":0},{"$f":"COUNTIF(M128,\"○\")-AG128","v":0},{"$f":"COUNTIF(N128,\"○\")","v":0},{"$f":"IF(AF128>=1,\"要是正\",IF(AG128=1,\"既存不適格\",IF(AE128>=1,\"指摘なし\")))","v":false},0,{"$f":"AD128+AI128","v":0}]
[null,null,"(3)",{"$nulls":4},"煙感知器による連動の状況",null,"AND($H$9<>\"\",$AN$127>=1)","",{"$nulls":4},"",null,"IF(AND($H$9<>\"\",$AN$127=0,$AD129=0),\"○\",IF(P129=\"\",\"\",P129))",null,null,"","",{"$nulls":3},"AND($H$9<>\"\",$AN$127>=1,$AJ129=0)","AND($N10<>\"\",$AD129=1,$O129=\"\")",null,null,0,0,0,0,false,0,0]
[null,null,"(4)",{"$nulls":4},"可動防煙壁の材質",null,"AND($H$9<>\"\",$AN$127>=1)","",{"$nulls":4},"",null,"IF(AND($H$9<>\"\",$AN$127=0,$AD130=0),\"○\",IF(P130=\"\",\"\",P130))",null,null,"","",{"$nulls":3},"AND($H$9<>\"\",$AN$127>=1,$AJ130=0)","AND($N10<>\"\",$AD130=1,$O130=\"\")",null,null,0,0,0,0,false,0,0]
[null,null,"(5)",{"$nulls":4},"可動防煙壁の防煙区画",null,"AND($H$9<>\"\",$AN$127>=1)","",{"$nulls":4},"",null,"IF(AND($H$9<>\"\",$AN$127=0,$AD131=0),\"○\",IF(P131=\"\",\"\",P131))",null,null,"","",{"$nulls":3},"AND($H$9<>\"\",$AN$127>=1,$AJ131=0)","AND($N10<>\"\",$AD131=1,$O131=\"\")",null,null,0,0,0,0,false,0,0]
[null,null,"(6)",{"$nulls":4},"中央管理室における制御及び作動状態の監視の状況",null,"AND($H$9<>\"\",$AN$127>=1)","",{"$nulls":4},"",null,"IF(AND($H$9<>\"\",$AN$127=0,$AD132=0),\"○\",IF(P132=\"\",\"\",P132))",null,null,"","",{"$nulls":3},"AND($H$9<>\"\",$AN$127>=1,$AJ132=0)","AND($N10<>\"\",$AD132=1,$O132=\"\")",null,null,{"$f":"AE132+AF132+AG132","v":0},0,0,0,false,0,{"$f":"AD132+AI132","v":0}]
[]
[]
[]
[]
[]
[null,null,4,"予備電源",{"$nulls":16},{"$f":"U139&U140&U141&U142&U143&U144&U145&U146&U147&U148&U149&U150&U151&U152&U153&U154&U155&U156&U157&U158&U159&U160&U161&U162&U163&U164&U165&U166&U167&U168&U169&U170","v":""},{"$f":"V139&V140&V141&V142&V143&V144&V145&V146&V147&V148&V149&V150&V151&V152&V153&V154&V155&V156&V157&V158&V159&V160&V161&V162&V163&V164&V165&V166&V167&V168&V169&V170","v":""},{"$f":"IF(U138=\"\",\"\",$C138)","v":""},{"$f":"IF(V138=\"\",\"\",$C138)","v":""},{"$f":"IF(W138=\"\",\"\",IF(W171=\"\",\"\",\"、\"))","v":""},{"$f":"IF(X138=\"\",\"\",IF(X171=\"\",\"\",\"、\"))","v":""},{"$nulls":15},"【ヘ．予備電源】","蓄電池","自家発"]
[null,null,"(1)","自家用発電装置　　","自家用発電装置等の状況",null,null,"自家用発電機室の防火区画等の貫通措置の状況",null,"AND($H$9<>\"\",$AN$139>=1)",{"$f":"IF(AND($H$9<>\"\",$AN$139=0,$AD139=0),\"○\",IF(P139=\"\",\"\",P139))","v":""},{"$nulls":4},{"$f":"IF(AND(L139=\"\",M139=\"○\",N139=\"○\"),\"○\",IF(AND(L139=\"\",M139=\"○\",N139=\"\"),\"○\",IF(AND(L139=\"○\",M139=\"\",N139=\"\"),\"○\",IF(AND(L139=\"―\",M139=\"―\",N139=\"―\",O139=\"―\"),\"○\",\"\"))))","v":""},null,"IF(AND($H$9<>\"\",$AN$139=0,$AD139=0),\"○\",IF(P139=\"\",\"\",P139))",null,null,{"$f":"IF(AND(M139=\"○\",N139=\"\"),C139,\"\")","v":""},{"$f":"IF(AND(M139=\"○\",N139=\"○\"),C139,\"\")","v":""},{"$nulls":3},"AND($H$9<>\"\",$AN$139>=1,$AJ139=0)","AND($N10<>\"\",$AD139=1,$O139=\"\")","予備電源：自家発",{"$f":"COUNTIF(L139:N155,\"○\")","v":0},{"$f":"AE139+AF139+AG139","v":0},{"$f":"COUNTIF(L139,\"○\")","v":0},{"$f":"COUNTIF(M139,\"○\")-AG139","v":0},{"$f":"COUNTIF(N139,\"○\")","v":0},{"$f":"IF(AF139>=1,\"要是正\",IF(AG139=1,\"既存不適格\",IF(AE139>=1,\"指摘なし\")))","v":false},{"$f":"IF(AD139=1,0,COUNTIF(P139,\"○\"))","v":0},{"$f":"AD139+AI139","v":0},{"$nulls":3},{"$f":"COUNTIF(AR139,\"●\")","v":0},null,null,{"$f":"IF(報告書!K259=\"レ\",\"●\",\"\")","v":""},{"$f":"IF(報告書!P259=\"レ\",\"●\",\"\")","v":""}]
[null,null,"(2)",{"$nulls":4},"発電機の発電容量",null,"AND($H$9<>\"\",$AN$139>=1)","",{"$nulls":4},"",null,"IF(AND($H$9<>\"\",$AN$139=0,$AD140=0),\"○\",IF(P140=\"\",\"\",P140))",null,null,{"$f":"IF(AND(M140=\"○\",N140=\"\"),C140,\"\")","v":""},{"$f":"IF(AND(M140=\"○\",N140=\"○\"),C140,\"\")","v":""},{"$nulls":3},"AND($H$9<>\"\",$AN$139>=1,$AJ140=0)","AND($N10<>\"\",$AD140=1,$O140=\"\")",null,null,0,{"$f":"COUNTIF(L140,\"○\")","v":0},{"$f":"COUNTIF(M140,\"○\")-AG140","v":0},{"$f":"COUNTIF(N140,\"○\")","v":0},{"$f":"IF(AF140>=1,\"要是正\",IF(AG140=1,\"既存不適格\",IF(AE140>=1,\"指摘なし\")))","v":false},0,{"$f":"AD140+AI140","v":0}]
[null,null,"(3)",{"$nulls":4},"発電機及び原動機の状況",null,"AND($H$9<>\"\",$AN$139>=1)","",{"$nulls":4},"",null,"IF(AND($H$9<>\"\",$AN$139=0,$AD141=0),\"○\",IF(P141=\"\",\"\",P141))",null,null,"","",{"$nulls":3},"AND($H$9<>\"\",$AN$139>=1,$AJ141=0)","AND($N10<>\"\",$AD141=1,$O141=\"\")",null,null,0,0,0,0,false,0,0]
[null,null,"(4)",{"$nulls":4},"燃料油、潤滑油及び冷却水の状況",null,"AND($H$9<>\"\",$AN$139>=1)","",{"$nulls":4},"",null,"IF(AND($H$9<>\"\",$AN$139=0,$AD142=0),\"○\",IF(P142=\"\",\"\",P142))",null,null,"","",{"$nulls":3},"AND($H$9<>\"\",$AN$139>=1,$AJ142=0)","AND($N10<>\"\",$AD142=1,$O142=\"\")",null,null,0,0,0,0,false,0,0]
[null,null,"(5)",{"$nulls":4},"始動用の空気槽の圧力",null,"AND($H$9<>\"\",$AN$139>=1)","",{"$nulls":4},"",null,"IF(AND($H$9<>\"\",$AN$139=0,$AD143=0),\"○\",IF(P143=\"\",\"\",P143))",null,null,"","",{"$nulls":3},"AND($H$9<>\"\",$AN$139>=1,$AJ143=0)","AND($N10<>\"\",$AD143=1,$O143=\"\")",null,null,0,0,0,0,false,0,0]
[null,null,"(6)",{"$nulls":4},"セル始動用蓄電池及び電気ケーブルの接続の状況",null,"AND($H$9<>\"\",$AN$139>=1)","",{"$nulls":4},"",null,"IF($H$9=\"\",\"\",IF($AD$144=1,\"\",IF(AND($H$9<>\"\",$AN$139>=1,$AJ144=0,$AQ$144=\"●\"),\"\",\"○\")))",null,null,"","",{"$nulls":3},"AND($H$9<>\"\",$AN$139>=1,$AJ144=0)","AND($N10<>\"\",$AD144=1,$O144=\"\")","セル始動用蓄電池及び電気ケーブルの接続の状況",{"$f":"COUNTIF(L144:N144,\"○\")","v":0},0,0,0,0,false,0,0,{"$nulls":6},{"$f":"IF(報告書!K259=\"レ\",\"●\",\"\")","v":""}]
[null,null,"(7)",{"$nulls":4},"燃料及び冷却水の漏洩の状況",null,"AND($H$9<>\"\",$AN$139>=1)",{"$f":"IF(AND($H$9<>\"\",$AN$139=0,$AD145=0),\"○\",IF(P145=\"\",\"\",P145))","v":""},{"$nulls":4},"",null,"IF(AND($H$9<>\"\",$AN$139=0,$AD145=0),\"○\",IF(P145=\"\",\"\",P145))",null,null,"","",{"$nulls":3},"AND($H$9<>\"\",$AN$139>=1,$AJ145=0)","AND($N10<>\"\",$AD145=1,$O145=\"\")",null,null,0,0,0,0,false,0,0]
[null,null,"(8)",{"$nulls":4},"計器類及びランプ類の指示及び点灯の状況",null,"AND($H$9<>\"\",$AN$139>=1)","",{"$nulls":4},"",null,"IF(AND($H$9<>\"\",$AN$139=0,$AD146=0),\"○\",IF(P146=\"\",\"\",P146))",null,null,"","",{"$nulls":3},"AND($H$9<>\"\",$AN$139>=1,$AJ146=0)","AND($N10<>\"\",$AD146=1,$O146=\"\")",null,null,0,0,0,0,false,0,0]
[null,null,"(9)",{"$nulls":4},"自家用発電装置の取付けの状況",null,"AND($H$9<>\"\",$AN$139>=1)","",{"$nulls":4},"",null,"IF(AND($H$9<>\"\",$AN$139=0,$AD147=0),\"○\",IF(P147=\"\",\"\",P147))",null,null,"","",{"$nulls":3},"AND($H$9<>\"\",$AN$139>=1,$AJ147=0)","AND($N10<>\"\",$AD147=1,$O147=\"\")",null,null,0,0,0,0,false,0,0]
[null,null,"(10)",{"$nulls":4},"自家用発電機室の給排気の状況（屋内に設置されている場合に限る。）",null,"AND($H$9<>\"\",$AN$139>=1)","",{"$nulls":4},"",null,"IF(AND($H$9<>\"\",$AN$139=0,$AD148=0),\"○\",IF(P148=\"\",\"\",P148))",null,null,"","",{"$nulls":3},"AND($H$9<>\"\",$AN$139>=1,$AJ148=0)","AND($N10<>\"\",$AD148=1,$O148=\"\")",null,null,0,0,0,0,false,0,0]
[null,null,"(11)",{"$nulls":4},"接地線の接続の状況",null,"AND($H$9<>\"\",$AN$139>=1)","",{"$nulls":4},"",null,"IF(AND($H$9<>\"\",$AN$139=0,$AD149=0),\"○\",IF(P149=\"\",\"\",P149))",null,null,"","",{"$nulls":3},"AND($H$9<>\"\",$AN$139>=1,$AJ149=0)","AND($N10<>\"\",$AD149=1,$O149=\"\")",null,null,0,0,0,0,false,0,0]
[null,null,"(12)",{"$nulls":4},"絶縁抵抗",null,"AND($H$9<>\"\",$AN$139>=1)","",{"$nulls":4},"",null,"IF(AND($H$9<>\"\",$AN$139=0,$AD150=0),\"○\",IF(P150=\"\",\"\",P150))",null,null,"","",{"$nulls":3},"AND($H$9<>\"\",$AN$139>=1,$AJ150=0)","AND($N10<>\"\",$AD150=1,$O150=\"\")",null,null,0,0,0,0,false,0,0]
[null,null,"(13)",null,"自家用発電装置の性能",null,null,"電源の切替えの状況",null,"AND($H$9<>\"\",$AN$139>=1)","",{"$nulls":4},"",null,"IF(AND($H$9<>\"\",$AN$139=0,$AD151=0),\"○\",IF(P151=\"\",\"\",P151))",null,null,"","",{"$nulls":3},"AND($H$9<>\"\",$AN$139>=1,$AJ151=0)","AND($N10<>\"\",$AD151=1,$O151=\"\")",null,null,0,0,0,0,false,0,0]
[null,null,"(14)",{"$nulls":4},"始動の状況",null,"AND($H$9<>\"\",$AN$139>=1)","",{"$nulls":4},"",null,"IF(AND($H$9<>\"\",$AN$139=0,$AD152=0),\"○\",IF(P152=\"\",\"\",P152))",null,null,"","",{"$nulls":3},"AND($H$9<>\"\",$AN$139>=1,$AJ152=0)","AND($N10<>\"\",$AD152=1,$O152=\"\")",null,null,0,0,0,0,false,0,0]
[null,null,"(15)",{"$nulls":4},"運転の状況",null,"AND($H$9<>\"\",$AN$139>=1)","",{"$nulls":4},"",null,"IF(AND($H$9<>\"\",$AN$139=0,$AD153=0),\"○\",IF(P153=\"\",\"\",P153))",null,null,"","",{"$nulls":3},"AND($H$9<>\"\",$AN$139>=1,$AJ153=0)","AND($N10<>\"\",$AD153=1,$O153=\"\")",null,null,0,0,0,0,false,0,0]
[null,null,"(16)",{"$nulls":4},"排気の状況",null,"AND($H$9<>\"\",$AN$139>=1)","",{"$nulls":4},"",null,"IF(AND($H$9<>\"\",$AN$139=0,$AD154=0),\"○\",IF(P154=\"\",\"\",P154))",null,null,"","",{"$nulls":3},"AND($H$9<>\"\",$AN$139>=1,$AJ154=0)","AND($N10<>\"\",$AD154=1,$O154=\"\")",null,null,0,0,0,0,false,0,0]
[null,null,"(17)",{"$nulls":4},"コンプレッサー、燃料ポンプ、冷却水ポンプ等の補機類の作動の状況",null,"AND($H$9<>\"\",$AN$139>=1)","",{"$nulls":4},"",null,"IF(AND($H$9<>\"\",$AN$139=0,$AD155=0),\"○\",IF(P155=\"\",\"\",P155))",null,null,"","",{"$nulls":3},"AND($H$9<>\"\",$AN$139>=1,$AJ155=0)","AND($N10<>\"\",$AD155=1,$O155=\"\")",null,null,0,0,0,0,false,0,0]
[null,null,"(18)","直結エンジン","直結エンジンの外観",null,null,"直結エンジンの設置の状況",null,"AND($H$9<>\"\",$AN$158>=1)",{"$f":"IF(AND($H$9<>\"\",$AN$158=0,$AD156=0),\"○\",IF(P156=\"\",\"\",P156))","v":""},{"$nulls":4},"",null,"IF(AND($H$9<>\"\",$AN$158=0,$AD156=0),\"○\",IF(P156=\"\",\"\",P156))",null,null,"","",{"$nulls":3},"AND($H$9<>\"\",$AN$158>=1,$AJ156=0)","AND($N10<>\"\",$AD156=1,$O156=\"\")","予備電源：直結エンジン",{"$f":"COUNTIF(L156:N164,\"○\")","v":0},0,0,0,0,false,0,0]
[null,null,"(19)",{"$nulls":4},"燃料油、潤滑油及び冷却水の状況",null,"AND($H$9<>\"\",$AN$158>=1)",{"$f":"IF(AND($H$9<>\"\",$AN$158=0,$AD157=0),\"○\",IF(P157=\"\",\"\",P157))","v":""},{"$nulls":4},"",null,"IF(AND($H$9<>\"\",$AN$158=0,$AD157=0),\"○\",IF(P157=\"\",\"\",P157))",null,null,"","",{"$nulls":3},"AND($H$9<>\"\",$AN$158>=1,$AJ157=0)","AND($N10<>\"\",$AD157=1,$O157=\"\")",null,null,0,0,0,0,false,0,0,{"$nulls":5},"【ヘ．予備電源】","蓄電池","直結エンジン"]
[null,null,"(20)",{"$nulls":4},"セル始動用蓄電池及び電気ケーブルの接続の状況",null,"AND($H$9<>\"\",$AN$158>=1)",{"$f":"IF(AND($H$9<>\"\",$AN$158=0,$AD158=0),\"○\",IF(P158=\"\",\"\",P158))","v":""},{"$nulls":4},"",null,"IF($H$9=\"\",\"\",IF($AD$158=1,\"\",IF(AND($H$9<>\"\",$AN$158>=1,$AJ158=0,$AQ$158=\"●\"),\"\",\"○\")))",null,null,"","",{"$nulls":3},"AND($H$9<>\"\",$AN$158>=1,$AJ158=0)","AND($N10<>\"\",$AD158=1,$O158=\"\")","セル始動用蓄電池及び電気ケーブルの接続の状況",{"$f":"COUNTIF(L158:N158,\"○\")","v":0},0,0,0,0,false,0,0,{"$nulls":3},{"$f":"COUNTIF(AR158,\"●\")","v":0},null,null,{"$f":"IF(報告書!K259=\"レ\",\"●\",\"\")","v":""},{"$f":"IF(報告書!Y259=\"レ\",\"●\",\"\")","v":""}]
[null,null,"(21)",{"$nulls":4},"計器類及びランプ類の指示及び点灯の状況",null,"AND($H$9<>\"\",$AN$158>=1)",{"$f":"IF(AND($H$9<>\"\",$AN$158=0,$AD159=0),\"○\",IF(P159=\"\",\"\",P159))","v":""},{"$nulls":4},"",null,"IF(AND($H$9<>\"\",$AN$158=0,$AD159=0),\"○\",IF(P159=\"\",\"\",P159))",null,null,"","",{"$nulls":3},"AND($H$9<>\"\",$AN$158>=1,$AJ159=0)","AND($N10<>\"\",$AD159=1,$O159=\"\")",null,null,0,0,0,0,false,0,0]
[null,null,"(22)",{"$nulls":4},"給気部及び排気管の取付けの状況",null,"AND($H$9<>\"\",$AN$158>=1)","",{"$nulls":4},"",null,"IF(AND($H$9<>\"\",$AN$158=0,$AD160=0),\"○\",IF(P160=\"\",\"\",P160))",null,null,"","",{"$nulls":3},"AND($H$9<>\"\",$AN$158>=1,$AJ160=0)","AND($N10<>\"\",$AD160=1,$O160=\"\")",null,null,0,0,0,0,false,0,0]
[null,null,"(23)",{"$nulls":4},"Ｖベルト",null,"AND($H$9<>\"\",$AN$158>=1)","",{"$nulls":4},"",null,"IF(AND($H$9<>\"\",$AN$158=0,$AD161=0),\"○\",IF(P161=\"\",\"\",P161))",null,null,"","",{"$nulls":3},"AND($H$9<>\"\",$AN$158>=1,$AJ161=0)","AND($N10<>\"\",$AD161=1,$O161=\"\")",null,null,0,0,0,0,false,0,0]
[null,null,"(24)",{"$nulls":4},"接地線の接続の状況",null,"AND($H$9<>\"\",$AN$158>=1)","",{"$nulls":4},"",null,"IF(AND($H$9<>\"\",$AN$158=0,$AD162=0),\"○\",IF(P162=\"\",\"\",P162))",null,null,"","",{"$nulls":3},"AND($H$9<>\"\",$AN$158>=1,$AJ162=0)","AND($N10<>\"\",$AD162=1,$O162=\"\")",null,null,0,0,0,0,false,0,0]
[null,null,"(25)",{"$nulls":4},"絶縁抵抗",null,"AND($H$9<>\"\",$AN$158>=1)","",{"$nulls":4},"",null,"IF(AND($H$9<>\"\",$AN$158=0,$AD163=0),\"○\",IF(P163=\"\",\"\",P163))",null,null,"","",{"$nulls":3},"AND($H$9<>\"\",$AN$158>=1,$AJ163=0)","AND($N10<>\"\",$AD163=1,$O163=\"\")",null,null,0,0,0,0,false,0,0]
[null,null,"(26)",null,"直結エンジンの性能",null,null,"始動及び停止並びに運転の状況",null,"AND($H$9<>\"\",$AN$158>=1)","",{"$nulls":4},"",null,"IF(AND($H$9<>\"\",$AN$158=0,$AD164=0),\"○\",IF(P164=\"\",\"\",P164))",null,null,{"$f":"IF(AND(M164=\"○\",N164=\"\"),C164,\"\")","v":""},"",{"$nulls":3},"AND($H$9<>\"\",$AN$158>=1,$AJ164=0)","AND($N10<>\"\",$AD164=1,$O164=\"\")",null,null,0,0,0,0,false,0,{"$f":"AD164+AI164","v":0}]
[null,null,"(27)",{"$nulls":4},"運転の状況"]
[]
[]
[]
[]
[]
[null,null,5,"上記以外の検査項目等",{"$nulls":16},{"$f":"U172&U173&U174&U175&U176&U177&U178&U179&U180&U181","v":""},{"$f":"V172&V173&V174&V175&V176&V177&V178&V179&V180&V181","v":""},{"$f":"IF(U171=\"\",\"\",$C171)","v":""},{"$f":"IF(V171=\"\",\"\",$C171)","v":""},{"$nulls":10},{"$f":"COUNTA(AI25:AI164)","v":117},{"$f":"SUM(AJ25:AJ170)","v":0}]
[null,null,{"$f":"IF(D172=\"\",\"\",\"(1)\")","v":""},{"$nulls":17},{"$f":"IF(AND(M172=\"○\",N172=\"\"),C172,\"\")","v":""},{"$f":"IF(AND(M172=\"○\",N172=\"○\"),C172,\"\")","v":""},{"$nulls":4},"AND($N10<>\"\",$AD172=1,$O172=\"\")",null,null,{"$f":"AE172+AF172+AG172","v":0},{"$f":"COUNTIF(L172,\"○\")","v":0},{"$f":"COUNTIF(M172,\"○\")-AG172","v":0},{"$f":"COUNTIF(N172,\"○\")","v":0},{"$f":"IF(AF172>=1,\"要是正\",IF(AG172=1,\"既存不適格\",IF(AE172>=1,\"指摘なし\")))","v":false},{"$f":"AI171+AC182","v":117},{"$f":"AJ171+AD182","v":0}]
[null,null,{"$f":"IF(D173=\"\",\"\",\"(2)\")","v":""},{"$nulls":17},{"$f":"IF(AND(M173=\"○\",N173=\"\"),C173,\"\")","v":""},{"$f":"IF(AND(M173=\"○\",N173=\"○\"),C173,\"\")","v":""},{"$nulls":4},"AND($N10<>\"\",$AD173=1,$O173=\"\")",null,null,0,{"$f":"COUNTIF(L173,\"○\")","v":0},{"$f":"COUNTIF(M173,\"○\")-AG173","v":0},{"$f":"COUNTIF(N173,\"○\")","v":0},{"$f":"IF(AF173>=1,\"要是正\",IF(AG173=1,\"既存不適格\",IF(AE173>=1,\"指摘なし\")))","v":false},null,{"$f":"IF(AI172=AJ172,\"YES\",\"NO\")","v":"NO"}]
[null,null,{"$f":"IF(D174=\"\",\"\",\"(3)\")","v":""},{"$nulls":17},"","",{"$nulls":4},"AND($N10<>\"\",$AD174=1,$O174=\"\")",null,null,0,0,0,0,false]
[null,null,{"$f":"IF(D175=\"\",\"\",\"(4)\")","v":""},{"$nulls":17},"","",{"$nulls":4},"AND($N10<>\"\",$AD175=1,$O175=\"\")",null,null,0,0,0,0,false]
[null,null,{"$f":"IF(D176=\"\",\"\",\"(5)\")","v":""},{"$nulls":17},"","",{"$nulls":4},"AND($N10<>\"\",$AD176=1,$O176=\"\")",null,null,0,0,0,0,false]
[null,null,{"$f":"IF(D177=\"\",\"\",\"(6)\")","v":""},{"$nulls":17},"","",{"$nulls":4},"AND($N10<>\"\",$AD177=1,$O177=\"\")",null,null,0,0,0,0,false]
[null,null,{"$f":"IF(D178=\"\",\"\",\"(7)\")","v":""},{"$nulls":17},"","",{"$nulls":4},"AND($N10<>\"\",$AD178=1,$O178=\"\")",null,null,0,0,0,0,false]
[null,null,{"$f":"IF(D179=\"\",\"\",\"(8)\")","v":""},{"$nulls":17},"","",{"$nulls":4},"AND($N10<>\"\",$AD179=1,$O179=\"\")",null,null,0,0,0,0,false,null,"指摘なし",{"$f":"COUNTIF($AH$25:$AH$181,AJ179)","v":0},{"$f":"IF(AK180>=1,\"要是正\",IF(AND(AK181>=1,AK180=0),\"既存不適格\",IF(AK179>=1,\"指摘なし\")))","v":false}]
[null,null,{"$f":"IF(D180=\"\",\"\",\"(9)\")","v":""},{"$nulls":17},"","",{"$nulls":4},"AND($N10<>\"\",$AD180=1,$O180=\"\")",null,null,0,0,0,0,false,null,"要是正",{"$f":"COUNTIF($AH$25:$AH$181,AJ180)","v":0}]
[null,null,{"$f":"IF(D181=\"\",\"\",\"(10)\")","v":""},{"$nulls":17},"","",{"$nulls":4},"AND($N10<>\"\",$AD181=1,$O181=\"\")",null,null,0,0,0,0,false,null,"既存不適格",{"$f":"COUNTIF($AH$25:$AH$181,AJ181)","v":0}]
[null,null,"特記事項",{"$nulls":17},{"$f":"W24&U24&Y24&W85&U85&Y85&W126&U126&Y126&W138&U138&Y138&W171&U171","v":""},{"$f":"X24&V24&Z24&X85&V85&Z85&X126&V126&Z126&X138&V138&Z138&X171&V171","v":""},{"$f":"IF(U182=\"\",\"\",\"の指摘あり\")","v":""},{"$f":"IF(V182=\"\",\"\",\"の指摘あり\")","v":""},{"$nulls":4},{"$f":"COUNTA(D172:I181)","v":0},{"$f":"SUM(AD172:AD181)","v":0},{"$nulls":6},{"$f":"SUM(AK179:AK181)","v":0}]
[null,null,"番号","検査項目等",{"$nulls":3},"指摘の具体的内容等","改善策の具体的内容等",{"$nulls":5},"改善（予定）年月",{"$nulls":5},{"$f":"IF(U182=\"\",\"\",U182&\"　に要是正\")","v":""},{"$f":"IF(V182=\"\",\"\",V182&\"　に既存不適格\")","v":""}]
[{"$nulls":3},{"$f":"IFERROR(VLOOKUP(C184,リスト_検査項目内容_排煙,2,0),\"\")","v":""},{"$nulls":11},{"$f":"LEN(O184)","v":0},{"$nulls":3},{"$f":"U184","v":""},{"$f":"U183&W182","v":""},null,"AND(($AK180+$AK181)>=1,$C184=\"\")","AND($C184<>\"\",$O184=\"\")",{"$f":"IF(AND(P184=7,Z184=\"年\"),MID(O184,2,2)+2018,IF(AND(P184=8,AC184>=10),MID(O184,2,2)+2018,IF(P184<5,\"\",IF(O184=\"\",\"\",MID(O184,2,1)+2018))))","v":""},{"$f":"IF(P184=8,MID(O184,5,1),MID(O184,4,1))","v":""},{"$f":"IF(P184=8,MID(O184,6,1),IF(P184=6,\"0\",MID(O184,5,1)))","v":""},{"$f":"IF(Z184=\"年\",AA184,IF(P184>6,Z184&AA184,Z184))","v":""},{"$f":"IF(Z184=\"年\",TEXT(AA184,\"00\"),TEXT(AB184,\"00\"))","v":""},{"$f":"Y184&\"/\"&AC184","v":"/"},{"$f":"MID(AD184,1,1)","v":"/"},{"$f":"MID(AD184,3,2)","v":""},1,{"$f":"TEXT(AG184,\"00\")","v":"01"},{"$f":"AD184&\"/\"&AH184","v":"//01"},{"$f":"IF(P184<5,\"\",IF(O184=\"\",\"\",VALUE(AI184)))","v":""},null,{"$f":"IF(P184=0,\"\",IF(P184>5,\"有\",IF(OR(P184=4,P184=2),\"無\")))","v":""}]
[{"$nulls":3},"",{"$nulls":11},{"$f":"LEN(O185)","v":0},{"$nulls":4},{"$f":"V183&X182","v":""},{"$f":"IF(実施状況表!BT20=\"\",\"\",実施状況表!BT20)","v":""},{"$f":"IF(T185=\"\",\"\",IF(U185=\"\",\"\",\"　及び　\"))","v":""},"AND($C185<>\"\",$O185=\"\")",{"$f":"IF(AND(P185=7,Z185=\"年\"),MID(O185,2,2)+2018,IF(AND(P185=8,AC185>=10),MID(O185,2,2)+2018,IF(P185<5,\"\",IF(O185=\"\",\"\",MID(O185,2,1)+2018))))","v":""},{"$f":"IF(P185=8,MID(O185,5,1),MID(O185,4,1))","v":""},{"$f":"IF(P185=8,MID(O185,6,1),IF(P185=6,\"0\",MID(O185,5,1)))","v":""},{"$f":"IF(Z185=\"年\",AA185,IF(P185>6,Z185&AA185,Z185))","v":""},{"$f":"IF(Z185=\"年\",TEXT(AA185,\"00\"),TEXT(AB185,\"00\"))","v":""},{"$f":"Y185&\"/\"&AC185","v":"/"},{"$f":"MID(AD185,1,1)","v":"/"},{"$f":"MID(AD185,3,2)","v":""},1,{"$f":"TEXT(AG185,\"00\")","v":"01"},{"$f":"AD185&\"/\"&AH185","v":"//01"},{"$f":"IF(P185<5,\"\",IF(O185=\"\",\"\",VALUE(AI185)))","v":""},null,{"$f":"IF(P185=0,\"\",IF(P185>5,\"有\",IF(OR(P185=4,P185=2),\"無\")))","v":""}]
[{"$nulls":3},"",{"$nulls":11},0,{"$nulls":3},{"$f":"U186","v":""},{"$f":"U185&W185&V185","v":""},null,"AND(($AK180+$AK181)>=3,$C186=\"\")","AND($C186<>\"\",$O186=\"\")","","","","","","/","/","",1,"01",{"$f":"AD186&\"/\"&AH186","v":"//01"},"",null,""]
[{"$nulls":3},"",{"$nulls":11},0,{"$nulls":6},"AND(($AK180+$AK181)>=4,$C187=\"\")","AND($C187<>\"\",$O187=\"\")","","","","","","/","/","",1,"01",{"$f":"AD187&\"/\"&AH187","v":"//01"},"",null,""]
[{"$nulls":3},"",{"$nulls":11},0,{"$nulls":6},"AND(($AK180+$AK181)>=5,$C188=\"\")","AND($C188<>\"\",$O188=\"\")","","","","","","/","/","",1,"01",{"$f":"AD188&\"/\"&AH188","v":"//01"},"",null,""]
[{"$nulls":3},"",{"$nulls":11},0,{"$nulls":6},"AND(($AK180+$AK181)>=6,$C189=\"\")","AND($C189<>\"\",$O189=\"\")","","","","","","/","/","",2,"02",{"$f":"AD189&\"/\"&AH189","v":"//02"},"",null,""]
[{"$nulls":3},"",{"$nulls":11},0,{"$nulls":6},"AND(($AK180+$AK181)>=7,$C190=\"\")","AND($C190<>\"\",$O190=\"\")","","","","","","/","/","",3,"03","//03","",null,""]
[{"$nulls":3},"",{"$nulls":11},0,{"$nulls":6},"AND(($AK180+$AK181)>=8,$C191=\"\")","AND($C191<>\"\",$O191=\"\")","","","","","","/","/","",4,"04","//04","",null,""]
[{"$nulls":3},"",{"$nulls":11},0,{"$nulls":6},"AND(($AK180+$AK181)>=9,$C192=\"\")","AND($C192<>\"\",$O192=\"\")","","","","","","/","/","",5,"05","//05","",null,""]
[{"$nulls":3},"",{"$nulls":11},0,{"$nulls":6},"AND(($AK180+$AK181)>=10,$C193=\"\")","AND($C193<>\"\",$O193=\"\")","","","","","","/","/","",6,"06","//06","",null,""]
[{"$nulls":37},"有",{"$f":"COUNTIF(AL184:AL193,\"有\")","v":0}]
[null,null,"（注意）",{"$nulls":34},"無",{"$f":"COUNTIF(AL184:AL193,\"無\")","v":0}]
[null,null,"①","　この書類は、建築物ごとに作成してください。",{"$nulls":34},{"$f":"SUM(AM194:AM195)","v":0}]
[null,null,"②","　記入欄が不足する場合は、枠を拡大、行を追加して記入するか、別紙に必要な事項を記入して添えてください。",{"$nulls":33},{"$f":"IF(AM196=0,\"\",IF(AM196-AM195=0,\"無\",\"有\"))","v":""},{"$f":"IF(AL197=\"無\",\"\",AI217)","v":""},{"$f":"IF(AL197=\"無\",\"\",AJ217)","v":""}]
[null,null,"③","　「当該検査に関与した検査者」欄は、建築基準法施行規則別記第36号の６様式第二面８欄に記入した検査者について記入し、「検査者番号」欄に検査者を特定できる番号、記号等を記入してください。当該建築設備の検査を行った検査者が１人の場合は、その他の検査者欄は記入不要です。",{"$nulls":33},{"$f":"IF(O184:O193=\"\",\"\",IF(AL197=\"無\",\"無\",\"(\"&AM197&\"年\"&AN197&\"月）\"))","v":""}]
[null,null,"④","　検査対象建築物に排煙設備がない場合は、この様式は記入不要です。",{"$nulls":33},""]
[null,null,"⑤","　該当しない検査項目等がある場合は、当該項目の「検査結果」欄及び「担当検査者番号」欄に「―」を記入してください。",{"$nulls":33},""]
[null,null,"⑥","　「検査結果」欄は、別表第２（ろ）欄に掲げる各検査事項ごとに記入してください。",{"$nulls":33},""]
[null,null,"⑦","　「検査結果」欄のうち「要是正」欄は、別表第２（ろ）欄に掲げる検査事項について同表（に）欄に掲げる判定基準に該当する場合に○印を記入してください。",{"$nulls":33},""]
[null,null,"⑧","　「検査結果」欄のうち「指摘なし」欄は、⑦に該当しない場合に○印を記入してください。",{"$nulls":33},""]
[null,null,"⑨","　「既存不適格」欄は、「要是正」欄に○印を記入した場合で、建築基準法第３条第２項の規定の適用を受けているものであることが確認されたときは、○印を記入してください。",{"$nulls":33},""]
[null,null,"⑩","　「担当検査者番号」欄は、「検査に関与した検査者」欄で記入した番号、記号等を記入してください。ただし、当該建築設備の検査を行った検査者が1人の場合は、記入不要です。",{"$nulls":33},""]
[null,null,"⑪","　１ (９)「排煙機の排煙風量」及び１(18) 「排煙口の排煙風量」については、排煙風量測定記録表(別表３)を添付してください。",{"$nulls":33},""]
[null,null,"⑫","　１(37)「排煙口の排煙風量」及び１(49)「給気送風機の給気風量」については、排煙風量測定記録表(別表３－２)を添付してください。",{"$nulls":33},""]
[null,null,"⑬","　２ (24) 「遮煙開口部の排出風速」については、排煙風量測定記録表（別表３－３）を添付してください。"]
[null,null,"⑭","　５　「上記以外の検査項目等」欄は、第２第２項の規定により特定行政庁が検査項目等を付加している場合に、当該検査項目等を追加し、⑥から⑩までに準じて検査結果等を記入してください。また、第２第３項に規定する認定検査項目等が定められている場合に、当該認定検査項目等を追加し、⑥から⑩までに準じて検査結果等を記入してください。"]
[null,null,"⑮","　「特記事項」は、検査の結果、要是正の指摘があった場合のほか、指摘がない場合にあっても特記すべき事項がある場合に、該当する検査項目等の番号、検査項目等を記入し、「指摘の具体的内容等」欄に指摘又は特記すべき事項の具体的内容を記入するとともに、改善済みの場合及び改善策が明らかになっている場合は「改善策の具体的内容等」欄にその内容を記入し、改善した場合は「改善（予定）年月」欄に当該年月を記入し、改善予定年月が明らかになっている場合は「改善（予定）年月」欄に当該年月を（　）書きで記入してください。"]
[null,null,"⑯","　要是正とされた検査項目（既存不適格の場合を除く。）については、要是正とされた部分を撮影した写真を別添の様式に従い添付してください。"]
[]
[]
[]
[]
[{"$nulls":26},"順位"]
[{"$nulls":26},{"$f":"IF(AB217=\"\",\"\",RANK(AB217,$AB$217:$AB$226,1))","v":""},{"$f":"IF(AJ184=\"\",\"\",IF(O184=\"\",\"\",VALUE(AJ184)))","v":""},{"$f":"IF(AJ184=\"\",\"\",IF(O184=\"\",\"\",Y184-2018))","v":""},{"$f":"AB184","v":""},{"$f":"IF(AA217=\"\",\"\",AC217&\"　\"&AD217)","v":""},1,{"$f":"IF(AA227=0,\"\",VLOOKUP(AF217,$AA$217:$AA$226,1,FALSE))","v":""},{"$f":"IF(AA227=0,\"\",IF(AF217=AG217,VLOOKUP(AF217,$AA$217:$AE$226,5,FALSE),\"\"))","v":""},{"$f":"IF(MID(AH217,2,1)>=0,LEFT(AH217,2),LEFT(AH217,1))","v":""},{"$f":"TRIM(RIGHT(AH217,2))","v":""}]
[{"$nulls":26},{"$f":"IF(AB218=\"\",\"\",RANK(AB218,$AB$217:$AB$226,1))","v":""},{"$f":"IF(AJ185=\"\",\"\",IF(O185=\"\",\"\",VALUE(AJ185)))","v":""},{"$f":"IF(AJ185=\"\",\"\",IF(O185=\"\",\"\",Y185-2018))","v":""},{"$f":"AB185","v":""},{"$f":"IF(AA218=\"\",\"\",AC218&\"　\"&AD218)","v":""},2,{"$f":"IF(AA227=0,\"\",VLOOKUP(AF218,$AA$217:$AA$226,1,FALSE))","v":""},{"$f":"IF(AA227=0,\"\",IF(AF218=AG218,VLOOKUP(AF218,$AA$217:$AE$226,5,FALSE),\"\"))","v":""},{"$f":"IF(MID(AH218,2,1)>=0,LEFT(AH218,2),LEFT(AH218,1))","v":""},{"$f":"TRIM(RIGHT(AH218,2))","v":""}]
[{"$nulls":26},{"$f":"IF(AB219=\"\",\"\",RANK(AB219,$AB$217:$AB$226,1))","v":""},"","","",{"$f":"IF(AA219=\"\",\"\",AC219&\"　\"&AD219)","v":""},3,{"$f":"IF(AA227=0,\"\",VLOOKUP(AF219,$AA$217:$AA$226,1,FALSE))","v":""},{"$f":"IF(AA227=0,\"\",IF(AF219=AG219,VLOOKUP(AF219,$AA$217:$AE$226,5,FALSE),\"\"))","v":""},"",""]
[{"$nulls":26},"","","","","",4,{"$f":"IF(AA227=0,\"\",VLOOKUP(AF220,$AA$217:$AA$226,1,FALSE))","v":""},{"$f":"IF(AA227=0,\"\",IF(AF220=AG220,VLOOKUP(AF220,$AA$217:$AE$226,5,FALSE),\"\"))","v":""},"",""]
[{"$nulls":26},"","","","","",5,{"$f":"IF(AA227=0,\"\",VLOOKUP(AF221,$AA$217:$AA$226,1,FALSE))","v":""},{"$f":"IF(AA227=0,\"\",IF(AF221=AG221,VLOOKUP(AF221,$AA$217:$AE$226,5,FALSE),\"\"))","v":""},"",""]
[{"$nulls":26},"","","","","",6,{"$f":"IF(AA227=0,\"\",VLOOKUP(AF222,$AA$217:$AA$226,1,FALSE))","v":""},{"$f":"IF(AA227=0,\"\",IF(AF222=AG222,VLOOKUP(AF222,$AA$217:$AE$226,5,FALSE),\"\"))","v":""},"",""]
[{"$nulls":26},"","","","","",7,{"$f":"IF(AA227=0,\"\",VLOOKUP(AF223,$AA$217:$AA$226,1,FALSE))","v":""},{"$f":"IF(AA227=0,\"\",IF(AF223=AG223,VLOOKUP(AF223,$AA$217:$AE$226,5,FALSE),\"\"))","v":""},"",""]
[{"$nulls":26},"","","","","",8,{"$f":"IF(AA227=0,\"\",VLOOKUP(AF224,$AA$217:$AA$226,1,FALSE))","v":""},{"$f":"IF(AA227=0,\"\",IF(AF224=AG224,VLOOKUP(AF224,$AA$217:$AE$226,5,FALSE),\"\"))","v":""},"",""]
[{"$nulls":26},"","","","","",9,{"$f":"IF(AA227=0,\"\",VLOOKUP(AF225,$AA$217:$AA$226,1,FALSE))","v":""},{"$f":"IF(AA227=0,\"\",IF(AF225=AG225,VLOOKUP(AF225,$AA$217:$AE$226,5,FALSE),\"\"))","v":""},"",""]
[{"$nulls":26},"","","","","",10,{"$f":"IF(AA227=0,\"\",VLOOKUP(AF226,$AA$217:$AA$226,1,FALSE))","v":""},{"$f":"IF(AA227=0,\"\",IF(AF226=AG226,VLOOKUP(AF226,$AA$217:$AE$226,5,FALSE),\"\"))","v":""},"",""]
[{"$nulls":26},{"$f":"SUM(AA217:AA226)","v":0}]

{"sheet":"非照検査結果表","index":5,"n_rows":155,"n_cols":46,"rows_kept":155,"merged":[[1,2,1,14],[1,18,1,19],[2,2,2,14],[3,2,3,14],[7,2,10,3],[7,7,7,12],[7,13,7,14],[8,7,8,12],[8,13,8,14],[9,6,10,6],[9,7,9,12],[9,13,9,14],[10,7,10,12],[10,13,10,14],[11,2,11,14],[12,2,12,14],[13,2,13,14],[14,2,14,14],[15,2,17,2],[15,3,17,8],[15,10,17,10],[15,11,15,13],[15,14,17,14],[16,11,17,11],[23,3,23,14],[24,3,25,3],[24,6,24,8],[25,6,25,8],[30,3,30,14],[31,6,31,8],[32,3,33,3],[32,6,32,8],[33,6,33,8],[34,6,34,8],[35,6,35,8],[36,6,36,8],[41,3,41,14],[42,3,45,3],[42,6,42,8],[43,6,43,8],[44,6,44,8],[45,6,45,8],[46,3,47,3],[46,6,46,8],[47,6,47,8],[53,3,53,14],[54,3,55,3],[54,6,54,8],[55,6,55,8],[61,3,61,14],[62,3,69,3],[62,6,64,6],[62,7,62,8],[63,7,63,8],[64,7,64,8],[65,6,67,6],[65,7,65,8],[66,7,66,8],[67,7,67,8],[68,6,69,6],[68,7,68,8],[69,7,69,8],[75,3,75,14],[76,3,92,3],[76,6,87,6],[76,7,76,8],[77,7,77,8],[78,7,78,8],[79,7,79,8],[80,7,80,8],[81,7,81,8],[82,7,82,8],[83,7,83,8],[84,7,84,8],[85,7,85,8],[86,7,86,8],[87,7,87,8],[88,6,92,6],[88,7,88,8],[89,7,89,8],[90,7,90,8],[91,7,91,8],[92,7,92,8],[98,3,98,14],[99,3,99,8],[100,3,100,8],[101,3,101,8],[102,3,102,8],[103,3,103,8],[104,3,104,8],[105,3,105,8],[106,3,106,8],[107,3,107,8],[108,3,108,8],[109,2,109,6],[110,3,110,6],[110,8,110,13],[111,3,111,6],[111,8,111,13],[112,3,112,6],[112,8,112,13],[113,3,113,6],[113,8,113,13],[114,3,114,6],[114,8,114,13],[115,3,115,6],[115,8,115,13],[116,3,116,6],[116,8,116,13],[117,3,117,6],[117,8,117,13],[118,3,118,6],[118,8,118,13],[119,3,119,6],[119,8,119,13],[120,3,120,6],[120,8,120,13],[121,2,121,14],[122,2,122,14],[123,3,123,14],[124,3,124,14],[125,3,125,14],[126,3,126,14],[127,3,127,14],[128,3,128,14],[129,3,129,14],[130,3,130,14],[131,3,131,14],[132,3,132,14],[133,3,133,14],[134,3,134,14],[135,3,135,14],[136,3,136,14]]}
[null,null,"別記第三号（Ａ４）",{"$nulls":17},"○",{"$nulls":18},"○"]
[null,null,"検査結果表",{"$nulls":15},{"$f":"IF(報告_2_12非検査者代表_ハ_氏名=\"\",\"-----\",IF(AK110=0,\"未入力\",IF(AJ101=\"YES\",非照検査結果表!AL107,\"未入力\")))","v":"-----"},null,null,"IF(報告_2_12非検査者代表_ハ_氏名=\"\",\"-----\",IF(AK110=0,\"未入力\",IF(AJ101=\"YES\",非照検査結果表!AL107,\"未入力\")))"]
[null,null,"（非常用の照明装置）"]
[]
[]
[]
[]
[null,null,"当該検査に関与した検査者",{"$nulls":4},"　　氏　名",{"$nulls":5},"検査者番号"]
[{"$nulls":6},"代表となる検査者",{"$f":"IF(報告_2_12非検査者代表_ハ_氏名=\"\",\"\",報告_2_12非検査者代表_ハ_氏名)","v":""}]
[{"$nulls":6},"その他の検査者",{"$f":"IF(報告_2_12非検査者他1_ハ_氏名=\"\",\"\",報告_2_12非検査者他1_ハ_氏名)","v":""}]
[{"$nulls":7},{"$f":"IF(報告_2_12非検査者他2_ハ_氏名=\"\",\"\",報告_2_12非検査者他2_ハ_氏名)","v":""}]
[]
[]
[]
[]
[null,null,"番号","検　査　項　目　等",{"$nulls":7},"検査結果",null,null,"担当\n検査者\n番号"]
[{"$nulls":11},"指摘\nなし","要是正"]
[{"$nulls":13},"既　存\n不適格"]
[]
[]
[]
[]
[]
[null,null,1,"照明器具  ",{"$nulls":16},{"$f":"U25&U26","v":""},{"$f":"V25&V26","v":""},{"$f":"IF(U24=\"\",\"\",$C24)","v":""},{"$f":"IF(V24=\"\",\"\",$C24)","v":""},{"$f":"IF(W24=\"\",\"\",IF(W31&W42&W54&W62&W76&W99=\"\",\"\",\"、\"))","v":""},{"$f":"IF(X24=\"\",\"\",IF(X31&X42&X54&X62&X76&X99=\"\",\"\",\"、\"))","v":""},{"$nulls":15},"【イ．照明器具】","白熱灯","蛍光灯","LEDランプ","その他"]
[null,null,"(1)","非常用の照明器具",null,null,"使用電球、ランプ等 ",null,null,"AND($H$9<>\"\",$AN$25>=1)",{"$f":"IF(AND($H$9<>\"\",$AN$25=0,$AD25=0),\"○\",IF(P25=\"\",\"\",P25))","v":""},{"$nulls":4},{"$f":"IF(AND(L25=\"\",M25=\"○\",N25=\"○\"),\"○\",IF(AND(L25=\"\",M25=\"○\",N25=\"\"),\"○\",IF(AND(L25=\"○\",M25=\"\",N25=\"\"),\"○\",IF(AND(L25=\"―\",M25=\"―\",N25=\"―\",O25=\"―\"),\"○\",\"\"))))","v":""},null,"IF(AND($H$9<>\"\",$AN$25=0,$AD25=0),\"○\",IF(P25=\"\",\"\",P25))",null,null,{"$f":"IF(AND(M25=\"○\",N25=\"\"),C25,\"\")","v":""},{"$f":"IF(AND(M25=\"○\",N25=\"○\"),C25,\"\")","v":""},null,null,{"$f":"IF(H9=\"\",\"\",\"―\")","v":""},"AND($H$9<>\"\",$AN$25>=1,$AJ25=0)",null,null,"照明器具 ",{"$f":"COUNTIF(L25:N26,\"○\")","v":0},{"$f":"COUNTIF(L25,\"○\")","v":0},{"$f":"COUNTIF(M25,\"○\")-AG25","v":0},{"$f":"COUNTIF(N25,\"○\")","v":0},{"$f":"IF(AF25>=1,\"要是正\",IF(AG25=1,\"既存不適格\",IF(AE25>=1,\"指摘なし\")))","v":false},{"$f":"IF(AM25=1,0,COUNTIF(P25,\"○\"))","v":0},{"$f":"AM25+AI25","v":0},"AND($N10<>\"\",$AM25=1,$O25=\"\")",null,{"$f":"AE25+AF25+AG25","v":0},{"$f":"COUNTIF(AQ25:AT25,\"●\")","v":0},null,null,{"$f":"IF(報告書!K329=\"レ\",\"●\",\"\")","v":""},{"$f":"IF(報告書!U329=\"レ\",\"●\",\"\")","v":""},{"$f":"IF(報告書!AE329=\"レ\",\"●\",\"\")","v":""},{"$f":"IF(報告書!K330=\"レ\",\"●\",\"\")","v":""}]
[null,null,"(2)",{"$nulls":3},"照明器具の取付けの状況",null,null,"AND($H$9<>\"\",$AN$25>=1)",{"$f":"IF(AND($H$9<>\"\",$AN$25=0,$AD26=0),\"○\",IF(P26=\"\",\"\",P26))","v":""},{"$nulls":4},{"$f":"IF(AND(L26=\"\",M26=\"○\",N26=\"○\"),\"○\",IF(AND(L26=\"\",M26=\"○\",N26=\"\"),\"○\",IF(AND(L26=\"○\",M26=\"\",N26=\"\"),\"○\",IF(AND(L26=\"―\",M26=\"―\",N26=\"―\",O26=\"―\"),\"○\",\"\"))))","v":""},null,"IF(AND($H$9<>\"\",$AN$25=0,$AD26=0),\"○\",IF(P26=\"\",\"\",P26))",null,null,{"$f":"IF(AND(M26=\"○\",N26=\"\"),C26,\"\")","v":""},{"$f":"IF(AND(M26=\"○\",N26=\"○\"),C26,\"\")","v":""},null,null,{"$f":"IF(ISBLANK(N9),\"\",\"〃\")","v":""},"AND($H$9<>\"\",$AN$25>=1,$AJ26=0)",{"$nulls":4},{"$f":"COUNTIF(L26,\"○\")","v":0},{"$f":"COUNTIF(M26,\"○\")-AG26","v":0},{"$f":"COUNTIF(N26,\"○\")","v":0},{"$f":"IF(AF26>=1,\"要是正\",IF(AG26=1,\"既存不適格\",IF(AE26>=1,\"指摘なし\")))","v":false},{"$f":"IF(AM26=1,0,COUNTIF(P26,\"○\"))","v":0},{"$f":"AM26+AI26","v":0},"AND($N10<>\"\",$AM26=1,$O26=\"\")",null,{"$f":"AE26+AF26+AG26","v":0}]
[{"$nulls":24},{"$f":"IF(ISBLANK(N9),\"\",N9)","v":""}]
[{"$nulls":23},{"$f":"IF(Y28=\"\",\"\",\"・\")","v":""},{"$f":"IF(ISBLANK(N10),\"\",N10)","v":""}]
[{"$nulls":23},{"$f":"IF(Y29=\"\",\"\",\"・\")","v":""},{"$f":"IF(ISBLANK(N10),\"\",IF(ISBLANK(N11),Y27&X28&Y28,IF(Y28=\"\",\"\",N11)))","v":""}]
[{"$nulls":24},{"$f":"IF(ISBLANK(N11),\"\",Y27&X28&Y28)","v":""}]
[null,null,2,"電池内蔵形の蓄電池、電源別置形の蓄電池及び自家用発電装置",{"$nulls":16},{"$f":"U32&U33&U34&U35&U36","v":""},{"$f":"V32&V33&V34&V35&V36","v":""},{"$f":"IF(U31=\"\",\"\",$C31)","v":""},{"$f":"IF(V31=\"\",\"\",$C31)","v":""},{"$f":"IF(Y30=\"\",\"\",Y27&X29&Y29)","v":""},null,{"$f":"IF(W31=\"\",\"\",IF(W42&W54&W62&W76&W99=\"\",\"\",\"、\"))","v":""},{"$f":"IF(X31=\"\",\"\",IF(X42&X54&X62&X76&X99=\"\",\"\",\"、\"))","v":""},{"$nulls":13},"【ロ．予備電源】",null,"居室","廊下","階段"]
[null,null,"(1)","予備電源",null,null,"予備電源への切替え及び器具の点灯の状況並びに予備電源の性能",null,null,"AND($H$9<>\"\",$AN$32>=1)",{"$f":"IF(AND($H$9<>\"\",$AN$32=0,$AD32=0),\"○\",IF(P32=\"\",\"\",P32))","v":""},{"$nulls":4},{"$f":"IF(AND(L32=\"\",M32=\"○\",N32=\"○\"),\"○\",IF(AND(L32=\"\",M32=\"○\",N32=\"\"),\"○\",IF(AND(L32=\"○\",M32=\"\",N32=\"\"),\"○\",IF(AND(L32=\"―\",M32=\"―\",N32=\"―\",O32=\"―\"),\"○\",\"\"))))","v":""},null,"IF(AND($H$9<>\"\",$AN$32=0,$AD32=0),\"○\",IF(P32=\"\",\"\",P32))",null,null,{"$f":"IF(AND(M32=\"○\",N32=\"\"),C32,\"\")","v":""},{"$f":"IF(AND(M32=\"○\",N32=\"○\"),C32,\"\")","v":""},null,null,{"$f":"IF(Y30=\"\",\"\",Y28&X29&Y29)","v":""},"AND($H$9<>\"\",$AN$32>=1,$AJ32=0)",{"$nulls":4},{"$f":"COUNTIF(L32,\"○\")","v":0},{"$f":"COUNTIF(M32,\"○\")-AG32","v":0},{"$f":"COUNTIF(N32,\"○\")","v":0},{"$f":"IF(AF32>=1,\"要是正\",IF(AG32=1,\"既存不適格\",IF(AE32>=1,\"指摘なし\")))","v":false},{"$f":"IF(AM32=1,0,COUNTIF(P32,\"○\"))","v":0},{"$f":"AM32+AI32","v":0},"AND($N10<>\"\",$AM32=1,$O32=\"\")",null,{"$f":"AE32+AF32+AG32","v":0},{"$f":"COUNTIF(AQ32:AQ35,\"●\")","v":0},null,"蓄電池（内蔵形）",{"$f":"IF(報告書!K333=\"レ\",\"●\",\"\")","v":""},{"$f":"報告書!W333","v":0},{"$f":"報告書!AC333","v":0},{"$f":"報告書!AI333","v":0}]
[null,null,"(2)","照度",null,null,"照度の状況",null,null,"AND($H$9<>\"\",$AN$32>=1)",{"$f":"IF(AND($H$9<>\"\",$AN$32=0,$AD33=0),\"○\",IF(P33=\"\",\"\",P33))","v":""},{"$nulls":4},{"$f":"IF(AND(L33=\"\",M33=\"○\",N33=\"○\"),\"○\",IF(AND(L33=\"\",M33=\"○\",N33=\"\"),\"○\",IF(AND(L33=\"○\",M33=\"\",N33=\"\"),\"○\",IF(AND(L33=\"―\",M33=\"―\",N33=\"―\",O33=\"―\"),\"○\",\"\"))))","v":""},null,"IF(AND($H$9<>\"\",$AN$32=0,$AD33=0),\"○\",IF(P33=\"\",\"\",P33))",null,null,{"$f":"IF(AND(M33=\"○\",N33=\"\"),C33,\"\")","v":""},{"$f":"IF(AND(M33=\"○\",N33=\"○\"),C33,\"\")","v":""},null,null,{"$f":"IF(Y30=\"\",\"\",Y30&X29&Y29)","v":""},"AND($H$9<>\"\",$AN$32>=1,$AJ33=0)",{"$nulls":4},{"$f":"COUNTIF(L33,\"○\")","v":0},{"$f":"COUNTIF(M33,\"○\")-AG33","v":0},{"$f":"COUNTIF(N33,\"○\")","v":0},{"$f":"IF(AF33>=1,\"要是正\",IF(AG33=1,\"既存不適格\",IF(AE33>=1,\"指摘なし\")))","v":false},{"$f":"IF(AM33=1,0,COUNTIF(P33,\"○\"))","v":0},{"$f":"AM33+AI33","v":0},"AND($N10<>\"\",$AM33=1,$O33=\"\")",null,{"$f":"AE33+AF33+AG33","v":0},null,null,"蓄電池（別置形）",{"$f":"IF(報告書!K334=\"レ\",\"●\",\"\")","v":""},{"$f":"報告書!W334","v":0},{"$f":"報告書!AC334","v":0},{"$f":"報告書!AI334","v":0}]
[null,null,"(3)",{"$nulls":3},"照明の妨げとなる物品の放置の状況",{"$nulls":3},{"$f":"IF(AND($H$9<>\"\",$AN$32=0,$AD34=0),\"○\",IF(P34=\"\",\"\",P34))","v":""},{"$nulls":4},"",null,"IF($H$9=\"\",\"\",IF($AD$34=1,\"\",IF(AND($H$9<>\"\",$AN$32>=1,$AN34=0),\"\",\"○\")))",null,null,{"$f":"IF(AND(M34=\"○\",N34=\"\"),C34,\"\")","v":""},{"$f":"IF(AND(M34=\"○\",N34=\"○\"),C34,\"\")","v":""},{"$nulls":3},"AND($H$9<>\"\",$AN$32>=1,$AJ34=0,$AN34=0)",{"$nulls":4},{"$f":"COUNTIF(L34,\"○\")","v":0},0,0,{"$f":"IF(AF34>=1,\"要是正\",IF(AG34=1,\"既存不適格\",IF(AE34>=1,\"指摘なし\")))","v":false},0,{"$f":"AM34+AI34","v":0},"AND($N10<>\"\",$AM34=1,$O34=\"\")",null,{"$f":"AE34+AF34+AG34","v":0},{"$f":"IF(AND(AN55=1,AN44=0),1,0)","v":0},null,"自家用発電装置 ",{"$f":"IF(報告書!K335=\"レ\",\"●\",\"\")","v":""},{"$f":"報告書!W335","v":0},{"$f":"報告書!AC335","v":0},{"$f":"報告書!AI335","v":0}]
[null,null,"(4)","分電盤",null,null,"非常用電源分岐回路の表示の状況",null,null,"AND($H$9<>\"\",$AN$32>=1,$AN34=0)",{"$f":"IF($H$9=\"\",\"\",IF($AD$35=1,\"\",IF(AND($H$9<>\"\",$AN$32>=1,$AN34=0),\"\",\"○\")))","v":""},{"$nulls":4},"",null,"IF(AND($H$9<>\"\",$AN$32=0,$AD35=0),\"○\",IF(P35=\"\",\"\",P35))",null,null,{"$f":"IF(AND(M35=\"○\",N35=\"\"),C35,\"\")","v":""},{"$f":"IF(AND(M35=\"○\",N35=\"○\"),C35,\"\")","v":""},{"$nulls":3},"AND($H$9<>\"\",$AN$32>=1,$AJ35=0)",{"$nulls":4},{"$f":"COUNTIF(L35,\"○\")","v":0},0,0,{"$f":"IF(AF35>=1,\"要是正\",IF(AG35=1,\"既存不適格\",IF(AE35>=1,\"指摘なし\")))","v":false},0,0,"AND($N10<>\"\",$AM35=1,$O35=\"\")",null,{"$f":"AE35+AF35+AG35","v":0},null,null,"併用",{"$f":"IF(報告書!K336=\"レ\",\"●\",\"\")","v":""},{"$f":"報告書!AF336","v":0},{"$f":"報告書!AL336","v":0},{"$f":"報告書!AR336","v":0}]
[null,null,"(5)","配線",null,null,"配電管等の防火区画の貫通措置の状況（隠蔽部分及び埋設部分を除く。）",null,null,"AND($H$9<>\"\",$AN$32>=1)",{"$f":"IF(AND($H$9<>\"\",$AN$32=0,$AD36=0),\"○\",IF(P36=\"\",\"\",P36))","v":""},{"$nulls":4},"",null,"IF(AND($H$9<>\"\",$AN$32=0,$AD36=0),\"○\",IF(P36=\"\",\"\",P36))",null,null,{"$f":"IF(AND(M36=\"○\",N36=\"\"),C36,\"\")","v":""},{"$f":"IF(AND(M36=\"○\",N36=\"○\"),C36,\"\")","v":""},{"$nulls":3},"AND($H$9<>\"\",$AN$32>=1,$AJ36=0)",{"$nulls":4},0,0,0,false,{"$f":"IF(AM36=1,0,COUNTIF(P36,\"○\"))","v":0},0,"AND($N10<>\"\",$AM36=1,$O36=\"\")",null,{"$f":"AE36+AF36+AG36","v":0}]
[]
[]
[]
[]
[]
[null,null,3,"電源別置形の蓄電池及び自家用発電装置",{"$nulls":16},{"$f":"U43&U44&U45&U46&U47&U48","v":""},{"$f":"V43&V44&V45&V46&V47&V48","v":""},{"$f":"IF(U42=\"\",\"\",$C42)","v":""},{"$f":"IF(V42=\"\",\"\",$C42)","v":""},{"$f":"IF(W42=\"\",\"\",IF(W54&W62&W76&W99=\"\",\"\",\"、\"))","v":""},{"$f":"IF(X42=\"\",\"\",IF(X54&X62&X76&X99=\"\",\"\",\"、\"))","v":""}]
[null,null,"(1)","配線",null,null,"照明器具の取付けの状況及び配線の接続の状況（隠蔽部分及び埋設部分を除く。）",null,null,"AND($H$9<>\"\",$AN$44>=1)",{"$f":"IF(AND($H$9<>\"\",$AN$44=0,$AD43=0),\"○\",IF(P43=\"\",\"\",P43))","v":""},{"$nulls":4},{"$f":"IF(AND(L43=\"\",M43=\"○\",N43=\"○\"),\"○\",IF(AND(L43=\"\",M43=\"○\",N43=\"\"),\"○\",IF(AND(L43=\"○\",M43=\"\",N43=\"\"),\"○\",IF(AND(L43=\"―\",M43=\"―\",N43=\"―\",O43=\"―\"),\"○\",\"\"))))","v":""},null,"IF(AND($H$9<>\"\",$AN$44=0,$AD43=0),\"○\",IF(P43=\"\",\"\",P43))",null,null,{"$f":"IF(AND(M43=\"○\",N43=\"\"),C43,\"\")","v":""},{"$f":"IF(AND(M43=\"○\",N43=\"○\"),C43,\"\")","v":""},{"$nulls":3},"AND($H$9<>\"\",$AN$44>=1,$AJ43=0)",{"$nulls":4},{"$f":"COUNTIF(L43,\"○\")","v":0},{"$f":"COUNTIF(M43,\"○\")-AG43","v":0},{"$f":"COUNTIF(N43,\"○\")","v":0},{"$f":"IF(AF43>=1,\"要是正\",IF(AG43=1,\"既存不適格\",IF(AE43>=1,\"指摘なし\")))","v":false},{"$f":"IF(AM43=1,0,COUNTIF(P43,\"○\"))","v":0},{"$f":"AM43+AI43","v":0},"AND($N10<>\"\",$AM43=1,$O43=\"\")",null,{"$f":"AE43+AF43+AG43","v":0},{"$nulls":3},"蓄電池（別置形）","自家用発電装置 ","併用"]
[null,null,"(2)",{"$nulls":3},"電気回路の接続の状況",null,null,"AND($H$9<>\"\",$AN$44>=1)",{"$f":"IF(AND($H$9<>\"\",$AN$44=0,$AD44=0),\"○\",IF(P44=\"\",\"\",P44))","v":""},{"$nulls":4},"",null,"IF(AND($H$9<>\"\",$AN$44=0,$AD44=0),\"○\",IF(P44=\"\",\"\",P44))",null,null,{"$f":"IF(AND(M44=\"○\",N44=\"\"),C44,\"\")","v":""},{"$f":"IF(AND(M44=\"○\",N44=\"○\"),C44,\"\")","v":""},{"$nulls":3},"AND($H$9<>\"\",$AN$44>=1,$AJ44=0)",{"$nulls":4},{"$f":"COUNTIF(L44,\"○\")","v":0},{"$f":"COUNTIF(M44,\"○\")-AG44","v":0},{"$f":"COUNTIF(N44,\"○\")","v":0},{"$f":"IF(AF44>=1,\"要是正\",IF(AG44=1,\"既存不適格\",IF(AE44>=1,\"指摘なし\")))","v":false},{"$f":"IF(AM44=1,0,COUNTIF(P44,\"○\"))","v":0},{"$f":"AM44+AI44","v":0},"AND($N10<>\"\",$AM44=1,$O44=\"\")",null,0,{"$f":"COUNTIF(AQ44:AS44,\"●\")","v":0},null,null,{"$f":"IF(報告書!K334=\"レ\",\"●\",\"\")","v":""},{"$f":"IF(報告書!K335=\"レ\",\"●\",\"\")","v":""},{"$f":"IF(報告書!K336=\"レ\",\"●\",\"\")","v":""}]
[null,null,"(3)",{"$nulls":3},"接続部（幹線分岐及びボックス内に限る。）の耐熱処理の状況",null,null,"AND($H$9<>\"\",$AN$44>=1)",{"$f":"IF(AND($H$9<>\"\",$AN$44=0,$AD45=0),\"○\",IF(P45=\"\",\"\",P45))","v":""},{"$nulls":4},"",null,"IF(AND($H$9<>\"\",$AN$44=0,$AD45=0),\"○\",IF(P45=\"\",\"\",P45))",null,null,"","",{"$nulls":3},"AND($H$9<>\"\",$AN$44>=1,$AJ45=0)",{"$nulls":4},0,0,0,false,0,0,"AND($N10<>\"\",$AM45=1,$O45=\"\")",null,0]
[null,null,"(4)",{"$nulls":3},"予備電源から非常用の照明器具間の配線の耐熱処理の状況（隠蔽部分及び埋設部分を除く。）",null,null,"AND($H$9<>\"\",$AN$44>=1)",{"$f":"IF(AND($H$9<>\"\",$AN$44=0,$AD46=0),\"○\",IF(P46=\"\",\"\",P46))","v":""},{"$nulls":4},"",null,"IF(AND($H$9<>\"\",$AN$44=0,$AD46=0),\"○\",IF(P46=\"\",\"\",P46))",null,null,"","",{"$nulls":3},"AND($H$9<>\"\",$AN$44>=1,$AJ46=0)",{"$nulls":4},0,0,0,false,0,0,"AND($N10<>\"\",$AM46=1,$O46=\"\")",null,0]
[null,null,"(5)","切替回路",null,null,"常用の電源から蓄電池設備への切替えの状況",null,null,"AND($H$9<>\"\",$AN$44>=1)",{"$f":"IF(AND($H$9<>\"\",$AN$44=0,$AD47=0),\"○\",IF(P47=\"\",\"\",P47))","v":""},{"$nulls":4},"",null,"IF(AND($H$9<>\"\",$AN$44=0,$AD47=0),\"○\",IF(P47=\"\",\"\",P47))",null,null,"","",{"$nulls":3},"AND($H$9<>\"\",$AN$44>=1,$AJ47=0)",{"$nulls":4},0,0,0,false,0,0,"AND($N10<>\"\",$AM47=1,$O47=\"\")",null,0]
[null,null,"(6)",{"$nulls":3},"蓄電池設備と自家用発電装置併用の場合の切替えの状況",null,null,"AND($H$9<>\"\",$AN$44>=1,$AS44=\"●\")",{"$f":"IF($H$9=\"\",\"\",IF($AD$48=1,\"\",IF(AND($H$9<>\"\",$AN$44>=1,$AJ48=0,$AS44=\"●\"),\"\",\"○\")))","v":""},{"$nulls":4},"",null,"IF($H$9=\"\",\"\",IF($AD$48=1,\"\",IF(AND($H$9<>\"\",$AN$44>=1,$AJ48=0,$AS44=\"●\"),\"\",\"○\")))",null,null,"","",{"$nulls":3},"AND($H$9<>\"\",$AN$44>=1,$AJ48=0,$AS44=\"●\")",null,null,"併用",{"$f":"COUNTIF(L48:N48,\"○\")","v":0},0,0,0,false,0,{"$f":"AM48+AI48","v":0},"AND($N10<>\"\",$AM48=1,$O48=\"\")",null,{"$f":"AE48+AF48+AG48","v":0}]
[]
[]
[]
[]
[]
[null,null,4,"電池内蔵形の蓄電池",{"$nulls":16},{"$f":"U55&U56","v":""},{"$f":"V55&V56","v":""},{"$f":"IF(U54=\"\",\"\",$C54)","v":""},{"$f":"IF(V54=\"\",\"\",$C54)","v":""},{"$f":"IF(W54=\"\",\"\",IF(W62&W76&W99=\"\",\"\",\"、\"))","v":""},{"$f":"IF(X54=\"\",\"\",IF(X62&X76&X99=\"\",\"\",\"、\"))","v":""},{"$nulls":16},"蓄電池（内蔵形）"]
[null,null,"(1)","配線及び充電ランプ",null,null,"充電ランプの点灯の状況",null,null,"AND($H$9<>\"\",$AN$55>=1)",{"$f":"IF(AND($H$9<>\"\",$AN$55=0,$AD55=0),\"○\",IF(P55=\"\",\"\",P55))","v":""},{"$nulls":4},{"$f":"IF(AND(L55=\"\",M55=\"○\",N55=\"○\"),\"○\",IF(AND(L55=\"\",M55=\"○\",N55=\"\"),\"○\",IF(AND(L55=\"○\",M55=\"\",N55=\"\"),\"○\",IF(AND(L55=\"―\",M55=\"―\",N55=\"―\",O55=\"―\"),\"○\",\"\"))))","v":""},null,"IF(AND($H$9<>\"\",$AN$55=0,$AD55=0),\"○\",IF(P55=\"\",\"\",P55))",null,null,{"$f":"IF(AND(M55=\"○\",N55=\"\"),C55,\"\")","v":""},{"$f":"IF(AND(M55=\"○\",N55=\"○\"),C55,\"\")","v":""},{"$nulls":3},"AND($H$9<>\"\",$AN$55>=1,$AJ55=0)",null,null,"電池内蔵",{"$f":"COUNTIF(L55:N56,\"○\")","v":0},{"$f":"COUNTIF(L55,\"○\")","v":0},{"$f":"COUNTIF(M55,\"○\")-AG55","v":0},{"$f":"COUNTIF(N55,\"○\")","v":0},{"$f":"IF(AF55>=1,\"要是正\",IF(AG55=1,\"既存不適格\",IF(AE55>=1,\"指摘なし\")))","v":false},{"$f":"IF(AM55=1,0,COUNTIF(P55,\"○\"))","v":0},{"$f":"AM55+AI55","v":0},"AND($N10<>\"\",$AM55=1,$O55=\"\")",null,{"$f":"AE55+AF55+AG55","v":0},{"$f":"COUNTIF(AQ55,\"●\")","v":0},null,null,{"$f":"IF(報告書!K333=\"レ\",\"●\",\"\")","v":""}]
[null,null,"(2)",{"$nulls":3},"誘導灯及び非常用照明兼用器具の専用回路の確保の状況",null,null,"AND($H$9<>\"\",$AN$55>=1)",{"$f":"IF(AND($H$9<>\"\",$AN$55=0,$AD56=0),\"○\",IF(P56=\"\",\"\",P56))","v":""},{"$nulls":4},"",null,"IF(AND($H$9<>\"\",$AN$55=0,$AD56=0),\"○\",IF(P56=\"\",\"\",P56))",null,null,{"$f":"IF(AND(M56=\"○\",N56=\"\"),C56,\"\")","v":""},{"$f":"IF(AND(M56=\"○\",N56=\"○\"),C56,\"\")","v":""},{"$nulls":3},"AND($H$9<>\"\",$AN$55>=1,$AJ56=0)",{"$nulls":4},{"$f":"COUNTIF(L56,\"○\")","v":0},{"$f":"COUNTIF(M56,\"○\")-AG56","v":0},{"$f":"COUNTIF(N56,\"○\")","v":0},{"$f":"IF(AF56>=1,\"要是正\",IF(AG56=1,\"既存不適格\",IF(AE56>=1,\"指摘なし\")))","v":false},0,{"$f":"AM56+AI56","v":0},"AND($N10<>\"\",$AM56=1,$O56=\"\")",null,{"$f":"AE56+AF56+AG56","v":0}]
[]
[]
[]
[]
[]
[null,null,5,"電源別置形の蓄電池",{"$nulls":16},{"$f":"U63&U64&U65&U66&U67&U68&U69&U70","v":""},{"$f":"V63&V64&V65&V66&V67&V68&V69&V70","v":""},{"$f":"IF(U62=\"\",\"\",$C62)","v":""},{"$f":"IF(V62=\"\",\"\",$C62)","v":""},{"$f":"IF(W62=\"\",\"\",IF(W76&W99=\"\",\"\",\"、\"))","v":""},{"$f":"IF(X62=\"\",\"\",IF(X76&X99=\"\",\"\",\"、\"))","v":""},{"$nulls":16},"蓄電池（別置形）","併用"]
[null,null,"(1)","蓄電池",null,null,"蓄電池等の状況","蓄電池室の防火区画等の貫通措置の状況",null,"AND($H$9<>\"\",$AN$63>=1)",{"$f":"IF(AND($H$9<>\"\",$AN$63=0,$AD63=0),\"○\",IF(P63=\"\",\"\",P63))","v":""},{"$nulls":4},"",null,"IF(AND($H$9<>\"\",$AN$63=0,$AD63=0),\"○\",IF(P63=\"\",\"\",P63))",null,null,{"$f":"IF(AND(M63=\"○\",N63=\"\"),C63,\"\")","v":""},{"$f":"IF(AND(M63=\"○\",N63=\"○\"),C63,\"\")","v":""},{"$nulls":3},"AND($H$9<>\"\",$AN$63>=1,$AJ63=0)",null,null,"別置形",{"$f":"COUNTIF(L63:N70,\"○\")","v":0},{"$f":"COUNTIF(L63,\"○\")","v":0},{"$f":"COUNTIF(M63,\"○\")-AG63","v":0},{"$f":"COUNTIF(N63,\"○\")","v":0},{"$f":"IF(AF63>=1,\"要是正\",IF(AG63=1,\"既存不適格\",IF(AE63>=1,\"指摘なし\")))","v":false},{"$f":"IF(AM63=1,0,COUNTIF(P63,\"○\"))","v":0},{"$f":"AM63+AI63","v":0},"AND($N10<>\"\",$AM63=1,$O63=\"\")",null,{"$f":"AE63+AF63+AG63","v":0},{"$f":"COUNTIF(AQ63:AR63,\"●\")","v":0},null,null,{"$f":"IF(報告書!K334=\"レ\",\"●\",\"\")","v":""},{"$f":"IF(報告書!K336=\"レ\",\"●\",\"\")","v":""}]
[null,null,"(2)",{"$nulls":4},"蓄電池室の換気の状況",null,"AND($H$9<>\"\",$AN$63>=1)","",{"$nulls":4},"",null,"IF(AND($H$9<>\"\",$AN$63=0,$AD64=0),\"○\",IF(P64=\"\",\"\",P64))",null,null,{"$f":"IF(AND(M64=\"○\",N64=\"\"),C64,\"\")","v":""},{"$f":"IF(AND(M64=\"○\",N64=\"○\"),C64,\"\")","v":""},{"$nulls":3},"AND($H$9<>\"\",$AN$63>=1,$AJ64=0)",{"$nulls":4},{"$f":"COUNTIF(L64,\"○\")","v":0},{"$f":"COUNTIF(M64,\"○\")-AG64","v":0},{"$f":"COUNTIF(N64,\"○\")","v":0},{"$f":"IF(AF64>=1,\"要是正\",IF(AG64=1,\"既存不適格\",IF(AE64>=1,\"指摘なし\")))","v":false},0,{"$f":"AM64+AI64","v":0},"AND($N10<>\"\",$AM64=1,$O64=\"\")",null,0]
[null,null,"(3)",{"$nulls":4},"蓄電池の設置の状況",null,"AND($H$9<>\"\",$AN$63>=1)","",{"$nulls":4},"",null,"IF(AND($H$9<>\"\",$AN$63=0,$AD65=0),\"○\",IF(P65=\"\",\"\",P65))",null,null,"","",{"$nulls":3},"AND($H$9<>\"\",$AN$63>=1,$AJ65=0)",{"$nulls":4},0,0,0,false,0,0,"AND($N10<>\"\",$AM65=1,$O65=\"\")",null,0]
[null,null,"(4)",{"$nulls":3},"蓄電池の性能","電圧 ",null,"AND($H$9<>\"\",$AN$63>=1)","",{"$nulls":4},"",null,"IF(AND($H$9<>\"\",$AN$63=0,$AD66=0),\"○\",IF(P66=\"\",\"\",P66))",null,null,"","",{"$nulls":3},"AND($H$9<>\"\",$AN$63>=1,$AJ66=0)",{"$nulls":4},0,0,0,false,0,0,"AND($N10<>\"\",$AM66=1,$O66=\"\")",null,0]
[null,null,"(5)",{"$nulls":4},"電解液比重 ",null,"AND($H$9<>\"\",$AN$63>=1)","",{"$nulls":4},"",null,"IF(AND($H$9<>\"\",$AN$63=0,$AD67=0),\"○\",IF(P67=\"\",\"\",P67))",null,null,"","",{"$nulls":3},"AND($H$9<>\"\",$AN$63>=1,$AJ67=0)",{"$nulls":4},0,0,0,false,0,0,"AND($N10<>\"\",$AM67=1,$O67=\"\")",null,0]
[null,null,"(6)",{"$nulls":4},"電解液の温度",null,"AND($H$9<>\"\",$AN$63>=1)","",{"$nulls":4},"",null,"IF(AND($H$9<>\"\",$AN$63=0,$AD68=0),\"○\",IF(P68=\"\",\"\",P68))",null,null,"","",{"$nulls":3},"AND($H$9<>\"\",$AN$63>=1,$AJ68=0)",{"$nulls":4},0,0,0,false,0,0,"AND($N10<>\"\",$AM68=1,$O68=\"\")",null,0]
[null,null,"(7)",{"$nulls":3},"充電器","充電器室の防火区画等の貫通措置の状況",null,"AND($H$9<>\"\",$AN$63>=1)","",{"$nulls":4},"",null,"IF(AND($H$9<>\"\",$AN$63=0,$AD69=0),\"○\",IF(P69=\"\",\"\",P69))",null,null,"","",{"$nulls":3},"AND($H$9<>\"\",$AN$63>=1,$AJ69=0)",{"$nulls":4},0,0,0,false,0,0,"AND($N10<>\"\",$AM69=1,$O69=\"\")",null,0]
[null,null,"(8)",{"$nulls":4},"キュービクルの取付けの状況",null,"AND($H$9<>\"\",$AN$63>=1)","",{"$nulls":4},"",null,"IF(AND($H$9<>\"\",$AN$63=0,$AD70=0),\"○\",IF(P70=\"\",\"\",P70))",null,null,"","",{"$nulls":3},"AND($H$9<>\"\",$AN$63>=1,$AJ70=0)",{"$nulls":4},0,0,0,false,0,0,"AND($N10<>\"\",$AM70=1,$O70=\"\")",null,0]
[]
[]
[]
[]
[]
[null,null,6,"自家用発電装置",{"$nulls":16},{"$f":"U77&U78&U79&U80&U81&U82&U83&U84&U85&U86&U87&U88&U89&U90&U91&U92&U93","v":""},{"$f":"V77&V78&V79&V80&V81&V82&V83&V84&V85&V86&V87&V88&V89&V90&V91&V92&V93","v":""},{"$f":"IF(U76=\"\",\"\",$C76)","v":""},{"$f":"IF(V76=\"\",\"\",$C76)","v":""},{"$f":"IF(W76=\"\",\"\",IF(W99=\"\",\"\",\"、\"))","v":""},{"$f":"IF(X76=\"\",\"\",IF(X99=\"\",\"\",\"、\"))","v":""},{"$nulls":16},"自家用発電装置 ","併用"]
[null,null,"(1)","自家用発電装置",null,null,"自家用発電装置等の状況","自家用発電機室の防火区画等の貫通措置の状況",null,"AND($H$9<>\"\",$AN$77>=1)",{"$f":"IF(AND($H$9<>\"\",$AN$77=0,$AD77=0),\"○\",IF(P77=\"\",\"\",P77))","v":""},{"$nulls":4},{"$f":"IF(AND(L77=\"\",M77=\"○\",N77=\"○\"),\"○\",IF(AND(L77=\"\",M77=\"○\",N77=\"\"),\"○\",IF(AND(L77=\"○\",M77=\"\",N77=\"\"),\"○\",IF(AND(L77=\"―\",M77=\"―\",N77=\"―\",O77=\"―\"),\"○\",\"\"))))","v":""},null,"IF(AND($H$9<>\"\",$AN$77=0,$AD77=0),\"○\",IF(P77=\"\",\"\",P77))",null,null,{"$f":"IF(AND(M77=\"○\",N77=\"\"),C77,\"\")","v":""},{"$f":"IF(AND(M77=\"○\",N77=\"○\"),C77,\"\")","v":""},{"$nulls":3},"AND($H$9<>\"\",$AN$77>=1,$AJ77=0)",null,null,"自家用発",{"$f":"COUNTIF(L77:N93,\"○\")","v":0},{"$f":"COUNTIF(L77,\"○\")","v":0},{"$f":"COUNTIF(M77,\"○\")-AG77","v":0},{"$f":"COUNTIF(N77,\"○\")","v":0},{"$f":"IF(AF77>=1,\"要是正\",IF(AG77=1,\"既存不適格\",IF(AE77>=1,\"指摘なし\")))","v":false},{"$f":"IF(AM77=1,0,COUNTIF(P77,\"○\"))","v":0},{"$f":"AM77+AI77","v":0},"AND($N10<>\"\",$AM77=1,$O77=\"\")",null,{"$f":"AE77+AF77+AG77","v":0},{"$f":"COUNTIF(AQ77:AR77,\"●\")","v":0},null,null,{"$f":"IF(報告書!K335=\"レ\",\"●\",\"\")","v":""},{"$f":"IF(報告書!K336=\"レ\",\"●\",\"\")","v":""}]
[null,null,"(2)",{"$nulls":4},"発電機の発電容量",null,"AND($H$9<>\"\",$AN$77>=1)","",{"$nulls":4},"",null,"IF(AND($H$9<>\"\",$AN$77=0,$AD78=0),\"○\",IF(P78=\"\",\"\",P78))",null,null,{"$f":"IF(AND(M78=\"○\",N78=\"\"),C78,\"\")","v":""},{"$f":"IF(AND(M78=\"○\",N78=\"○\"),C78,\"\")","v":""},{"$nulls":3},"AND($H$9<>\"\",$AN$77>=1,$AJ78=0)",{"$nulls":4},{"$f":"COUNTIF(L78,\"○\")","v":0},{"$f":"COUNTIF(M78,\"○\")-AG78","v":0},{"$f":"COUNTIF(N78,\"○\")","v":0},{"$f":"IF(AF78>=1,\"要是正\",IF(AG78=1,\"既存不適格\",IF(AE78>=1,\"指摘なし\")))","v":false},0,{"$f":"AM78+AI78","v":0},"AND($N10<>\"\",$AM78=1,$O78=\"\")",null,0]
[null,null,"(3)",{"$nulls":4},"発電機及び原動機の状況",null,"AND($H$9<>\"\",$AN$77>=1)","",{"$nulls":4},"",null,"IF(AND($H$9<>\"\",$AN$77=0,$AD79=0),\"○\",IF(P79=\"\",\"\",P79))",null,null,"","",{"$nulls":3},"AND($H$9<>\"\",$AN$77>=1,$AJ79=0)",{"$nulls":4},0,0,0,false,0,0,"AND($N10<>\"\",$AM79=1,$O79=\"\")",null,0]
[null,null,"(4)",{"$nulls":4},"燃料油、潤滑油及び冷却水の状況",null,"AND($H$9<>\"\",$AN$77>=1)","",{"$nulls":4},"",null,"IF(AND($H$9<>\"\",$AN$77=0,$AD80=0),\"○\",IF(P80=\"\",\"\",P80))",null,null,"","",{"$nulls":3},"AND($H$9<>\"\",$AN$77>=1,$AJ80=0)",{"$nulls":4},0,0,0,false,0,0,"AND($N10<>\"\",$AM80=1,$O80=\"\")",null,0]
[null,null,"(5)",{"$nulls":4},"始動用の空気槽の圧力",null,"AND($H$9<>\"\",$AN$77>=1)","",{"$nulls":4},"",null,"IF(AND($H$9<>\"\",$AN$77=0,$AD81=0),\"○\",IF(P81=\"\",\"\",P81))",null,null,"","",{"$nulls":3},"AND($H$9<>\"\",$AN$77>=1,$AJ81=0)",{"$nulls":4},0,0,0,false,0,0,"AND($N10<>\"\",$AM81=1,$O81=\"\")",null,0,{"$nulls":3},"【排煙】蓄電池"]
[null,null,"(6)",{"$nulls":4},"セル始動用蓄電池及び電気ケーブルの接続の状況",null,"AND($H$9<>\"\",$AN$77>=1)","",{"$nulls":4},"",null,"IF(AND($H$9<>\"\",$AN$77=0,$AD82=0),\"○\",IF(P82=\"\",\"\",P82))",null,null,"","",{"$nulls":3},"AND($H$9<>\"\",$AN$77>=1,$AJ82=0)",{"$nulls":4},0,0,0,false,0,0,"AND($N10<>\"\",$AM82=1,$O82=\"\")",null,0,{"$nulls":3},{"$f":"IF(報告書!K259=\"レ\",\"●\",\"\")","v":""}]
[null,null,"(7)",{"$nulls":4},"燃料及び冷却水の漏洩の状況",null,"AND($H$9<>\"\",$AN$77>=1)","",{"$nulls":4},"",null,"IF(AND($H$9<>\"\",$AN$77=0,$AD83=0),\"○\",IF(P83=\"\",\"\",P83))",null,null,"","",{"$nulls":3},"AND($H$9<>\"\",$AN$77>=1,$AJ83=0)",{"$nulls":4},0,0,0,false,0,0,"AND($N10<>\"\",$AM83=1,$O83=\"\")",null,0]
[null,null,"(8)",{"$nulls":4},"計器類及びランプ類の指示及び点灯の状況",null,"AND($H$9<>\"\",$AN$77>=1)","",{"$nulls":4},"",null,"IF(AND($H$9<>\"\",$AN$77=0,$AD84=0),\"○\",IF(P84=\"\",\"\",P84))",null,null,"","",{"$nulls":3},"AND($H$9<>\"\",$AN$77>=1,$AJ84=0)",{"$nulls":4},0,0,0,false,0,0,"AND($N10<>\"\",$AM84=1,$O84=\"\")",null,0]
[null,null,"(9)",{"$nulls":4},"自家用発電装置の取付けの状況",null,"AND($H$9<>\"\",$AN$77>=1)","",{"$nulls":4},"",null,"IF(AND($H$9<>\"\",$AN$77=0,$AD85=0),\"○\",IF(P85=\"\",\"\",P85))",null,null,"","",{"$nulls":3},"AND($H$9<>\"\",$AN$77>=1,$AJ85=0)",{"$nulls":4},0,0,0,false,0,0,"AND($N10<>\"\",$AM85=1,$O85=\"\")",null,0]
[null,null,"(10)",{"$nulls":4},"自家用発電機室の給排気の状況（屋内に設置されている場合に限る。）",null,"AND($H$9<>\"\",$AN$77>=1)","",{"$nulls":4},"",null,"IF(AND($H$9<>\"\",$AN$77=0,$AD86=0),\"○\",IF(P86=\"\",\"\",P86))",null,null,"","",{"$nulls":3},"AND($H$9<>\"\",$AN$77>=1,$AJ86=0)",{"$nulls":4},0,0,0,false,0,0,"AND($N10<>\"\",$AM86=1,$O86=\"\")",null,0]
[null,null,"(11)",{"$nulls":4},"接地線の接続の状況",null,"AND($H$9<>\"\",$AN$77>=1)","",{"$nulls":4},"",null,"IF(AND($H$9<>\"\",$AN$77=0,$AD87=0),\"○\",IF(P87=\"\",\"\",P87))",null,null,"","",{"$nulls":3},"AND($H$9<>\"\",$AN$77>=1,$AJ87=0)",{"$nulls":4},0,0,0,false,0,0,"AND($N10<>\"\",$AM87=1,$O87=\"\")",null,0]
[null,null,"(12)",{"$nulls":4},"絶縁抵抗",null,"AND($H$9<>\"\",$AN$77>=1)","",{"$nulls":4},"",null,"IF(AND($H$9<>\"\",$AN$77=0,$AD88=0),\"○\",IF(P88=\"\",\"\",P88))",null,null,"","",{"$nulls":3},"AND($H$9<>\"\",$AN$77>=1,$AJ88=0)",{"$nulls":4},0,0,0,false,0,0,"AND($N10<>\"\",$AM88=1,$O88=\"\")",null,0]
[null,null,"(13)",{"$nulls":3},"自家用発電装置の性能","電源の切替えの状況",null,"AND($H$9<>\"\",$AN$77>=1)","",{"$nulls":4},"",null,"IF(AND($H$9<>\"\",$AN$77=0,$AD89=0),\"○\",IF(P89=\"\",\"\",P89))",null,null,"","",{"$nulls":3},"AND($H$9<>\"\",$AN$77>=1,$AJ89=0)",{"$nulls":4},0,0,0,false,0,0,"AND($N10<>\"\",$AM89=1,$O89=\"\")",null,0]
[null,null,"(14)",{"$nulls":4},"始動の状況",null,"AND($H$9<>\"\",$AN$77>=1)","",{"$nulls":4},"",null,"IF(AND($H$9<>\"\",$AN$77=0,$AD90=0),\"○\",IF(P90=\"\",\"\",P90))",null,null,"","",{"$nulls":3},"AND($H$9<>\"\",$AN$77>=1,$AJ90=0)",{"$nulls":4},0,0,0,false,0,0,"AND($N10<>\"\",$AM90=1,$O90=\"\")",null,0]
[null,null,"(15)",{"$nulls":4},"運転の状況",null,"AND($H$9<>\"\",$AN$77>=1)","",{"$nulls":4},"",null,"IF(AND($H$9<>\"\",$AN$77=0,$AD91=0),\"○\",IF(P91=\"\",\"\",P91))",null,null,"","",{"$nulls":3},"AND($H$9<>\"\",$AN$77>=1,$AJ91=0)",{"$nulls":4},0,0,0,false,0,0,"AND($N10<>\"\",$AM91=1,$O91=\"\")",null,0]
[null,null,"(16)",{"$nulls":4},"排気の状況",null,"AND($H$9<>\"\",$AN$77>=1)","",{"$nulls":4},"",null,"IF(AND($H$9<>\"\",$AN$77=0,$AD92=0),\"○\",IF(P92=\"\",\"\",P92))",null,null,"","",{"$nulls":3},"AND($H$9<>\"\",$AN$77>=1,$AJ92=0)",{"$nulls":4},0,0,0,false,0,0,"AND($N10<>\"\",$AM92=1,$O92=\"\")",null,0]
[null,null,"(17)",{"$nulls":4},"コンプレッサー、燃料ポンプ、冷却水ポンプ等の補機類の作動の状況",null,"AND($H$9<>\"\",$AN$77>=1)","",{"$nulls":4},"",null,"IF(AND($H$9<>\"\",$AN$77=0,$AD93=0),\"○\",IF(P93=\"\",\"\",P93))",null,null,"","",{"$nulls":3},"AND($H$9<>\"\",$AN$77>=1,$AJ93=0)",{"$nulls":4},0,0,0,false,0,{"$f":"AM93+AI93","v":0},"AND($N10<>\"\",$AM93=1,$O93=\"\")",null,{"$f":"AE93+AF93+AG93","v":0}]
[]
[]
[]
[]
[]
[null,null,7,"上記以外の検査項目等",{"$nulls":16},{"$f":"U100&U101&U102&U103&U104&U105&U106&U107&U108&U109","v":""},{"$f":"V100&V101&V102&V103&V104&V105&V106&V107&V108&V109","v":""},{"$f":"IF(U99=\"\",\"\",$C99)","v":""},{"$f":"IF(V99=\"\",\"\",$C99)","v":""},{"$nulls":10},{"$f":"COUNTA(AI25:AI93)","v":40},{"$f":"SUM(AJ25:AJ98)","v":0}]
[null,null,{"$f":"IF(D100=\"\",\"\",\"(1)\")","v":""},{"$nulls":17},{"$f":"IF(AND(M100=\"○\",N100=\"\"),C100,\"\")","v":""},{"$f":"IF(AND(M100=\"○\",N100=\"○\"),C100,\"\")","v":""},{"$nulls":8},{"$f":"COUNTIF(L100,\"○\")","v":0},{"$f":"COUNTIF(M100,\"○\")-AG100","v":0},{"$f":"COUNTIF(N100,\"○\")","v":0},{"$f":"IF(AF100>=1,\"要是正\",IF(AG100=1,\"既存不適格\",IF(AE100>=1,\"指摘なし\")))","v":false},{"$f":"AI99+AL110","v":40},{"$f":"AJ99+AM110","v":0},"AND($N10<>\"\",$AM100=1,$O100=\"\")",null,{"$f":"AE100+AF100+AG100","v":0}]
[null,null,{"$f":"IF(D101=\"\",\"\",\"(2)\")","v":""},{"$nulls":17},{"$f":"IF(AND(M101=\"○\",N101=\"\"),C101,\"\")","v":""},{"$f":"IF(AND(M101=\"○\",N101=\"○\"),C101,\"\")","v":""},{"$nulls":8},{"$f":"COUNTIF(L101,\"○\")","v":0},{"$f":"COUNTIF(M101,\"○\")-AG101","v":0},{"$f":"COUNTIF(N101,\"○\")","v":0},{"$f":"IF(AF101>=1,\"要是正\",IF(AG101=1,\"既存不適格\",IF(AE101>=1,\"指摘なし\")))","v":false},null,{"$f":"IF(AI100=AJ100,\"YES\",\"NO\")","v":"NO"},"AND($N10<>\"\",$AM101=1,$O101=\"\")",null,{"$f":"AE101+AF101+AG101","v":0}]
[null,null,{"$f":"IF(D102=\"\",\"\",\"(3)\")","v":""},{"$nulls":17},"","",{"$nulls":8},0,0,0,false,null,null,"AND($N10<>\"\",$AM102=1,$O102=\"\")",null,0]
[null,null,{"$f":"IF(D103=\"\",\"\",\"(4)\")","v":""},{"$nulls":17},"","",{"$nulls":8},0,0,0,false,"AND($N10<>\"\",$AM103=1,$O103=\"\")",{"$nulls":3},0]
[null,null,{"$f":"IF(D104=\"\",\"\",\"(5)\")","v":""},{"$nulls":17},"","",{"$nulls":8},0,0,0,false,"AND($N10<>\"\",$AM104=1,$O104=\"\")",{"$nulls":3},0]
[null,null,{"$f":"IF(D105=\"\",\"\",\"(6)\")","v":""},{"$nulls":17},"","",{"$nulls":8},0,0,0,false,"AND($N10<>\"\",$AM105=1,$O105=\"\")",{"$nulls":3},0]
[null,null,{"$f":"IF(D106=\"\",\"\",\"(7)\")","v":""},{"$nulls":17},"","",{"$nulls":8},0,0,0,false,"AND($N10<>\"\",$AM106=1,$O106=\"\")",{"$nulls":3},0]
[null,null,{"$f":"IF(D107=\"\",\"\",\"(8)\")","v":""},{"$nulls":17},"","",{"$nulls":8},0,0,0,false,"AND($N10<>\"\",$AM107=1,$O107=\"\")","指摘なし",{"$f":"COUNTIF($AH$25:$AH$109,AJ107)","v":0},{"$f":"IF(AK108>=1,\"要是正\",IF(AND(AK109>=1,AK108=0),\"既存不適格\",IF(AK107>=1,\"指摘なし\")))","v":false},0]
[null,null,{"$f":"IF(D108=\"\",\"\",\"(9)\")","v":""},{"$nulls":17},"","",{"$nulls":8},0,0,0,false,"AND($N10<>\"\",$AM108=1,$O108=\"\")","要是正",{"$f":"COUNTIF($AH$25:$AH$109,AJ108)","v":0},null,0]
[null,null,{"$f":"IF(D109=\"\",\"\",\"(10)\")","v":""},{"$nulls":17},{"$f":"IF(AND(M109=\"○\",N109=\"\"),C109,\"\")","v":""},"",{"$nulls":8},0,0,0,false,"AND($N10<>\"\",$AM109=1,$O109=\"\")","既存不適格",{"$f":"COUNTIF($AH$25:$AH$109,AJ109)","v":0},null,0]
[null,null,"特記事項",{"$nulls":17},{"$f":"W24&U24&Y24&W31&U31&AA31&W42&U42&Y42&W54&U54&Y54&W62&U62&Y62&W76&U76&Y76&W99&U99","v":""},{"$f":"X24&V24&Z24&X31&V31&AB31&X42&V42&Z42&X54&V54&Z54&X62&V62&Z62&X76&V76&Z76&X99&V99","v":""},{"$f":"IF(U110=\"\",\"\",\"の指摘あり\")","v":""},{"$f":"IF(V110=\"\",\"\",\"の指摘あり\")","v":""},{"$nulls":12},{"$f":"SUM(AK107:AK109)","v":0},{"$f":"COUNTA(D100:I109)","v":0},{"$f":"SUM(AM100:AM109)","v":0}]
[null,null,"番号","検査項目等",{"$nulls":3},"指摘の具体的内容等","改善策の具体的内容等",{"$nulls":5},"改善（予定）年月",{"$nulls":5},{"$f":"IF(U110=\"\",\"\",U110&\"　に要是正\")","v":""},{"$f":"IF(V110=\"\",\"\",V110&\"　に既存不適格\")","v":""}]
[{"$nulls":3},{"$f":"IFERROR(VLOOKUP(C112,リスト_検査項目内容_非照,2,0),\"\")","v":""},{"$nulls":11},{"$f":"LEN(O112)","v":0},{"$nulls":3},{"$f":"U112","v":""},{"$f":"U111&W110","v":""},null,"AND(($AK108+$AK109)>=1,$C112=\"\")","AND($C112<>\"\",$O112=\"\")",{"$f":"IF(AND(P112=7,Z112=\"年\"),MID(O112,2,2)+2018,IF(AND(P112=8,AC112>=10),MID(O112,2,2)+2018,IF(P112<5,\"\",IF(O112=\"\",\"\",MID(O112,2,1)+2018))))","v":""},{"$f":"IF(P112=8,MID(O112,5,1),MID(O112,4,1))","v":""},{"$f":"IF(P112=8,MID(O112,6,1),IF(P112=6,\"0\",MID(O112,5,1)))","v":""},{"$f":"IF(Z112=\"年\",AA112,IF(P112>6,Z112&AA112,Z112))","v":""},{"$f":"IF(Z112=\"年\",TEXT(AA112,\"00\"),TEXT(AB112,\"00\"))","v":""},{"$f":"Y112&\"/\"&AC112","v":"/"},{"$f":"MID(AD112,1,1)","v":"/"},{"$f":"MID(AD112,3,2)","v":""},1,{"$f":"TEXT(AG112,\"00\")","v":"01"},{"$f":"AD112&\"/\"&AH112","v":"//01"},{"$f":"IF(P112<5,\"\",IF(O112=\"\",\"\",VALUE(AI112)))","v":""},null,{"$f":"IF(P112=0,\"\",IF(P112>5,\"有\",IF(OR(P112=4,P112=2),\"無\")))","v":""}]
[{"$nulls":3},"",{"$nulls":11},{"$f":"LEN(O113)","v":0},{"$nulls":6},"AND(($AK108+$AK109)>=2,$C113=\"\")","AND($C113<>\"\",$O113=\"\")",{"$f":"IF(AND(P113=7,Z113=\"年\"),MID(O113,2,2)+2018,IF(AND(P113=8,AC113>=10),MID(O113,2,2)+2018,IF(P113<5,\"\",IF(O113=\"\",\"\",MID(O113,2,1)+2018))))","v":""},{"$f":"IF(P113=8,MID(O113,5,1),MID(O113,4,1))","v":""},{"$f":"IF(P113=8,MID(O113,6,1),IF(P113=6,\"0\",MID(O113,5,1)))","v":""},{"$f":"IF(Z113=\"年\",AA113,IF(P113>6,Z113&AA113,Z113))","v":""},{"$f":"IF(Z113=\"年\",TEXT(AA113,\"00\"),TEXT(AB113,\"00\"))","v":""},{"$f":"Y113&\"/\"&AC113","v":"/"},{"$f":"MID(AD113,1,1)","v":"/"},{"$f":"MID(AD113,3,2)","v":""},1,{"$f":"TEXT(AG113,\"00\")","v":"01"},{"$f":"AD113&\"/\"&AH113","v":"//01"},{"$f":"IF(P113<5,\"\",IF(O113=\"\",\"\",VALUE(AI113)))","v":""},null,{"$f":"IF(P113=0,\"\",IF(P113>5,\"有\",IF(OR(P113=4,P113=2),\"無\")))","v":""}]
[{"$nulls":3},"",{"$nulls":11},0,{"$nulls":3},{"$f":"U114","v":""},{"$f":"V111&X110","v":""},null,"AND(($AK108+$AK109)>=3,$C114=\"\")","AND($C114<>\"\",$O114=\"\")","","","","","","/","/","",1,"01",{"$f":"AD114&\"/\"&AH114","v":"//01"},"",null,""]
[{"$nulls":3},"",{"$nulls":11},0,{"$nulls":6},"AND(($AK108+$AK109)>=4,$C115=\"\")","AND($C115<>\"\",$O115=\"\")","","","","","","/","/","",1,"01",{"$f":"AD115&\"/\"&AH115","v":"//01"},"",null,""]
[{"$nulls":3},"",{"$nulls":11},0,{"$nulls":6},"AND(($AK108+$AK109)>=5,$C116=\"\")","AND($C116<>\"\",$O116=\"\")","","","","","","/","/","",1,"01",{"$f":"AD116&\"/\"&AH116","v":"//01"},"",null,""]
[{"$nulls":3},"",{"$nulls":11},0,{"$nulls":6},"AND(($AK108+$AK109)>=6,$C117=\"\")","AND($C117<>\"\",$O117=\"\")","","","","","","/","/","",2,"02",{"$f":"AD117&\"/\"&AH117","v":"//02"},"",null,""]
[{"$nulls":3},"",{"$nulls":11},0,{"$nulls":6},"AND(($AK108+$AK109)>=7,$C118=\"\")","AND($C118<>\"\",$O118=\"\")","","","","","","/","/","",3,"03","//03","",null,""]
[{"$nulls":3},"",{"$nulls":11},0,{"$nulls":6},"AND(($AK108+$AK109)>=8,$C119=\"\")","AND($C119<>\"\",$O119=\"\")","","","","","","/","/","",4,"04","//04","",null,""]
[{"$nulls":3},"",{"$nulls":11},0,{"$nulls":6},"AND(($AK108+$AK109)>=9,$C120=\"\")","AND($C120<>\"\",$O120=\"\")","","","","","","/","/","",5,"05","//05","",null,""]
[{"$nulls":3},"",{"$nulls":11},0,{"$nulls":6},"AND(($AK108+$AK109)>=10,$C121=\"\")","AND($C121<>\"\",$O121=\"\")","","","","","","/","/","",6,"06","//06","",null,""]
[{"$nulls":37},"有",{"$f":"COUNTIF($AL$112:$AL$121,\"有\")","v":0}]
[null,null,"（注意）",{"$nulls":34},"無",{"$f":"COUNTIF($AL$112:$AL$121,\"無\")","v":0}]
[null,null,"①","　この書類は、建築物ごとに作成してください。",{"$nulls":34},{"$f":"SUM(AM122:AM123)","v":0}]
[null,null,"②","　記入欄が不足する場合は、枠を拡大、行を追加して記入するか、別紙に必要な事項を記入して添えてください。",{"$nulls":33},{"$f":"IF(AM124=0,\"\",IF(AM124-AM123=0,\"無\",\"有\"))","v":""},{"$f":"IF(AL125=\"無\",\"\",AI145)","v":""},{"$f":"IF(AL125=\"無\",\"\",AJ145)","v":""}]
[null,null,"③","　「当該検査に関与した検査者」欄は、建築基準法施行規則別記第36号の６様式第二面12欄に記入した検査者について記入し、「検査者番号」欄に検査者を特定できる番号、記号等を記入してください。当該建築設備の検査を行った検査者が１人の場合は、その他の検査者欄は記入不要です。",{"$nulls":33},{"$f":"IF(O112:O121=\"\",\"\",IF(AL125=\"無\",\"無\",\"(\"&AM125&\"年\"&AN125&\"月）\"))","v":""}]
[null,null,"④","　検査対象建築物に非常用の照明装置がない場合は、この様式は記入不要です。",{"$nulls":33},""]
[null,null,"⑤","　該当しない検査項目等がある場合は、当該項目の「検査結果」欄及び「担当検査者番号」欄に「―」を記入してください。",{"$nulls":33},""]
[null,null,"⑥","　「検査結果」欄は、別表第３（ろ）欄に掲げる各検査事項ごとに記入してください。",{"$nulls":33},""]
[null,null,"⑦","　「検査結果」欄のうち「要是正」欄は、別表第３（ろ）欄に掲げる検査事項について同表（に）欄に掲げる判定基準に該当する場合に○印を記入してください。",{"$nulls":33},""]
[null,null,"⑧","　「検査結果」欄のうち「指摘なし」欄は、⑦に該当しない場合に○印を記入してください。",{"$nulls":33},""]
[null,null,"⑨","　「既存不適格」欄は、「要是正」欄に○印を記入した場合で、建築基準法第３条第２項の規定の適用を受けているものであることが確認されたときは、○印を記入してください。",{"$nulls":33},""]
[null,null,"⑩","　「担当検査者番号」欄は、「検査に関与した検査者」欄で記入した番号、記号等を記入してください。ただし、当該建築設備の検査を行った検査者が1人の場合は、記入不要です。",{"$nulls":33},""]
[null,null,"⑪","　２(２)「照度」については、非常用の照明装置の照度測定表（別表４）を添付してください。",{"$nulls":33},""]
[null,null,"⑫","　７「上記以外の検査項目等」欄は、第２第２項の規定により特定行政庁が検査項目等を付加している場合に、当該検査項目等を追加し、⑥から⑩までに準じて検査結果等を記入してください。また、第２第３項に規定する認定検査項目等が定められている場合に、当該認定検査項目等を追加し、⑥から⑩までに準じて検査結果等を記入してください。",{"$nulls":33},""]
[null,null,"⑬","　「特記事項」は、検査の結果、要是正の指摘があった場合のほか、指摘がない場合にあっても特記すべき事項がある場合に、該当する検査項目等の番号、検査項目等を記入し、「指摘の具体的内容等」欄に指摘又は特記すべき事項の具体的内容を記入するとともに、改善済みの場合及び改善策が明らかになっている場合は「改善策の具体的内容等」欄にその内容を記入し、改善した場合は「改善（予定）年月」欄に当該年月を記入し、改善予定年月が明らかになっている場合は「改善（予定）年月」欄に当該年月を（　）書きで記入してください。"]
[null,null,"⑭","要是正とされた検査項目（既存不適格の場合を除く。）については、要是正とされた部分を撮影した写真を別添の様式に従い添付してください。"]
[]
[]
[]
[]
[]
[]
[{"$nulls":26},"順位"]
[{"$nulls":26},{"$f":"IF(AB145=\"\",\"\",RANK(AB145,$AB$145:$AB$154,1))","v":""},{"$f":"IF(AJ112=\"\",\"\",IF(O112=\"\",\"\",VALUE(AJ112)))","v":""},{"$f":"IF(AJ112=\"\",\"\",IF(O112=\"\",\"\",Y112-2018))","v":""},{"$f":"AB112","v":""},{"$f":"IF(AA145=\"\",\"\",AC145&\"　\"&AD145)","v":""},1,{"$f":"IF(AA155=0,\"\",VLOOKUP(AF145,$AA$145:$AA$154,1,FALSE))","v":""},{"$f":"IF(AA155=0,\"\",IF(AF145=AG145,VLOOKUP(AF145,$AA$145:$AE$154,5,FALSE),\"\"))","v":""},{"$f":"IF(MID(AH145,2,1)>=0,LEFT(AH145,2),LEFT(AH145,1))","v":""},{"$f":"TRIM(RIGHT(AH145,2))","v":""}]
[{"$nulls":26},{"$f":"IF(AB146=\"\",\"\",RANK(AB146,$AB$145:$AB$154,1))","v":""},{"$f":"IF(AJ113=\"\",\"\",IF(O113=\"\",\"\",VALUE(AJ113)))","v":""},{"$f":"IF(AJ113=\"\",\"\",IF(O113=\"\",\"\",Y113-2018))","v":""},{"$f":"AB113","v":""},{"$f":"IF(AA146=\"\",\"\",AC146&\"　\"&AD146)","v":""},2,{"$f":"IF(AA155=0,\"\",VLOOKUP(AF146,$AA$145:$AA$154,1,FALSE))","v":""},{"$f":"IF(AA155=0,\"\",IF(AF146=AG146,VLOOKUP(AF146,$AA$145:$AE$154,5,FALSE),\"\"))","v":""},{"$f":"IF(MID(AH146,2,1)>=0,LEFT(AH146,2),LEFT(AH146,1))","v":""},{"$f":"TRIM(RIGHT(AH146,2))","v":""}]
[{"$nulls":26},{"$f":"IF(AB147=\"\",\"\",RANK(AB147,$AB$145:$AB$154,1))","v":""},{"$f":"IF(AJ114=\"\",\"\",IF(O114=\"\",\"\",VALUE(AJ114)))","v":""},"","",{"$f":"IF(AA147=\"\",\"\",AC147&\"　\"&AD147)","v":""},3,{"$f":"IF(AA155=0,\"\",VLOOKUP(AF147,$AA$145:$AA$154,1,FALSE))","v":""},{"$f":"IF(AA155=0,\"\",IF(AF147=AG147,VLOOKUP(AF147,$AA$145:$AE$154,5,FALSE),\"\"))","v":""},"",""]
[{"$nulls":26},"","","","","",4,{"$f":"IF(AA155=0,\"\",VLOOKUP(AF148,$AA$145:$AA$154,1,FALSE))","v":""},{"$f":"IF(AA155=0,\"\",IF(AF148=AG148,VLOOKUP(AF148,$AA$145:$AE$154,5,FALSE),\"\"))","v":""},"",""]
[{"$nulls":26},"","","","","",5,{"$f":"IF(AA155=0,\"\",VLOOKUP(AF149,$AA$145:$AA$154,1,FALSE))","v":""},{"$f":"IF(AA155=0,\"\",IF(AF149=AG149,VLOOKUP(AF149,$AA$145:$AE$154,5,FALSE),\"\"))","v":""},"",""]
[{"$nulls":26},"","","","","",6,{"$f":"IF(AA155=0,\"\",VLOOKUP(AF150,$AA$145:$AA$154,1,FALSE))","v":""},{"$f":"IF(AA155=0,\"\",IF(AF150=AG150,VLOOKUP(AF150,$AA$145:$AE$154,5,FALSE),\"\"))","v":""},"",""]
[{"$nulls":26},"","","","","",7,{"$f":"IF(AA155=0,\"\",VLOOKUP(AF151,$AA$145:$AA$154,1,FALSE))","v":""},{"$f":"IF(AA155=0,\"\",IF(AF151=AG151,VLOOKUP(AF151,$AA$145:$AE$154,5,FALSE),\"\"))","v":""},"",""]
[{"$nulls":26},"","","","","",8,{"$f":"IF(AA155=0,\"\",VLOOKUP(AF152,$AA$145:$AA$154,1,FALSE))","v":""},{"$f":"IF(AA155=0,\"\",IF(AF152=AG152,VLOOKUP(AF152,$AA$145:$AE$154,5,FALSE),\"\"))","v":""},"",""]
[{"$nulls":26},"","","","","",9,{"$f":"IF(AA155=0,\"\",VLOOKUP(AF153,$AA$145:$AA$154,1,FALSE))","v":""},{"$f":"IF(AA155=0,\"\",IF(AF153=AG153,VLOOKUP(AF153,$AA$145:$AE$154,5,FALSE),\"\"))","v":""},"",""]
[{"$nulls":26},"","","","","",10,{"$f":"IF(AA155=0,\"\",VLOOKUP(AF154,$AA$145:$AA$154,1,FALSE))","v":""},{"$f":"IF(AA155=0,\"\",IF(AF154=AG154,VLOOKUP(AF154,$AA$145:$AE$154,5,FALSE),\"\"))","v":""},"",""]
[{"$nulls":26},{"$f":"SUM(AA145:AA154)","v":0}]

{"sheet":"水検査結果表","index":6,"n_rows":139,"n_cols":46,"rows_kept":139,"merged":[[1,2,1,14],[1,18,1,19],[2,2,2,14],[2,18,3,43],[3,2,3,14],[7,2,10,4],[7,7,7,12],[7,13,7,14],[8,7,8,12],[8,13,8,14],[9,6,10,6],[9,7,9,12],[9,13,9,14],[10,7,10,12],[10,13,10,14],[11,2,11,14],[12,2,12,14],[13,2,13,14],[14,2,14,14],[15,2,17,2],[15,3,17,8],[15,10,17,10],[15,11,15,13],[15,14,17,14],[16,11,17,11],[23,3,23,14],[24,3,34,6],[24,7,24,8],[25,7,25,8],[26,7,26,8],[27,7,27,8],[28,7,28,8],[29,7,29,8],[30,7,30,8],[31,7,31,8],[32,7,32,8],[33,7,33,8],[34,7,34,8],[40,3,40,14],[41,3,47,6],[41,7,41,8],[42,7,42,8],[43,7,43,8],[44,7,44,8],[45,7,45,8],[46,7,46,8],[47,7,47,8],[48,3,51,6],[48,7,48,8],[49,7,49,8],[50,7,50,8],[51,7,51,8],[56,3,56,14],[57,3,62,6],[57,7,57,8],[58,7,58,8],[59,7,59,8],[60,7,60,8],[61,7,61,8],[62,7,62,8],[63,3,67,6],[63,7,63,8],[64,7,64,8],[65,7,65,8],[66,7,66,8],[67,7,67,8],[68,3,78,3],[68,7,68,8],[69,7,69,8],[70,7,70,8],[71,6,76,6],[71,7,71,8],[72,7,72,8],[73,7,73,8],[74,7,74,8],[75,7,75,8],[76,7,76,8],[77,6,78,6],[77,7,77,8],[78,7,78,8],[82,3,82,14],[83,3,83,8],[84,3,84,8],[85,3,85,8],[86,3,86,8],[87,3,87,8],[88,3,88,8],[89,3,89,8],[90,3,90,8],[91,3,91,8],[92,3,92,8],[93,2,93,6],[94,3,94,6],[94,8,94,13],[95,3,95,6],[95,8,95,13],[96,3,96,6],[96,8,96,13],[97,3,97,6],[97,8,97,13],[98,3,98,6],[98,8,98,13],[99,3,99,6],[99,8,99,13],[100,3,100,6],[100,8,100,13],[101,3,101,6],[101,8,101,13],[102,3,102,6],[102,8,102,13],[103,3,103,6],[103,8,103,13],[104,3,104,6],[104,8,104,13],[105,2,105,14],[106,2,106,14],[107,3,107,14],[108,3,108,14],[109,3,109,14],[110,3,110,14],[111,3,111,14],[112,3,112,14],[113,3,113,14],[114,3,114,14],[115,3,115,14],[116,3,116,14],[117,3,117,14],[118,3,118,14],[119,3,119,14]]}
[null,null,"別記第四号（Ａ４）",{"$nulls":17},"○",{"$nulls":18},"○"]
[null,null,"検査結果表",{"$nulls":15},{"$f":"IF(報告_2_16給検査者代表_ハ_氏名=\"\",\"-----\",IF(AK94=0,\"未入力\",IF(AJ85=\"YES\",水検査結果表!AL91,\"未入力\")))","v":"-----"},null,null,"IF(報告_2_16給検査者代表_ハ_氏名=\"\",\"-----\",IF(AK94=0,\"未入力\",IF(AJ85=\"YES\",水検査結果表!AL91,\"未入力\")))"]
[null,null,"（給水設備及び排水設備）",{"$nulls":15},{"$f":"IF(実施状況表!BT41=\"\",\"\",実施状況表!BT41)","v":""}]
[]
[]
[]
[]
[null,null,"当該検査に関与した検査者",{"$nulls":4},"　　氏　名",{"$nulls":5},"検査者番号"]
[{"$nulls":6},"代表となる検査者",{"$f":"IF(報告_2_16給検査者代表_ハ_氏名=\"\",\"\",報告_2_16給検査者代表_ハ_氏名)","v":""}]
[{"$nulls":6},"その他の検査者",{"$f":"IF(報告_2_16給検査者他1_ハ_氏名=\"\",\"\",報告_2_16給検査者他1_ハ_氏名)","v":""}]
[{"$nulls":7},{"$f":"IF(報告_2_16給検査者他2_ハ_氏名=\"\",\"\",報告_2_16給検査者他2_ハ_氏名)","v":""}]
[]
[]
[]
[]
[null,null,"番号","検　査　項　目　等",{"$nulls":7},"検査結果",null,null,"担当\n検査者\n番号"]
[{"$nulls":11},"指摘\nなし","要是正"]
[{"$nulls":13},"既　存\n不適格"]
[]
[]
[]
[]
[]
[null,null,1,"飲料用の配管設備及び排水設備",{"$nulls":16},{"$f":"U25&U26&U27&U28&U29&U30&U31&U32&U33&U34&U35","v":""},{"$f":"V25&V26&V27&V28&V29&V30&V31&V32&V33&V34&V35","v":""},{"$f":"IF(U24=\"\",\"\",$C24)","v":""},{"$f":"IF(V24=\"\",\"\",$C24)","v":""},{"$f":"IF(W24=\"\",\"\",IF(W41&W57&W83=\"\",\"\",\"、\"))","v":""},{"$f":"IF(X24=\"\",\"\",IF(X41&X57&X83=\"\",\"\",\"、\"))","v":""},{"$nulls":15},"【イ．飲料水の配管設備】",null,"基","㎥"]
[null,null,"(1)","飲料用配管及び排水配管（隠蔽部分及び埋設部分を除く。）",{"$nulls":3},"配管の取付けの状況",null,"AND($H$9<>\"\",$AN$25>=1)",{"$f":"IF(AND($H$9<>\"\",$AN$25=0,$AD25=0),\"○\",IF(P25=\"\",\"\",P25))","v":""},{"$nulls":4},{"$f":"IF(AND(L25=\"\",M25=\"○\",N25=\"○\"),\"○\",IF(AND(L25=\"\",M25=\"○\",N25=\"\"),\"○\",IF(AND(L25=\"○\",M25=\"\",N25=\"\"),\"○\",IF(AND(L25=\"―\",M25=\"―\",N25=\"―\",O25=\"―\"),\"○\",\"\"))))","v":""},null,"IF(AND($H$9<>\"\",$AN$25=0,$AD25=0),\"○\",IF(P25=\"\",\"\",P25))",null,null,{"$f":"IF(AND(M25=\"○\",N25=\"\"),C25,\"\")","v":""},{"$f":"IF(AND(M25=\"○\",N25=\"○\"),C25,\"\")","v":""},null,null,{"$f":"IF(H9=\"\",\"\",\"―\")","v":""},null,"AND($N10<>\"\",$AD25=1,$O25=\"\")",null,null,{"$f":"AE25+AF25+AG25","v":0},{"$f":"COUNTIF(L25,\"○\")","v":0},{"$f":"COUNTIF(M25,\"○\")-AG25","v":0},{"$f":"COUNTIF(N25,\"○\")","v":0},{"$f":"IF(AF25>=1,\"要是正\",IF(AG25=1,\"既存不適格\",IF(AE25>=1,\"指摘なし\")))","v":false},{"$f":"IF(AD25=1,0,COUNTIF(P25,\"○\"))","v":0},{"$f":"AD25+AI25","v":0},null,"AND($H$9<>\"\",$AN$25>=1,$AJ25=0)","AND($H$9<>\"\",$AN$25>=1,$AJ25=0)",{"$f":"COUNTIF(AQ25:AQ29,\"●\")","v":0},null,"給水タンク",{"$f":"IF(報告書!O410=\"レ\",\"●\",\"\")","v":""},{"$f":"報告書!V410","v":0},{"$f":"IF(報告書!Y410=\"\",\"\",報告書!Y410)","v":""}]
[null,null,"(2)",{"$nulls":4},"配管の腐食及び漏水の状況",null,"AND($H$9<>\"\",$AN$25>=1)","",{"$nulls":4},{"$f":"IF(AND(L26=\"\",M26=\"○\",N26=\"○\"),\"○\",IF(AND(L26=\"\",M26=\"○\",N26=\"\"),\"○\",IF(AND(L26=\"○\",M26=\"\",N26=\"\"),\"○\",IF(AND(L26=\"―\",M26=\"―\",N26=\"―\",O26=\"―\"),\"○\",\"\"))))","v":""},null,"IF(AND($H$9<>\"\",$AN$25=0,$AD26=0),\"○\",IF(P26=\"\",\"\",P26))",null,null,{"$f":"IF(AND(M26=\"○\",N26=\"\"),C26,\"\")","v":""},{"$f":"IF(AND(M26=\"○\",N26=\"○\"),C26,\"\")","v":""},null,null,{"$f":"IF(ISBLANK(N9),\"\",\"〃\")","v":""},null,"AND($N10<>\"\",$AD26=1,$O26=\"\")",null,null,{"$f":"AE26+AF26+AG26","v":0},{"$f":"COUNTIF(L26,\"○\")","v":0},{"$f":"COUNTIF(M26,\"○\")-AG26","v":0},{"$f":"COUNTIF(N26,\"○\")","v":0},{"$f":"IF(AF26>=1,\"要是正\",IF(AG26=1,\"既存不適格\",IF(AE26>=1,\"指摘なし\")))","v":false},{"$f":"IF(AD26=1,0,COUNTIF(P26,\"○\"))","v":0},{"$f":"AD26+AI26","v":0},null,"AND($H$9<>\"\",$AN$25>=1,$AJ26=0)","AND($H$9<>\"\",$AN$25>=1,$AJ26=0)",{"$f":"COUNTIF(AQ25:AQ26,\"●\")","v":0},null,"貯水タンク",{"$f":"IF(報告書!AE410=\"レ\",\"●\",\"\")","v":""},{"$f":"報告書!AL410","v":0},{"$f":"IF(報告書!AO410=\"\",\"\",報告書!AO410)","v":""}]
[null,null,"(3)",{"$nulls":4},"配管が貫通する箇所の損傷防止措置の状況",null,"AND($H$9<>\"\",$AN$25>=1)","",{"$nulls":4},"",null,"IF(AND($H$9<>\"\",$AN$25=0,$AD27=0),\"○\",IF(P27=\"\",\"\",P27))",null,null,"","",null,null,{"$f":"IF(ISBLANK(N9),\"\",N9)","v":""},null,"AND($N10<>\"\",$AD27=1,$O27=\"\")",null,null,0,0,0,0,false,0,0,null,"AND($H$9<>\"\",$AN$25>=1,$AJ27=0)","AND($H$9<>\"\",$AN$25>=1,$AJ27=0)"]
[null,null,"(4)",{"$nulls":4},"継手類の取付けの状況",null,"AND($H$9<>\"\",$AN$25>=1)","",{"$nulls":4},"",null,"IF(AND($H$9<>\"\",$AN$25=0,$AD28=0),\"○\",IF(P28=\"\",\"\",P28))",null,null,"","",null,{"$f":"IF(Y28=\"\",\"\",\"・\")","v":""},{"$f":"IF(ISBLANK(N10),\"\",N10)","v":""},null,"AND($N10<>\"\",$AD28=1,$O28=\"\")",null,null,0,0,0,0,false,0,0,null,"AND($H$9<>\"\",$AN$25>=1,$AJ28=0)","AND($H$9<>\"\",$AN$25>=1,$AJ28=0)",null,null,"【ロ．排水設備】"]
[null,null,"(5)",{"$nulls":4},"保温措置の状況",null,"AND($H$9<>\"\",$AN$25>=1)","",{"$nulls":4},"",null,"IF(AND($H$9<>\"\",$AN$25=0,$AD29=0),\"○\",IF(P29=\"\",\"\",P29))",null,null,"","",null,{"$f":"IF(Y29=\"\",\"\",\"・\")","v":""},{"$f":"IF(ISBLANK(N10),\"\",IF(ISBLANK(N11),Y27&X28&Y28,IF(Y28=\"\",\"\",N11)))","v":""},null,"AND($N10<>\"\",$AD29=1,$O29=\"\")",null,null,0,0,0,0,false,0,0,null,"AND($H$9<>\"\",$AN$25>=1,$AJ29=0)","AND($H$9<>\"\",$AN$25>=1,$AJ29=0)",{"$f":"COUNTIF(AQ29,\"●\")","v":0},null,"排水槽",{"$f":"IF(報告書!O412=\"レ\",\"●\",\"\")","v":""}]
[null,null,"(6)",{"$nulls":4},"防火区画等の貫通措置の状況",null,"AND($H$9<>\"\",$AN$25>=1)","",{"$nulls":4},"",null,"IF(AND($H$9<>\"\",$AN$25=0,$AD30=0),\"○\",IF(P30=\"\",\"\",P30))",null,null,"","",null,null,{"$f":"IF(ISBLANK(N11),\"\",Y27&X28&Y28)","v":""},null,"AND($N10<>\"\",$AD30=1,$O30=\"\")",null,null,0,0,0,0,false,0,0,null,"AND($H$9<>\"\",$AN$25>=1,$AJ30=0)","AND($H$9<>\"\",$AN$25>=1,$AJ30=0)"]
[null,null,"(7)",{"$nulls":4},"配管の支持金物",null,"AND($H$9<>\"\",$AN$25>=1)","",{"$nulls":4},"",null,"IF(AND($H$9<>\"\",$AN$25=0,$AD31=0),\"○\",IF(P31=\"\",\"\",P31))",null,null,"","",null,null,{"$f":"IF(Y30=\"\",\"\",Y27&X29&Y29)","v":""},null,"AND($N10<>\"\",$AD31=1,$O31=\"\")",null,null,0,0,0,0,false,0,0,null,"AND($H$9<>\"\",$AN$25>=1,$AJ31=0)","AND($H$9<>\"\",$AN$25>=1,$AJ31=0)"]
[null,null,"(8)",{"$nulls":4},"飲料水系統配管の汚染防止措置の状況",null,"AND($H$9<>\"\",$AN$25>=1)","",{"$nulls":4},"",null,"IF(AND($H$9<>\"\",$AN$25=0,$AD32=0),\"○\",IF(P32=\"\",\"\",P32))",null,null,"","",null,null,{"$f":"IF(Y30=\"\",\"\",Y28&X29&Y29)","v":""},null,"AND($N10<>\"\",$AD32=1,$O32=\"\")",null,null,0,0,0,0,false,0,0,null,"AND($H$9<>\"\",$AN$25>=1,$AJ32=0)","AND($H$9<>\"\",$AN$25>=1,$AJ32=0)"]
[null,null,"(9)",{"$nulls":4},"止水弁の設置の状況",null,"AND($H$9<>\"\",$AN$25>=1)","",{"$nulls":4},"",null,"IF(AND($H$9<>\"\",$AN$25=0,$AD33=0),\"○\",IF(P33=\"\",\"\",P33))",null,null,"","",null,null,{"$f":"IF(Y30=\"\",\"\",Y30&X29&Y29)","v":""},null,"AND($N10<>\"\",$AD33=1,$O33=\"\")",null,null,0,0,0,0,false,0,0,null,"AND($H$9<>\"\",$AN$25>=1,$AJ33=0)","AND($H$9<>\"\",$AN$25>=1,$AJ33=0)"]
[null,null,"(10)",{"$nulls":4},"ウォーターハンマーの防止措置の状況",null,"AND($H$9<>\"\",$AN$25>=1)","",{"$nulls":4},"",null,"IF(AND($H$9<>\"\",$AN$25=0,$AD34=0),\"○\",IF(P34=\"\",\"\",P34))",null,null,"","",{"$nulls":4},"AND($N10<>\"\",$AD34=1,$O34=\"\")",null,null,0,0,0,0,false,0,0,null,"AND($H$9<>\"\",$AN$25>=1,$AJ34=0)","AND($H$9<>\"\",$AN$25>=1,$AJ34=0)",null,null,"【ニ．給湯方式】","局所式","中央式"]
[null,null,"(11)",{"$nulls":4},"給湯管及び膨張管の設置の状況",null,"AND($H$9<>\"\",$AN$25>=1)","",{"$nulls":4},"",null,"IF(AND($H$9<>\"\",$AN$25=0,$AD35=0),\"○\",IF(P35=\"\",\"\",P35))",null,null,"","",{"$nulls":4},"AND($N10<>\"\",$AD35=1,$O35=\"\")","給湯管及び膨張管",{"$f":"COUNTIF(L35:N35,\"○\")","v":0},{"$f":"AE35+AF35+AG35","v":0},0,0,0,false,0,0,null,"AND($H$9<>\"\",$AN$25>=1,$AJ35=0,$AN$35>=1)","AND($H$9<>\"\",$AN$25>=1,$AJ35=0)",{"$f":"COUNTIF(AQ35:AR35,\"●\")","v":0},null,null,{"$f":"IF(報告書!L415=\"レ\",\"●\",\"\")","v":""},{"$f":"IF(報告書!R415=\"レ\",\"●\",\"\")","v":""}]
[]
[]
[]
[]
[]
[null,null,2,"飲料水の配管設備",{"$nulls":16},{"$f":"U42&U43&U44&U45&U46&U47&U48&U49&U50&U51&U52","v":""},{"$f":"V42&V43&V44&V45&V46&V47&V48&V49&V50&V51&V52","v":""},{"$f":"IF(U41=\"\",\"\",$C41)","v":""},{"$f":"IF(V41=\"\",\"\",$C41)","v":""},{"$f":"IF(W41=\"\",\"\",IF(W57&W83=\"\",\"\",\"、\"))","v":""},{"$f":"IF(X41=\"\",\"\",IF(X57&X83=\"\",\"\",\"、\"))","v":""}]
[null,null,"(1)","飲料用の給水タンク及び貯水タンク（以下「給水タンク等」という。）並びに給水ポンプ",{"$nulls":3},"給水タンク等の設置の状況",null,"AND($H$9<>\"\",$AN$26>=1)",{"$f":"IF(AND($H$9<>\"\",$AN$26=0,$AD42=0),\"○\",IF(P42=\"\",\"\",P42))","v":""},{"$nulls":4},{"$f":"IF(AND(L42=\"\",M42=\"○\",N42=\"○\"),\"○\",IF(AND(L42=\"\",M42=\"○\",N42=\"\"),\"○\",IF(AND(L42=\"○\",M42=\"\",N42=\"\"),\"○\",IF(AND(L42=\"―\",M42=\"―\",N42=\"―\",O42=\"―\"),\"○\",\"\"))))","v":""},null,"IF(AND($H$9<>\"\",$AN$26=0,$AD42=0),\"○\",IF(P42=\"\",\"\",P42))",null,null,{"$f":"IF(AND(M42=\"○\",N42=\"\"),C42,\"\")","v":""},{"$f":"IF(AND(M42=\"○\",N42=\"○\"),C42,\"\")","v":""},{"$nulls":4},"AND($N10<>\"\",$AD42=1,$O42=\"\")","給水タンク等",{"$f":"COUNTIF(L42:N48,\"○\")","v":0},{"$f":"AE42+AF42+AG42","v":0},{"$f":"COUNTIF(L42,\"○\")","v":0},{"$f":"COUNTIF(M42,\"○\")-AG42","v":0},{"$f":"COUNTIF(N42,\"○\")","v":0},{"$f":"IF(AF42>=1,\"要是正\",IF(AG42=1,\"既存不適格\",IF(AE42>=1,\"指摘なし\")))","v":false},{"$f":"IF(AD42=1,0,COUNTIF(P42,\"○\"))","v":0},{"$f":"AD42+AI42","v":0},null,null,"AND($H$9<>\"\",$AN$26>=1,$AJ42=0)"]
[null,null,"(2)",{"$nulls":4},"給水タンク等の通気管、水抜き管、オーバーフロー管等の設置の状況",null,"AND($H$9<>\"\",$AN$26>=1)",{"$f":"IF(AND($H$9<>\"\",$AN$26=0,$AD43=0),\"○\",IF(P43=\"\",\"\",P43))","v":""},{"$nulls":4},"",null,"IF(AND($H$9<>\"\",$AN$26=0,$AD43=0),\"○\",IF(P43=\"\",\"\",P43))",null,null,{"$f":"IF(AND(M43=\"○\",N43=\"\"),C43,\"\")","v":""},{"$f":"IF(AND(M43=\"○\",N43=\"○\"),C43,\"\")","v":""},{"$nulls":4},"AND($N10<>\"\",$AD43=1,$O43=\"\")",null,null,0,{"$f":"COUNTIF(L43,\"○\")","v":0},{"$f":"COUNTIF(M43,\"○\")-AG43","v":0},{"$f":"COUNTIF(N43,\"○\")","v":0},{"$f":"IF(AF43>=1,\"要是正\",IF(AG43=1,\"既存不適格\",IF(AE43>=1,\"指摘なし\")))","v":false},0,{"$f":"AD43+AI43","v":0},null,null,"AND($H$9<>\"\",$AN$26>=1,$AJ43=0)"]
[null,null,"(3)",{"$nulls":4},"給水タンク等の腐食及び漏水の状況",null,"AND($H$9<>\"\",$AN$26>=1)",{"$f":"IF(AND($H$9<>\"\",$AN$26=0,$AD44=0),\"○\",IF(P44=\"\",\"\",P44))","v":""},{"$nulls":4},"",null,"IF(AND($H$9<>\"\",$AN$26=0,$AD44=0),\"○\",IF(P44=\"\",\"\",P44))",null,null,"","",{"$nulls":4},"AND($N10<>\"\",$AD44=1,$O44=\"\")",null,null,0,0,0,0,false,0,0,null,null,"AND($H$9<>\"\",$AN$26>=1,$AJ44=0)",null,null,"【ハ．圧力タンクの有無】"]
[null,null,"(4)",{"$nulls":4},"給水用圧力タンクの安全装置の状況",null,"AND($H$9<>\"\",$AN$26>=1,$AN45>=1)",{"$f":"IF($H$9=\"\",\"\",IF($AD$45=1,\"\",IF(AND($H$9<>\"\",$AN$26>=1,$AJ45=0,$AN45>=1),\"\",\"○\")))","v":""},{"$nulls":4},"",null,"IF($H$9=\"\",\"\",IF($AD$45=1,\"\",IF(AND($H$9<>\"\",$AN$26>=1,$AJ45=0,$AN45>=1),\"\",\"○\")))",null,null,"","",{"$nulls":4},"AND($N10<>\"\",$AD45=1,$O45=\"\")","圧力タンク",{"$f":"COUNTIF(L45:N45,\"○\")","v":0},0,0,0,0,false,0,0,null,null,"AND($H$9<>\"\",$AN$26>=1,$AJ45=0,$AN45>=1)",{"$f":"IF(AQ45=\"●\",1,IF(AQ45=\"無\",0,AQ45))","v":0},null,null,{"$f":"IF(報告書!O414=\"レ\",\"●\",\"無\")","v":"無"}]
[null,null,"(5)",{"$nulls":4},"給水ポンプの運転の状況",null,"AND($H$9<>\"\",$AN$26>=1,$AN46=1)",{"$f":"IF(AND($H$9<>\"\",$AN$26=0,$AD46=0),\"○\",IF(P46=\"\",\"\",P46))","v":""},{"$nulls":4},"",null,"IF(AND($H$9<>\"\",$AN$26=0,$AD46=0),\"○\",IF(P46=\"\",\"\",P46))",null,null,"","",{"$nulls":4},"AND($N10<>\"\",$AD46=1,$O46=\"\")",null,null,0,0,0,0,false,0,0,null,null,"AND($H$9<>\"\",$AN$26>=1,$AJ46=0)",{"$f":"IF(AND(報告書!O410=\"レ\",報告書!AE410=\"\"),1,0)","v":0}]
[null,null,"(6)",{"$nulls":4},"給水タンク及びポンプ等の取付けの状況",null,"AND($H$9<>\"\",$AN$26>=1)",{"$f":"IF(AND($H$9<>\"\",$AN$26=0,$AD47=0),\"○\",IF(P47=\"\",\"\",P47))","v":""},{"$nulls":4},"",null,"IF(AND($H$9<>\"\",$AN$26=0,$AD47=0),\"○\",IF(P47=\"\",\"\",P47))",null,null,"","",{"$nulls":4},"AND($N10<>\"\",$AD47=1,$O47=\"\")",null,null,0,0,0,0,false,0,0,null,null,"AND($H$9<>\"\",$AN$26>=1,$AJ47=0)"]
[null,null,"(7)",{"$nulls":4},"給水タンク等の内部の状況",null,"AND($H$9<>\"\",$AN$26>=1)",{"$f":"IF(AND($H$9<>\"\",$AN$26=0,$AD48=0),\"○\",IF(P48=\"\",\"\",P48))","v":""},{"$nulls":4},"",null,"IF(AND($H$9<>\"\",$AN$26=0,$AD48=0),\"○\",IF(P48=\"\",\"\",P48))",null,null,"","",{"$nulls":4},"AND($N10<>\"\",$AD48=1,$O48=\"\")",null,null,0,0,0,0,false,0,0,null,null,"AND($H$9<>\"\",$AN$26>=1,$AJ48=0)"]
[null,null,"(8)","給湯設備（循環ポンプを含む。）",{"$nulls":3},"給湯設備（ガス湯沸器を除く。）の取付けの状況",null,"AND($H$9<>\"\",$AN$25>=1,$AN49>=1)",{"$f":"IF(AND($H$9<>\"\",$AN$25=0,$AD49=0,$AN49>=1),\"○\",IF(P49=\"\",\"\",P49))","v":""},{"$nulls":4},"",null,"IF(AND($H$9<>\"\",$AN$25=0,$AD49=0,$AN49>=1),\"○\",IF(P49=\"\",\"\",P49))",null,null,"","",{"$nulls":4},"AND($N10<>\"\",$AD49=1,$O49=\"\")","ガス湯沸器以外",{"$f":"COUNTIF(L49:N49,\"○\")","v":0},{"$f":"AE49+AF49+AG49","v":0},0,0,0,false,0,{"$f":"AD49+AI49","v":0},null,null,"AND($H$9<>\"\",$AN$25>=1,$AJ49=0,$AN49>=1)",{"$f":"1-COUNTBLANK(AT50)","v":0},null,"【ホ．湯沸器】","開放式","半密閉式","密閉式","その他"]
[null,null,"(9)",{"$nulls":4},"ガス湯沸器の取付けの状況",null,"AND($H$9<>\"\",$AN$25>=1,$AN51>=1)",{"$f":"IF(AND($H$9<>\"\",$AN$25=0,$AD50=0,$AN51>=1),\"○\",IF(P50=\"\",\"\",P50))","v":""},{"$nulls":4},"",null,"IF(AND($H$9<>\"\",$AN$25=0,$AD50=0,$AN51>=1),\"○\",IF(P50=\"\",\"\",P50))",null,null,"","",{"$nulls":4},"AND($N10<>\"\",$AD50=1,$O50=\"\")","ガス湯沸器",{"$f":"COUNTIF(L50:N50,\"○\")","v":0},0,0,0,0,false,0,{"$f":"AD50+AI50","v":0},null,null,"AND($H$9<>\"\",$AN$25>=1,$AJ50=0,$AN51>=1)",{"$f":"COUNTIF(AQ50:AS50,\"●\")","v":0},null,null,{"$f":"IF(報告書!L416=\"レ\",\"●\",\"\")","v":""},{"$f":"IF(報告書!U416=\"レ\",\"●\",\"\")","v":""},{"$f":"IF(報告書!AE416=\"レ\",\"●\",\"\")","v":""},{"$f":"IF(報告書!Q417=\"\",\"\",報告書!Q417)","v":""}]
[null,null,"(10)",{"$nulls":4},"給湯設備の腐食及び漏水の状況",null,"AND($H$9<>\"\",$AN$25>=1,$AN51<>0)",{"$f":"IF(AND($H$9<>\"\",$AN$25=0,$AD51=0),\"○\",IF(P51=\"\",\"\",P51))","v":""},{"$nulls":4},"",null,"IF(AND($H$9<>\"\",$AN$25=0,$AD51=0),\"○\",IF(P51=\"\",\"\",P51))",null,null,"","",{"$nulls":4},"AND($N10<>\"\",$AD51=1,$O51=\"\")",null,null,0,0,0,0,false,0,0,null,null,"AND($H$9<>\"\",$AN$25>=1,$AJ51=0,$AN51<>0)",{"$f":"COUNTIF(AQ50:AS50,\"●\")+(1-COUNTBLANK(AT50))","v":0}]
[null,null,"(11)",{"$nulls":4},"ガス湯沸器の煙突及び給排気部の構造"]
[]
[]
[]
[]
[null,null,3,"排水設備",{"$nulls":16},{"$f":"U58&U59&U60&U61&U62&U63&U64&U65&U66&U67&U68&U69&U70&U71&U72&U73&U74&U75&U76&U77&U78&U79","v":""},{"$f":"V58&V59&V60&V61&V62&V63&V64&V65&V66&V67&V68&V69&V70&V71&V72&V73&V74&V75&V76&V77&V78&V79","v":""},{"$f":"IF(U57=\"\",\"\",$C57)","v":""},{"$f":"IF(V57=\"\",\"\",$C57)","v":""},{"$f":"IF(W57=\"\",\"\",IF(W83=\"\",\"\",\"、\"))","v":""},{"$f":"IF(X57=\"\",\"\",IF(X83=\"\",\"\",\"、\"))","v":""},{"$nulls":15},"【ロ．排水設備】","汚水槽","雑排水槽","合併槽","雨水槽・湧水槽"]
[null,null,"(1)","排水槽",{"$nulls":3},"排水槽のマンホールの大きさ",null,"AND($H$9<>\"\",$AN$58>=1)",{"$f":"IF(AND($H$9<>\"\",$AN$58=0,$AD58=0),\"○\",IF(P58=\"\",\"\",P58))","v":""},{"$nulls":4},{"$f":"IF(AND(L58=\"\",M58=\"○\",N58=\"○\"),\"○\",IF(AND(L58=\"\",M58=\"○\",N58=\"\"),\"○\",IF(AND(L58=\"○\",M58=\"\",N58=\"\"),\"○\",IF(AND(L58=\"―\",M58=\"―\",N58=\"―\",O58=\"―\"),\"○\",\"\"))))","v":""},null,"IF(AND($H$9<>\"\",$AN$58=0,$AD58=0),\"○\",IF(P58=\"\",\"\",P58))",null,null,{"$f":"IF(AND(M58=\"○\",N58=\"\"),C58,\"\")","v":""},{"$f":"IF(AND(M58=\"○\",N58=\"○\"),C58,\"\")","v":""},{"$nulls":4},"AND($N10<>\"\",$AD58=1,$O58=\"\")","排水槽",{"$f":"COUNTIF(L58:N63,\"○\")","v":0},{"$f":"AE58+AF58+AG58","v":0},{"$f":"COUNTIF(L58,\"○\")","v":0},{"$f":"COUNTIF(M58,\"○\")-AG58","v":0},{"$f":"COUNTIF(N58,\"○\")","v":0},{"$f":"IF(AF58>=1,\"要是正\",IF(AG58=1,\"既存不適格\",IF(AE58>=1,\"指摘なし\")))","v":false},{"$f":"IF(AD58=1,0,COUNTIF(P58,\"○\"))","v":0},{"$f":"AD58+AI58","v":0},null,null,"AND($H$9<>\"\",$AN$58>=1,$AJ58=0)",{"$f":"COUNTIF(AQ58:AS58,\"●\")","v":0},null,null,{"$f":"IF(報告書!T412=\"レ\",\"●\",\"\")","v":""},{"$f":"IF(報告書!Y412=\"レ\",\"●\",\"\")","v":""},{"$f":"IF(報告書!AE412=\"レ\",\"●\",\"\")","v":""},{"$f":"IF(報告書!AJ412=\"レ\",\"●\",\"\")","v":""}]
[null,null,"(2)",{"$nulls":4},"排水槽の通気の状況",null,"AND($H$9<>\"\",$AN$58>=1)","",{"$nulls":4},"",null,"IF(AND($H$9<>\"\",$AN$58=0,$AD59=0),\"○\",IF(P59=\"\",\"\",P59))",null,null,{"$f":"IF(AND(M59=\"○\",N59=\"\"),C59,\"\")","v":""},{"$f":"IF(AND(M59=\"○\",N59=\"○\"),C59,\"\")","v":""},{"$nulls":4},"AND($N10<>\"\",$AD59=1,$O59=\"\")",null,null,0,{"$f":"COUNTIF(L59,\"○\")","v":0},{"$f":"COUNTIF(M59,\"○\")-AG59","v":0},{"$f":"COUNTIF(N59,\"○\")","v":0},{"$f":"IF(AF59>=1,\"要是正\",IF(AG59=1,\"既存不適格\",IF(AE59>=1,\"指摘なし\")))","v":false},0,{"$f":"AD59+AI59","v":0},null,null,"AND($H$9<>\"\",$AN$58>=1,$AJ59=0)"]
[null,null,"(3)",{"$nulls":4},"排水漏れの状況",null,"AND($H$9<>\"\",$AN$58>=1)","",{"$nulls":4},"",null,"IF(AND($H$9<>\"\",$AN$58=0,$AD60=0),\"○\",IF(P60=\"\",\"\",P60))",null,null,"","",{"$nulls":4},"AND($N10<>\"\",$AD60=1,$O60=\"\")",null,null,0,0,0,0,false,0,0,null,null,"AND($H$9<>\"\",$AN$58>=1,$AJ60=0)"]
[null,null,"(4)",{"$nulls":4},"排水ポンプの設置の状況",null,"AND($H$9<>\"\",$AN$58>=1)","",{"$nulls":4},"",null,"IF(AND($H$9<>\"\",$AN$58=0,$AD61=0),\"○\",IF(P61=\"\",\"\",P61))",null,null,"","",{"$nulls":4},"AND($N10<>\"\",$AD61=1,$O61=\"\")",null,null,0,0,0,0,false,0,0,null,null,"AND($H$9<>\"\",$AN$58>=1,$AJ61=0)"]
[null,null,"(5)",{"$nulls":4},"排水ポンプの運転の状況",null,"AND($H$9<>\"\",$AN$58>=1)","",{"$nulls":4},"",null,"IF(AND($H$9<>\"\",$AN$58=0,$AD62=0),\"○\",IF(P62=\"\",\"\",P62))",null,null,"","",{"$nulls":4},"AND($N10<>\"\",$AD62=1,$O62=\"\")",null,null,0,0,0,0,false,0,0,null,null,"AND($H$9<>\"\",$AN$58>=1,$AJ62=0)"]
[null,null,"(6)",{"$nulls":4},"地下街の非常用の排水設備の処理能力及び予備電源の状況",null,"AND($H$9<>\"\",$AN$58>=1)","",{"$nulls":4},"",null,"IF(AND($H$9<>\"\",$AN$58=0,$AD63=0),\"○\",IF(P63=\"\",\"\",P63))",null,null,"","",{"$nulls":4},"AND($N10<>\"\",$AD63=1,$O63=\"\")",null,null,0,0,0,0,false,0,0,null,null,"AND($H$9<>\"\",$AN$58>=1,$AJ63=0)"]
[null,null,"(7)","排水再利用配管設備（中水道を含む。）",{"$nulls":3},"雑用水の用途",null,"AND($H$9<>\"\",$AN65>=1)",{"$f":"IF($H$9=\"\",\"\",IF($AD$64=1,\"\",IF(AND($H$9<>\"\",$AN$58>=1,$AJ64=0,$AN65>=1),\"\",\"○\")))","v":""},{"$nulls":4},{"$f":"IF(AND(L64=\"実施せず\",M64=\"\",N64=\"\"),\"○\",IF(AND(L64=\"\",M64=\"○\",N64=\"○\"),\"○\",IF(AND(L64=\"\",M64=\"○\",N64=\"\"),\"○\",IF(AND(L64=\"○\",M64=\"\",N64=\"\"),\"○\",IF(AND(L64=\"―\",M64=\"―\",N64=\"―\",O64=\"―\"),\"○\",\"\")))))","v":""},null,"IF($H$9=\"\",\"\",IF($AD$64=1,\"\",IF(AND($H$9<>\"\",$AN$58>=1,$AJ64=0,$AN65>=1),\"\",\"○\")))",null,null,"","",{"$nulls":4},"AND($N10<>\"\",$AD64=1,$O64=\"\",$L64<>\"実施せず\")","排水再利用",{"$f":"COUNTIF(L64:N68,\"○\")","v":0},0,{"$f":"COUNTA(L64)","v":0},0,0,false,{"$f":"IF(AD64=1,0,COUNTIF(P64,\"○\"))","v":0},0,null,null,"AND($H$9<>\"\",$AN$58>=1,$AJ64=0,$AN65>=1)",{"$nulls":3},"排水再利用配管設備"]
[null,null,"(8)",{"$nulls":4},"雑用水給水栓の表示の状況",null,"AND($H$9<>\"\",$AN65>=1)",{"$f":"IF($H$9=\"\",\"\",IF($AD$65=1,\"\",IF(AND($H$9<>\"\",$AN$58>=1,$AJ65=0,$AN65>=1),\"\",\"○\")))","v":""},{"$nulls":4},"",null,"IF($H$9=\"\",\"\",IF($AD$65=1,\"\",IF(AND($H$9<>\"\",$AN$58>=1,$AJ65=0,$AN65>=1),\"\",\"○\")))",null,null,"","",{"$nulls":4},"AND($N10<>\"\",$AD65=1,$O65=\"\")",null,null,0,0,0,0,false,0,0,null,null,"AND($H$9<>\"\",$AN$58>=1,$AJ65=0,$AN65>=1)",{"$f":"IF(AQ65=\"●\",1,IF(AQ65=\"無\",0,AQ65))","v":0},null,null,{"$f":"IF(報告書!O413=\"レ\",\"●\",\"無\")","v":"無"}]
[null,null,"(9)",{"$nulls":4},"配管の標識等",null,"AND($H$9<>\"\",$AN65>=1)",{"$f":"IF($H$9=\"\",\"\",IF($AD$66=1,\"\",IF(AND($H$9<>\"\",$AN$58>=1,$AJ66=0,$AN65>=1),\"\",\"○\")))","v":""},{"$nulls":4},"",null,"IF($H$9=\"\",\"\",IF($AD$66=1,\"\",IF(AND($H$9<>\"\",$AN$58>=1,$AJ66=0,$AN65>=1),\"\",\"○\")))",null,null,"","",{"$nulls":4},"AND($N10<>\"\",$AD66=1,$O66=\"\")",null,null,0,0,0,0,false,0,0,null,null,"AND($H$9<>\"\",$AN$58>=1,$AJ66=0,$AN65>=1)"]
[null,null,"(10)",{"$nulls":4},"雑用水タンク、ポンプ等の設置の状況",null,"AND($H$9<>\"\",$AN65>=1)",{"$f":"IF($H$9=\"\",\"\",IF($AD$67=1,\"\",IF(AND($H$9<>\"\",$AN$58>=1,$AJ67=0,$AN65>=1),\"\",\"○\")))","v":""},{"$nulls":4},"",null,"IF($H$9=\"\",\"\",IF($AD$67=1,\"\",IF(AND($H$9<>\"\",$AN$58>=1,$AJ67=0,$AN65>=1),\"\",\"○\")))",null,null,"","",{"$nulls":4},"AND($N10<>\"\",$AD67=1,$O67=\"\")",null,null,0,0,0,0,false,0,0,null,null,"AND($H$9<>\"\",$AN$58>=1,$AJ67=0,$AN65>=1)"]
[null,null,"(11)",{"$nulls":4},"消毒装置",null,"AND($H$9<>\"\",$AN65>=1)",{"$f":"IF($H$9=\"\",\"\",IF($AD$68=1,\"\",IF(AND($H$9<>\"\",$AN$58>=1,$AJ68=0,$AN65>=1),\"\",\"○\")))","v":""},{"$nulls":4},"",null,"IF($H$9=\"\",\"\",IF($AD$68=1,\"\",IF(AND($H$9<>\"\",$AN$58>=1,$AJ68=0,$AN65>=1),\"\",\"○\")))",null,null,"","",{"$nulls":4},"AND($N10<>\"\",$AD68=1,$O68=\"\")",null,null,0,0,0,0,false,0,0,null,null,"AND($H$9<>\"\",$AN$58>=1,$AJ68=0,$AN65>=1)"]
[null,null,"(12)","その他",null,null,"衛生器具","衛生器具の取付けの状況",null,"AND($H$9<>\"\",$AN$25+$AN$58>=1)",{"$f":"IF(AND($H$9<>\"\",$AN$25+$AN$58=0,$AD69=0),\"○\",IF(P69=\"\",\"\",P69))","v":""},{"$nulls":4},"",null,"IF(AND($H$9<>\"\",$AN$25+$AN$58=0,$AD69=0),\"○\",IF(P69=\"\",\"\",P69))",null,null,"","",{"$nulls":4},"AND($N10<>\"\",$AD69=1,$O69=\"\")",null,null,0,0,0,0,false,0,0,null,null,"AND($H$9<>\"\",$AN$25+$AN$58>=1,$AJ69=0)"]
[null,null,"(13)",{"$nulls":3},"排水トラップ","排水トラップの取付けの状況",null,"AND($H$9<>\"\",$AN$25+$AN$58>=1)","",{"$nulls":4},"",null,"IF(AND($H$9<>\"\",$AN$25+$AN$58=0,$AD70=0),\"○\",IF(P70=\"\",\"\",P70))",null,null,"","",{"$nulls":4},"AND($N10<>\"\",$AD70=1,$O70=\"\")",null,null,0,0,0,0,false,0,0,null,null,"AND($H$9<>\"\",$AN$25+$AN$58>=1,$AJ70=0)"]
[null,null,"(14)",{"$nulls":3},"阻集器","阻集器の構造、機能及び設置の状況",null,"AND($H$9<>\"\",$AN$25+$AN$58>=1)","",{"$nulls":4},"",null,"IF(AND($H$9<>\"\",$AN$25+$AN$58=0,$AD71=0),\"○\",IF(P71=\"\",\"\",P71))",null,null,"","",{"$nulls":4},"AND($N10<>\"\",$AD71=1,$O71=\"\")",null,null,0,0,0,0,false,0,0,null,null,"AND($H$9<>\"\",$AN$25+$AN$58>=1,$AJ71=0)"]
[null,null,"(15)",{"$nulls":3},"排水管","公共下水道等への接続の状況",null,"AND($H$9<>\"\",$AN$25+$AN$58>=1)","",{"$nulls":4},"",null,"IF(AND($H$9<>\"\",$AN$25+$AN$58=0,$AD72=0),\"○\",IF(P72=\"\",\"\",P72))",null,null,"","",{"$nulls":4},"AND($N10<>\"\",$AD72=1,$O72=\"\")",null,null,0,0,0,0,false,0,0,null,null,"AND($H$9<>\"\",$AN$25+$AN$58>=1,$AJ72=0)"]
[null,null,"(16)",{"$nulls":4},"雨水排水立て管の接続の状況",null,"AND($H$9<>\"\",$AN$25+$AN$58>=1)","",{"$nulls":4},"",null,"IF(AND($H$9<>\"\",$AN$25+$AN$58=0,$AD73=0),\"○\",IF(P73=\"\",\"\",P73))",null,null,"","",{"$nulls":4},"AND($N10<>\"\",$AD73=1,$O73=\"\")",null,null,0,0,0,0,false,0,0,null,null,"AND($H$9<>\"\",$AN$25+$AN$58>=1,$AJ73=0)"]
[null,null,"(17)",{"$nulls":4},"排水の状況",null,"AND($H$9<>\"\",$AN$25+$AN$58>=1)","",{"$nulls":4},"",null,"IF(AND($H$9<>\"\",$AN$25+$AN$58=0,$AD74=0),\"○\",IF(P74=\"\",\"\",P74))",null,null,"","",{"$nulls":4},"AND($N10<>\"\",$AD74=1,$O74=\"\")",null,null,0,0,0,0,false,0,0,null,null,"AND($H$9<>\"\",$AN$25+$AN$58>=1,$AJ74=0)"]
[null,null,"(18)",{"$nulls":4},"掃除口の取付けの状況",null,"AND($H$9<>\"\",$AN$25+$AN$58>=1)","",{"$nulls":4},"",null,"IF(AND($H$9<>\"\",$AN$25+$AN$58=0,$AD75=0),\"○\",IF(P75=\"\",\"\",P75))",null,null,"","",{"$nulls":4},"AND($N10<>\"\",$AD75=1,$O75=\"\")",null,null,0,0,0,0,false,0,0,null,null,"AND($H$9<>\"\",$AN$25+$AN$58>=1,$AJ75=0)"]
[null,null,"(19)",{"$nulls":4},"雨水系統との接続の状況",null,"AND($H$9<>\"\",$AN$25+$AN$58>=1)","",{"$nulls":4},"",null,"IF(AND($H$9<>\"\",$AN$25+$AN$58=0,$AD76=0),\"○\",IF(P76=\"\",\"\",P76))",null,null,"","",{"$nulls":4},"AND($N10<>\"\",$AD76=1,$O76=\"\")",null,null,0,0,0,0,false,0,0,null,null,"AND($H$9<>\"\",$AN$25+$AN$58>=1,$AJ76=0)"]
[null,null,"(20)",{"$nulls":4},"間接排水の状況",null,"AND($H$9<>\"\",$AN$25+$AN$58>=1)","",{"$nulls":4},"",null,"IF(AND($H$9<>\"\",$AN$25+$AN$58=0,$AD77=0),\"○\",IF(P77=\"\",\"\",P77))",null,null,"","",{"$nulls":4},"AND($N10<>\"\",$AD77=1,$O77=\"\")",null,null,0,0,0,0,false,0,0,null,null,"AND($H$9<>\"\",$AN$25+$AN$58>=1,$AJ77=0)"]
[null,null,"(21)",{"$nulls":3},"通気管","通気開口部の状況",null,"AND($H$9<>\"\",$AN$25+$AN$58>=1)","",{"$nulls":4},"",null,"IF(AND($H$9<>\"\",$AN$25+$AN$58=0,$AD78=0),\"○\",IF(P78=\"\",\"\",P78))",null,null,"","",{"$nulls":4},"AND($N10<>\"\",$AD78=1,$O78=\"\")",null,null,0,0,0,0,false,0,0,null,null,"AND($H$9<>\"\",$AN$25+$AN$58>=1,$AJ78=0)"]
[null,null,"(22)",{"$nulls":4},"通気管の状況",null,"AND($H$9<>\"\",$AN$25+$AN$58>=1)","",{"$nulls":4},"",null,"IF(AND($H$9<>\"\",$AN$25+$AN$58=0,$AD79=0),\"○\",IF(P79=\"\",\"\",P79))",null,null,"","",{"$nulls":4},"AND($N10<>\"\",$AD79=1,$O79=\"\")",null,null,0,0,0,0,false,0,0,null,null,"AND($H$9<>\"\",$AN$25+$AN$58>=1,$AJ79=0)"]
[]
[]
[]
[null,null,4,"上記以外の検査項目等",{"$nulls":16},{"$f":"U84&U85&U86&U87&U88&U89&U90&U91&U92&U93","v":""},{"$f":"V84&V85&V86&V87&V88&V89&V90&V91&V92&V93","v":""},{"$f":"IF(U83=\"\",\"\",$C83)","v":""},{"$f":"IF(V83=\"\",\"\",$C83)","v":""},{"$nulls":10},{"$f":"COUNTA(AI25:AI79)","v":43},{"$f":"SUM(AJ25:AJ82)","v":0}]
[null,null,{"$f":"IF(D84=\"\",\"\",\"(1)\")","v":""},{"$nulls":17},{"$f":"IF(AND(M84=\"○\",N84=\"\"),C84,\"\")","v":""},{"$f":"IF(AND(M84=\"○\",N84=\"○\"),C84,\"\")","v":""},{"$nulls":4},"AND($N10<>\"\",$AD84=1,$O84=\"\")",null,null,{"$f":"AE84+AF84+AG84","v":0},{"$f":"COUNTIF(L84,\"○\")","v":0},{"$f":"COUNTIF(M84,\"○\")-AG84","v":0},{"$f":"COUNTIF(N84,\"○\")","v":0},{"$f":"IF(AF84>=1,\"要是正\",IF(AG84=1,\"既存不適格\",IF(AE84>=1,\"指摘なし\")))","v":false},{"$f":"AI83+AC94","v":43},{"$f":"AJ83+AD94","v":0}]
[null,null,{"$f":"IF(D85=\"\",\"\",\"(2)\")","v":""},{"$nulls":17},{"$f":"IF(AND(M85=\"○\",N85=\"\"),C85,\"\")","v":""},{"$f":"IF(AND(M85=\"○\",N85=\"○\"),C85,\"\")","v":""},{"$nulls":4},"AND($N10<>\"\",$AD85=1,$O85=\"\")",null,null,0,{"$f":"COUNTIF(L85,\"○\")","v":0},{"$f":"COUNTIF(M85,\"○\")-AG85","v":0},{"$f":"COUNTIF(N85,\"○\")","v":0},{"$f":"IF(AF85>=1,\"要是正\",IF(AG85=1,\"既存不適格\",IF(AE85>=1,\"指摘なし\")))","v":false},null,{"$f":"IF(AI84=AJ84,\"YES\",\"NO\")","v":"NO"}]
[null,null,{"$f":"IF(D86=\"\",\"\",\"(3)\")","v":""},{"$nulls":17},{"$f":"IF(AND(M86=\"○\",N86=\"\"),C86,\"\")","v":""},"",{"$nulls":4},"AND($N10<>\"\",$AD86=1,$O86=\"\")",null,null,0,0,0,0,false]
[null,null,{"$f":"IF(D87=\"\",\"\",\"(4)\")","v":""},{"$nulls":17},"","",{"$nulls":4},"AND($N10<>\"\",$AD87=1,$O87=\"\")",null,null,0,0,0,0,false]
[null,null,{"$f":"IF(D88=\"\",\"\",\"(5)\")","v":""},{"$nulls":17},"","",{"$nulls":4},"AND($N10<>\"\",$AD88=1,$O88=\"\")",null,null,0,0,0,0,false]
[null,null,{"$f":"IF(D89=\"\",\"\",\"(6)\")","v":""},{"$nulls":17},"","",{"$nulls":4},"AND($N10<>\"\",$AD89=1,$O89=\"\")",null,null,0,0,0,0,false]
[null,null,{"$f":"IF(D90=\"\",\"\",\"(7)\")","v":""},{"$nulls":17},"","",{"$nulls":4},"AND($N10<>\"\",$AD90=1,$O90=\"\")",null,null,0,0,0,0,false]
[null,null,{"$f":"IF(D91=\"\",\"\",\"(8)\")","v":""},{"$nulls":17},"","",{"$nulls":4},"AND($N10<>\"\",$AD91=1,$O91=\"\")",null,null,0,0,0,0,false,null,"指摘なし",{"$f":"COUNTIF($AH$25:$AH$93,AJ91)","v":0},{"$f":"IF(AK92>=1,\"要是正\",IF(AND(AK93>=1,AK92=0),\"既存不適格\",IF(AK91>=1,\"指摘なし\")))","v":false}]
[null,null,{"$f":"IF(D92=\"\",\"\",\"(9)\")","v":""},{"$nulls":17},"","",{"$nulls":4},"AND($N10<>\"\",$AD92=1,$O92=\"\")",null,null,0,0,0,0,false,null,"要是正",{"$f":"COUNTIF($AH$25:$AH$93,AJ92)","v":0}]
[null,null,{"$f":"IF(D93=\"\",\"\",\"(10)\")","v":""},{"$nulls":17},"","",{"$nulls":4},"AND($N10<>\"\",$AD93=1,$O93=\"\")",null,null,0,0,0,0,false,null,"既存不適格",{"$f":"COUNTIF($AH$25:$AH$93,AJ93)","v":0}]
[null,null,"特記事項",{"$nulls":17},{"$f":"W24&U24&Y24&W41&U41&Y41&W57&U57&Y57&W83&U83","v":""},{"$f":"X24&V24&Z24&X41&V41&Z41&X57&V57&Z57&X83&V83","v":""},{"$f":"IF(U94=\"\",\"\",\"の指摘あり\")","v":""},{"$f":"IF(V94=\"\",\"\",\"の指摘あり\")","v":""},{"$nulls":4},{"$f":"COUNTA(D84:I93)","v":0},{"$f":"SUM(AD84:AD93)","v":0},{"$nulls":6},{"$f":"SUM(AK91:AK93)","v":0}]
[null,null,"番号","検査項目等",{"$nulls":3},"指摘の具体的内容等","改善策の具体的内容等",{"$nulls":5},"改善（予定）年月",{"$nulls":5},{"$f":"IF(U94=\"\",\"\",U94&\"　に要是正\")","v":""},{"$f":"IF(V94=\"\",\"\",V94&\"　に既存不適格\")","v":""}]
[{"$nulls":3},{"$f":"IFERROR(VLOOKUP(C96,リスト_検査項目内容_水,2,0),\"\")","v":""},{"$nulls":11},{"$f":"LEN(O96)","v":0},{"$nulls":3},{"$f":"U96","v":""},{"$f":"U95&W94","v":""},null,"AND(($AK92+$AK93)>=1,$C96=\"\")","AND($C96<>\"\",$O96=\"\")",{"$f":"IF(AND(P96=7,Z96=\"年\"),MID(O96,2,2)+2018,IF(AND(P96=8,AC96>=10),MID(O96,2,2)+2018,IF(P96<5,\"\",IF(O96=\"\",\"\",MID(O96,2,1)+2018))))","v":""},{"$f":"IF(P96=8,MID(O96,5,1),MID(O96,4,1))","v":""},{"$f":"IF(P96=8,MID(O96,6,1),IF(P96=6,\"0\",MID(O96,5,1)))","v":""},{"$f":"IF(Z96=\"年\",AA96,IF(P96>6,Z96&AA96,Z96))","v":""},{"$f":"IF(Z96=\"年\",TEXT(AA96,\"00\"),TEXT(AB96,\"00\"))","v":""},{"$f":"Y96&\"/\"&AC96","v":"/"},{"$f":"MID(AD96,1,1)","v":"/"},{"$f":"MID(AD96,3,2)","v":""},1,{"$f":"TEXT(AG96,\"00\")","v":"01"},{"$f":"AD96&\"/\"&AH96","v":"//01"},{"$f":"IF(P96<5,\"\",IF(O96=\"\",\"\",VALUE(AI96)))","v":""},null,{"$f":"IF(P96=0,\"\",IF(P96>5,\"有\",IF(OR(P96=4,P96=2),\"無\")))","v":""}]
[{"$nulls":3},"",{"$nulls":11},{"$f":"LEN(O97)","v":0},{"$nulls":4},{"$f":"V95&X94","v":""},{"$f":"IF(実施状況表!BT41=\"\",\"\",実施状況表!BT41)","v":""},{"$f":"IF(T97=\"\",\"\",IF(U97=\"\",\"\",\"　及び　\"))","v":""},"AND($C97<>\"\",$O97=\"\")",{"$f":"IF(AND(P97=7,Z97=\"年\"),MID(O97,2,2)+2018,IF(AND(P97=8,AC97>=10),MID(O97,2,2)+2018,IF(P97<5,\"\",IF(O97=\"\",\"\",MID(O97,2,1)+2018))))","v":""},{"$f":"IF(P97=8,MID(O97,5,1),MID(O97,4,1))","v":""},{"$f":"IF(P97=8,MID(O97,6,1),IF(P97=6,\"0\",MID(O97,5,1)))","v":""},{"$f":"IF(Z97=\"年\",AA97,IF(P97>6,Z97&AA97,Z97))","v":""},{"$f":"IF(Z97=\"年\",TEXT(AA97,\"00\"),TEXT(AB97,\"00\"))","v":""},{"$f":"Y97&\"/\"&AC97","v":"/"},{"$f":"MID(AD97,1,1)","v":"/"},{"$f":"MID(AD97,3,2)","v":""},1,{"$f":"TEXT(AG97,\"00\")","v":"01"},{"$f":"AD97&\"/\"&AH97","v":"//01"},{"$f":"IF(P97<5,\"\",IF(O97=\"\",\"\",VALUE(AI97)))","v":""},null,{"$f":"IF(P97=0,\"\",IF(P97>5,\"有\",IF(OR(P97=4,P97=2),\"無\")))","v":""}]
[{"$nulls":3},"",{"$nulls":11},0,{"$nulls":3},{"$f":"U98","v":""},{"$f":"U97&W97&V97","v":""},null,"AND(($AK92+$AK93)>=3,$C98=\"\")","AND($C98<>\"\",$O98=\"\")","","","","","","/","/","",1,"01",{"$f":"AD98&\"/\"&AH98","v":"//01"},"",null,""]
[{"$nulls":3},"",{"$nulls":11},0,{"$nulls":6},"AND(($AK92+$AK93)>=4,$C99=\"\")","AND($C99<>\"\",$O99=\"\")","","","","","","/","/","",1,"01",{"$f":"AD99&\"/\"&AH99","v":"//01"},"",null,""]
[{"$nulls":3},"",{"$nulls":11},0,{"$nulls":6},"AND(($AK92+$AK93)>=5,$C100=\"\")","AND($C100<>\"\",$O100=\"\")","","","","","","/","/","",1,"01",{"$f":"AD100&\"/\"&AH100","v":"//01"},"",null,""]
[{"$nulls":3},"",{"$nulls":11},0,{"$nulls":6},"AND(($AK92+$AK93)>=6,$C101=\"\")","AND($C101<>\"\",$O101=\"\")","","","","","","/","/","",2,"02",{"$f":"AD101&\"/\"&AH101","v":"//02"},"",null,""]
[{"$nulls":3},"",{"$nulls":11},0,{"$nulls":6},"AND(($AK92+$AK93)>=7,$C102=\"\")","AND($C102<>\"\",$O102=\"\")","","","","","","/","/","",3,"03","//03","",null,""]
[{"$nulls":3},"",{"$nulls":11},0,{"$nulls":6},"AND(($AK92+$AK93)>=8,$C103=\"\")","AND($C103<>\"\",$O103=\"\")","","","","","","/","/","",4,"04","//04","",null,""]
[{"$nulls":3},"",{"$nulls":11},0,{"$nulls":6},"AND(($AK92+$AK93)>=9,$C104=\"\")","AND($C104<>\"\",$O104=\"\")","","","","","","/","/","",5,"05","//05","",null,""]
[{"$nulls":3},"",{"$nulls":11},0,{"$nulls":6},"AND(($AK92+$AK93)>=10,$C105=\"\")","AND($C105<>\"\",$O105=\"\")","","","","","","/","/","",6,"06","//06","",null,""]
[{"$nulls":37},"有",{"$f":"COUNTIF($AL$96:$AL$105,\"有\")","v":0}]
[null,null,"（注意）",{"$nulls":34},"無",{"$f":"COUNTIF($AL$96:$AL$105,\"無\")","v":0}]
[null,null,"①","　この書類は、建築物ごとに作成してください。",{"$nulls":34},{"$f":"SUM(AM106:AM107)","v":0}]
[null,null,"②","　記入欄が不足する場合は、枠を拡大、行を追加して記入するか、別紙に必要な事項を記入して添えてください。",{"$nulls":33},{"$f":"IF(AM108=0,\"\",IF(AM108-AM107=0,\"無\",\"有\"))","v":""},{"$f":"IF(AL109=\"無\",\"\",AI129)","v":""},{"$f":"IF(AL109=\"無\",\"\",AJ129)","v":""}]
[null,null,"③","　「当該検査に関与した検査者」欄は、建築基準法施行規則別記第36号の６様式第二面16欄に記入した検査者について記入し、「検査者番号」欄に検査者を特定できる番号、記号等を記入してください。当該建築設備の検査を行った検査者が１人の場合は、その他の検査者欄は記入不要です。",{"$nulls":33},{"$f":"IF(O96:O105=\"\",\"\",IF(AL109=\"無\",\"無\",\"(\"&AM109&\"年\"&AN109&\"月）\"))","v":""}]
[null,null,"④","　検査対象建築物に給水設備及び排水設備がない場合は、この様式は記入不要です。",{"$nulls":33},""]
[null,null,"⑤","　該当しない検査項目等がある場合は、当該項目の「検査結果」欄及び「担当検査者番号」欄に「―」を記入してください。",{"$nulls":33},""]
[null,null,"⑥","　「検査結果」欄は、別表第４（ろ）欄に掲げる各検査事項ごとに記入してください。",{"$nulls":33},""]
[null,null,"⑦","　「検査結果」欄のうち「要是正」欄は、別表第４（ろ）欄に掲げる検査事項について同表（に）欄に掲げる判定基準に該当する場合に○印を記入してください。",{"$nulls":33},""]
[null,null,"⑧","　「検査結果」欄のうち「指摘なし」欄は、⑦に該当しない場合に○印を記入してください。",{"$nulls":33},""]
[null,null,"⑨","　「既存不適格」欄は、「要是正」欄に○印を記入した場合で、建築基準法第３条第２項の規定の適用を受けているものであることが確認されたときは、○印を記入してください。",{"$nulls":33},""]
[null,null,"⑩","　「担当検査者番号」欄は、「検査に関与した検査者」欄で記入した番号、記号等を記入してください。ただし、当該建築設備の検査を行った検査者が1人の場合は、記入不要です。",{"$nulls":33},""]
[null,null,"⑪","　４　「上記以外の検査項目等」欄は、第２第２項の規定により特定行政庁が検査項目等を付加している場合に、当該検査項目等を追加し、⑥から⑩までに準じて検査結果等を記入してください。また、第２第３項に規定する認定検査項目等が定められている場合に、当該認定検査項目等を追加し、⑥から⑩までに準じて検査結果等を記入してください。",{"$nulls":33},""]
[null,null,"⑫","　「特記事項」は、検査の結果、要是正の指摘があった場合のほか、指摘がない場合にあっても特記すべき事項がある場合に、該当する検査項目等の番号、検査項目等を記入し、「指摘の具体的内容等」欄に指摘又は特記すべき事項の具体的内容を記入するとともに、改善済みの場合及び改善策が明らかになっている場合は「改善策の具体的内容等」欄にその内容を記入し、改善した場合は「改善（予定）年月」欄に当該年月を記入し、改善予定年月が明らかになっている場合は「改善（予定）年月」欄に当該年月を（　）書きで記入してください。",{"$nulls":33},""]
[null,null,"⑬","　要是正とされた検査項目（既存不適格の場合を除く。）については、要是正とされた部分を撮影した写真を別添の様式に従い添付してください。"]
{"$rows_empty":7}
[{"$nulls":26},"順位"]
[{"$nulls":26},{"$f":"IF(AB129=\"\",\"\",RANK(AB129,$AB$129:$AB$138,1))","v":""},{"$f":"IF(AJ96=\"\",\"\",IF(O96=\"\",\"\",VALUE(AJ96)))","v":""},{"$f":"IF(AJ96=\"\",\"\",IF(O96=\"\",\"\",Y96-2018))","v":""},{"$f":"AB96","v":""},{"$f":"IF(AA129=\"\",\"\",AC129&\"　\"&AD129)","v":""},1,{"$f":"IF(AA139=0,\"\",VLOOKUP(AF129,$AA$129:$AA$138,1,FALSE))","v":""},{"$f":"IF(AA139=0,\"\",IF(AF129=AG129,VLOOKUP(AF129,$AA$129:$AE$138,5,FALSE),\"\"))","v":""},{"$f":"IF(MID(AH129,2,1)>=0,LEFT(AH129,2),LEFT(AH129,1))","v":""},{"$f":"TRIM(RIGHT(AH129,2))","v":""}]
[{"$nulls":26},{"$f":"IF(AB130=\"\",\"\",RANK(AB130,$AB$129:$AB$138,1))","v":""},{"$f":"IF(AJ97=\"\",\"\",IF(O97=\"\",\"\",VALUE(AJ97)))","v":""},{"$f":"IF(AJ97=\"\",\"\",IF(O97=\"\",\"\",Y97-2018))","v":""},{"$f":"AB97","v":""},{"$f":"IF(AA130=\"\",\"\",AC130&\"　\"&AD130)","v":""},2,{"$f":"IF(AA139=0,\"\",VLOOKUP(AF130,$AA$129:$AA$138,1,FALSE))","v":""},{"$f":"IF(AA139=0,\"\",IF(AF130=AG130,VLOOKUP(AF130,$AA$129:$AE$138,5,FALSE),\"\"))","v":""},{"$f":"IF(MID(AH130,2,1)>=0,LEFT(AH130,2),LEFT(AH130,1))","v":""},{"$f":"TRIM(RIGHT(AH130,2))","v":""}]
[{"$nulls":26},{"$f":"IF(AB131=\"\",\"\",RANK(AB131,$AB$129:$AB$138,1))","v":""},{"$f":"IF(AJ98=\"\",\"\",IF(O98=\"\",\"\",VALUE(AJ98)))","v":""},{"$f":"IF(AJ98=\"\",\"\",IF(O98=\"\",\"\",Y98-2018))","v":""},{"$f":"AB98","v":""},{"$f":"IF(AA131=\"\",\"\",AC131&\"　\"&AD131)","v":""},3,{"$f":"IF(AA139=0,\"\",VLOOKUP(AF131,$AA$129:$AA$138,1,FALSE))","v":""},{"$f":"IF(AA139=0,\"\",IF(AF131=AG131,VLOOKUP(AF131,$AA$129:$AE$138,5,FALSE),\"\"))","v":""},"",""]
[{"$nulls":26},"","","","","",4,{"$f":"IF(AA139=0,\"\",VLOOKUP(AF132,$AA$129:$AA$138,1,FALSE))","v":""},{"$f":"IF(AA139=0,\"\",IF(AF132=AG132,VLOOKUP(AF132,$AA$129:$AE$138,5,FALSE),\"\"))","v":""},"",""]
[{"$nulls":26},"","","","","",5,{"$f":"IF(AA139=0,\"\",VLOOKUP(AF133,$AA$129:$AA$138,1,FALSE))","v":""},{"$f":"IF(AA139=0,\"\",IF(AF133=AG133,VLOOKUP(AF133,$AA$129:$AE$138,5,FALSE),\"\"))","v":""},"",""]
[{"$nulls":26},"","","","","",6,{"$f":"IF(AA139=0,\"\",VLOOKUP(AF134,$AA$129:$AA$138,1,FALSE))","v":""},{"$f":"IF(AA139=0,\"\",IF(AF134=AG134,VLOOKUP(AF134,$AA$129:$AE$138,5,FALSE),\"\"))","v":""},"",""]
[{"$nulls":26},"","","","","",7,{"$f":"IF(AA139=0,\"\",VLOOKUP(AF135,$AA$129:$AA$138,1,FALSE))","v":""},{"$f":"IF(AA139=0,\"\",IF(AF135=AG135,VLOOKUP(AF135,$AA$129:$AE$138,5,FALSE),\"\"))","v":""},"",""]
[{"$nulls":26},"","","","","",8,{"$f":"IF(AA139=0,\"\",VLOOKUP(AF136,$AA$129:$AA$138,1,FALSE))","v":""},{"$f":"IF(AA139=0,\"\",IF(AF136=AG136,VLOOKUP(AF136,$AA$129:$AE$138,5,FALSE),\"\"))","v":""},"",""]
[{"$nulls":26},"","","","","",9,{"$f":"IF(AA139=0,\"\",VLOOKUP(AF137,$AA$129:$AA$138,1,FALSE))","v":""},{"$f":"IF(AA139=0,\"\",IF(AF137=AG137,VLOOKUP(AF137,$AA$129:$AE$138,5,FALSE),\"\"))","v":""},"",""]
[{"$nulls":26},"","","","","",10,{"$f":"IF(AA139=0,\"\",VLOOKUP(AF138,$AA$129:$AA$138,1,FALSE))","v":""},{"$f":"IF(AA139=0,\"\",IF(AF138=AG138,VLOOKUP(AF138,$AA$129:$AE$138,5,FALSE),\"\"))","v":""},"",""]
[{"$nulls":26},{"$f":"SUM(AA129:AA138)","v":0}]

{"sheet":"別表１（換気－評価表）","index":7,"n_rows":51,"n_cols":105,"rows_kept":51,"merged":[[0,0,0,83],[1,0,1,83],[2,0,2,5],[2,6,2,7],[2,8,2,9],[2,11,2,12],[2,14,2,15],[2,16,2,17],[2,18,2,28],[2,29,2,51],[2,52,2,71],[2,72,2,83],[3,0,3,5],[3,6,3,17],[3,18,3,28],[3,29,3,40],[3,41,3,51],[3,52,3,71],[3,72,3,83],[4,0,4,5],[4,6,4,17],[4,18,4,28],[4,30,4,31],[4,32,4,33],[4,34,4,35],[4,36,4,37],[4,38,4,39],[4,41,4,51],[4,52,4,59],[4,60,4,66],[4,67,4,71],[4,73,4,77],[4,79,4,82],[5,0,5,5],[5,6,5,17],[5,18,5,28],[5,30,5,31],[5,32,5,33],[5,34,5,35],[5,36,5,37],[5,38,5,39],[5,41,5,51],[5,52,5,59],[5,60,5,66],[5,67,5,71],[5,73,5,77],[5,79,5,82],[6,0,6,5],[6,6,6,17],[6,18,6,28],[6,30,6,31],[6,32,6,33],[6,34,6,35],[6,36,6,37],[6,38,6,39],[6,41,6,51],[6,52,6,59],[6,60,6,66],[6,67,6,71],[6,73,6,77],[6,79,6,82],[7,0,7,5],[7,6,7,17],[7,18,7,28],[7,30,7,31],[7,32,7,33],[7,34,7,35],[7,36,7,37],[7,38,7,39],[7,41,7,51],[7,52,7,59],[7,60,7,66],[7,67,7,71],[7,73,7,77],[7,79,7,82],[7,86,7,87],[8,0,8,5],[8,6,8,17],[8,18,8,28],[8,30,8,31],[8,32,8,33],[8,34,8,35],[8,36,8,37],[8,38,8,39],[8,41,8,51],[8,52,8,59],[8,60,8,66],[8,67,8,71],[8,73,8,77],[8,79,8,82],[8,86,8,87],[9,0,9,5],[9,6,9,17],[9,18,9,28],[9,30,9,31],[9,32,9,33],[9,34,9,35],[9,36,9,37],[9,38,9,39],[9,41,9,51],[9,52,9,59],[9,60,9,66],[9,67,9,71],[9,73,9,77],[9,79,9,82],[9,86,9,87],[10,0,10,5],[10,6,10,17],[10,18,10,28],[10,30,10,31],[10,32,10,33],[10,34,10,35],[10,36,10,37],[10,38,10,39],[10,41,10,51],[10,52,10,59],[10,60,10,66],[10,67,10,71],[10,73,10,77],[10,79,10,82],[10,86,10,87],[11,0,11,5],[11,6,11,17],[11,18,11,28],[11,30,11,31],[11,32,11,33],[11,34,11,35],[11,36,11,37],[11,38,11,39],[11,41,11,51],[11,52,11,59],[11,60,11,66],[11,67,11,71],[11,73,11,77],[11,79,11,82],[11,86,11,87],[12,0,12,5],[12,6,12,17],[12,18,12,28],[12,30,12,31],[12,32,12,33],[12,34,12,35],[12,36,12,37],[12,38,12,39],[12,41,12,51],[12,52,12,59],[12,60,12,66],[12,67,12,71],[12,73,12,77],[12,79,12,82],[13,0,13,5],[13,6,13,17],[13,18,13,28],[13,30,13,31],[13,32,13,33],[13,34,13,35],[13,36,13,37],[13,38,13,39],[13,41,13,51],[13,52,13,59],[13,60,13,66],[13,67,13,71],[13,73,13,77],[13,79,13,82],[14,0,14,5],[14,6,14,17],[14,18,14,28],[14,30,14,31],[14,32,14,33],[14,34,14,35],[14,36,14,37],[14,38,14,39],[14,41,14,51],[14,52,14,59],[14,60,14,66],[14,67,14,71],[14,73,14,77],[14,79,14,82],[15,0,15,5],[15,6,15,17],[15,18,15,28],[15,30,15,31],[15,32,15,33],[15,34,15,35],[15,36,15,37],[15,38,15,39],[15,41,15,51],[15,52,15,59],[15,60,15,66],[15,67,15,71],[15,73,15,77],[15,79,15,82],[16,0,16,5],[16,6,16,17],[16,18,16,28],[16,30,16,31],[16,32,16,33],[16,34,16,35],[16,36,16,37],[16,38,16,39],[16,41,16,51],[16,52,16,59],[16,60,16,66],[16,67,16,71],[16,73,16,77],[16,79,16,82],[17,0,17,5],[17,6,17,17],[17,18,17,28],[17,30,17,31],[17,32,17,33],[17,34,17,35],[17,36,17,37],[17,38,17,39],[17,41,17,51],[17,52,17,59],[17,60,17,66],[17,67,17,71],[17,73,17,77],[17,79,17,82],[18,0,18,5],[18,6,18,17],[18,18,18,28],[18,30,18,31],[18,32,18,33],[18,34,18,35],[18,36,18,37],[18,38,18,39],[18,41,18,51],[18,52,18,59],[18,60,18,66],[18,67,18,71],[18,73,18,77],[18,79,18,82],[20,0,20,83],[21,0,21,83],[22,0,22,83],[23,0,23,83],[24,0,24,83],[25,0,25,83],[26,0,26,83],[27,0,27,83],[30,0,30,5],[30,6,30,7],[30,8,30,9],[30,11,30,12],[30,14,30,15],[30,16,30,17],[30,18,30,28],[30,29,30,51],[30,52,30,71],[30,72,30,83],[31,0,31,5],[31,6,31,17],[31,18,31,28],[31,29,31,40],[31,41,31,51],[31,52,31,71],[31,72,31,83],[32,0,32,5],[32,6,32,17],[32,18,32,28],[32,30,32,31],[32,32,32,33],[32,34,32,35],[32,36,32,37],[32,38,32,39],[32,41,32,51],[32,52,32,59],[32,60,32,66],[32,67,32,71],[32,73,32,77],[32,79,32,82],[33,0,33,5],[33,6,33,17],[33,18,33,28],[33,30,33,31],[33,32,33,33],[33,34,33,35],[33,36,33,37],[33,38,33,39],[33,41,33,51],[33,52,33,59],[33,60,33,66],[33,67,33,71],[33,73,33,77],[33,79,33,82],[34,0,34,5],[34,6,34,17],[34,18,34,28],[34,30,34,31],[34,32,34,33],[34,34,34,35],[34,36,34,37],[34,38,34,39],[34,41,34,51],[34,52,34,59],[34,60,34,66],[34,67,34,71],[34,73,34,77],[34,79,34,82],[35,0,35,5],[35,6,35,17],[35,18,35,28],[35,30,35,31],[35,32,35,33],[35,34,35,35],[35,36,35,37],[35,38,35,39],[35,41,35,51],[35,52,35,59],[35,60,35,66],[35,67,35,71],[35,73,35,77],[35,79,35,82],[36,0,36,5],[36,6,36,17],[36,18,36,28],[36,30,36,31],[36,32,36,33],[36,34,36,35],[36,36,36,37],[36,38,36,39],[36,41,36,51],[36,52,36,59],[36,60,36,66],[36,67,36,71],[36,73,36,77],[36,79,36,82],[37,0,37,5],[37,6,37,17],[37,18,37,28],[37,30,37,31],[37,32,37,33],[37,34,37,35],[37,36,37,37],[37,38,37,39],[37,41,37,51],[37,52,37,59],[37,60,37,66],[37,67,37,71],[37,73,37,77],[37,79,37,82],[38,0,38,5],[38,6,38,17],[38,18,38,28],[38,30,38,31],[38,32,38,33],[38,34,38,35],[38,36,38,37],[38,38,38,39],[38,41,38,51],[38,52,38,59],[38,60,38,66],[38,67,38,71],[38,73,38,77],[38,79,38,82],[39,0,39,5],[39,6,39,17],[39,18,39,28],[39,30,39,31],[39,32,39,33],[39,34,39,35],[39,36,39,37],[39,38,39,39],[39,41,39,51],[39,52,39,59],[39,60,39,66],[39,67,39,71],[39,73,39,77],[39,79,39,82],[40,0,40,5],[40,6,40,17],[40,18,40,28],[40,30,40,31],[40,32,40,33],[40,34,40,35],[40,36,40,37],[40,38,40,39],[40,41,40,51],[40,52,40,59],[40,60,40,66],[40,67,40,71],[40,73,40,77],[40,79,40,82],[41,0,41,5],[41,6,41,17],[41,18,41,28],[41,30,41,31],[41,32,41,33],[41,34,41,35],[41,36,41,37],[41,38,41,39],[41,41,41,51],[41,52,41,59],[41,60,41,66],[41,67,41,71],[41,73,41,77],[41,79,41,82],[42,0,42,5],[42,6,42,17],[42,18,42,28],[42,30,42,31],[42,32,42,33],[42,34,42,35],[42,36,42,37],[42,38,42,39],[42,41,42,51],[42,52,42,59],[42,60,42,66],[42,67,42,71],[42,73,42,77],[42,79,42,82],[43,0,43,5],[43,6,43,17],[43,18,43,28],[43,30,43,31],[43,32,43,33],[43,34,43,35],[43,36,43,37],[43,38,43,39],[43,41,43,51],[43,52,43,59],[43,60,43,66],[43,67,43,71],[43,73,43,77],[43,79,43,82],[44,0,44,5],[44,6,44,17],[44,18,44,28],[44,30,44,31],[44,32,44,33],[44,34,44,35],[44,36,44,37],[44,38,44,39],[44,41,44,51],[44,52,44,59],[44,60,44,66],[44,67,44,71],[44,73,44,77],[44,79,44,82],[45,0,45,5],[45,6,45,17],[45,18,45,28],[45,30,45,31],[45,32,45,33],[45,34,45,35],[45,36,45,37],[45,38,45,39],[45,41,45,51],[45,52,45,59],[45,60,45,66],[45,67,45,71],[45,73,45,77],[45,79,45,82],[46,0,46,5],[46,6,46,17],[46,18,46,28],[46,30,46,31],[46,32,46,33],[46,34,46,35],[46,36,46,37],[46,38,46,39],[46,41,46,51],[46,52,46,59],[46,60,46,66],[46,67,46,71],[46,73,46,77],[46,79,46,82],[48,0,48,83],[49,0,49,83],[50,0,50,83],[51,0,51,83],[52,0,52,83],[53,0,53,83],[54,0,54,83],[55,0,55,83]]}
["別表１　法第28条第２項又は第３項に基づき換気設備が設けられた居室（換気設備を設けるべき調理室等を除く。）の換気状況評価表（Ａ４）",{"$nulls":88},"【イ．今回の検査】(年月日)",null,null,"○",{"$nulls":11},"○"]
[]
["測定年月日",{"$nulls":7},{"$f":"IF(OR(CJ3=\"指摘なし\",CJ3=\"要是正\",CJ3=\"既存不適格\",CJ3=\"実施せず\"),IF(報告書!R122=\"\",\"\",報告書!R122),\"\")","v":""},null,null,{"$f":"IF(OR(CJ3=\"指摘なし\",CJ3=\"要是正\",CJ3=\"既存不適格\",CJ3=\"実施せず\"),IF(報告書!U122=\"\",\"\",報告書!U122),\"\")","v":""},null,null,{"$f":"IF(OR(CJ3=\"指摘なし\",CJ3=\"要是正\",CJ3=\"既存不適格\",CJ3=\"実施せず\"),IF(報告書!X122=\"\",\"\",報告書!X122),\"\")","v":""},{"$nulls":3},"測定機器 メーカー名",{"$nulls":33},"型式番号等",{"$nulls":32},{"$f":"IF(OR(CJ3=\"指摘なし\",CJ3=\"要是正\",CJ3=\"既存不適格\",CJ3=\"実施せず\"),1,0)","v":0},"1(10)各居室の換気量",{"$f":"IF(換気検査結果表!$L$33=\"実施せず\",\"実施せず\",IF(換気検査結果表!$P$33=\"〇\",\"該当なし\",IF(換気検査結果表!$L$33=\"○\",\"指摘なし\",IF(換気検査結果表!$N$33=\"○\",\"既存不適格\",IF(換気検査結果表!$M$33=\"○\",\"要是正\")))))","v":false},null,{"$f":"IF(報告書!R122=\"\",\"\",報告書!R122)","v":""},{"$f":"IF(報告書!U122=\"\",\"\",報告書!U122)","v":""},{"$f":"IF(報告書!X122=\"\",\"\",報告書!X122)","v":""},{"$nulls":12},"㎥／h"]
["階",{"$nulls":5},"室名",{"$nulls":11},"必要有効換気量(ｍ3/h)",{"$nulls":10},"換　気　方　式",{"$nulls":11},"換気設備機種名＊注1)",{"$nulls":10},"換気状況の評価＊注2)",{"$nulls":19},"判　定",{"$nulls":12},{"$f":"IF(OR(I3=\"\",L3=\"\",O3=\"\",AD3=\"\",BU3=\"\",A5=\"\",G5=\"\"),IF(報告_2_04換検査者代表_ハ_氏名=\"\",\"-----\",IF(OR(CJ3=\"指摘なし\",CJ3=\"要是正\",CJ3=\"既存不適格\",CJ3=\"実施せず\"),\"未入力\",\"-----\")),\"-----\")","v":"-----"},null,"(機械)系統","室","(中央)系統","室",{"$nulls":13},"ppm"]
[{"$nulls":30},"一種",null,"・",null,"二種",null,"・",null,"三種",{"$nulls":34},"指摘なし",{"$nulls":4},"・","要是正",{"$nulls":4},{"$f":"IF(OR(S5=\"\",BI5=\"\",BP5=\"\"),\"\",IF(BA5<>\"\",\"\",IF(BP5=\"ppm\",IF(BI5<=1000,\"○\",\"×\"),IF(ISTEXT(BI5),\"---\",IF(BI5=\"\",\"\",IF(BI5>=S5,\"○\",\"×\"))))))","v":""},null,"【イ．無窓居室】",{"$f":"報告書!AK170","v":0},{"$f":"報告書!AO170","v":0},{"$f":"報告書!AA171","v":0},{"$f":"報告書!AE171","v":0}]
[{"$nulls":30},"一種",null,"・",null,"二種",null,"・",null,"三種",{"$nulls":34},"指摘なし",{"$nulls":4},"・","要是正",{"$nulls":4},{"$f":"IF(OR(S6=\"\",BI6=\"\",BP6=\"\"),\"\",IF(BA6<>\"\",\"\",IF(BP6=\"ppm\",IF(BI6<=1000,\"○\",\"×\"),IF(ISTEXT(BI6),\"---\",IF(BI6=\"\",\"\",IF(BI6>=S6,\"○\",\"×\"))))))","v":""},null,"【ハ．居室等】",{"$f":"報告書!AK175","v":0},{"$f":"報告書!AO175","v":0},{"$f":"報告書!AA176","v":0},{"$f":"報告書!AE176","v":0}]
[{"$nulls":30},"一種",null,"・",null,"二種",null,"・",null,"三種",{"$nulls":34},"指摘なし",{"$nulls":4},"・","要是正",{"$nulls":4},"",{"$nulls":19},{"$f":"IF(OR(I3=\"\",L3=\"\"),\"\",IF(L3<4,I3-1,I3))","v":""}]
[{"$nulls":30},"一種",null,"・",null,"二種",null,"・",null,"三種",{"$nulls":34},"指摘なし",{"$nulls":4},"・","要是正",{"$nulls":4},"",null,{"$f":"IF(DA7=\"\",\"\",\"令和\"&DA7-2&\"年度実施済\")","v":""},null,{"$f":"IF(DA7=\"\",\"\",COUNTIF(BA:BH,DA8))","v":""},{"$nulls":15},{"$f":"IF(DA7=\"\",\"\",\"R\"&DA7-2&\"年度実施済\")","v":""}]
[{"$nulls":30},"一種",null,"・",null,"二種",null,"・",null,"三種",{"$nulls":34},"指摘なし",{"$nulls":4},"・","要是正",{"$nulls":4},"",null,{"$f":"IF(DA7=\"\",\"\",\"令和\"&DA7-1&\"年度実施済\")","v":""},null,{"$f":"IF(DA7=\"\",\"\",COUNTIF(BA:BH,DA9))","v":""},{"$nulls":15},{"$f":"IF(DA7=\"\",\"\",\"R\"&DA7-1&\"年度実施済\")","v":""}]
[{"$nulls":30},"一種",null,"・",null,"二種",null,"・",null,"三種",{"$nulls":34},"指摘なし",{"$nulls":4},"・","要是正",{"$nulls":4},"",null,{"$f":"IF(DA7=\"\",\"\",\"令和\"&IF(OR(I3=\"\",L3=\"\"),\"\",IF(L3<4,I3-1,I3))&\"年度実施\")","v":""},null,null,{"$f":"$CG$21","v":0}]
[{"$nulls":30},"一種",null,"・",null,"二種",null,"・",null,"三種",{"$nulls":34},"指摘なし",{"$nulls":4},"・","要是正",{"$nulls":4},"",null,{"$f":"IF(DA7=\"\",\"\",\"令和\"&DA7+1&\"年度実施(予定)\")","v":""},null,{"$f":"IF(DA7=\"\",\"\",COUNTIF(BA:BH,DA11))","v":""},{"$nulls":15},{"$f":"IF(DA7=\"\",\"\",\"R\"&DA7+1&\"年度実施(予定)\")","v":""}]
[{"$nulls":30},"一種",null,"・",null,"二種",null,"・",null,"三種",{"$nulls":34},"指摘なし",{"$nulls":4},"・","要是正",{"$nulls":4},"",null,{"$f":"IF(DA7=\"\",\"\",\"令和\"&DA7+2&\"年度実施(予定)\")","v":""},null,{"$f":"IF(DA7=\"\",\"\",COUNTIF(BA:BH,DA12))","v":""},{"$nulls":15},{"$f":"IF(DA7=\"\",\"\",\"R\"&DA7+2&\"年度実施(予定)\")","v":""}]
[{"$nulls":30},"一種",null,"・",null,"二種",null,"・",null,"三種",{"$nulls":34},"指摘なし",{"$nulls":4},"・","要是正",{"$nulls":4},"",{"$nulls":3},{"$f":"IF(DA7=\"\",\"\",SUM(CK8:CK12))","v":""}]
[{"$nulls":30},"一種",null,"・",null,"二種",null,"・",null,"三種",{"$nulls":34},"指摘なし",{"$nulls":4},"・","要是正",{"$nulls":4},""]
[{"$nulls":30},"一種",null,"・",null,"二種",null,"・",null,"三種",{"$nulls":34},"指摘なし",{"$nulls":4},"・","要是正",{"$nulls":4},""]
[{"$nulls":30},"一種",null,"・",null,"二種",null,"・",null,"三種",{"$nulls":34},"指摘なし",{"$nulls":4},"・","要是正",{"$nulls":4},""]
[{"$nulls":30},"一種",null,"・",null,"二種",null,"・",null,"三種",{"$nulls":34},"指摘なし",{"$nulls":4},"・","要是正",{"$nulls":4},""]
[{"$nulls":30},"一種",null,"・",null,"二種",null,"・",null,"三種",{"$nulls":34},"指摘なし",{"$nulls":4},"・","要是正",{"$nulls":4},""]
[{"$nulls":30},"一種",null,"・",null,"二種",null,"・",null,"三種",{"$nulls":34},"指摘なし",{"$nulls":4},"・","要是正",{"$nulls":4},""]
[]
["　注1) 室ごとに単独の換気扇がある場合など、換気設備が特定されている場合は、その名称を記入する。"]
["　注2) 「換気状況の評価」欄には、外気取り入れ口における風量測定を行うことが最も確実であり、換気量測定を行った場合は、その測定結果を記入する。"]
["　　　 これに代わる方法として、各室の二酸化炭素濃度の測定を行い、居住者数と測定値に矛盾がないか確認する等を行った場合には、その結果を記入する。"]
[]
[]
[]
[]
[]
["別表１　法第28条第２項又は第３項に基づき換気設備が設けられた居室（換気設備を設けるべき調理室等を除く。）の換気状況評価表２（Ａ４）"]
[]
["測定年月日",{"$nulls":7},{"$f":"$I$3","v":""},null,null,{"$f":"$L$3","v":""},null,null,{"$f":"$O$3","v":""},{"$nulls":3},"測定機器 メーカー名",{"$nulls":10},{"$f":"IF($AD$3=\"\",\"\",$AD$3)","v":""},{"$nulls":22},"型式番号等",{"$nulls":19},{"$f":"IF($BU$3=\"\",\"\",$BU$3)","v":""}]
["階",{"$nulls":5},"室名",{"$nulls":11},"必要有効換気量(ｍ3/h)",{"$nulls":10},"換　気　方　式",{"$nulls":11},"換気設備機種名＊注1)",{"$nulls":10},"換気状況の評価＊注2)",{"$nulls":19},"判　定"]
[{"$nulls":30},"一種",null,"・",null,"二種",null,"・",null,"三種",{"$nulls":34},"指摘なし",{"$nulls":4},"・","要是正",{"$nulls":4},{"$f":"IF(OR(S33=\"\",BI33=\"\",BP33=\"\"),\"\",IF(BA33<>\"\",\"\",IF(BP33=\"ppm\",IF(BI33<=1000,\"○\",\"×\"),IF(ISTEXT(BI33),\"---\",IF(BI33=\"\",\"\",IF(BI33>=S33,\"○\",\"×\"))))))","v":""}]
[{"$nulls":30},"一種",null,"・",null,"二種",null,"・",null,"三種",{"$nulls":34},"指摘なし",{"$nulls":4},"・","要是正",{"$nulls":4},{"$f":"IF(OR(S34=\"\",BI34=\"\",BP34=\"\"),\"\",IF(BA34<>\"\",\"\",IF(BP34=\"ppm\",IF(BI34<=1000,\"○\",\"×\"),IF(ISTEXT(BI34),\"---\",IF(BI34=\"\",\"\",IF(BI34>=S34,\"○\",\"×\"))))))","v":""}]
[{"$nulls":30},"一種",null,"・",null,"二種",null,"・",null,"三種",{"$nulls":34},"指摘なし",{"$nulls":4},"・","要是正",{"$nulls":4},""]
[{"$nulls":30},"一種",null,"・",null,"二種",null,"・",null,"三種",{"$nulls":34},"指摘なし",{"$nulls":4},"・","要是正",{"$nulls":4},""]
[{"$nulls":30},"一種",null,"・",null,"二種",null,"・",null,"三種",{"$nulls":34},"指摘なし",{"$nulls":4},"・","要是正",{"$nulls":4},""]
[{"$nulls":30},"一種",null,"・",null,"二種",null,"・",null,"三種",{"$nulls":34},"指摘なし",{"$nulls":4},"・","要是正",{"$nulls":4},""]
[{"$nulls":30},"一種",null,"・",null,"二種",null,"・",null,"三種",{"$nulls":34},"指摘なし",{"$nulls":4},"・","要是正",{"$nulls":4},""]
[{"$nulls":30},"一種",null,"・",null,"二種",null,"・",null,"三種",{"$nulls":34},"指摘なし",{"$nulls":4},"・","要是正",{"$nulls":4},""]
[{"$nulls":30},"一種",null,"・",null,"二種",null,"・",null,"三種",{"$nulls":34},"指摘なし",{"$nulls":4},"・","要是正",{"$nulls":4},""]
[{"$nulls":30},"一種",null,"・",null,"二種",null,"・",null,"三種",{"$nulls":34},"指摘なし",{"$nulls":4},"・","要是正",{"$nulls":4},""]
[{"$nulls":30},"一種",null,"・",null,"二種",null,"・",null,"三種",{"$nulls":34},"指摘なし",{"$nulls":4},"・","要是正",{"$nulls":4},""]
[{"$nulls":30},"一種",null,"・",null,"二種",null,"・",null,"三種",{"$nulls":34},"指摘なし",{"$nulls":4},"・","要是正",{"$nulls":4},""]
[{"$nulls":30},"一種",null,"・",null,"二種",null,"・",null,"三種",{"$nulls":34},"指摘なし",{"$nulls":4},"・","要是正",{"$nulls":4},""]
[{"$nulls":30},"一種",null,"・",null,"二種",null,"・",null,"三種",{"$nulls":34},"指摘なし",{"$nulls":4},"・","要是正",{"$nulls":4},""]
[{"$nulls":30},"一種",null,"・",null,"二種",null,"・",null,"三種",{"$nulls":34},"指摘なし",{"$nulls":4},"・","要是正",{"$nulls":4},""]
[]
["　注1) 室ごとに単独の換気扇がある場合など、換気設備が特定されている場合は、その名称を記入する。"]
["　注2) 「換気状況の評価」欄には、外気取り入れ口における風量測定を行うことが最も確実であり、換気量測定を行った場合は、その測定結果を記入する。"]
["　　　 これに代わる方法として、各室の二酸化炭素濃度の測定を行い、居住者数と測定値に矛盾がないか確認する等を行った場合には、その結果を記入する。"]

{"sheet":"別表２（換気－測定表）","index":8,"n_rows":52,"n_cols":92,"rows_kept":52,"merged":[[0,0,0,82],[1,0,1,82],[2,0,2,8],[2,11,2,13],[2,14,2,15],[2,16,2,17],[2,18,2,19],[2,20,2,21],[2,22,2,23],[2,24,2,25],[2,28,2,38],[2,39,2,55],[2,56,2,64],[2,65,2,82],[3,0,3,8],[3,9,3,19],[3,20,3,27],[3,28,3,38],[3,39,3,47],[3,48,3,55],[3,56,3,64],[3,65,3,72],[3,73,3,82],[4,0,4,8],[4,9,4,19],[4,20,4,27],[4,28,4,29],[4,31,4,32],[4,34,4,35],[4,37,4,38],[4,39,4,47],[4,48,4,55],[4,56,4,64],[4,65,4,72],[4,73,4,77],[4,79,4,82],[5,0,5,8],[5,9,5,19],[5,20,5,27],[5,28,5,29],[5,31,5,32],[5,34,5,35],[5,37,5,38],[5,39,5,47],[5,48,5,55],[5,56,5,64],[5,65,5,72],[5,73,5,77],[5,79,5,82],[6,0,6,8],[6,9,6,19],[6,20,6,27],[6,28,6,29],[6,31,6,32],[6,34,6,35],[6,37,6,38],[6,39,6,47],[6,48,6,55],[6,56,6,64],[6,65,6,72],[6,73,6,77],[6,79,6,82],[7,0,7,8],[7,9,7,19],[7,20,7,27],[7,28,7,29],[7,31,7,32],[7,34,7,35],[7,37,7,38],[7,39,7,47],[7,48,7,55],[7,56,7,64],[7,65,7,72],[7,73,7,77],[7,79,7,82],[8,0,8,8],[8,9,8,19],[8,20,8,27],[8,28,8,29],[8,31,8,32],[8,34,8,35],[8,37,8,38],[8,39,8,47],[8,48,8,55],[8,56,8,64],[8,65,8,72],[8,73,8,77],[8,79,8,82],[9,0,9,8],[9,9,9,19],[9,20,9,27],[9,28,9,29],[9,31,9,32],[9,34,9,35],[9,37,9,38],[9,39,9,47],[9,48,9,55],[9,56,9,64],[9,65,9,72],[9,73,9,77],[9,79,9,82],[10,0,10,8],[10,9,10,19],[10,20,10,27],[10,28,10,29],[10,31,10,32],[10,34,10,35],[10,37,10,38],[10,39,10,47],[10,48,10,55],[10,56,10,64],[10,65,10,72],[10,73,10,77],[10,79,10,82],[11,0,11,8],[11,9,11,19],[11,20,11,27],[11,28,11,29],[11,31,11,32],[11,34,11,35],[11,37,11,38],[11,39,11,47],[11,48,11,55],[11,56,11,64],[11,65,11,72],[11,73,11,77],[11,79,11,82],[12,0,12,8],[12,9,12,19],[12,20,12,27],[12,28,12,29],[12,31,12,32],[12,34,12,35],[12,37,12,38],[12,39,12,47],[12,48,12,55],[12,56,12,64],[12,65,12,72],[12,73,12,77],[12,79,12,82],[13,0,13,8],[13,9,13,19],[13,20,13,27],[13,28,13,29],[13,31,13,32],[13,34,13,35],[13,37,13,38],[13,39,13,47],[13,48,13,55],[13,56,13,64],[13,65,13,72],[13,73,13,77],[13,79,13,82],[14,0,14,8],[14,9,14,19],[14,20,14,27],[14,28,14,29],[14,31,14,32],[14,34,14,35],[14,37,14,38],[14,39,14,47],[14,48,14,55],[14,56,14,64],[14,65,14,72],[14,73,14,77],[14,79,14,82],[15,0,15,8],[15,9,15,19],[15,20,15,27],[15,28,15,29],[15,31,15,32],[15,34,15,35],[15,37,15,38],[15,39,15,47],[15,48,15,55],[15,56,15,64],[15,65,15,72],[15,73,15,77],[15,79,15,82],[16,0,16,8],[16,9,16,19],[16,20,16,27],[16,28,16,29],[16,31,16,32],[16,34,16,35],[16,37,16,38],[16,39,16,47],[16,48,16,55],[16,56,16,64],[16,65,16,72],[16,73,16,77],[16,79,16,82],[17,0,17,8],[17,9,17,19],[17,20,17,27],[17,28,17,29],[17,31,17,32],[17,34,17,35],[17,37,17,38],[17,39,17,47],[17,48,17,55],[17,56,17,64],[17,65,17,72],[17,73,17,77],[17,79,17,82],[18,0,18,8],[18,9,18,19],[18,20,18,27],[18,28,18,29],[18,31,18,32],[18,34,18,35],[18,37,18,38],[18,39,18,47],[18,48,18,55],[18,56,18,64],[18,65,18,72],[18,73,18,77],[18,79,18,82],[19,0,19,8],[19,9,19,19],[19,20,19,27],[19,28,19,29],[19,31,19,32],[19,34,19,35],[19,37,19,38],[19,39,19,47],[19,48,19,55],[19,56,19,64],[19,65,19,72],[19,73,19,77],[19,79,19,82],[20,0,20,8],[20,9,20,19],[20,20,20,27],[20,28,20,29],[20,31,20,32],[20,34,20,35],[20,37,20,38],[20,39,20,47],[20,48,20,55],[20,56,20,64],[20,65,20,72],[20,73,20,77],[20,79,20,82],[21,0,21,8],[21,9,21,19],[21,20,21,27],[21,28,21,29],[21,31,21,32],[21,34,21,35],[21,37,21,38],[21,39,21,47],[21,48,21,55],[21,56,21,64],[21,65,21,72],[21,73,21,77],[21,79,21,82],[22,0,22,8],[22,9,22,19],[22,20,22,27],[22,28,22,29],[22,31,22,32],[22,34,22,35],[22,37,22,38],[22,39,22,47],[22,48,22,55],[22,56,22,64],[22,65,22,72],[22,73,22,77],[22,79,22,82],[23,0,23,8],[23,9,23,19],[23,20,23,27],[23,28,23,29],[23,31,23,32],[23,34,23,35],[23,37,23,38],[23,39,23,47],[23,48,23,55],[23,56,23,64],[23,65,23,72],[23,73,23,77],[23,79,23,82],[25,0,25,82],[26,0,26,82],[28,0,28,8],[28,11,28,13],[28,14,28,15],[28,16,28,17],[28,18,28,19],[28,20,28,21],[28,22,28,23],[28,24,28,25],[28,28,28,38],[28,39,28,55],[28,56,28,64],[28,65,28,82],[29,0,29,8],[29,9,29,19],[29,20,29,27],[29,28,29,38],[29,39,29,47],[29,48,29,55],[29,56,29,64],[29,65,29,72],[29,73,29,82],[30,0,30,8],[30,9,30,19],[30,20,30,27],[30,28,30,29],[30,31,30,32],[30,34,30,35],[30,37,30,38],[30,39,30,47],[30,48,30,55],[30,56,30,64],[30,65,30,72],[30,73,30,77],[30,79,30,82],[31,0,31,8],[31,9,31,19],[31,20,31,27],[31,28,31,29],[31,31,31,32],[31,34,31,35],[31,37,31,38],[31,39,31,47],[31,48,31,55],[31,56,31,64],[31,65,31,72],[31,73,31,77],[31,79,31,82],[32,0,32,8],[32,9,32,19],[32,20,32,27],[32,28,32,29],[32,31,32,32],[32,34,32,35],[32,37,32,38],[32,39,32,47],[32,48,32,55],[32,56,32,64],[32,65,32,72],[32,73,32,77],[32,79,32,82],[33,0,33,8],[33,9,33,19],[33,20,33,27],[33,28,33,29],[33,31,33,32],[33,34,33,35],[33,37,33,38],[33,39,33,47],[33,48,33,55],[33,56,33,64],[33,65,33,72],[33,73,33,77],[33,79,33,82],[34,0,34,8],[34,9,34,19],[34,20,34,27],[34,28,34,29],[34,31,34,32],[34,34,34,35],[34,37,34,38],[34,39,34,47],[34,48,34,55],[34,56,34,64],[34,65,34,72],[34,73,34,77],[34,79,34,82],[35,0,35,8],[35,9,35,19],[35,20,35,27],[35,28,35,29],[35,31,35,32],[35,34,35,35],[35,37,35,38],[35,39,35,47],[35,48,35,55],[35,56,35,64],[35,65,35,72],[35,73,35,77],[35,79,35,82],[36,0,36,8],[36,9,36,19],[36,20,36,27],[36,28,36,29],[36,31,36,32],[36,34,36,35],[36,37,36,38],[36,39,36,47],[36,48,36,55],[36,56,36,64],[36,65,36,72],[36,73,36,77],[36,79,36,82],[37,0,37,8],[37,9,37,19],[37,20,37,27],[37,28,37,29],[37,31,37,32],[37,34,37,35],[37,37,37,38],[37,39,37,47],[37,48,37,55],[37,56,37,64],[37,65,37,72],[37,73,37,77],[37,79,37,82],[38,0,38,8],[38,9,38,19],[38,20,38,27],[38,28,38,29],[38,31,38,32],[38,34,38,35],[38,37,38,38],[38,39,38,47],[38,48,38,55],[38,56,38,64],[38,65,38,72],[38,73,38,77],[38,79,38,82],[39,0,39,8],[39,9,39,19],[39,20,39,27],[39,28,39,29],[39,31,39,32],[39,34,39,35],[39,37,39,38],[39,39,39,47],[39,48,39,55],[39,56,39,64],[39,65,39,72],[39,73,39,77],[39,79,39,82],[40,0,40,8],[40,9,40,19],[40,20,40,27],[40,28,40,29],[40,31,40,32],[40,34,40,35],[40,37,40,38],[40,39,40,47],[40,48,40,55],[40,56,40,64],[40,65,40,72],[40,73,40,77],[40,79,40,82],[41,0,41,8],[41,9,41,19],[41,20,41,27],[41,28,41,29],[41,31,41,32],[41,34,41,35],[41,37,41,38],[41,39,41,47],[41,48,41,55],[41,56,41,64],[41,65,41,72],[41,73,41,77],[41,79,41,82],[42,0,42,8],[42,9,42,19],[42,20,42,27],[42,28,42,29],[42,31,42,32],[42,34,42,35],[42,37,42,38],[42,39,42,47],[42,48,42,55],[42,56,42,64],[42,65,42,72],[42,73,42,77],[42,79,42,82],[43,0,43,8],[43,9,43,19],[43,20,43,27],[43,28,43,29],[43,31,43,32],[43,34,43,35],[43,37,43,38],[43,39,43,47],[43,48,43,55],[43,56,43,64],[43,65,43,72],[43,73,43,77],[43,79,43,82],[44,0,44,8],[44,9,44,19],[44,20,44,27],[44,28,44,29],[44,31,44,32],[44,34,44,35],[44,37,44,38],[44,39,44,47],[44,48,44,55],[44,56,44,64],[44,65,44,72],[44,73,44,77],[44,79,44,82],[45,0,45,8],[45,9,45,19],[45,20,45,27],[45,28,45,29],[45,31,45,32],[45,34,45,35],[45,37,45,38],[45,39,45,47],[45,48,45,55],[45,56,45,64],[45,65,45,72],[45,73,45,77],[45,79,45,82],[46,0,46,8],[46,9,46,19],[46,20,46,27],[46,28,46,29],[46,31,46,32],[46,34,46,35],[46,37,46,38],[46,39,46,47],[46,48,46,55],[46,56,46,64],[46,65,46,72],[46,73,46,77],[46,79,46,82],[47,0,47,8],[47,9,47,19],[47,20,47,27],[47,28,47,29],[47,31,47,32],[47,34,47,35],[47,37,47,38],[47,39,47,47],[47,48,47,55],[47,56,47,64],[47,65,47,72],[47,73,47,77],[47,79,47,82],[48,0,48,8],[48,9,48,19],[48,20,48,27],[48,28,48,29],[48,31,48,32],[48,34,48,35],[48,37,48,38],[48,39,48,47],[48,48,48,55],[48,56,48,64],[48,65,48,72],[48,73,48,77],[48,79,48,82],[49,0,49,8],[49,9,49,19],[49,20,49,27],[49,28,49,29],[49,31,49,32],[49,34,49,35],[49,37,49,38],[49,39,49,47],[49,48,49,55],[49,56,49,64],[49,65,49,72],[49,73,49,77],[49,79,49,82],[51,0,51,82]]}
["別表２　換気設備を設けるべき調理室等の換気風量測定表（Ａ４）",{"$nulls":88},"【イ．今回の検査】(年月日)"]
[]
["測定年月日",{"$nulls":10},"令和",null,null,{"$f":"IF(OR(CJ3=\"指摘なし\",CJ3=\"要是正\",CJ3=\"既存不適格\",CJ3=\"実施せず\",CJ3=\"測定できず\"),IF(報告書!R122=\"\",\"\",報告書!R122),\"\")","v":""},null,"年",null,{"$f":"IF(OR(CJ3=\"指摘なし\",CJ3=\"要是正\",CJ3=\"既存不適格\",CJ3=\"実施せず\",CJ3=\"測定できず\"),IF(報告書!U122=\"\",\"\",報告書!U122),\"\")","v":""},null,"月",null,{"$f":"IF(OR(CJ3=\"指摘なし\",CJ3=\"要是正\",CJ3=\"既存不適格\",CJ3=\"実施せず\",CJ3=\"測定できず\"),IF(報告書!X122=\"\",\"\",報告書!X122),\"\")","v":""},null,"日",{"$nulls":3},"測定機器　メーカー名",{"$nulls":27},"型式番号等",{"$nulls":27},{"$f":"IF(OR(CJ3=\"指摘なし\",CJ3=\"要是正\",CJ3=\"既存不適格\",CJ3=\"測定できず\"),1,0)","v":0},null,"2(14)機械換気設備の換気量",{"$f":"IF(換気検査結果表!$L$77=\"測定できず\",\"測定できず\",IF(換気検査結果表!$L$77=\"○\",\"指摘なし\",IF(換気検査結果表!$N$77=\"○\",\"既存不適格\",IF(換気検査結果表!$M$77=\"○\",\"要是正\"))))","v":false},null,{"$f":"IF(報告書!R122=\"\",\"\",報告書!R122)","v":""},{"$f":"IF(報告書!U122=\"\",\"\",報告書!U122)","v":""},{"$f":"IF(報告書!X122=\"\",\"\",報告書!X122)","v":""}]
["室番（場所）",{"$nulls":8},"使用器具",{"$nulls":10},"発熱量(kW)",{"$nulls":7},"換気型式(n)",{"$nulls":10},"必要有効換気量(m3/h)",{"$nulls":8},"開口面積(㎡)",{"$nulls":7},"測定風速＊注(m/s)",{"$nulls":8},"測定風量(m3/h)",{"$nulls":7},"判　　定",{"$nulls":10},{"$f":"IF(OR(O3=\"\",S3=\"\",W3=\"\",AN3=\"\",BN3=\"\",A5=\"\",J5=\"\",U5=\"\"),IF(報告_2_04換検査者代表_ハ_氏名=\"\",\"-----\",IF(OR(CJ3=\"指摘なし\",CJ3=\"要是正\",CJ3=\"既存不適格\",CJ3=\"測定できず\"),\"未入力\",\"-----\")),\"-----\")","v":"-----"},null,null,"系統","室"]
[{"$nulls":30},"・",null,null,"・",null,null,"・",null,null,{"$f":"ROUNDUP(U5*CN5*0.93,0)","v":0},{"$nulls":25},{"$f":"IF(OR(AW5=\"\",BE5=\"\"),\"\",ROUNDDOWN((AW5*BE5*3600),0))","v":""},{"$nulls":7},"指摘なし",{"$nulls":4},"・","要是正",{"$nulls":3},{"$f":"IF(OR(AN5=\"\",BN5=\"\"),\"\",IF(ISTEXT(BE5),\"---\",IF(BN5=\"\",\"\",IF(BN5>=AN5,\"○\",\"×\"))))","v":""},null,null,"【ロ．火気使用室】",{"$f":"報告書!AK173","v":0},{"$f":"報告書!AO173","v":0}]
[{"$nulls":30},"・",null,null,"・",null,null,"・",null,null,{"$f":"ROUNDUP(U6*CN6*0.93,0)","v":0},{"$nulls":25},{"$f":"IF(OR(AW6=\"\",BE6=\"\"),\"\",ROUNDDOWN((AW6*BE6*3600),0))","v":""},{"$nulls":7},"指摘なし",{"$nulls":4},"・","要是正",{"$nulls":3},{"$f":"IF(OR(AN6=\"\",BN6=\"\"),\"\",IF(ISTEXT(BE6),\"---\",IF(BN6=\"\",\"\",IF(BN6>=AN6,\"○\",\"×\"))))","v":""},{"$nulls":4},{"$f":"$CF$26","v":0}]
[{"$nulls":30},"・",null,null,"・",null,null,"・",null,null,{"$f":"ROUNDUP(U7*CN7*0.93,0)","v":0},{"$nulls":25},{"$f":"IF(OR(AW7=\"\",BE7=\"\"),\"\",ROUNDDOWN((AW7*BE7*3600),0))","v":""},{"$nulls":7},"指摘なし",{"$nulls":4},"・","要是正",{"$nulls":3},{"$f":"IF(OR(AN7=\"\",BN7=\"\"),\"\",IF(ISTEXT(BE7),\"---\",IF(BN7=\"\",\"\",IF(BN7>=AN7,\"○\",\"×\"))))","v":""}]
[{"$nulls":30},"・",null,null,"・",null,null,"・",null,null,0,{"$nulls":25},{"$f":"IF(OR(AW8=\"\",BE8=\"\"),\"\",ROUNDDOWN((AW8*BE8*3600),0))","v":""},{"$nulls":7},"指摘なし",{"$nulls":4},"・","要是正",{"$nulls":3},{"$f":"IF(OR(AN8=\"\",BN8=\"\"),\"\",IF(ISTEXT(BE8),\"---\",IF(BN8=\"\",\"\",IF(BN8>=AN8,\"○\",\"×\"))))","v":""},null,"【ホ．湯沸器】","開放式","半密閉式","密閉式","その他"]
[{"$nulls":30},"・",null,null,"・",null,null,"・",null,null,0,{"$nulls":25},"",{"$nulls":7},"指摘なし",{"$nulls":4},"・","要是正",{"$nulls":3},{"$f":"IF(OR(AN9=\"\",BN9=\"\"),\"\",IF(ISTEXT(BE9),\"---\",IF(BN9=\"\",\"\",IF(BN9>=AN9,\"○\",\"×\"))))","v":""},null,null,{"$f":"IF(報告書!L416=\"レ\",\"●\",\"\")","v":""},{"$f":"IF(報告書!U416=\"レ\",\"●\",\"\")","v":""},{"$f":"IF(報告書!AE416=\"レ\",\"●\",\"\")","v":""},{"$f":"IF(報告書!Q417=\"\",\"\",報告書!Q417)","v":""}]
[{"$nulls":30},"・",null,null,"・",null,null,"・",null,null,0,{"$nulls":25},"",{"$nulls":7},"指摘なし",{"$nulls":4},"・","要是正",{"$nulls":3},""]
[{"$nulls":30},"・",null,null,"・",null,null,"・",null,null,0,{"$nulls":25},"",{"$nulls":7},"指摘なし",{"$nulls":4},"・","要是正",{"$nulls":3},""]
[{"$nulls":30},"・",null,null,"・",null,null,"・",null,null,0,{"$nulls":25},"",{"$nulls":7},"指摘なし",{"$nulls":4},"・","要是正",{"$nulls":3},""]
[{"$nulls":30},"・",null,null,"・",null,null,"・",null,null,0,{"$nulls":25},"",{"$nulls":7},"指摘なし",{"$nulls":4},"・","要是正",{"$nulls":3},""]
[{"$nulls":30},"・",null,null,"・",null,null,"・",null,null,0,{"$nulls":25},"",{"$nulls":7},"指摘なし",{"$nulls":4},"・","要是正",{"$nulls":3},""]
[{"$nulls":30},"・",null,null,"・",null,null,"・",null,null,0,{"$nulls":25},"",{"$nulls":7},"指摘なし",{"$nulls":4},"・","要是正",{"$nulls":3},""]
[{"$nulls":30},"・",null,null,"・",null,null,"・",null,null,0,{"$nulls":25},"",{"$nulls":7},"指摘なし",{"$nulls":4},"・","要是正",{"$nulls":3},""]
[{"$nulls":30},"・",null,null,"・",null,null,"・",null,null,0,{"$nulls":25},"",{"$nulls":7},"指摘なし",{"$nulls":4},"・","要是正",{"$nulls":3},""]
[{"$nulls":30},"・",null,null,"・",null,null,"・",null,null,0,{"$nulls":25},"",{"$nulls":7},"指摘なし",{"$nulls":4},"・","要是正",{"$nulls":3},""]
[{"$nulls":30},"・",null,null,"・",null,null,"・",null,null,0,{"$nulls":25},"",{"$nulls":7},"指摘なし",{"$nulls":4},"・","要是正",{"$nulls":3},""]
[{"$nulls":30},"・",null,null,"・",null,null,"・",null,null,0,{"$nulls":25},"",{"$nulls":7},"指摘なし",{"$nulls":4},"・","要是正",{"$nulls":3},""]
[{"$nulls":30},"・",null,null,"・",null,null,"・",null,null,0,{"$nulls":25},"",{"$nulls":7},"指摘なし",{"$nulls":4},"・","要是正",{"$nulls":3},""]
[{"$nulls":30},"・",null,null,"・",null,null,"・",null,null,0,{"$nulls":25},"",{"$nulls":7},"指摘なし",{"$nulls":4},"・","要是正",{"$nulls":3},""]
[{"$nulls":30},"・",null,null,"・",null,null,"・",null,null,0,{"$nulls":25},"",{"$nulls":7},"指摘なし",{"$nulls":4},"・","要是正",{"$nulls":3},""]
[{"$nulls":30},"・",null,null,"・",null,null,"・",null,null,{"$f":"ROUNDUP(U24*CN24*0.93,0)","v":0},{"$nulls":25},"",{"$nulls":7},"指摘なし",{"$nulls":4},"・","要是正",{"$nulls":3},""]
[]
["注）「測定風速」欄には、原則として測定した箇所の平均風速を記入する。"]
["別表２　換気設備を設けるべき調理室等の換気風量測定表２（Ａ４）"]
[]
["測定年月日",{"$nulls":10},"令和",null,null,{"$f":"$O$3","v":""},null,"年",null,{"$f":"$S$3","v":""},null,"月",null,{"$f":"$W$3","v":""},null,"日",{"$nulls":3},"測定機器　メーカー名",{"$nulls":10},{"$f":"IF($AN$3=\"\",\"\",$AN$3)","v":""},{"$nulls":16},"型式番号等",{"$nulls":8},{"$f":"IF($BN$3=\"\",\"\",$BN$3)","v":""}]
["室番（場所）",{"$nulls":8},"使用器具",{"$nulls":10},"発熱量(kW)",{"$nulls":7},"換気型式(n)",{"$nulls":10},"必要有効換気量(m3/h)",{"$nulls":8},"開口面積(㎡)",{"$nulls":7},"測定風速＊注(m/s)",{"$nulls":8},"測定風量(m3/h)",{"$nulls":7},"判　　定"]
[{"$nulls":30},"・",null,null,"・",null,null,"・",null,null,{"$f":"ROUNDUP(U31*CN31*0.93,0)","v":0},{"$nulls":25},{"$f":"IF(OR(AW31=\"\",BE31=\"\"),\"\",ROUNDDOWN((AW31*BE31*3600),0))","v":""},{"$nulls":7},"指摘なし",{"$nulls":4},"・","要是正",{"$nulls":3},{"$f":"IF(OR(AN31=\"\",BN31=\"\"),\"\",IF(ISTEXT(BE31),\"---\",IF(BN31=\"\",\"\",IF(BN31>=AN31,\"○\",\"×\"))))","v":""}]
[{"$nulls":30},"・",null,null,"・",null,null,"・",null,null,{"$f":"ROUNDUP(U32*CN32*0.93,0)","v":0},{"$nulls":25},{"$f":"IF(OR(AW32=\"\",BE32=\"\"),\"\",ROUNDDOWN((AW32*BE32*3600),0))","v":""},{"$nulls":7},"指摘なし",{"$nulls":4},"・","要是正",{"$nulls":3},{"$f":"IF(OR(AN32=\"\",BN32=\"\"),\"\",IF(ISTEXT(BE32),\"---\",IF(BN32=\"\",\"\",IF(BN32>=AN32,\"○\",\"×\"))))","v":""}]
[{"$nulls":30},"・",null,null,"・",null,null,"・",null,null,0,{"$nulls":25},"",{"$nulls":7},"指摘なし",{"$nulls":4},"・","要是正",{"$nulls":3},""]
[{"$nulls":30},"・",null,null,"・",null,null,"・",null,null,0,{"$nulls":25},"",{"$nulls":7},"指摘なし",{"$nulls":4},"・","要是正",{"$nulls":3},""]
[{"$nulls":30},"・",null,null,"・",null,null,"・",null,null,0,{"$nulls":25},"",{"$nulls":7},"指摘なし",{"$nulls":4},"・","要是正",{"$nulls":3},""]
[{"$nulls":30},"・",null,null,"・",null,null,"・",null,null,0,{"$nulls":25},"",{"$nulls":7},"指摘なし",{"$nulls":4},"・","要是正",{"$nulls":3},""]
[{"$nulls":30},"・",null,null,"・",null,null,"・",null,null,0,{"$nulls":25},"",{"$nulls":7},"指摘なし",{"$nulls":4},"・","要是正",{"$nulls":3},""]
[{"$nulls":30},"・",null,null,"・",null,null,"・",null,null,0,{"$nulls":25},"",{"$nulls":7},"指摘なし",{"$nulls":4},"・","要是正",{"$nulls":3},""]
[{"$nulls":30},"・",null,null,"・",null,null,"・",null,null,0,{"$nulls":25},"",{"$nulls":7},"指摘なし",{"$nulls":4},"・","要是正",{"$nulls":3},""]
[{"$nulls":30},"・",null,null,"・",null,null,"・",null,null,0,{"$nulls":25},"",{"$nulls":7},"指摘なし",{"$nulls":4},"・","要是正",{"$nulls":3},""]
[{"$nulls":30},"・",null,null,"・",null,null,"・",null,null,0,{"$nulls":25},"",{"$nulls":7},"指摘なし",{"$nulls":4},"・","要是正",{"$nulls":3},""]
[{"$nulls":30},"・",null,null,"・",null,null,"・",null,null,0,{"$nulls":25},"",{"$nulls":7},"指摘なし",{"$nulls":4},"・","要是正",{"$nulls":3},""]
[{"$nulls":30},"・",null,null,"・",null,null,"・",null,null,0,{"$nulls":25},"",{"$nulls":7},"指摘なし",{"$nulls":4},"・","要是正",{"$nulls":3},""]
[{"$nulls":30},"・",null,null,"・",null,null,"・",null,null,0,{"$nulls":25},"",{"$nulls":7},"指摘なし",{"$nulls":4},"・","要是正",{"$nulls":3},""]
[{"$nulls":30},"・",null,null,"・",null,null,"・",null,null,0,{"$nulls":25},"",{"$nulls":7},"指摘なし",{"$nulls":4},"・","要是正",{"$nulls":3},""]
[{"$nulls":30},"・",null,null,"・",null,null,"・",null,null,0,{"$nulls":25},"",{"$nulls":7},"指摘なし",{"$nulls":4},"・","要是正",{"$nulls":3},""]
[{"$nulls":30},"・",null,null,"・",null,null,"・",null,null,0,{"$nulls":25},"",{"$nulls":7},"指摘なし",{"$nulls":4},"・","要是正",{"$nulls":3},""]
[{"$nulls":30},"・",null,null,"・",null,null,"・",null,null,0,{"$nulls":25},"",{"$nulls":7},"指摘なし",{"$nulls":4},"・","要是正",{"$nulls":3},""]
[{"$nulls":30},"・",null,null,"・",null,null,"・",null,null,0,{"$nulls":25},"",{"$nulls":7},"指摘なし",{"$nulls":4},"・","要是正",{"$nulls":3},""]
[{"$nulls":30},"・",null,null,"・",null,null,"・",null,null,0,{"$nulls":25},"",{"$nulls":7},"指摘なし",{"$nulls":4},"・","要是正",{"$nulls":3},""]
[]
["注）「測定風速」欄には、原則として測定した箇所の平均風速を記入する。"]

{"sheet":"別表３（排煙－記録表）","index":9,"n_rows":69,"n_cols":102,"rows_kept":69,"merged":[[1,0,1,80],[2,0,2,5],[2,7,2,8],[2,9,2,10],[2,12,2,13],[2,15,2,16],[2,17,2,18],[2,19,2,32],[2,33,2,50],[2,51,2,58],[2,59,2,80],[3,0,3,1],[3,2,3,32],[3,33,3,46],[3,47,3,80],[4,2,4,32],[4,33,4,46],[4,47,4,55],[4,56,4,60],[4,61,4,62],[4,63,4,64],[4,65,4,66],[4,67,4,68],[4,69,4,70],[4,71,4,75],[6,0,6,1],[6,2,6,70],[6,71,7,80],[7,2,7,5],[7,6,7,21],[7,22,7,32],[7,33,7,46],[7,47,7,58],[7,59,7,70],[8,2,8,5],[8,6,8,21],[8,22,8,32],[8,33,8,39],[8,40,8,46],[8,47,8,58],[8,59,8,70],[8,71,8,75],[8,77,8,80],[9,2,9,5],[9,6,9,21],[9,22,9,32],[9,33,9,39],[9,40,9,46],[9,47,9,58],[9,59,9,70],[9,71,9,75],[9,77,9,80],[10,2,10,5],[10,6,10,21],[10,22,10,32],[10,33,10,39],[10,40,10,46],[10,47,10,58],[10,59,10,70],[10,71,10,75],[10,77,10,80],[11,2,11,5],[11,6,11,21],[11,22,11,32],[11,33,11,39],[11,40,11,46],[11,47,11,58],[11,59,11,70],[11,71,11,75],[11,77,11,80],[12,2,12,5],[12,6,12,21],[12,22,12,32],[12,33,12,39],[12,40,12,46],[12,47,12,58],[12,59,12,70],[12,71,12,75],[12,77,12,80],[12,83,12,84],[13,2,13,5],[13,6,13,21],[13,22,13,32],[13,33,13,39],[13,40,13,46],[13,47,13,58],[13,59,13,70],[13,71,13,75],[13,77,13,80],[13,83,13,84],[14,2,14,5],[14,6,14,21],[14,22,14,32],[14,33,14,39],[14,40,14,46],[14,47,14,58],[14,59,14,70],[14,71,14,75],[14,77,14,80],[14,83,14,84],[15,2,15,5],[15,6,15,21],[15,22,15,32],[15,33,15,39],[15,40,15,46],[15,47,15,58],[15,59,15,70],[15,71,15,75],[15,77,15,80],[15,83,15,84],[16,2,16,5],[16,6,16,21],[16,22,16,32],[16,33,16,39],[16,40,16,46],[16,47,16,58],[16,59,16,70],[16,71,16,75],[16,77,16,80],[16,83,16,84],[17,2,17,5],[17,6,17,21],[17,22,17,32],[17,33,17,39],[17,40,17,46],[17,47,17,58],[17,59,17,70],[17,71,17,75],[17,77,17,80],[19,0,19,1],[19,2,19,70],[19,71,20,80],[20,2,20,17],[20,18,20,32],[20,33,20,46],[20,47,20,58],[20,59,20,70],[21,2,21,17],[21,18,21,32],[21,33,21,46],[21,47,21,58],[21,59,21,70],[21,71,21,75],[21,77,21,80],[23,0,23,1],[23,2,23,21],[23,22,23,42],[23,45,23,46],[23,47,23,80],[24,7,24,9],[24,13,24,15],[24,16,24,21],[24,26,24,30],[24,32,24,33],[24,35,24,38],[24,47,37,80],[27,2,27,42],[28,2,28,42],[29,2,29,42],[30,2,30,42],[40,0,40,5],[40,7,40,8],[40,9,40,10],[40,12,40,13],[40,15,40,16],[40,17,40,18],[40,19,40,32],[40,33,40,50],[40,51,40,58],[40,59,40,80],[41,0,41,1],[41,2,41,32],[41,33,41,46],[41,47,41,80],[42,2,42,32],[42,33,42,46],[42,47,42,55],[42,56,42,60],[42,61,42,62],[42,63,42,64],[42,65,42,66],[42,67,42,68],[42,69,42,70],[42,71,42,75],[44,0,44,1],[44,2,44,70],[44,71,45,80],[45,2,45,5],[45,6,45,21],[45,22,45,32],[45,33,45,46],[45,47,45,58],[45,59,45,70],[46,2,46,5],[46,6,46,21],[46,22,46,32],[46,33,46,39],[46,40,46,46],[46,47,46,58],[46,59,46,70],[46,71,46,75],[46,77,46,80],[47,2,47,5],[47,6,47,21],[47,22,47,32],[47,33,47,39],[47,40,47,46],[47,47,47,58],[47,59,47,70],[47,71,47,75],[47,77,47,80],[48,2,48,5],[48,6,48,21],[48,22,48,32],[48,33,48,39],[48,40,48,46],[48,47,48,58],[48,59,48,70],[48,71,48,75],[48,77,48,80],[49,2,49,5],[49,6,49,21],[49,22,49,32],[49,33,49,39],[49,40,49,46],[49,47,49,58],[49,59,49,70],[49,71,49,75],[49,77,49,80],[50,2,50,5],[50,6,50,21],[50,22,50,32],[50,33,50,39],[50,40,50,46],[50,47,50,58],[50,59,50,70],[50,71,50,75],[50,77,50,80],[51,2,51,5],[51,6,51,21],[51,22,51,32],[51,33,51,39],[51,40,51,46],[51,47,51,58],[51,59,51,70],[51,71,51,75],[51,77,51,80],[52,2,52,5],[52,6,52,21],[52,22,52,32],[52,33,52,39],[52,40,52,46],[52,47,52,58],[52,59,52,70],[52,71,52,75],[52,77,52,80],[53,2,53,5],[53,6,53,21],[53,22,53,32],[53,33,53,39],[53,40,53,46],[53,47,53,58],[53,59,53,70],[53,71,53,75],[53,77,53,80],[54,2,54,5],[54,6,54,21],[54,22,54,32],[54,33,54,39],[54,40,54,46],[54,47,54,58],[54,59,54,70],[54,71,54,75],[54,77,54,80],[55,2,55,5],[55,6,55,21],[55,22,55,32],[55,33,55,39],[55,40,55,46],[55,47,55,58],[55,59,55,70],[55,71,55,75],[55,77,55,80],[57,0,57,1],[57,2,57,70],[57,71,58,80],[58,2,58,17],[58,18,58,32],[58,33,58,46],[58,47,58,58],[58,59,58,70],[59,2,59,17],[59,18,59,32],[59,33,59,46],[59,47,59,58],[59,59,59,70],[59,71,59,75],[59,77,59,80],[61,0,61,1],[61,2,61,21],[61,22,61,42],[61,45,61,46],[61,47,61,80],[62,7,62,9],[62,13,62,15],[62,16,62,21],[62,26,62,30],[62,32,62,33],[62,35,62,38],[62,47,75,80],[65,2,65,42],[66,2,66,42],[67,2,67,42],[68,2,68,42]]}
["別表３　排煙風量測定記録表（Ａ４）＊注1)",{"$nulls":85},"【イ．今回の検査】(年月日)",null,null,"○",{"$nulls":11},"○"]
[]
["測定年月日",{"$nulls":8},{"$f":"IF(OR(CG3=\"指摘なし\",CG3=\"要是正\",CG3=\"既存不適格\",CG4=\"実施せず\",CG4=\"指摘なし\",CG4=\"要是正\",CG4=\"既存不適格\"),IF(報告書!R122=\"\",\"\",報告書!R122),\"\")","v":""},null,null,{"$f":"IF(OR(CG3=\"指摘なし\",CG3=\"要是正\",CG3=\"既存不適格\",CG4=\"実施せず\",CG4=\"指摘なし\",CG4=\"要是正\",CG4=\"既存不適格\"),IF(報告書!U122=\"\",\"\",報告書!U122),\"\")","v":""},null,null,{"$f":"IF(OR(CG3=\"指摘なし\",CG3=\"要是正\",CG3=\"既存不適格\",CG4=\"実施せず\",CG4=\"指摘なし\",CG4=\"要是正\",CG4=\"既存不適格\"),IF(報告書!X122=\"\",\"\",報告書!X122),\"\")","v":""},{"$nulls":3},"測定機器　メーカー名",{"$nulls":31},"型式番号等",{"$nulls":30},{"$f":"IF(OR(CG3=\"指摘なし\",CG3=\"要是正\",CG3=\"既存不適格\",CG4=\"実施せず\",CG4=\"指摘なし\",CG4=\"要是正\",CG4=\"既存不適格\"),1,0)","v":0},"1(9)排煙機の排煙風量",{"$f":"IF(排煙検査結果表!$P$33=\"〇\",\"該当なし\",IF(排煙検査結果表!$L$33=\"○\",\"指摘なし\",IF(排煙検査結果表!$N$33=\"○\",\"既存不適格\",IF(排煙検査結果表!$M$33=\"○\",\"要是正\"))))","v":false},null,{"$f":"IF(報告書!R122=\"\",\"\",報告書!R122)","v":""},{"$f":"IF(報告書!U122=\"\",\"\",報告書!U122)","v":""},{"$f":"IF(報告書!X122=\"\",\"\",報告書!X122)","v":""}]
[1,null,"排煙機系統（機器番号等）",{"$nulls":30},"排煙機銘板表示",{"$nulls":13},"排煙機の規定風量",{"$nulls":35},"1(18)排煙口の排煙風量",{"$f":"IF(排煙検査結果表!$L$42=\"実施せず\",\"実施せず\",IF(排煙検査結果表!$P$42=\"〇\",\"該当なし\",IF(排煙検査結果表!$L$42=\"○\",\"指摘なし\",IF(排煙検査結果表!$N$42=\"○\",\"既存不適格\",IF(排煙検査結果表!$M$42=\"○\",\"要是正\")))))","v":false}]
[{"$nulls":47},"最大防煙区画面積",{"$nulls":13},"㎡×",null,"",null,"or",null,"",null,"＝",null,{"$f":"IF(OR(BE5=\"\",CL5=0),\"\",IF(CM5<120,120,CM5))","v":""},{"$nulls":4},"m3/min",{"$nulls":5},{"$f":"IF(OR(J3=\"\",M3=\"\",P3=\"\",AH3=\"\",BH3=\"\",C5=\"\",AH5=\"\",C9=\"\",G9=\"\"),IF(報告_2_08排検査者代表_ハ_氏名=\"\",\"-----\",IF(OR(CG3=\"指摘なし\",CG3=\"要是正\",CG3=\"既存不適格\",CG4=\"実施せず\",CG4=\"指摘なし\",CG4=\"要是正\",CG4=\"既存不適格\"),\"未入力\",\"-----\")),\"-----\")","v":"-----"},{"$nulls":6},{"$f":"IF(BL5=\"○\",1,IF(BP5=\"○\",2,0))","v":0},{"$f":"BE5*CL5","v":0}]
[]
[2,null,"排　　　　　煙　　　　　口",{"$nulls":68},"判　定",{"$nulls":11},"【ロ．特別避難階段の階段室又は付室】",null,null,{"$f":"IF(報告書!P253=\"\",\"\",報告書!P253)","v":""}]
[null,null,"階",{"$nulls":3},"室　　　　　名",{"$nulls":15},"排煙口面積　(㎡)",{"$nulls":10},"測定風速　(m/s)＊注2)",{"$nulls":13},"測定風量(m3/min)",{"$nulls":11},"規定風量(m3/min)",{"$nulls":23},"【ハ．非常用エレベーターの昇降路又は乗降ロビー】",null,null,{"$f":"IF(報告書!P255=\"\",\"\",報告書!P255)","v":""}]
[{"$nulls":47},{"$f":"IF(OR(W9=\"\",AO9=\"\"),\"\",ROUNDDOWN(60*W9*AO9,0))","v":""},{"$nulls":23},"指摘なし",{"$nulls":4},"・","要是正",{"$nulls":3},{"$f":"IF(OR(AV9=\"\",BH9=\"\"),\"\",IF(AH9<>\"\",\"\",IF(ISTEXT(AO9),\"---\",IF(AV9=\"\",\"\",IF(AV9>=BH9,\"○\",\"×\")))))","v":""},null,"【ニ．非常用エレベーターの乗降ロビーの用に供する付室】",null,null,{"$f":"IF(報告書!P257=\"\",\"\",報告書!P257)","v":""}]
[{"$nulls":47},{"$f":"IF(OR(W10=\"\",AO10=\"\"),\"\",ROUNDDOWN(60*W10*AO10,0))","v":""},{"$nulls":23},"指摘なし",{"$nulls":4},"・","要是正",{"$nulls":3},{"$f":"IF(OR(AV10=\"\",BH10=\"\"),\"\",IF(AH10<>\"\",\"\",IF(ISTEXT(AO10),\"---\",IF(AV10=\"\",\"\",IF(AV10>=BH10,\"○\",\"×\")))))","v":""},null,"【ホ．居室等】",null,null,{"$f":"IF(報告書!P258=\"\",\"\",報告書!P258)","v":""}]
[{"$nulls":47},"",{"$nulls":23},"指摘なし",{"$nulls":4},"・","要是正",{"$nulls":3},""]
[{"$nulls":47},"",{"$nulls":23},"指摘なし",{"$nulls":4},"・","要是正",{"$nulls":3},"",{"$nulls":19},{"$f":"IF(OR(J3=\"\",M3=\"\"),\"\",IF(M3<4,J3-1,J3))","v":""}]
[{"$nulls":47},"",{"$nulls":23},"指摘なし",{"$nulls":4},"・","要是正",{"$nulls":3},"",null,{"$f":"IF(CX12=\"\",\"\",\"令和\"&CX12-2&\"年度実施済\")","v":""},null,{"$f":"IF(CX12=\"\",\"\",COUNTIF(AH:AN,CX13))","v":""},{"$nulls":15},{"$f":"IF(CX12=\"\",\"\",\"R\"&CX12-2&\"年度実施済\")","v":""}]
[{"$nulls":47},"",{"$nulls":23},"指摘なし",{"$nulls":4},"・","要是正",{"$nulls":3},"",null,{"$f":"IF(CX12=\"\",\"\",\"令和\"&CX12-1&\"年度実施済\")","v":""},null,{"$f":"IF(CX12=\"\",\"\",COUNTIF(AH:AN,CX14))","v":""},{"$nulls":15},{"$f":"IF(CX12=\"\",\"\",\"R\"&CX12-1&\"年度実施済\")","v":""}]
[{"$nulls":47},"",{"$nulls":23},"指摘なし",{"$nulls":4},"・","要是正",{"$nulls":3},"",null,{"$f":"IF(CX12=\"\",\"\",\"令和\"&IF(OR(J3=\"\",M3=\"\"),\"\",IF(M3<4,J3-1,J3))&\"年度実施\")","v":""},null,null,{"$f":"$CD$19","v":0}]
[{"$nulls":47},"",{"$nulls":23},"指摘なし",{"$nulls":4},"・","要是正",{"$nulls":3},"",null,{"$f":"IF(CX12=\"\",\"\",\"令和\"&CX12+1&\"年度実施(予定)\")","v":""},null,{"$f":"IF(CX12=\"\",\"\",COUNTIF(AH:AN,CX16))","v":""},{"$nulls":15},{"$f":"IF(CX12=\"\",\"\",\"R\"&CX12+1&\"年度実施(予定)\")","v":""}]
[{"$nulls":47},"",{"$nulls":23},"指摘なし",{"$nulls":4},"・","要是正",{"$nulls":3},"",null,{"$f":"IF(CX12=\"\",\"\",\"令和\"&CX12+2&\"年度実施(予定)\")","v":""},null,{"$f":"IF(CX12=\"\",\"\",COUNTIF(AH:AN,CX17))","v":""},{"$nulls":15},{"$f":"IF(CX12=\"\",\"\",\"R\"&CX12+2&\"年度実施(予定)\")","v":""}]
[{"$nulls":47},"",{"$nulls":23},"指摘なし",{"$nulls":4},"・","要是正",{"$nulls":3},"",{"$nulls":3},{"$f":"IF(CX12=\"\",\"\",SUM(CH13:CH17))","v":""}]
[]
[3,null,"排　　　　　煙　　　　　機",{"$nulls":68},"判　定"]
[null,null,"排煙機（番号等）",{"$nulls":15},"煙排出口面積　(㎡)",{"$nulls":14},"測定風速　(m/s)＊注2)",{"$nulls":13},"測定風量(m3/min)",{"$nulls":11},"規定風量(m3/min)"]
[{"$nulls":47},{"$f":"IF(OR(S22=\"\",AH22=\"\"),\"\",ROUNDDOWN(60*S22*AH22,0))","v":""},{"$nulls":23},"指摘なし",{"$nulls":4},"・","要是正",{"$nulls":3},{"$f":"IF(OR(AV22=\"\",BH22=\"\"),\"\",IF(ISTEXT(AH22),\"---\",IF(BH22=\"\",\"\",IF(AV22>=BH22,\"○\",\"×\"))))","v":""}]
[{"$nulls":84},"直結エンジン",null,"自家用発電装置"]
[4,null,"直結エンジン（内燃エンジン）の有無",{"$nulls":19},"予備電源又は直結エンジン切り替え",{"$nulls":22},5,null,"排煙系統図（排煙機と排煙口の対応関係がわかる図を記入すること）",{"$nulls":35},"【ヘ．予備電源】",{"$f":"IF(AND(報告書!Y259=\"\",排煙検査結果表!O164=\"―\"),\"無\",IF(報告書!Y259=\"レ\",\"有\",\"\"))","v":""},null,{"$f":"IF(報告書!P259=\"レ\",\"有\",\"\")","v":""}]
[{"$nulls":7},"有",{"$nulls":3},"・",null,"無",{"$nulls":12},"指摘なし",{"$nulls":5},"・",null,null,"要是正",{"$nulls":47},"4(26)直結エンジンの性能",{"$f":"IF(排煙検査結果表!$O$164=\"―\",\"―\",IF(排煙検査結果表!$P$164=\"〇\",\"該当なし\",IF(排煙検査結果表!$L$164=\"○\",\"指摘なし\",IF(排煙検査結果表!$N$164=\"○\",\"既存不適格\",IF(排煙検査結果表!$M$164=\"○\",\"要是正\")))))","v":false},"4(13)電源の切替えの状況",{"$f":"IF(排煙検査結果表!$O$151=\"―\",\"―\",IF(排煙検査結果表!$P$151=\"〇\",\"該当なし\",IF(排煙検査結果表!$L$151=\"○\",\"指摘なし\",IF(排煙検査結果表!$N$151=\"○\",\"既存不適格\",IF(排煙検査結果表!$M$151=\"○\",\"要是正\")))))","v":false}]
[]
[]
[null,null,"注1）本記録表は、排煙機系統ごとに記入する。"]
[null,null,"注2）「測定風速」欄には、原則として測定した箇所の平均風速を記入する。"]
[null,null,"注3）自主点検等による排煙風量測定記録がある場合は、実施時期、測定方法、測定"]
[null,null,"　　値等が適正であるか否かを判定すること。"]
{"$rows_empty":7}
["別表３　排煙風量測定記録表２（Ａ４）＊注1)"]
[]
["測定年月日",{"$nulls":8},{"$f":"$J$3","v":""},null,null,{"$f":"$M$3","v":""},null,null,{"$f":"$P$3","v":""},{"$nulls":3},"測定機器　メーカー名",{"$nulls":13},{"$f":"IF($AH$3=\"\",\"\",$AH$3)","v":""},{"$nulls":17},"型式番号等",{"$nulls":7},{"$f":"IF($BH$3=\"\",\"\",$BH$3)","v":""}]
[1,null,"排煙機系統（機器番号等）",{"$nulls":30},"排煙機銘板表示",{"$nulls":13},"排煙機の規定風量"]
[{"$nulls":47},"最大防煙区画面積",{"$nulls":13},"㎡×",null,"",null,"or",null,"",null,"＝",null,{"$f":"IF(OR(BE43=\"\",CL43=0),\"\",IF(CM43<120,120,CM43))","v":""},{"$nulls":4},"m3/min",{"$nulls":12},{"$f":"IF(BL43=\"○\",1,IF(BP43=\"○\",2,0))","v":0},{"$f":"BE43*CL43","v":0}]
[]
[2,null,"排　　　　　煙　　　　　口",{"$nulls":68},"判　定"]
[null,null,"階",{"$nulls":3},"室　　　　　名",{"$nulls":15},"排煙口面積　(㎡)",{"$nulls":10},"測定風速　(m/s)＊注2)",{"$nulls":13},"測定風量(m3/min)",{"$nulls":11},"規定風量(m3/min)"]
[{"$nulls":47},{"$f":"IF(OR(W47=\"\",AO47=\"\"),\"\",ROUNDDOWN(60*W47*AO47,0))","v":""},{"$nulls":23},"指摘なし",{"$nulls":4},"・","要是正",{"$nulls":3},{"$f":"IF(OR(AV47=\"\",BH47=\"\"),\"\",IF(AH47<>\"\",\"\",IF(ISTEXT(AO47),\"---\",IF(AV47=\"\",\"\",IF(AV47>=BH47,\"○\",\"×\")))))","v":""}]
[{"$nulls":47},{"$f":"IF(OR(W48=\"\",AO48=\"\"),\"\",ROUNDDOWN(60*W48*AO48,0))","v":""},{"$nulls":23},"指摘なし",{"$nulls":4},"・","要是正",{"$nulls":3},{"$f":"IF(OR(AV48=\"\",BH48=\"\"),\"\",IF(AH48<>\"\",\"\",IF(ISTEXT(AO48),\"---\",IF(AV48=\"\",\"\",IF(AV48>=BH48,\"○\",\"×\")))))","v":""}]
[{"$nulls":47},"",{"$nulls":23},"指摘なし",{"$nulls":4},"・","要是正",{"$nulls":3},""]
[{"$nulls":47},"",{"$nulls":23},"指摘なし",{"$nulls":4},"・","要是正",{"$nulls":3},""]
[{"$nulls":47},"",{"$nulls":23},"指摘なし",{"$nulls":4},"・","要是正",{"$nulls":3},""]
[{"$nulls":47},"",{"$nulls":23},"指摘なし",{"$nulls":4},"・","要是正",{"$nulls":3},""]
[{"$nulls":47},"",{"$nulls":23},"指摘なし",{"$nulls":4},"・","要是正",{"$nulls":3},""]
[{"$nulls":47},"",{"$nulls":23},"指摘なし",{"$nulls":4},"・","要是正",{"$nulls":3},""]
[{"$nulls":47},"",{"$nulls":23},"指摘なし",{"$nulls":4},"・","要是正",{"$nulls":3},""]
[{"$nulls":47},"",{"$nulls":23},"指摘なし",{"$nulls":4},"・","要是正",{"$nulls":3},""]
[]
[3,null,"排　　　　　煙　　　　　機",{"$nulls":68},"判　定"]
[null,null,"排煙機（番号等）",{"$nulls":15},"煙排出口面積　(㎡)",{"$nulls":14},"測定風速　(m/s)＊注2)",{"$nulls":13},"測定風量(m3/min)",{"$nulls":11},"規定風量(m3/min)"]
[{"$nulls":47},{"$f":"IF(OR(S60=\"\",AH60=\"\"),\"\",ROUNDDOWN(60*S60*AH60,0))","v":""},{"$nulls":23},"指摘なし",{"$nulls":4},"・","要是正",{"$nulls":3},{"$f":"IF(OR(AV60=\"\",BH60=\"\"),\"\",IF(ISTEXT(AH60),\"---\",IF(BH60=\"\",\"\",IF(AV60>=BH60,\"○\",\"×\"))))","v":""}]
[]
[4,null,"直結エンジン（内燃エンジン）の有無",{"$nulls":19},"予備電源又は直結エンジン切り替え",{"$nulls":22},5,null,"排煙系統図（排煙機と排煙口の対応関係がわかる図を記入すること）"]
[{"$nulls":7},"有",{"$nulls":3},"・",null,"無",{"$nulls":12},"指摘なし",{"$nulls":5},"・",null,null,"要是正"]
[]
[]
[null,null,"注1）本記録表は、排煙機系統ごとに記入する。"]
[null,null,"注2）「測定風速」欄には、原則として測定した箇所の平均風速を記入する。"]
[null,null,"注3）自主点検等による排煙風量測定記録がある場合は、実施時期、測定方法、測定"]
[null,null,"　　値等が適正であるか否かを判定すること。"]

{"sheet":"別表3-2（排煙－記録表 給気式）","index":10,"n_rows":68,"n_cols":102,"rows_kept":68,"merged":[[0,0,0,80],[1,0,1,80],[2,0,2,5],[2,6,2,8],[2,9,2,10],[2,11,2,12],[2,13,2,14],[2,15,2,16],[2,17,2,18],[2,19,2,20],[2,21,2,32],[2,33,2,50],[2,51,2,58],[2,59,2,80],[3,0,3,1],[3,2,3,32],[3,33,3,50],[3,51,3,80],[4,2,4,32],[4,33,4,50],[4,51,4,62],[4,63,4,71],[4,72,4,80],[6,0,6,1],[6,2,6,70],[6,71,7,80],[7,2,7,5],[7,6,7,21],[7,22,7,32],[7,33,7,46],[7,47,7,58],[7,59,7,70],[8,2,8,5],[8,6,8,21],[8,22,8,32],[8,33,8,39],[8,40,8,46],[8,47,8,58],[8,59,8,70],[8,71,8,75],[8,77,8,80],[9,2,9,5],[9,6,9,21],[9,22,9,32],[9,33,9,39],[9,40,9,46],[9,47,9,58],[9,59,9,70],[9,71,9,75],[9,77,9,80],[10,2,10,5],[10,6,10,21],[10,22,10,32],[10,33,10,39],[10,40,10,46],[10,47,10,58],[10,59,10,70],[10,71,10,75],[10,77,10,80],[11,2,11,5],[11,6,11,21],[11,22,11,32],[11,33,11,39],[11,40,11,46],[11,47,11,58],[11,59,11,70],[11,71,11,75],[11,77,11,80],[12,2,12,5],[12,6,12,21],[12,22,12,32],[12,33,12,39],[12,40,12,46],[12,47,12,58],[12,59,12,70],[12,71,12,75],[12,77,12,80],[12,83,12,84],[13,2,13,5],[13,6,13,21],[13,22,13,32],[13,33,13,39],[13,40,13,46],[13,47,13,58],[13,59,13,70],[13,71,13,75],[13,77,13,80],[13,83,13,84],[14,2,14,5],[14,6,14,21],[14,22,14,32],[14,33,14,39],[14,40,14,46],[14,47,14,58],[14,59,14,70],[14,71,14,75],[14,77,14,80],[14,83,14,84],[15,2,15,5],[15,6,15,21],[15,22,15,32],[15,33,15,39],[15,40,15,46],[15,47,15,58],[15,59,15,70],[15,71,15,75],[15,77,15,80],[15,83,15,84],[16,2,16,5],[16,6,16,21],[16,22,16,32],[16,33,16,39],[16,40,16,46],[16,47,16,58],[16,59,16,70],[16,71,16,75],[16,77,16,80],[16,83,16,84],[17,2,17,5],[17,6,17,21],[17,22,17,32],[17,33,17,39],[17,40,17,46],[17,47,17,58],[17,59,17,70],[17,71,17,75],[17,77,17,80],[19,0,19,1],[19,2,19,70],[19,71,20,80],[20,2,20,20],[20,21,20,37],[20,38,20,54],[20,55,20,70],[21,2,21,20],[21,21,21,37],[21,38,21,54],[21,55,21,70],[21,71,21,75],[21,77,21,80],[23,0,23,1],[23,2,23,21],[23,22,23,42],[23,45,23,46],[23,47,23,80],[24,7,24,9],[24,13,24,15],[24,16,24,21],[24,26,24,30],[24,32,24,33],[24,35,24,38],[24,47,36,80],[27,2,27,44],[28,2,28,44],[29,2,29,44],[30,2,30,44],[31,2,31,44],[32,2,32,44],[33,2,33,44],[40,0,40,5],[40,6,40,8],[40,9,40,10],[40,11,40,12],[40,13,40,14],[40,15,40,16],[40,17,40,18],[40,19,40,20],[40,21,40,32],[40,33,40,50],[40,51,40,58],[40,59,40,80],[41,0,41,1],[41,2,41,32],[41,33,41,50],[41,51,41,80],[42,2,42,32],[42,33,42,50],[42,51,42,62],[42,63,42,71],[42,72,42,80],[44,0,44,1],[44,2,44,70],[44,71,45,80],[45,2,45,5],[45,6,45,21],[45,22,45,32],[45,33,45,46],[45,47,45,58],[45,59,45,70],[46,2,46,5],[46,6,46,21],[46,22,46,32],[46,33,46,39],[46,40,46,46],[46,47,46,58],[46,59,46,70],[46,71,46,75],[46,77,46,80],[47,2,47,5],[47,6,47,21],[47,22,47,32],[47,33,47,39],[47,40,47,46],[47,47,47,58],[47,59,47,70],[47,71,47,75],[47,77,47,80],[48,2,48,5],[48,6,48,21],[48,22,48,32],[48,33,48,39],[48,40,48,46],[48,47,48,58],[48,59,48,70],[48,71,48,75],[48,77,48,80],[49,2,49,5],[49,6,49,21],[49,22,49,32],[49,33,49,39],[49,40,49,46],[49,47,49,58],[49,59,49,70],[49,71,49,75],[49,77,49,80],[50,2,50,5],[50,6,50,21],[50,22,50,32],[50,33,50,39],[50,40,50,46],[50,47,50,58],[50,59,50,70],[50,71,50,75],[50,77,50,80],[51,2,51,5],[51,6,51,21],[51,22,51,32],[51,33,51,39],[51,40,51,46],[51,47,51,58],[51,59,51,70],[51,71,51,75],[51,77,51,80],[52,2,52,5],[52,6,52,21],[52,22,52,32],[52,33,52,39],[52,40,52,46],[52,47,52,58],[52,59,52,70],[52,71,52,75],[52,77,52,80],[53,2,53,5],[53,6,53,21],[53,22,53,32],[53,33,53,39],[53,40,53,46],[53,47,53,58],[53,59,53,70],[53,71,53,75],[53,77,53,80],[54,2,54,5],[54,6,54,21],[54,22,54,32],[54,33,54,39],[54,40,54,46],[54,47,54,58],[54,59,54,70],[54,71,54,75],[54,77,54,80],[55,2,55,5],[55,6,55,21],[55,22,55,32],[55,33,55,39],[55,40,55,46],[55,47,55,58],[55,59,55,70],[55,71,55,75],[55,77,55,80],[57,0,57,1],[57,2,57,70],[57,71,58,80],[58,2,58,20],[58,21,58,37],[58,38,58,54],[58,55,58,70],[59,2,59,20],[59,21,59,37],[59,38,59,54],[59,55,59,70],[59,71,59,75],[59,77,59,80],[61,0,61,1],[61,2,61,21],[61,22,61,42],[61,45,61,46],[61,47,61,80],[62,7,62,9],[62,13,62,15],[62,16,62,21],[62,26,62,30],[62,32,62,33],[62,35,62,38],[62,47,74,80],[65,2,65,44],[66,2,66,44],[67,2,67,44],[68,2,68,44],[69,2,69,44],[70,2,70,44],[71,2,71,44]]}
["別表３－２　排煙風量測定記録表（Ａ４）　給気式（特殊な構造の排煙設備）",{"$nulls":85},"【イ．今回の検査】(年月日)",null,null,"○",{"$nulls":11},"○"]
[]
["測定年月日",{"$nulls":5},"令和",null,null,{"$f":"IF(OR(CG3=\"指摘なし\",CG3=\"要是正\",CG3=\"既存不適格\",CG4=\"実施せず\",CG4=\"指摘なし\",CG4=\"要是正\",CG4=\"既存不適格\"),IF(報告書!R122=\"\",\"\",報告書!R122),\"\")","v":""},null,"年",null,{"$f":"IF(OR(CG3=\"指摘なし\",CG3=\"要是正\",CG3=\"既存不適格\",CG4=\"実施せず\",CG4=\"指摘なし\",CG4=\"要是正\",CG4=\"既存不適格\"),IF(報告書!U122=\"\",\"\",報告書!U122),\"\")","v":""},null,"月",null,{"$f":"IF(OR(CG3=\"指摘なし\",CG3=\"要是正\",CG3=\"既存不適格\",CG4=\"実施せず\",CG4=\"指摘なし\",CG4=\"要是正\",CG4=\"既存不適格\"),IF(報告書!X122=\"\",\"\",報告書!X122),\"\")","v":""},null,"日",null,"測定機器　メーカー名",{"$nulls":29},"型式番号等",{"$nulls":30},{"$f":"IF(OR(CG3=\"指摘なし\",CG3=\"要是正\",CG3=\"既存不適格\",CG4=\"実施せず\",CG4=\"指摘なし\",CG4=\"要是正\",CG4=\"既存不適格\"),1,0)","v":0},"1(37)排煙口の排煙風量",{"$f":"IF(排煙検査結果表!$L$61=\"実施せず\",\"実施せず\",IF(排煙検査結果表!$P$61=\"〇\",\"該当なし\",IF(排煙検査結果表!$L$61=\"○\",\"指摘なし\",IF(排煙検査結果表!$N$61=\"○\",\"既存不適格\",IF(排煙検査結果表!$M$61=\"○\",\"要是正\")))))","v":false},null,{"$f":"IF(報告書!R122=\"\",\"\",報告書!R122)","v":""},{"$f":"IF(報告書!U122=\"\",\"\",報告書!U122)","v":""},{"$f":"IF(報告書!X122=\"\",\"\",報告書!X122)","v":""}]
[1,null,"給気送風機系統（機器番号等）",{"$nulls":30},"給気送風機銘板表示",{"$nulls":17},"給気送風機の性能（風量）",{"$nulls":31},"1(49)給気送風機の給気風量",{"$f":"IF(排煙検査結果表!$P$73=\"〇\",\"該当なし\",IF(排煙検査結果表!$L$73=\"○\",\"指摘なし\",IF(排煙検査結果表!$N$73=\"○\",\"既存不適格\",IF(排煙検査結果表!$M$73=\"○\",\"要是正\"))))","v":false}]
[{"$nulls":72},"m3/min",{"$nulls":9},{"$f":"IF(OR(J3=\"\",N3=\"\",R3=\"\",AH3=\"\",BH3=\"\",C5=\"\",AH5=\"\",BL5=\"\",C9=\"\",G9=\"\"),IF(報告_2_08排検査者代表_ハ_氏名=\"\",\"-----\",IF(OR(CG3=\"指摘なし\",CG3=\"要是正\",CG3=\"既存不適格\",CG4=\"実施せず\",CG4=\"指摘なし\",CG4=\"要是正\",CG4=\"既存不適格\"),\"未入力\",\"-----\")),\"-----\")","v":"-----"}]
[]
[2,null,"排　　　　　煙　　　　　口",{"$nulls":68},"判　定",{"$nulls":11},"【ロ．特別避難階段の階段室又は付室】",null,null,{"$f":"IF(報告書!AA253=\"\",\"\",報告書!AA253)","v":""}]
[null,null,"階",{"$nulls":3},"室　　　　　名",{"$nulls":15},"排煙口面積　(㎡)",{"$nulls":10},"測定風速　(m/s)＊注1)",{"$nulls":13},"測定風量(m3/min)",{"$nulls":11},"規定風量(m3/min)",{"$nulls":23},"【ハ．非常用エレベーターの昇降路又は乗降ロビー】",null,null,{"$f":"IF(報告書!AA255=\"\",\"\",報告書!AA255)","v":""}]
[{"$nulls":47},{"$f":"IF(OR(W9=\"\",AO9=\"\"),\"\",ROUNDDOWN(60*W9*AO9,0))","v":""},{"$nulls":23},"指摘なし",{"$nulls":4},"・","要是正",{"$nulls":3},{"$f":"IF(OR(AV9=\"\",BH9=\"\"),\"\",IF(AH9<>\"\",\"\",IF(ISTEXT(AO9),\"---\",IF(AV9=\"\",\"\",IF(AV9>=BH9,\"○\",\"■\")))))","v":""},null,"【ニ．非常用エレベーターの乗降ロビーの用に供する付室】",null,null,{"$f":"IF(報告書!AA257=\"\",\"\",報告書!AA257)","v":""}]
[{"$nulls":47},{"$f":"IF(OR(W10=\"\",AO10=\"\"),\"\",ROUNDDOWN(60*W10*AO10,0))","v":""},{"$nulls":23},"指摘なし",{"$nulls":4},"・","要是正",{"$nulls":3},"",null,"【ホ．居室等】",null,null,{"$f":"IF(報告書!AA258=\"\",\"\",報告書!AA258)","v":""}]
[{"$nulls":47},"",{"$nulls":23},"指摘なし",{"$nulls":4},"・","要是正",{"$nulls":3},""]
[{"$nulls":47},"",{"$nulls":23},"指摘なし",{"$nulls":4},"・","要是正",{"$nulls":3},"",{"$nulls":19},{"$f":"IF(OR(J3=\"\",N3=\"\"),\"\",IF(N3<4,J3-1,J3))","v":""}]
[{"$nulls":47},"",{"$nulls":23},"指摘なし",{"$nulls":4},"・","要是正",{"$nulls":3},"",null,{"$f":"IF(CX12=\"\",\"\",\"令和\"&CX12-2&\"年度実施済\")","v":""},null,{"$f":"IF(CX12=\"\",\"\",COUNTIF(AH:AN,CX13))","v":""},{"$nulls":15},{"$f":"IF(CX12=\"\",\"\",\"R\"&CX12-2&\"年度実施済\")","v":""}]
[{"$nulls":47},"",{"$nulls":23},"指摘なし",{"$nulls":4},"・","要是正",{"$nulls":3},"",null,{"$f":"IF(CX12=\"\",\"\",\"令和\"&CX12-1&\"年度実施済\")","v":""},null,{"$f":"IF(CX12=\"\",\"\",COUNTIF(AH:AN,CX14))","v":""},{"$nulls":15},{"$f":"IF(CX12=\"\",\"\",\"R\"&CX12-1&\"年度実施済\")","v":""}]
[{"$nulls":47},"",{"$nulls":23},"指摘なし",{"$nulls":4},"・","要是正",{"$nulls":3},"",null,{"$f":"IF(CX12=\"\",\"\",\"令和\"&IF(OR(J3=\"\",N3=\"\"),\"\",IF(N3<4,J3-1,J3))&\"年度実施\")","v":""},null,null,{"$f":"$CD$20","v":0}]
[{"$nulls":47},"",{"$nulls":23},"指摘なし",{"$nulls":4},"・","要是正",{"$nulls":3},"",null,{"$f":"IF(CX12=\"\",\"\",\"令和\"&CX12+1&\"年度実施(予定)\")","v":""},null,{"$f":"IF(CX12=\"\",\"\",COUNTIF(AH:AN,CX16))","v":""},{"$nulls":15},{"$f":"IF(CX12=\"\",\"\",\"R\"&CX12+1&\"年度実施(予定)\")","v":""}]
[{"$nulls":47},"",{"$nulls":23},"指摘なし",{"$nulls":4},"・","要是正",{"$nulls":3},"",null,{"$f":"IF(CX12=\"\",\"\",\"令和\"&CX12+2&\"年度実施(予定)\")","v":""},null,{"$f":"IF(CX12=\"\",\"\",COUNTIF(AH:AN,CX17))","v":""},{"$nulls":15},{"$f":"IF(CX12=\"\",\"\",\"R\"&CX12+2&\"年度実施(予定)\")","v":""}]
[{"$nulls":47},"",{"$nulls":23},"指摘なし",{"$nulls":4},"・","要是正",{"$nulls":3},"",{"$nulls":3},{"$f":"IF(CX12=\"\",\"\",SUM(CH13:CH17))","v":""}]
[]
[3,null,"給　　気　　送　　風　　機",{"$nulls":68},"判　定"]
[null,null,"吸込口面積　(㎡)",{"$nulls":18},"測定風速　(m/s)＊注1)",{"$nulls":16},"測定風量(m3/min)",{"$nulls":16},"規定風量(m3/min)"]
[{"$nulls":38},{"$f":"IF(OR(ISBLANK(C22),ISBLANK(V22)),\"\",ROUNDDOWN(60*C22*V22,0))","v":""},{"$nulls":32},"指摘なし",{"$nulls":4},"・","要是正",{"$nulls":3},{"$f":"IF(OR(AM22=\"\",BD22=\"\"),\"\",IF(ISTEXT(V22),\"---\",IF(BD22=\"\",\"\",IF(AM22>=BD22,\"○\",\"■\"))))","v":""}]
[]
[4,null,"直結エンジン（内燃エンジン）の有無",{"$nulls":19},"予備電源又は直結エンジン切り替え",{"$nulls":22},4,null,"排煙系統図（給気送風機と排煙口の対応関係がわかる図を記入すること）"]
[{"$nulls":7},"有",{"$nulls":3},"・",null,"無",{"$nulls":12},"指摘なし",{"$nulls":5},"・",null,null,"要是正",{"$nulls":47},"4(26)直結エンジンの性能",{"$f":"IF(排煙検査結果表!O164=\"―\",\"―\",IF(排煙検査結果表!$P$164=\"〇\",\"該当なし\",IF(排煙検査結果表!$L$164=\"○\",\"指摘なし\",IF(排煙検査結果表!$N$164=\"○\",\"既存不適格\",IF(排煙検査結果表!$M$164=\"○\",\"要是正\")))))","v":false},"4(13)電源の切替えの状況",{"$f":"IF(排煙検査結果表!$P$151=\"〇\",\"該当なし\",IF(排煙検査結果表!$L$151=\"○\",\"指摘なし\",IF(排煙検査結果表!$N$151=\"○\",\"既存不適格\",IF(排煙検査結果表!$M$151=\"○\",\"要是正\"))))","v":false}]
[]
[{"$nulls":84},"自家用発電装置","直結エンジン"]
[null,null,"注1）「測定風速」欄には、原則として測定した箇所の平均風速を記入する。",{"$nulls":80},"【ヘ．予備電源】",{"$f":"IF(報告書!P259=\"レ\",\"有\",\"\")","v":""},{"$f":"IF(報告書!Y259=\"レ\",\"有\",\"\")","v":""}]
[null,null,"注2）自主点検等による排煙風量測定記録がある場合は、実施時期、測定方法、測定"]
[null,null,"　　値等が適正であるか否かを判定すること。"]
{"$rows_empty":8}
["別表３－２　排煙風量測定記録表２（Ａ４）　給気式（特殊な構造の排煙設備）"]
[]
["測定年月日",{"$nulls":5},"令和",null,null,{"$f":"$J$3","v":""},null,"年",null,{"$f":"$N$3","v":""},null,"月",null,{"$f":"$R$3","v":""},null,"日",null,"測定機器　メーカー名",{"$nulls":11},{"$f":"IF($AH$3=\"\",\"\",$AH$3)","v":""},{"$nulls":17},"型式番号等",{"$nulls":7},{"$f":"IF($BH$3=\"\",\"\",$BH$3)","v":""}]
[1,null,"給気送風機系統（機器番号等）",{"$nulls":30},"給気送風機銘板表示",{"$nulls":17},"給気送風機の性能（風量）"]
[{"$nulls":72},"m3/min"]
[]
[2,null,"排　　　　　煙　　　　　口",{"$nulls":68},"判　定"]
[null,null,"階",{"$nulls":3},"室　　　　　名",{"$nulls":15},"排煙口面積　(㎡)",{"$nulls":10},"測定風速　(m/s)＊注1)",{"$nulls":13},"測定風量(m3/min)",{"$nulls":11},"規定風量(m3/min)"]
[{"$nulls":47},{"$f":"IF(OR(W47=\"\",AO47=\"\"),\"\",ROUNDDOWN(60*W47*AO47,0))","v":""},{"$nulls":23},"指摘なし",{"$nulls":4},"・","要是正",{"$nulls":3},{"$f":"IF(OR(AV47=\"\",BH47=\"\"),\"\",IF(AH47<>\"\",\"\",IF(ISTEXT(AO47),\"---\",IF(AV47=\"\",\"\",IF(AV47>=BH47,\"○\",\"■\")))))","v":""}]
[{"$nulls":47},{"$f":"IF(OR(W48=\"\",AO48=\"\"),\"\",ROUNDDOWN(60*W48*AO48,0))","v":""},{"$nulls":23},"指摘なし",{"$nulls":4},"・","要是正",{"$nulls":3},""]
[{"$nulls":47},"",{"$nulls":23},"指摘なし",{"$nulls":4},"・","要是正",{"$nulls":3},""]
[{"$nulls":47},"",{"$nulls":23},"指摘なし",{"$nulls":4},"・","要是正",{"$nulls":3},""]
[{"$nulls":47},"",{"$nulls":23},"指摘なし",{"$nulls":4},"・","要是正",{"$nulls":3},""]
[{"$nulls":47},"",{"$nulls":23},"指摘なし",{"$nulls":4},"・","要是正",{"$nulls":3},""]
[{"$nulls":47},"",{"$nulls":23},"指摘なし",{"$nulls":4},"・","要是正",{"$nulls":3},""]
[{"$nulls":47},"",{"$nulls":23},"指摘なし",{"$nulls":4},"・","要是正",{"$nulls":3},""]
[{"$nulls":47},"",{"$nulls":23},"指摘なし",{"$nulls":4},"・","要是正",{"$nulls":3},""]
[{"$nulls":47},{"$f":"IF(OR(W56=\"\",AO56=\"\"),\"\",ROUNDDOWN(60*W56*AO56,0))","v":""},{"$nulls":23},"指摘なし",{"$nulls":4},"・","要是正",{"$nulls":3},""]
[]
[3,null,"給　　気　　送　　風　　機",{"$nulls":68},"判　定"]
[null,null,"吸込口面積　(㎡)",{"$nulls":18},"測定風速　(m/s)＊注1)",{"$nulls":16},"測定風量(m3/min)",{"$nulls":16},"規定風量(m3/min)"]
[{"$nulls":38},{"$f":"IF(OR(ISBLANK(C60),ISBLANK(V60)),\"\",ROUNDDOWN(60*C60*V60,0))","v":""},{"$nulls":32},"指摘なし",{"$nulls":4},"・","要是正",{"$nulls":3},{"$f":"IF(OR(AM60=\"\",BD60=\"\"),\"\",IF(ISTEXT(V60),\"---\",IF(BD60=\"\",\"\",IF(AM60>=BD60,\"○\",\"■\"))))","v":""}]
[]
[4,null,"直結エンジン（内燃エンジン）の有無",{"$nulls":19},"予備電源又は直結エンジン切り替え",{"$nulls":22},4,null,"排煙系統図（給気送風機と排煙口の対応関係がわかる図を記入すること）"]
[{"$nulls":7},"有",{"$nulls":3},"・",null,"無",{"$nulls":12},"指摘なし",{"$nulls":5},"・",null,null,"要是正"]
[]
[]
[null,null,"注1）「測定風速」欄には、原則として測定した箇所の平均風速を記入する。"]
[null,null,"注2）自主点検等による排煙風量測定記録がある場合は、実施時期、測定方法、測定"]
[null,null,"　　値等が適正であるか否かを判定すること。"]

{"sheet":"別表3-3（排煙－記録表 加圧式）","index":11,"n_rows":74,"n_cols":102,"rows_kept":74,"merged":[[0,0,0,80],[1,0,1,80],[2,0,2,5],[2,6,2,8],[2,9,2,10],[2,11,2,12],[2,13,2,14],[2,15,2,16],[2,17,2,18],[2,19,2,20],[2,21,2,32],[2,33,2,50],[2,51,2,58],[2,59,2,80],[3,0,3,1],[3,2,3,32],[3,33,3,50],[3,51,3,80],[4,2,4,32],[4,33,4,50],[4,51,4,62],[4,63,4,71],[4,72,4,80],[6,0,6,1],[6,2,6,70],[6,71,7,80],[7,2,7,5],[7,6,7,21],[7,22,7,32],[7,33,7,44],[7,45,7,56],[7,57,7,61],[7,62,7,70],[8,2,10,5],[8,6,10,21],[8,22,8,28],[8,29,8,30],[8,33,8,44],[8,45,10,56],[8,57,10,61],[8,62,10,70],[8,71,10,75],[8,76,10,76],[8,77,10,80],[9,22,9,28],[9,29,9,30],[9,33,10,44],[10,22,10,28],[10,29,10,30],[11,2,13,5],[11,6,13,21],[11,22,11,28],[11,29,11,30],[11,33,11,44],[11,45,13,56],[11,57,13,61],[11,62,13,70],[11,71,13,75],[11,76,13,76],[11,77,13,80],[11,83,11,84],[12,22,12,28],[12,29,12,30],[12,33,13,44],[12,83,12,84],[13,22,13,28],[13,29,13,30],[13,83,13,84],[14,2,16,5],[14,6,16,21],[14,22,14,28],[14,29,14,30],[14,33,14,44],[14,45,16,56],[14,57,16,61],[14,62,16,70],[14,71,16,75],[14,76,16,76],[14,77,16,80],[14,83,14,84],[15,22,15,28],[15,29,15,30],[15,33,16,44],[15,83,15,84],[16,22,16,28],[16,29,16,30],[17,2,19,5],[17,6,19,21],[17,22,17,28],[17,29,17,30],[17,33,17,44],[17,45,19,56],[17,57,19,61],[17,62,19,70],[17,71,19,75],[17,76,19,76],[17,77,19,80],[18,22,18,28],[18,29,18,30],[18,33,19,44],[19,22,19,28],[19,29,19,30],[20,2,22,5],[20,6,22,21],[20,22,20,28],[20,29,20,30],[20,33,20,44],[20,45,22,56],[20,57,22,61],[20,62,22,70],[20,71,22,75],[20,76,22,76],[20,77,22,80],[21,22,21,28],[21,29,21,30],[21,33,22,44],[22,22,22,28],[22,29,22,30],[24,0,24,1],[24,2,24,21],[24,22,24,42],[24,45,24,46],[24,47,24,80],[25,7,25,9],[25,13,25,15],[25,16,25,21],[25,26,25,30],[25,32,25,33],[25,35,25,38],[25,47,37,80],[27,1,27,3],[27,4,27,43],[28,1,28,3],[28,4,28,43],[29,1,29,3],[29,4,29,43],[30,4,30,43],[31,4,31,43],[32,4,32,43],[33,4,33,43],[34,1,34,3],[34,4,34,43],[35,4,35,43],[40,0,40,5],[40,6,40,8],[40,9,40,10],[40,11,40,12],[40,13,40,14],[40,15,40,16],[40,17,40,18],[40,19,40,20],[40,21,40,32],[40,33,40,50],[40,51,40,58],[40,59,40,80],[41,0,41,1],[41,2,41,32],[41,33,41,50],[41,51,41,80],[42,2,42,32],[42,33,42,50],[42,51,42,62],[42,63,42,71],[42,72,42,80],[44,0,44,1],[44,2,44,70],[44,71,45,80],[45,2,45,5],[45,6,45,21],[45,22,45,32],[45,33,45,44],[45,45,45,56],[45,57,45,61],[45,62,45,70],[46,2,48,5],[46,6,48,21],[46,22,46,28],[46,29,46,30],[46,33,46,44],[46,45,48,56],[46,57,48,61],[46,62,48,70],[46,71,48,75],[46,76,48,76],[46,77,48,80],[47,22,47,28],[47,29,47,30],[47,33,48,44],[48,22,48,28],[48,29,48,30],[49,2,51,5],[49,6,51,21],[49,22,49,28],[49,29,49,30],[49,33,49,44],[49,45,51,56],[49,57,51,61],[49,62,51,70],[49,71,51,75],[49,76,51,76],[49,77,51,80],[50,22,50,28],[50,29,50,30],[50,33,51,44],[51,22,51,28],[51,29,51,30],[52,2,54,5],[52,6,54,21],[52,22,52,28],[52,29,52,30],[52,33,52,44],[52,45,54,56],[52,57,54,61],[52,62,54,70],[52,71,54,75],[52,76,54,76],[52,77,54,80],[53,22,53,28],[53,29,53,30],[53,33,54,44],[54,22,54,28],[54,29,54,30],[55,2,57,5],[55,6,57,21],[55,22,55,28],[55,29,55,30],[55,33,55,44],[55,45,57,56],[55,57,57,61],[55,62,57,70],[55,71,57,75],[55,76,57,76],[55,77,57,80],[56,22,56,28],[56,29,56,30],[56,33,57,44],[57,22,57,28],[57,29,57,30],[58,2,60,5],[58,6,60,21],[58,22,58,28],[58,29,58,30],[58,33,58,44],[58,45,60,56],[58,57,60,61],[58,62,60,70],[58,71,60,75],[58,76,60,76],[58,77,60,80],[59,22,59,28],[59,29,59,30],[59,33,60,44],[60,22,60,28],[60,29,60,30],[62,0,62,1],[62,2,62,21],[62,22,62,42],[62,45,62,46],[62,47,62,80],[63,7,63,9],[63,13,63,15],[63,16,63,21],[63,26,63,30],[63,32,63,33],[63,35,63,38],[63,47,75,80],[65,1,65,3],[65,4,65,43],[66,1,66,3],[66,4,66,43],[67,1,67,3],[67,4,67,43],[68,4,68,43],[69,4,69,43],[70,4,70,43],[71,4,71,43],[72,1,72,3],[72,4,72,43],[73,4,73,43]]}
["別表３－３　排煙風量測定記録表（Ａ４）　加圧式（加圧防排煙設備）",{"$nulls":85},"【イ．今回の検査】(年月日)",null,null,"○",{"$nulls":11},"○"]
[]
["測定年月日",{"$nulls":5},"令和",null,null,{"$f":"IF(OR(CG3=\"指摘なし\",CG3=\"要是正\",CG3=\"既存不適格\",CG4=\"実施せず\",CG4=\"指摘なし\",CG4=\"要是正\",CG4=\"既存不適格\"),IF(報告書!R122=\"\",\"\",報告書!R122),\"\")","v":""},null,"年",null,{"$f":"IF(OR(CG3=\"指摘なし\",CG3=\"要是正\",CG3=\"既存不適格\",CG4=\"実施せず\",CG4=\"指摘なし\",CG4=\"要是正\",CG4=\"既存不適格\"),IF(報告書!U122=\"\",\"\",報告書!U122),\"\")","v":""},null,"月",null,{"$f":"IF(OR(CG3=\"指摘なし\",CG3=\"要是正\",CG3=\"既存不適格\",CG4=\"実施せず\",CG4=\"指摘なし\",CG4=\"要是正\",CG4=\"既存不適格\"),IF(報告書!X122=\"\",\"\",報告書!X122),\"\")","v":""},null,"日",null,"測定機器　メーカー名",{"$nulls":29},"型式番号等",{"$nulls":30},{"$f":"IF(OR(CG3=\"実施せず\",CG3=\"指摘なし\",CG3=\"要是正\",CG3=\"既存不適格\"),1,0)","v":0},"2(24)遮煙開口部の排出風速",{"$f":"IF(排煙検査結果表!$L$109=\"実施せず\",\"実施せず\",IF(排煙検査結果表!$P$109=\"〇\",\"該当なし\",IF(排煙検査結果表!$L$109=\"○\",\"指摘なし\",IF(排煙検査結果表!$N$109=\"○\",\"既存不適格\",IF(排煙検査結果表!$M$109=\"○\",\"要是正\")))))","v":false},null,{"$f":"IF(報告書!R122=\"\",\"\",報告書!R122)","v":""},{"$f":"IF(報告書!U122=\"\",\"\",報告書!U122)","v":""},{"$f":"IF(報告書!X122=\"\",\"\",報告書!X122)","v":""}]
[1,null,"給気送風機系統（機器番号等）",{"$nulls":30},"給気送風機銘板表示",{"$nulls":17},"給気送風機の性能（風量）"]
[{"$nulls":72},"m3/min",{"$nulls":9},{"$f":"IF(OR(J3=\"\",N3=\"\",R3=\"\",AH3=\"\",BH3=\"\",C5=\"\",AH5=\"\",BL5=\"\",C9=\"\",G9=\"\"),IF(報告_2_08排検査者代表_ハ_氏名=\"\",\"-----\",IF(OR(CG3=\"実施せず\",CG3=\"指摘なし\",CG3=\"要是正\",CG3=\"既存不適格\"),\"未入力\",\"-----\")),\"-----\")","v":"-----"}]
[]
[2,null,"遮煙開口部・空気逃し口",{"$nulls":68},"判　定",{"$nulls":11},"【ロ．特別避難階段の階段室又は付室】",null,null,{"$f":"IF(報告書!AL253=\"\",\"\",報告書!AL253)","v":""}]
[null,null,"階",{"$nulls":3},"室　　　　　名",{"$nulls":15},"空気逃し口の方式※注1)",{"$nulls":10},"測定排出風速※注2)(m/s)",{"$nulls":11},"規定排出風速※注3)(m/s)",{"$nulls":11},"算定式※注3)",{"$nulls":4},"遮煙開口部の高さ(m)",{"$nulls":20},"【ハ．非常用エレベーターの昇降路又は乗降ロビー】",null,null,{"$f":"IF(報告書!AL255=\"\",\"\",報告書!AL255)","v":""}]
[{"$nulls":22},"1.自然方式",{"$nulls":22},{"$f":"IF(OR(ISBLANK(BF9),ISBLANK(BK9)),\"\",IF(BF9=\"①\",ROUNDDOWN(2.7*SQRT(BK9),1),IF(BF9=\"②\",ROUNDDOWN(3.3*SQRT(BK9),1),IF(BF9=\"③\",ROUNDDOWN(3.8*SQRT(BK9),1)))))","v":""},{"$nulls":25},"指摘なし",{"$nulls":4},"・","要是正",{"$nulls":5},"【ニ．非常用エレベーターの乗降ロビーの用に供する付室】",null,null,{"$f":"IF(報告書!AL257=\"\",\"\",報告書!AL257)","v":""}]
[{"$nulls":22},"2.機械方式",{"$nulls":58},{"$f":"IF(OR(AH10=\"\",AT9=\"\"),\"\",IF(AH9<>\"\",\"\",IF(ISTEXT(AH10),\"---\",IF(AT9=\"\",\"\",IF(AH10>=AT9,\"○\",\"×\")))))","v":""}]
[{"$nulls":22},"3.併用方式",{"$nulls":78},{"$f":"IF(OR(J3=\"\",N3=\"\"),\"\",IF(N3<4,J3-1,J3))","v":""}]
[{"$nulls":22},"1.自然方式",{"$nulls":22},{"$f":"IF(OR(ISBLANK(BF12),ISBLANK(BK12)),\"\",IF(BF12=\"①\",ROUNDDOWN(2.7*SQRT(BK12),1),IF(BF12=\"②\",ROUNDDOWN(3.3*SQRT(BK12),1),IF(BF12=\"③\",ROUNDDOWN(3.8*SQRT(BK12),1)))))","v":""},{"$nulls":25},"指摘なし",{"$nulls":4},"・","要是正",{"$nulls":5},{"$f":"IF(CX11=\"\",\"\",\"令和\"&CX11-2&\"年度実施済\")","v":""},null,{"$f":"IF(CX11=\"\",\"\",COUNTIF(AH:AS,CX12))","v":""},{"$nulls":15},{"$f":"IF(CX11=\"\",\"\",\"R\"&CX11-2&\"年度実施済\")","v":""}]
[{"$nulls":22},"2.機械方式",{"$nulls":58},{"$f":"IF(OR(AH13=\"\",AT12=\"\"),\"\",IF(AH12<>\"\",\"\",IF(ISTEXT(AH13),\"---\",IF(AT12=\"\",\"\",IF(AH13>=AT12,\"○\",\"×\")))))","v":""},null,{"$f":"IF(CX11=\"\",\"\",\"令和\"&CX11-1&\"年度実施済\")","v":""},null,{"$f":"IF(CX11=\"\",\"\",COUNTIF(AH:AS,CX13))","v":""},{"$nulls":15},{"$f":"IF(CX11=\"\",\"\",\"R\"&CX11-1&\"年度実施済\")","v":""}]
[{"$nulls":22},"3.併用方式",{"$nulls":60},{"$f":"IF(CX11=\"\",\"\",\"令和\"&IF(OR(J3=\"\",N3=\"\"),\"\",IF(N3<4,J3-1,J3))&\"年度実施\")","v":""},null,null,{"$f":"$CD$25","v":0}]
[{"$nulls":22},"1.自然方式",{"$nulls":22},{"$f":"IF(OR(ISBLANK(BF15),ISBLANK(BK15)),\"\",IF(BF15=\"①\",ROUNDDOWN(2.7*SQRT(BK15),1),IF(BF15=\"②\",ROUNDDOWN(3.3*SQRT(BK15),1),IF(BF15=\"③\",ROUNDDOWN(3.8*SQRT(BK15),1)))))","v":""},{"$nulls":25},"指摘なし",{"$nulls":4},"・","要是正",{"$nulls":5},{"$f":"IF(CX11=\"\",\"\",\"令和\"&CX11+1&\"年度実施(予定)\")","v":""},null,{"$f":"IF(CX11=\"\",\"\",COUNTIF(AH:AS,CX15))","v":""},{"$nulls":15},{"$f":"IF(CX11=\"\",\"\",\"R\"&CX11+1&\"年度実施(予定)\")","v":""}]
[{"$nulls":22},"2.機械方式",{"$nulls":58},{"$f":"IF(OR(AH16=\"\",AT15=\"\"),\"\",IF(AH15<>\"\",\"\",IF(ISTEXT(AH16),\"---\",IF(AT15=\"\",\"\",IF(AH16>=AT15,\"○\",\"×\")))))","v":""},null,{"$f":"IF(CX11=\"\",\"\",\"令和\"&CX11+2&\"年度実施(予定)\")","v":""},null,{"$f":"IF(CX11=\"\",\"\",COUNTIF(AH:AS,CX16))","v":""},{"$nulls":15},{"$f":"IF(CX11=\"\",\"\",\"R\"&CX11+2&\"年度実施(予定)\")","v":""}]
[{"$nulls":22},"3.併用方式",{"$nulls":62},{"$f":"IF(CX11=\"\",\"\",SUM(CH12:CH16))","v":""}]
[{"$nulls":22},"1.自然方式",{"$nulls":22},{"$f":"IF(OR(ISBLANK(BF18),ISBLANK(BK18)),\"\",IF(BF18=\"①\",ROUNDDOWN(2.7*SQRT(BK18),1),IF(BF18=\"②\",ROUNDDOWN(3.3*SQRT(BK18),1),IF(BF18=\"③\",ROUNDDOWN(3.8*SQRT(BK18),1)))))","v":""},{"$nulls":25},"指摘なし",{"$nulls":4},"・","要是正"]
[{"$nulls":22},"2.機械方式",{"$nulls":58},{"$f":"IF(OR(AH19=\"\",AT18=\"\"),\"\",IF(AH18<>\"\",\"\",IF(ISTEXT(AH19),\"---\",IF(AT18=\"\",\"\",IF(AH19>=AT18,\"○\",\"×\")))))","v":""}]
[{"$nulls":22},"3.併用方式"]
[{"$nulls":22},"1.自然方式",{"$nulls":22},{"$f":"IF(OR(ISBLANK(BF21),ISBLANK(BK21)),\"\",IF(BF21=\"①\",ROUNDDOWN(2.7*SQRT(BK21),1),IF(BF21=\"②\",ROUNDDOWN(3.3*SQRT(BK21),1),IF(BF21=\"③\",ROUNDDOWN(3.8*SQRT(BK21),1)))))","v":""},{"$nulls":25},"指摘なし",{"$nulls":4},"・","要是正"]
[{"$nulls":22},"2.機械方式",{"$nulls":58},{"$f":"IF(OR(AH22=\"\",AT21=\"\"),\"\",IF(AH21<>\"\",\"\",IF(ISTEXT(AH22),\"---\",IF(AT21=\"\",\"\",IF(AH22>=AT21,\"○\",\"×\")))))","v":""}]
[{"$nulls":22},"3.併用方式"]
[]
[3,null,"直結エンジン（内燃エンジン）の有無",{"$nulls":19},"予備電源又は直結エンジン切り替え",{"$nulls":22},4,null,"排煙系統図（給気送風機と空気逃し口の対応関係がわかる図を記入すること）",{"$nulls":35},"4(26)直結エンジンの性能",{"$f":"IF(排煙検査結果表!O164=\"―\",\"―\",IF(排煙検査結果表!$P$164=\"〇\",\"該当なし\",IF(排煙検査結果表!$L$164=\"○\",\"指摘なし\",IF(排煙検査結果表!$N$164=\"○\",\"既存不適格\",IF(排煙検査結果表!$M$164=\"○\",\"要是正\")))))","v":false},"4(13)電源の切替えの状況",{"$f":"IF(排煙検査結果表!$P$151=\"〇\",\"該当なし\",IF(排煙検査結果表!$L$151=\"○\",\"指摘なし\",IF(排煙検査結果表!$N$151=\"○\",\"既存不適格\",IF(排煙検査結果表!$M$151=\"○\",\"要是正\"))))","v":false}]
[{"$nulls":7},"有",{"$nulls":3},"・",null,"無",{"$nulls":12},"指摘なし",{"$nulls":5},"・",null,null,"要是正"]
[{"$nulls":84},"自家用発電装置","直結エンジン"]
[null,"注1）",null,null,"「空気逃し口の方式」欄には、該当するチェックボックスに「レ」マークを入れる。",{"$nulls":78},"【ヘ．予備電源】",{"$f":"IF(報告書!P259=\"レ\",\"有\",\"\")","v":""},{"$f":"IF(報告書!Y259=\"レ\",\"有\",\"\")","v":""}]
[null,"注2）",null,null,"「測定排出風速」欄には、原則として測定した箇所の平均風速を記入する。"]
[null,"注3）",null,null,"隣接室を区画する当該区画の仕様及び隣接室の仕様に応じて、規定排出風速Ｖの算定式を以下"]
[{"$nulls":4},"の①から③のいずれかを選択し、「算定式」欄に記入する。また、当該算定式により排出風速"]
[{"$nulls":4},"を算出し、「規定排出風速」欄に記入する。この場合において、Ｖは排出風速、Ｈは遮煙開口"]
[{"$nulls":4},"部の高さを表す。"]
[]
[null,"注4）",null,null,"自主点検等による風速測定記録がある場合は、実施時期、測定方法、測定値等が適正であるか"]
[{"$nulls":4},"否かを判定すること。"]
[]
[]
["別表３－３　排煙風量測定記録表２（Ａ４）　加圧式（加圧防排煙設備）"]
[]
["測定年月日",{"$nulls":5},"令和",null,null,{"$f":"$J$3","v":""},null,"年",null,{"$f":"$N$3","v":""},null,"月",null,{"$f":"$R$3","v":""},null,"日",null,"測定機器　メーカー名",{"$nulls":11},{"$f":"IF($AH$3=\"\",\"\",$AH$3)","v":""},{"$nulls":17},"型式番号等",{"$nulls":7},{"$f":"IF($BH$3=\"\",\"\",$BH$3)","v":""}]
[1,null,"給気送風機系統（機器番号等）",{"$nulls":30},"給気送風機銘板表示",{"$nulls":17},"給気送風機の性能（風量）"]
[{"$nulls":72},"m3/min"]
[]
[2,null,"遮煙開口部・空気逃し口",{"$nulls":68},"判　定"]
[null,null,"階",{"$nulls":3},"室　　　　　名",{"$nulls":15},"空気逃し口の方式※注1)",{"$nulls":10},"測定排出風速※注2)(m/s)",{"$nulls":11},"規定排出風速※注3)(m/s)",{"$nulls":11},"算定式※注3)",{"$nulls":4},"遮煙開口部の高さ(m)"]
[{"$nulls":22},"1.自然方式",{"$nulls":22},{"$f":"IF(OR(ISBLANK(BF47),ISBLANK(BK47)),\"\",IF(BF47=\"①\",ROUNDDOWN(2.7*SQRT(BK47),1),IF(BF47=\"②\",ROUNDDOWN(3.3*SQRT(BK47),1),IF(BF47=\"③\",ROUNDDOWN(3.8*SQRT(BK47),1)))))","v":""},{"$nulls":25},"指摘なし",{"$nulls":4},"・","要是正"]
[{"$nulls":22},"2.機械方式",{"$nulls":58},{"$f":"IF(OR(AH48=\"\",AT47=\"\"),\"\",IF(AH47<>\"\",\"\",IF(ISTEXT(AH48),\"---\",IF(AT47=\"\",\"\",IF(AH48>=AT47,\"○\",\"×\")))))","v":""}]
[{"$nulls":22},"3.併用方式"]
[{"$nulls":22},"1.自然方式",{"$nulls":22},{"$f":"IF(OR(ISBLANK(BF50),ISBLANK(BK50)),\"\",IF(BF50=\"①\",ROUNDDOWN(2.7*SQRT(BK50),1),IF(BF50=\"②\",ROUNDDOWN(3.3*SQRT(BK50),1),IF(BF50=\"③\",ROUNDDOWN(3.8*SQRT(BK50),1)))))","v":""},{"$nulls":25},"指摘なし",{"$nulls":4},"・","要是正"]
[{"$nulls":22},"2.機械方式",{"$nulls":58},{"$f":"IF(OR(AH51=\"\",AT50=\"\"),\"\",IF(AH50<>\"\",\"\",IF(ISTEXT(AH51),\"---\",IF(AT50=\"\",\"\",IF(AH51>=AT50,\"○\",\"×\")))))","v":""}]
[{"$nulls":22},"3.併用方式"]
[{"$nulls":22},"1.自然方式",{"$nulls":22},{"$f":"IF(OR(ISBLANK(BF53),ISBLANK(BK53)),\"\",IF(BF53=\"①\",ROUNDDOWN(2.7*SQRT(BK53),1),IF(BF53=\"②\",ROUNDDOWN(3.3*SQRT(BK53),1),IF(BF53=\"③\",ROUNDDOWN(3.8*SQRT(BK53),1)))))","v":""},{"$nulls":25},"指摘なし",{"$nulls":4},"・","要是正"]
[{"$nulls":22},"2.機械方式",{"$nulls":58},{"$f":"IF(OR(AH54=\"\",AT53=\"\"),\"\",IF(AH53<>\"\",\"\",IF(ISTEXT(AH54),\"---\",IF(AT53=\"\",\"\",IF(AH54>=AT53,\"○\",\"×\")))))","v":""}]
[{"$nulls":22},"3.併用方式"]
[{"$nulls":22},"1.自然方式",{"$nulls":22},{"$f":"IF(OR(ISBLANK(BF56),ISBLANK(BK56)),\"\",IF(BF56=\"①\",ROUNDDOWN(2.7*SQRT(BK56),1),IF(BF56=\"②\",ROUNDDOWN(3.3*SQRT(BK56),1),IF(BF56=\"③\",ROUNDDOWN(3.8*SQRT(BK56),1)))))","v":""},{"$nulls":25},"指摘なし",{"$nulls":4},"・","要是正"]
[{"$nulls":22},"2.機械方式",{"$nulls":58},{"$f":"IF(OR(AH57=\"\",AT56=\"\"),\"\",IF(AH56<>\"\",\"\",IF(ISTEXT(AH57),\"---\",IF(AT56=\"\",\"\",IF(AH57>=AT56,\"○\",\"×\")))))","v":""}]
[{"$nulls":22},"3.併用方式"]
[{"$nulls":22},"1.自然方式",{"$nulls":22},{"$f":"IF(OR(ISBLANK(BF59),ISBLANK(BK59)),\"\",IF(BF59=\"①\",ROUNDDOWN(2.7*SQRT(BK59),1),IF(BF59=\"②\",ROUNDDOWN(3.3*SQRT(BK59),1),IF(BF59=\"③\",ROUNDDOWN(3.8*SQRT(BK59),1)))))","v":""},{"$nulls":25},"指摘なし",{"$nulls":4},"・","要是正"]
[{"$nulls":22},"2.機械方式",{"$nulls":58},{"$f":"IF(OR(AH60=\"\",AT59=\"\"),\"\",IF(AH59<>\"\",\"\",IF(ISTEXT(AH60),\"---\",IF(AT59=\"\",\"\",IF(AH60>=AT59,\"○\",\"×\")))))","v":""}]
[{"$nulls":22},"3.併用方式"]
[]
[3,null,"直結エンジン（内燃エンジン）の有無",{"$nulls":19},"予備電源又は直結エンジン切り替え",{"$nulls":22},4,null,"排煙系統図（給気送風機と空気逃し口の対応関係がわかる図を記入すること）"]
[{"$nulls":7},"有",{"$nulls":3},"・",null,"無",{"$nulls":12},"指摘なし",{"$nulls":5},"・",null,null,"要是正"]
[]
[null,"注1）",null,null,"「空気逃し口の方式」欄には、該当するチェックボックスに「レ」マークを入れる。"]
[null,"注2）",null,null,"「測定排出風速」欄には、原則として測定した箇所の平均風速を記入する。"]
[null,"注3）",null,null,"隣接室を区画する当該区画の仕様及び隣接室の仕様に応じて、規定排出風速Ｖの算定式を以下"]
[{"$nulls":4},"の①から③のいずれかを選択し、「算定式」欄に記入する。また、当該算定式により排出風速"]
[{"$nulls":4},"を算出し、「規定排出風速」欄に記入する。この場合において、Ｖは排出風速、Ｈは遮煙開口"]
[{"$nulls":4},"部の高さを表す。"]
[]
[null,"注4）",null,null,"自主点検等による風速測定記録がある場合は、実施時期、測定方法、測定値等が適正であるか"]
[{"$nulls":4},"否かを判定すること。"]

{"sheet":"別表４（非照－測定表）","index":12,"n_rows":62,"n_cols":101,"rows_kept":62,"merged":[[0,0,0,84],[1,0,1,84],[2,0,2,6],[2,8,2,10],[2,11,2,12],[2,13,2,14],[2,15,2,16],[2,17,2,18],[2,19,2,20],[2,21,2,22],[2,24,2,36],[2,37,2,56],[2,57,2,64],[2,65,2,84],[3,0,4,15],[3,16,3,42],[3,43,3,48],[3,49,4,72],[3,73,4,84],[4,16,4,23],[4,24,4,48],[5,0,5,15],[5,16,5,23],[5,24,5,48],[5,49,5,72],[5,74,5,78],[5,80,5,83],[6,0,6,15],[6,16,6,23],[6,24,6,48],[6,49,6,72],[6,74,6,78],[6,80,6,83],[7,0,7,15],[7,16,7,23],[7,24,7,48],[7,49,7,72],[7,74,7,78],[7,80,7,83],[8,0,8,15],[8,16,8,23],[8,24,8,48],[8,49,8,72],[8,74,8,78],[8,80,8,83],[9,0,9,5],[9,6,9,13],[9,14,9,15],[9,16,9,23],[9,24,9,48],[9,49,9,72],[9,74,9,78],[9,80,9,83],[12,0,12,6],[12,7,12,23],[12,24,12,29],[12,30,12,48],[12,49,12,64],[12,65,12,72],[12,73,12,84],[13,0,13,6],[13,7,13,29],[13,30,13,48],[13,49,13,64],[13,65,13,72],[13,74,13,78],[13,80,13,83],[14,0,14,6],[14,7,14,29],[14,30,14,48],[14,49,14,64],[14,65,14,72],[14,74,14,78],[14,80,14,83],[15,0,15,6],[15,7,15,29],[15,30,15,48],[15,49,15,64],[15,65,15,72],[15,74,15,78],[15,80,15,83],[16,0,16,6],[16,7,16,29],[16,30,16,48],[16,49,16,64],[16,65,16,72],[16,74,16,78],[16,80,16,83],[17,0,17,6],[17,7,17,29],[17,30,17,48],[17,49,17,64],[17,65,17,72],[17,74,17,78],[17,80,17,83],[18,0,18,6],[18,7,18,29],[18,30,18,48],[18,49,18,64],[18,65,18,72],[18,74,18,78],[18,80,18,83],[19,0,19,6],[19,7,19,29],[19,30,19,48],[19,49,19,64],[19,65,19,72],[19,74,19,78],[19,80,19,83],[19,86,20,86],[19,87,20,87],[19,88,20,88],[20,0,20,6],[20,7,20,29],[20,30,20,48],[20,49,20,64],[20,65,20,72],[20,74,20,78],[20,80,20,83],[21,0,21,6],[21,7,21,29],[21,30,21,48],[21,49,21,64],[21,65,21,72],[21,74,21,78],[21,80,21,83],[22,0,22,6],[22,7,22,29],[22,30,22,48],[22,49,22,64],[22,65,22,72],[22,74,22,78],[22,80,22,83],[23,0,23,6],[23,7,23,29],[23,30,23,48],[23,49,23,64],[23,65,23,72],[23,74,23,78],[23,80,23,83],[24,0,24,6],[24,7,24,29],[24,30,24,48],[24,49,24,64],[24,65,24,72],[24,74,24,78],[24,80,24,83],[25,0,25,6],[25,7,25,29],[25,30,25,48],[25,49,25,64],[25,65,25,72],[25,74,25,78],[25,80,25,83],[26,0,26,6],[26,7,26,29],[26,30,26,48],[26,49,26,64],[26,65,26,72],[26,74,26,78],[26,80,26,83],[27,0,27,6],[27,7,27,29],[27,30,27,48],[27,49,27,64],[27,65,27,72],[27,74,27,78],[27,80,27,83],[38,0,38,6],[38,7,38,29],[38,30,38,48],[38,49,38,64],[38,65,38,72],[38,73,38,84],[39,0,39,6],[39,7,39,29],[39,30,39,48],[39,49,39,64],[39,65,39,72],[39,74,39,78],[39,80,39,83],[40,0,40,6],[40,7,40,29],[40,30,40,48],[40,49,40,64],[40,65,40,72],[40,74,40,78],[40,80,40,83],[41,0,41,6],[41,7,41,29],[41,30,41,48],[41,49,41,64],[41,65,41,72],[41,74,41,78],[41,80,41,83],[42,0,42,6],[42,7,42,29],[42,30,42,48],[42,49,42,64],[42,65,42,72],[42,74,42,78],[42,80,42,83],[43,0,43,6],[43,7,43,29],[43,30,43,48],[43,49,43,64],[43,65,43,72],[43,74,43,78],[43,80,43,83],[44,0,44,6],[44,7,44,29],[44,30,44,48],[44,49,44,64],[44,65,44,72],[44,74,44,78],[44,80,44,83],[45,0,45,6],[45,7,45,29],[45,30,45,48],[45,49,45,64],[45,65,45,72],[45,74,45,78],[45,80,45,83],[46,0,46,6],[46,7,46,29],[46,30,46,48],[46,49,46,64],[46,65,46,72],[46,74,46,78],[46,80,46,83],[47,0,47,6],[47,7,47,29],[47,30,47,48],[47,49,47,64],[47,65,47,72],[47,74,47,78],[47,80,47,83],[48,0,48,6],[48,7,48,29],[48,30,48,48],[48,49,48,64],[48,65,48,72],[48,74,48,78],[48,80,48,83],[49,0,49,6],[49,7,49,29],[49,30,49,48],[49,49,49,64],[49,65,49,72],[49,74,49,78],[49,80,49,83],[50,0,50,6],[50,7,50,29],[50,30,50,48],[50,49,50,64],[50,65,50,72],[50,74,50,78],[50,80,50,83],[51,0,51,6],[51,7,51,29],[51,30,51,48],[51,49,51,64],[51,65,51,72],[51,74,51,78],[51,80,51,83],[52,0,52,6],[52,7,52,29],[52,30,52,48],[52,49,52,64],[52,65,52,72],[52,74,52,78],[52,80,52,83],[53,0,53,6],[53,7,53,29],[53,30,53,48],[53,49,53,64],[53,65,53,72],[53,74,53,78],[53,80,53,83],[54,0,54,6],[54,7,54,29],[54,30,54,48],[54,49,54,64],[54,65,54,72],[54,74,54,78],[54,80,54,83],[55,0,55,6],[55,7,55,29],[55,30,55,48],[55,49,55,64],[55,65,55,72],[55,74,55,78],[55,80,55,83],[56,0,56,6],[56,7,56,29],[56,30,56,48],[56,49,56,64],[56,65,56,72],[56,74,56,78],[56,80,56,83],[57,0,57,6],[57,7,57,29],[57,30,57,48],[57,49,57,64],[57,65,57,72],[57,74,57,78],[57,80,57,83],[58,0,58,6],[58,7,58,29],[58,30,58,48],[58,49,58,64],[58,65,58,72],[58,74,58,78],[58,80,58,83],[60,0,60,84],[61,0,61,84]]}
["別表４　非常用の照明装置の照度測定表（Ａ４）",{"$nulls":94},"○",{"$nulls":4},"○"]
[]
["測定年月日",{"$nulls":7},"令和",null,null,{"$f":"IF(OR(CN3=\"指摘なし\",CN3=\"要是正\",CN3=\"既存不適格\"),IF(報告書!R122=\"\",\"\",報告書!R122),\"\")","v":""},null,"年",null,{"$f":"IF(OR(CN3=\"指摘なし\",CN3=\"要是正\",CN3=\"既存不適格\"),IF(報告書!U122=\"\",\"\",報告書!U122),\"\")","v":""},null,"月",null,{"$f":"IF(OR(CN3=\"指摘なし\",CN3=\"要是正\",CN3=\"既存不適格\"),IF(報告書!X122=\"\",\"\",報告書!X122),\"\")","v":""},null,"日",null,null,"測定機器　メーカー名",{"$nulls":32},"型式番号等",{"$nulls":28},{"$f":"IF(OR(CN3=\"指摘なし\",CN3=\"要是正\",CN3=\"既存不適格\"),1,0)","v":0},null,{"$f":"IF(OR(L3=\"\",P3=\"\",T3=\"\",AL3=\"\",BN3=\"\",A14=\"\",H14=\"\"),IF(報告_2_12非検査者代表_ハ_氏名=\"\",\"-----\",IF(OR(CN3=\"指摘なし\",CN3=\"要是正\",CN3=\"既存不適格\"),\"未入力\",\"-----\")),\"-----\")","v":"-----"},null,"2(2)照度の状況",{"$f":"IF(非照検査結果表!$P$33=\"〇\",\"該当なし\",IF(非照検査結果表!$L$33=\"○\",\"指摘なし\",IF(非照検査結果表!$N$33=\"○\",\"既存不適格\",IF(非照検査結果表!$M$33=\"○\",\"要是正\"))))","v":false}]
["光 源 の 種 類",{"$nulls":15},"　　　　最低照度の測定場所",{"$nulls":26},{"$f":"IF(Y13=\"\",\"\",Y13)","v":""},{"$nulls":5},"最　低　照　度 （ｌｘ）",{"$nulls":23},"判　　定",{"$nulls":12},"【イ．今回の検査】(年月日)"]
[{"$nulls":16},"階",{"$nulls":7},"部屋・廊下等",{"$nulls":61},{"$f":"IF(報告書!R122=\"\",\"\",報告書!R122)","v":""},{"$f":"IF(報告書!U122=\"\",\"\",報告書!U122)","v":""},{"$f":"IF(報告書!X122=\"\",\"\",報告書!X122)","v":""},null,"【イ．照明器具】"]
["白　　　熱　　　灯",{"$nulls":48},{"$f":"IF(AND($CJ$14=\"-----\",$CJ$15=\"-----\"),\"\",IF($CJ$14=\"-----\",$CJ$15,IF($CJ$15=\"-----\",$CJ$14,IF($CJ$14<=$CJ$15,$CJ$14,$CJ$15))))","v":""},{"$nulls":24},"指摘なし",{"$nulls":4},"・","要是正",{"$nulls":4},{"$f":"IF(AX6=\"\",\"\",IF(AX6>=CW6,\"○\",\"×\"))","v":""},{"$nulls":4},"白熱灯",{"$f":"IF(報告書!P329=\"\",\"\",\"●\")","v":""},{"$nulls":8},{"$f":"IF(AX6=\"\",\"\",IF(OR($CI$14=AX6,$CI$15=AX6),IF($Y$13=\"【地下街】\",10,1),IF($Y$13=\"【地下街】\",10,1)))","v":""}]
["蛍　　　光　　　灯",{"$nulls":48},{"$f":"IF(AND($CJ$16=\"-----\",$CJ$17=\"-----\"),\"\",IF($CJ$16=\"-----\",$CJ$17,IF($CJ$17=\"-----\",$CJ$16,IF($CJ$16<=$CJ$17,$CJ$16,$CJ$17))))","v":""},{"$nulls":24},"指摘なし",{"$nulls":4},"・","要是正",{"$nulls":4},{"$f":"IF(AX7=\"\",\"\",IF(AX7>=CW7,\"○\",\"×\"))","v":""},{"$nulls":4},"蛍光灯",{"$f":"IF(報告書!Z329=\"\",\"\",\"●\")","v":""},{"$nulls":8},{"$f":"IF(AX7=\"\",\"\",IF(OR($CI$16=AX7,$CI$17=AX7),IF($Y$13=\"【地下街】\",10,1),IF($Y$13=\"【地下街】\",10,2)))","v":""}]
["LEDランプ（自動検査機能なし）",{"$nulls":48},{"$f":"IF(AND($CJ$18=\"-----\",$CJ$19=\"-----\"),\"\",IF($CJ$18=\"-----\",$CJ$19,IF($CJ$19=\"-----\",$CJ$18,IF($CJ$18<=$CJ$19,$CJ$18,$CJ$19))))","v":""},{"$nulls":24},"指摘なし",{"$nulls":4},"・","要是正",{"$nulls":4},"",{"$nulls":4},"LEDランプ",{"$f":"IF(報告書!AL329=\"\",\"\",\"●\")","v":""},{"$nulls":8},{"$f":"IF(AX8=\"\",\"\",IF(OR($CI$18=AX8,$CI$19=AX8),IF($Y$13=\"【地下街】\",10,1),IF($Y$13=\"【地下街】\",10,2)))","v":""}]
["LEDランプ（自動検査機能あり）",{"$nulls":73},"指摘なし",{"$nulls":4},"・","要是正",{"$nulls":4},{"$f":"IF(CK20+CK21>0,\"■\",\"\")","v":""},{"$nulls":4},"その他",{"$f":"IF(報告書!P330=\"\",\"\",\"●\")","v":""},{"$nulls":8},{"$f":"IF(AX9=\"\",\"\",IF(OR($CI$20=AX9,$CI$21=AX9),IF($Y$13=\"【地下街】\",10,1),IF($Y$13=\"【地下街】\",10,2)))","v":""}]
["その他（",{"$nulls":13},"）",{"$nulls":34},{"$f":"IF(AND($CJ$22=\"-----\",$CJ$23=\"-----\"),\"\",IF($CJ$22=\"-----\",$CJ$23,IF($CJ$23=\"-----\",$CJ$22,IF($CJ$22<=$CJ$23,$CJ$22,$CJ$23))))","v":""},{"$nulls":24},"指摘なし",{"$nulls":4},"・","要是正",{"$nulls":4},{"$f":"IF(AX10=\"\",\"\",IF(AX10>=CW10,\"○\",\"×\"))","v":""},{"$nulls":14},{"$f":"IF(AX10=\"\",\"\",IF(OR($CI$22=AX10,$CI$23=AX10),IF($Y$13=\"【地下街】\",10,1),IF($Y$13=\"【地下街】\",10,2)))","v":""}]
[]
["(別紙)"]
["階　別",{"$nulls":6},"測　定　場　所　",{"$nulls":22},"測 定 位 置＊注1)",{"$nulls":18},"光源の種類＊注2)",{"$nulls":15},"照度(ｌｘ)＊注3)",{"$nulls":7},"判　　定",{"$nulls":13},"最低ルクス","左値箇所数",null,"【ロ．予備電源】","居室","廊下","階段"]
[{"$nulls":65},{"$f":"IF(OR(AX14=$CI$20),\"―\",\"\")","v":""},{"$nulls":8},"指摘なし",{"$nulls":4},"・","要是正",{"$nulls":4},{"$f":"IF(OR(AX14=$CI$20),\"■\",IF(BN14=$CJ$20,\"\",IF(BN14=\"\",\"\",IF(ISNUMBER(BN14),IF(AND(ISNUMBER(BN14),BN14>=CW14),\"○\",\"×\"),\"★\"))))","v":""},"白　　熱　　灯　　（内）",{"$f":"IF(ISERROR(VLOOKUP(CI14,$AX$14:$BM$3100,1,FALSE)),\"-----\",MIN(IF($AX$14:$BM$3100=CI14,$BN$14:$BU$3100,\"\")))","v":"-----"},{"$f":"IF(CJ14=\"-----\",\"\",COUNTIFS($AX$14:$AX$3100,CI14,$BN$14:$BN$3100,CJ14))","v":""},null,"蓄電池（内蔵形）",{"$f":"IF(報告書!W333=\"\",\"\",報告書!W333)","v":""},{"$f":"IF(報告書!AC333=\"\",\"\",報告書!AC333)","v":""},{"$f":"IF(報告書!AI333=\"\",\"\",報告書!AI333)","v":""},null,"白　　熱　　灯　　（内）",{"$nulls":4},{"$f":"IF(BN14=\"\",\"\",IF(OR($CI$14=AX14,$CI$15=AX14),IF($Y$13=\"【地下街】\",10,1),IF($Y$13=\"【地下街】\",10,2)))","v":""}]
[{"$nulls":65},{"$f":"IF(OR(AX15=$CI$20),\"―\",\"\")","v":""},{"$nulls":8},"指摘なし",{"$nulls":4},"・","要是正",{"$nulls":4},{"$f":"IF(OR(AX15=$CI$20),\"■\",IF(BN15=$CJ$20,\"\",IF(BN15=\"\",\"\",IF(ISNUMBER(BN15),IF(AND(ISNUMBER(BN15),BN15>=CW15),\"○\",\"×\"),\"★\"))))","v":""},"白　　熱　　灯",{"$f":"IF(ISERROR(VLOOKUP(CI15,$AX$14:$BM$3100,1,FALSE)),\"-----\",MIN(IF($AX$14:$BM$3100=CI15,$BN$14:$BU$3100,\"\")))","v":"-----"},"",null,"蓄電池（別置形）",{"$f":"IF(報告書!W334=\"\",\"\",報告書!W334)","v":""},{"$f":"IF(報告書!AC334=\"\",\"\",報告書!AC334)","v":""},{"$f":"IF(報告書!AI334=\"\",\"\",報告書!AI334)","v":""},null,"蛍　　光　　灯　　（内）",{"$nulls":4},{"$f":"IF(BN15=\"\",\"\",IF(OR($CI$14=AX15,$CI$15=AX15),IF($Y$13=\"【地下街】\",10,1),IF($Y$13=\"【地下街】\",10,2)))","v":""}]
[{"$nulls":65},"",{"$nulls":8},"指摘なし",{"$nulls":4},"・","要是正",{"$nulls":4},"","蛍　　光　　灯　　（内）",{"$f":"IF(ISERROR(VLOOKUP(CI16,$AX$14:$BM$3100,1,FALSE)),\"-----\",MIN(IF($AX$14:$BM$3100=CI16,$BN$14:$BU$3100,\"\")))","v":"-----"},"",null,"自家用発電装置 ",{"$f":"IF(報告書!W335=\"\",\"\",報告書!W335)","v":""},{"$f":"IF(報告書!AC335=\"\",\"\",報告書!AC335)","v":""},{"$f":"IF(報告書!AI335=\"\",\"\",報告書!AI335)","v":""},null,"L E D ラ ン プ（自動検査機能なし）（内）",{"$nulls":4},""]
[{"$nulls":65},"",{"$nulls":8},"指摘なし",{"$nulls":4},"・","要是正",{"$nulls":4},"","蛍　　光　　灯",{"$f":"IF(ISERROR(VLOOKUP(CI17,$AX$14:$BM$3100,1,FALSE)),\"-----\",MIN(IF($AX$14:$BM$3100=CI17,$BN$14:$BU$3100,\"\")))","v":"-----"},"",null,"併用",{"$f":"IF(報告書!AF336=\"\",\"\",報告書!AF336)","v":""},{"$f":"IF(報告書!AL336=\"\",\"\",報告書!AL336)","v":""},{"$f":"IF(報告書!AR336=\"\",\"\",報告書!AR336)","v":""},null,"L E D ラ ン プ（自動検査機能あり）（内）",{"$nulls":4},""]
[{"$nulls":65},"",{"$nulls":8},"指摘なし",{"$nulls":4},"・","要是正",{"$nulls":4},"","L E D ラ ン プ（自動検査機能なし）（内）",{"$f":"IF(ISERROR(VLOOKUP(CI18,$AX$14:$BM$3100,1,FALSE)),\"-----\",MIN(IF($AX$14:$BM$3100=CI18,$BN$14:$BU$3100,\"\")))","v":"-----"},"",{"$nulls":6},"そ　　の　　他　　（内）",{"$nulls":4},""]
[{"$nulls":65},"",{"$nulls":8},"指摘なし",{"$nulls":4},"・","要是正",{"$nulls":4},"","L E D ラ ン プ（自動検査機能なし）",{"$f":"IF(ISERROR(VLOOKUP(CI19,$AX$14:$BM$3100,1,FALSE)),\"-----\",MIN(IF($AX$14:$BM$3100=CI19,$BN$14:$BU$3100,\"\")))","v":"-----"},"",{"$nulls":6},"白　　熱　　灯",{"$nulls":4},""]
[{"$nulls":65},"",{"$nulls":8},"指摘なし",{"$nulls":4},"・","要是正",{"$nulls":4},"","L E D ラ ン プ（自動検査機能あり）（内）","―",{"$f":"IF(CJ20=\"-----\",\"\",COUNTIFS($AX$14:$AX$62,CI20,$BN$14:$BN$62,CJ20))","v":0},{"$nulls":6},"蛍　　光　　灯",{"$nulls":4},""]
[{"$nulls":65},"",{"$nulls":8},"指摘なし",{"$nulls":4},"・","要是正",{"$nulls":4},"",{"$nulls":9},"L E D ラ ン プ（自動検査機能なし）",{"$nulls":4},""]
[{"$nulls":65},"",{"$nulls":8},"指摘なし",{"$nulls":4},"・","要是正",{"$nulls":4},"","そ　　の　　他　　（内）",{"$f":"IF(ISERROR(VLOOKUP(CI22,$AX$14:$BM$3100,1,FALSE)),\"-----\",MIN(IF($AX$14:$BM$3100=CI22,$BN$14:$BU$3100,\"\")))","v":"-----"},{"$f":"IF(CJ22=\"-----\",\"\",COUNTIFS($AX$14:$AX$3100,CI22,$BN$14:$BN$3100,CJ22))","v":""},{"$nulls":6},"L E D ラ ン プ（自動検査機能なし）",{"$nulls":4},""]
[{"$nulls":65},"",{"$nulls":8},"指摘なし",{"$nulls":4},"・","要是正",{"$nulls":4},"","そ　　の　　他",{"$f":"IF(ISERROR(VLOOKUP(CI23,$AX$14:$BM$3100,1,FALSE)),\"-----\",MIN(IF($AX$14:$BM$3100=CI23,$BN$14:$BU$3100,\"\")))","v":"-----"},{"$f":"IF(CJ23=\"-----\",\"\",COUNTIFS($AX$14:$AX$3100,CI23,$BN$14:$BN$3100,CJ23))","v":""},{"$nulls":6},"そ　　の　　他",{"$nulls":4},""]
[{"$nulls":65},"",{"$nulls":8},"指摘なし",{"$nulls":4},"・","要是正",{"$nulls":4},"",{"$nulls":14},""]
[{"$nulls":65},"",{"$nulls":8},"指摘なし",{"$nulls":4},"・","要是正",{"$nulls":4},"",{"$nulls":14},""]
[{"$nulls":65},"",{"$nulls":8},"指摘なし",{"$nulls":4},"・","要是正",{"$nulls":4},"",{"$nulls":14},""]
[{"$nulls":65},"",{"$nulls":8},"指摘なし",{"$nulls":4},"・","要是正",{"$nulls":4},"",{"$nulls":14},""]
[{"$nulls":65},"",{"$nulls":8},"指摘なし",{"$nulls":4},"・","要是正",{"$nulls":4},"",{"$nulls":14},{"$f":"IF(BN28=\"\",\"\",IF(OR($CI$14=AX28,$CI$15=AX28),IF($Y$13=\"【地下街】\",10,1),IF($Y$13=\"【地下街】\",10,2)))","v":""}]
["　注 1）「測定位置」欄には、「出入口付近」、「右壁中央付近」のように明記する。"]
["　注 2）「光源の種類」欄には、白熱灯、蛍光灯、LEDランプ（自動検査機能なし）、LEDランプ（自動検査機能あり）、その他の別及び電池内蔵のものにあっては、（内）と付す。"]
["　注 3）「照度」欄には、自動検査機能を有していない場合は、照度の値（ｌｘ）を記入し、自動検査機能を有するものにあっては、「―」を記入する。"]
["別表４　非常用の照明装置の照度測定表２（Ａ４）"]
[]
[]
[]
[]
["(別紙２)"]
[]
["階　別",{"$nulls":6},"測　定　場　所",{"$nulls":22},"測 定 位 置＊注1)",{"$nulls":18},"光源の種類＊注2)",{"$nulls":15},"照度(ｌｘ)＊注3)",{"$nulls":7},"判　　定"]
[{"$nulls":65},{"$f":"IF(OR(AX40=$CI$20),\"―\",\"\")","v":""},{"$nulls":8},"指摘なし",{"$nulls":4},"・","要是正",{"$nulls":4},{"$f":"IF(OR(AX40=$CI$20),\"■\",IF(BN40=$CJ$20,\"\",IF(BN40=\"\",\"\",IF(ISNUMBER(BN40),IF(AND(ISNUMBER(BN40),BN40>=CW40),\"○\",\"×\"),\"★\"))))","v":""},{"$nulls":14},{"$f":"IF(BN40=\"\",\"\",IF(OR($CI$14=AX40,$CI$15=AX40),IF($Y$13=\"【地下街】\",10,1),IF($Y$13=\"【地下街】\",10,2)))","v":""}]
[{"$nulls":65},{"$f":"IF(OR(AX41=$CI$20),\"―\",\"\")","v":""},{"$nulls":8},"指摘なし",{"$nulls":4},"・","要是正",{"$nulls":4},{"$f":"IF(OR(AX41=$CI$20),\"■\",IF(BN41=$CJ$20,\"\",IF(BN41=\"\",\"\",IF(ISNUMBER(BN41),IF(AND(ISNUMBER(BN41),BN41>=CW41),\"○\",\"×\"),\"★\"))))","v":""},{"$nulls":14},{"$f":"IF(BN41=\"\",\"\",IF(OR($CI$14=AX41,$CI$15=AX41),IF($Y$13=\"【地下街】\",10,1),IF($Y$13=\"【地下街】\",10,2)))","v":""}]
[{"$nulls":65},"",{"$nulls":8},"指摘なし",{"$nulls":4},"・","要是正",{"$nulls":4},"",{"$nulls":14},""]
[{"$nulls":65},"",{"$nulls":8},"指摘なし",{"$nulls":4},"・","要是正",{"$nulls":4},"",{"$nulls":14},""]
[{"$nulls":65},"",{"$nulls":8},"指摘なし",{"$nulls":4},"・","要是正",{"$nulls":4},"",{"$nulls":14},""]
[{"$nulls":65},"",{"$nulls":8},"指摘なし",{"$nulls":4},"・","要是正",{"$nulls":4},"",{"$nulls":14},""]
[{"$nulls":65},"",{"$nulls":8},"指摘なし",{"$nulls":4},"・","要是正",{"$nulls":4},"",{"$nulls":14},""]
[{"$nulls":65},"",{"$nulls":8},"指摘なし",{"$nulls":4},"・","要是正",{"$nulls":4},"",{"$nulls":14},""]
[{"$nulls":65},"",{"$nulls":8},"指摘なし",{"$nulls":4},"・","要是正",{"$nulls":4},"",{"$nulls":14},""]
[{"$nulls":65},"",{"$nulls":8},"指摘なし",{"$nulls":4},"・","要是正",{"$nulls":4},"",{"$nulls":14},""]
[{"$nulls":65},"",{"$nulls":8},"指摘なし",{"$nulls":4},"・","要是正",{"$nulls":4},"",{"$nulls":14},""]
[{"$nulls":65},"",{"$nulls":8},"指摘なし",{"$nulls":4},"・","要是正",{"$nulls":4},"",{"$nulls":14},""]
[{"$nulls":65},"",{"$nulls":8},"指摘なし",{"$nulls":4},"・","要是正",{"$nulls":4},"",{"$nulls":14},""]
[{"$nulls":65},"",{"$nulls":8},"指摘なし",{"$nulls":4},"・","要是正",{"$nulls":4},"",{"$nulls":14},""]
[{"$nulls":65},"",{"$nulls":8},"指摘なし",{"$nulls":4},"・","要是正",{"$nulls":4},"",{"$nulls":14},""]
[{"$nulls":65},"",{"$nulls":8},"指摘なし",{"$nulls":4},"・","要是正",{"$nulls":4},"",{"$nulls":14},""]
[{"$nulls":65},"",{"$nulls":8},"指摘なし",{"$nulls":4},"・","要是正",{"$nulls":4},"",{"$nulls":14},""]
[{"$nulls":65},"",{"$nulls":8},"指摘なし",{"$nulls":4},"・","要是正",{"$nulls":4},"",{"$nulls":14},""]
[{"$nulls":65},"",{"$nulls":8},"指摘なし",{"$nulls":4},"・","要是正",{"$nulls":4},"",{"$nulls":14},""]
[{"$nulls":65},"",{"$nulls":8},"指摘なし",{"$nulls":4},"・","要是正",{"$nulls":4},"",{"$nulls":14},""]
["　注 1）「測定位置」欄には、「出入口付近」、「右壁中央付近」のように明記する。"]
["　注 2）「光源の種類」欄には、白熱灯、蛍光灯、LEDランプ（自動検査機能なし）、LEDランプ（自動検査機能あり）、その他の別及び電池内蔵のものにあっては、（内）と付す。"]
["　注 3）「照度」欄には、自動検査機能を有していない場合は、照度の値（ｌｘ）を記入し、自動検査機能を有するものにあっては、「―」を記入する。"]

{"sheet":"関係写真","index":13,"n_rows":253,"n_cols":65,"rows_kept":253,"merged":[[0,1,0,32],[2,1,3,2],[2,3,2,7],[2,8,2,21],[2,22,2,32],[3,3,3,5],[3,6,3,7],[3,8,3,21],[3,25,3,26],[3,29,3,30],[4,1,18,16],[4,17,4,19],[4,20,4,32],[5,17,5,32],[6,17,6,32],[7,17,7,32],[8,17,8,32],[9,17,9,32],[10,17,10,32],[11,17,11,32],[12,17,12,32],[13,17,13,32],[14,17,14,32],[15,17,15,32],[16,17,16,32],[17,17,17,32],[18,17,18,32],[20,1,21,2],[20,3,20,7],[20,8,20,21],[20,22,20,32],[21,3,21,5],[21,6,21,7],[21,8,21,21],[21,25,21,26],[21,29,21,30],[22,1,36,16],[22,17,22,19],[22,20,22,32],[23,17,23,32],[24,17,24,32],[25,17,25,32],[26,17,26,32],[27,17,27,32],[28,17,28,32],[29,17,29,32],[30,17,30,32],[31,17,31,32],[32,17,32,32],[33,17,33,32],[34,17,34,32],[35,17,35,32],[36,17,36,32],[49,1,50,2],[49,3,49,7],[49,8,49,21],[49,22,49,32],[50,3,50,5],[50,6,50,7],[50,8,50,21],[50,25,50,26],[50,29,50,30],[51,1,65,16],[51,17,51,19],[51,20,51,32],[52,17,52,32],[53,17,53,32],[54,17,54,32],[55,17,55,32],[56,17,56,32],[57,17,57,32],[58,17,58,32],[59,17,59,32],[60,17,60,32],[61,17,61,32],[62,17,62,32],[63,17,63,32],[64,17,64,32],[65,17,65,32],[67,1,68,2],[67,3,67,7],[67,8,67,21],[67,22,67,32],[68,3,68,5],[68,6,68,7],[68,8,68,21],[68,25,68,26],[68,29,68,30],[69,1,83,16],[69,17,69,19],[69,20,69,32],[70,17,70,32],[71,17,71,32],[72,17,72,32],[73,17,73,32],[74,17,74,32],[75,17,75,32],[76,17,76,32],[77,17,77,32],[78,17,78,32],[79,17,79,32],[80,17,80,32],[81,17,81,32],[82,17,82,32],[83,17,83,32],[96,1,97,2],[96,3,96,7],[96,8,96,21],[96,22,96,32],[97,3,97,5],[97,6,97,7],[97,8,97,21],[97,25,97,26],[97,29,97,30],[98,1,112,16],[98,17,98,19],[98,20,98,32],[99,17,99,32],[100,17,100,32],[101,17,101,32],[102,17,102,32],[103,17,103,32],[104,17,104,32],[105,17,105,32],[106,17,106,32],[107,17,107,32],[108,17,108,32],[109,17,109,32],[110,17,110,32],[111,17,111,32],[112,17,112,32],[114,1,115,2],[114,3,114,7],[114,8,114,21],[114,22,114,32],[115,3,115,5],[115,6,115,7],[115,8,115,21],[115,25,115,26],[115,29,115,30],[116,1,130,16],[116,17,116,19],[116,20,116,32],[117,17,117,32],[118,17,118,32],[119,17,119,32],[120,17,120,32],[121,17,121,32],[122,17,122,32],[123,17,123,32],[124,17,124,32],[125,17,125,32],[126,17,126,32],[127,17,127,32],[128,17,128,32],[129,17,129,32],[130,17,130,32],[143,1,144,2],[143,3,143,7],[143,8,143,21],[143,22,143,32],[144,3,144,5],[144,6,144,7],[144,8,144,21],[144,25,144,26],[144,29,144,30],[145,1,159,16],[145,17,145,19],[145,20,145,32],[146,17,146,32],[147,17,147,32],[148,17,148,32],[149,17,149,32],[150,17,150,32],[151,17,151,32],[152,17,152,32],[153,17,153,32],[154,17,154,32],[155,17,155,32],[156,17,156,32],[157,17,157,32],[158,17,158,32],[159,17,159,32],[161,1,162,2],[161,3,161,7],[161,8,161,21],[161,22,161,32],[162,3,162,5],[162,6,162,7],[162,8,162,21],[162,25,162,26],[162,29,162,30],[163,1,177,16],[163,17,163,19],[163,20,163,32],[164,17,164,32],[165,17,165,32],[166,17,166,32],[167,17,167,32],[168,17,168,32],[169,17,169,32],[170,17,170,32],[171,17,171,32],[172,17,172,32],[173,17,173,32],[174,17,174,32],[175,17,175,32],[176,17,176,32],[177,17,177,32],[190,1,191,2],[190,3,190,7],[190,8,190,21],[190,22,190,32],[191,3,191,5],[191,6,191,7],[191,8,191,21],[191,25,191,26],[191,29,191,30],[192,1,206,16],[192,17,192,19],[192,20,192,32],[193,17,193,32],[194,17,194,32],[195,17,195,32],[196,17,196,32],[197,17,197,32],[198,17,198,32],[199,17,199,32],[200,17,200,32],[201,17,201,32],[202,17,202,32],[203,17,203,32],[204,17,204,32],[205,17,205,32],[206,17,206,32],[208,1,209,2],[208,3,208,7],[208,8,208,21],[208,22,208,32],[209,3,209,5],[209,6,209,7],[209,8,209,21],[209,25,209,26],[209,29,209,30],[210,1,224,16],[210,17,210,19],[210,20,210,32],[211,17,211,32],[212,17,212,32],[213,17,213,32],[214,17,214,32],[215,17,215,32],[216,17,216,32],[217,17,217,32],[218,17,218,32],[219,17,219,32],[220,17,220,32],[221,17,221,32],[222,17,222,32],[223,17,223,32],[224,17,224,32]]}
[null,"別添様式　関係写真（Ａ４）",{"$nulls":37},"○",{"$nulls":9},"○",null,1,{"$f":"ValueToAreaName(D4,1)","v":""},{"$f":"ValueToAreaName(D4,2)","v":""},"第一号　（換気）1(1)","給気機の外気取り入れ口並びに直接外気に開放された給気口及び排気口への雨水等の防止措置の状況","1(1)",null,null,"○",null,null,"○"]
[{"$nulls":35},{"$f":"IF(AND(BF5<>\"\"),1,0)","v":0},{"$nulls":15},2,{"$f":"ValueToAreaName(D22,1)","v":""},{"$f":"ValueToAreaName(D22,2)","v":""},"第一号　（換気）1(2)","給気機の外気取り入れ口及び排気機の排気口の取付けの状況","1(2)",{"$f":"IF(AND(BF5<>\"\",D4=\"\",G4=\"\"),\"未入力\",\"-----\")","v":"-----"}]
[null,"部位",null,"番号",{"$nulls":4},"検査項目等",{"$nulls":13},"検査結果",{"$nulls":28},3,{"$f":"ValueToAreaName(D51,1)","v":""},{"$f":"ValueToAreaName(D51,2)","v":""},"第一号　（換気）1(3)","各室の給気口及び排気口の設置位置","1(3)"]
[{"$nulls":8},{"$f":"IF(OR(D4=\"\",G4=\"\"),\"\",IF(BB1=\"\",\"\",VLOOKUP(G4,INDIRECT(BB1),2,0)))","v":""},{"$nulls":16},"要是正",{"$nulls":3},"その他",{"$nulls":21},4,{"$f":"ValueToAreaName(D69,1)","v":""},{"$f":"ValueToAreaName(D69,2)","v":""},"第一号　（換気）1(4)","各室の給気口及び排気口の取付けの状況","1(4)","【ロ．指摘の概要】",null,"第一号　（換気）","第二号　（排煙）","第三号　（非照）","第四号　（水）","検査結果表-特記",{"$f":"D4","v":0}]
[null,"写真貼付",{"$nulls":15},"特記事項",{"$nulls":33},5,{"$f":"ValueToAreaName(D98,1)","v":""},{"$f":"ValueToAreaName(D98,2)","v":""},"第一号　（換気）1(5)","風道の取付けの状況","1(5)",{"$f":"報告書!$BM$656","v":""},null,{"$f":"換気検査結果表!H109","v":0},{"$f":"排煙検査結果表!H184","v":0},{"$f":"非照検査結果表!H112","v":0},{"$f":"水検査結果表!H96","v":0},{"$f":"IF(D4=$BK$4,水検査結果表!$C$96,IF(D4=$BJ$4,非照検査結果表!$C$112,IF(D4=$BI$4,排煙検査結果表!$C$184,IF(D4=$BH$4,換気検査結果表!$C$109,\"\"))))","v":""},{"$f":"IF(D4=$BK$4,$BK$5,IF(D4=$BJ$4,$BJ$5,IF(D4=$BI$4,$BI$5,IF(D4=$BH$4,$BH$5,\"\"))))","v":""}]
[{"$nulls":51},6,{"$f":"ValueToAreaName(D116,1)","v":""},{"$f":"ValueToAreaName(D116,2)","v":""},"第一号　（換気）1(6)","風道の材質","1(6)",{"$f":"報告書!$BM$657","v":""},null,{"$f":"換気検査結果表!H110","v":0},{"$f":"排煙検査結果表!H185","v":0},{"$f":"非照検査結果表!H113","v":0},{"$f":"水検査結果表!H97","v":0},{"$f":"IF($D$4=$BK$4,水検査結果表!C97,IF($D$4=$BJ$4,非照検査結果表!C113,IF($D$4=$BI$4,排煙検査結果表!C185,IF($D$4=$BH$4,換気検査結果表!C110,\"\"))))","v":""},{"$f":"IF($D$4=$BK$4,BK6,IF($D$4=$BJ$4,BJ6,IF($D$4=$BI$4,BI6,IF($D$4=$BH$4,BH6,\"\"))))","v":""}]
[{"$nulls":51},7,{"$f":"ValueToAreaName(D145,1)","v":""},{"$f":"ValueToAreaName(D145,2)","v":""},"第一号　（換気）1(7)","給気機又は排気機の設置の状況","1(7)",{"$f":"報告書!$BM$658","v":""},null,{"$f":"換気検査結果表!H111","v":0},{"$f":"排煙検査結果表!H186","v":0},{"$f":"非照検査結果表!H114","v":0},{"$f":"水検査結果表!H98","v":0},{"$f":"IF($D$4=$BK$4,水検査結果表!C98,IF($D$4=$BJ$4,非照検査結果表!C114,IF($D$4=$BI$4,排煙検査結果表!C186,IF($D$4=$BH$4,換気検査結果表!C111,\"\"))))","v":""},""]
[{"$nulls":51},8,{"$f":"ValueToAreaName(D163,1)","v":""},{"$f":"ValueToAreaName(D163,2)","v":""},"第一号　（換気）1(8)","換気扇による換気の状況","1(8)",{"$f":"報告書!$BM$659","v":""},null,{"$f":"換気検査結果表!H112","v":0},{"$f":"排煙検査結果表!H187","v":0},{"$f":"非照検査結果表!H115","v":0},{"$f":"水検査結果表!H99","v":0},{"$f":"IF($D$4=$BK$4,水検査結果表!C99,IF($D$4=$BJ$4,非照検査結果表!C115,IF($D$4=$BI$4,排煙検査結果表!C187,IF($D$4=$BH$4,換気検査結果表!C112,\"\"))))","v":""},""]
[{"$nulls":35},"写真は校閲より",{"$nulls":15},9,{"$f":"ValueToAreaName(D192,1)","v":""},{"$f":"ValueToAreaName(D192,2)","v":""},"第一号　（換気）1(9)","各系統の換気量","1(9)","【ニ．その他特記事項】",null,{"$f":"換気検査結果表!H113","v":0},{"$f":"排煙検査結果表!H188","v":0},{"$f":"非照検査結果表!H116","v":0},{"$f":"水検査結果表!H100","v":0},{"$f":"IF($D$4=$BK$4,水検査結果表!C100,IF($D$4=$BJ$4,非照検査結果表!C116,IF($D$4=$BI$4,排煙検査結果表!C188,IF($D$4=$BH$4,換気検査結果表!C113,\"\"))))","v":""},""]
[{"$nulls":35},"シート保護を解除すれば",{"$nulls":15},10,{"$f":"ValueToAreaName(D210,1)","v":""},{"$f":"ValueToAreaName(D210,2)","v":""},"第一号　（換気）1(10)","各室の換気量","1(10)",{"$f":"報告書!$BM$670","v":""},null,{"$f":"換気検査結果表!H114","v":0},{"$f":"排煙検査結果表!H189","v":0},{"$f":"非照検査結果表!H117","v":0},{"$f":"水検査結果表!H101","v":0},{"$f":"IF($D$4=$BK$4,水検査結果表!C101,IF($D$4=$BJ$4,非照検査結果表!C117,IF($D$4=$BI$4,排煙検査結果表!C189,IF($D$4=$BH$4,換気検査結果表!C114,\"\"))))","v":""},""]
[{"$nulls":35},"挿入できます。",{"$nulls":18},"第一号　（換気）1(11)","中央管理室における制御及び作動状態の監視の状況","1(11)",{"$f":"報告書!$BM$671","v":""},null,{"$f":"換気検査結果表!H115","v":0},{"$f":"排煙検査結果表!H190","v":0},{"$f":"非照検査結果表!H118","v":0},{"$f":"水検査結果表!H102","v":0},{"$f":"IF($D$4=$BK$4,水検査結果表!C102,IF($D$4=$BJ$4,非照検査結果表!C118,IF($D$4=$BI$4,排煙検査結果表!C190,IF($D$4=$BH$4,換気検査結果表!C115,\"\"))))","v":""},""]
[{"$nulls":54},"第一号　（換気）1(12)","空気調和設備の設置の状況","1(12)",{"$f":"報告書!$BM$672","v":""},null,{"$f":"換気検査結果表!H116","v":0},{"$f":"排煙検査結果表!H191","v":0},{"$f":"非照検査結果表!H119","v":0},{"$f":"水検査結果表!H103","v":0},{"$f":"IF($D$4=$BK$4,水検査結果表!C103,IF($D$4=$BJ$4,非照検査結果表!C119,IF($D$4=$BI$4,排煙検査結果表!C191,IF($D$4=$BH$4,換気検査結果表!C116,\"\"))))","v":""},""]
[{"$nulls":54},"第一号　（換気）1(13)","空気調和設備及び配管の劣化及び損傷の状況","1(13)",{"$f":"報告書!$BM$673","v":""},null,{"$f":"換気検査結果表!H117","v":0},{"$f":"排煙検査結果表!H192","v":0},{"$f":"非照検査結果表!H120","v":0},{"$f":"水検査結果表!H104","v":0},{"$f":"IF($D$4=$BK$4,水検査結果表!C104,IF($D$4=$BJ$4,非照検査結果表!C120,IF($D$4=$BI$4,排煙検査結果表!C192,IF($D$4=$BH$4,換気検査結果表!C117,\"\"))))","v":""},""]
[{"$nulls":54},"第一号　（換気）1(14)","空気調和設備の運転の状況","1(14)",null,null,{"$f":"換気検査結果表!H118","v":0},{"$f":"排煙検査結果表!H193","v":0},{"$f":"非照検査結果表!H121","v":0},{"$f":"水検査結果表!H105","v":0},{"$f":"IF($D$4=$BK$4,水検査結果表!C105,IF($D$4=$BJ$4,非照検査結果表!C121,IF($D$4=$BI$4,排煙検査結果表!C193,IF($D$4=$BH$4,換気検査結果表!C118,\"\"))))","v":""},""]
[{"$nulls":54},"第一号　（換気）1(15)","空気ろ過器の点検口","1(15)"]
[{"$nulls":54},"第一号　（換気）1(16)","冷却塔と建築物の他の部分との離隔距離","1(16)"]
[{"$nulls":54},"第一号　（換気）1(17)","各室の温度","1(17)"]
[{"$nulls":54},"第一号　（換気）1(18)","各室の相対湿度","1(18)"]
[{"$nulls":54},"第一号　（換気）1(19)","各室の浮遊粉じん量","1(19)"]
[{"$nulls":54},"第一号　（換気）1(20)","各室の一酸化炭素含有率","1(20)"]
[null,"部位",null,"番号",{"$nulls":4},"検査項目等",{"$nulls":13},"検査結果",{"$nulls":31},"第一号　（換気）1(21)","各室の二酸化炭素含有率","1(21)"]
[{"$nulls":8},{"$f":"IF(OR(D22=\"\",G22=\"\"),\"\",IF(BB2=\"\",\"\",VLOOKUP(G22,INDIRECT(BB2),2,0)))","v":""},{"$nulls":16},"要是正",{"$nulls":3},"その他",{"$nulls":24},"第一号　（換気）1(22)","各室の気流","1(22)",{"$nulls":6},"検査結果表-特記",{"$f":"D22","v":0}]
[null,"写真貼付",{"$nulls":15},"特記事項",{"$nulls":36},"第一号　（換気）2(1)","排気筒、排気フード及び煙突の材質","2(1)",{"$nulls":6},{"$f":"IF($D$22=$BK$4,水検査結果表!C96,IF($D$22=$BJ$4,非照検査結果表!C112,IF($D$22=$BI$4,排煙検査結果表!C184,IF($D$22=$BH$4,換気検査結果表!C109,\"\"))))","v":""},{"$f":"IF($D$22=$BK$4,BK5,IF($D$22=$BJ$4,BJ5,IF($D$22=$BI$4,BI5,IF($D$22=$BH$4,BH5,\"\"))))","v":""}]
[{"$nulls":54},"第一号　（換気）2(2)","排気筒、排気フード及び煙突の取付けの状況","2(2)",{"$nulls":6},{"$f":"IF($D$22=$BK$4,水検査結果表!C97,IF($D$22=$BJ$4,非照検査結果表!C113,IF($D$22=$BI$4,排煙検査結果表!C185,IF($D$22=$BH$4,換気検査結果表!C110,\"\"))))","v":""},{"$f":"IF($D$22=$BK$4,BK6,IF($D$22=$BJ$4,BJ6,IF($D$22=$BI$4,BI6,IF($D$22=$BH$4,BH6,\"\"))))","v":""}]
[{"$nulls":54},"第一号　（換気）2(3)","給気口、給気筒、排気口、排気筒、排気フード及び煙突の大きさ","2(3)",{"$nulls":6},{"$f":"IF($D$22=$BK$4,水検査結果表!C98,IF($D$22=$BJ$4,非照検査結果表!C114,IF($D$22=$BI$4,排煙検査結果表!C186,IF($D$22=$BH$4,換気検査結果表!C111,\"\"))))","v":""},""]
[{"$nulls":54},"第一号　（換気）2(4)","給気口、排気口及び排気フードの位置","2(4)",{"$nulls":6},{"$f":"IF($D$22=$BK$4,水検査結果表!C99,IF($D$22=$BJ$4,非照検査結果表!C115,IF($D$22=$BI$4,排煙検査結果表!C187,IF($D$22=$BH$4,換気検査結果表!C112,\"\"))))","v":""},""]
[{"$nulls":54},"第一号　（換気）2(5)","給気口、給気筒、排気口、排気筒、排気フード及び煙突の設置の状況","2(5)",{"$nulls":6},{"$f":"IF($D$22=$BK$4,水検査結果表!C100,IF($D$22=$BJ$4,非照検査結果表!C116,IF($D$22=$BI$4,排煙検査結果表!C188,IF($D$22=$BH$4,換気検査結果表!C113,\"\"))))","v":""},""]
[{"$nulls":54},"第一号　（換気）2(6)","排気筒及び煙突の断熱の状況","2(6)",{"$nulls":6},{"$f":"IF($D$22=$BK$4,水検査結果表!C101,IF($D$22=$BJ$4,非照検査結果表!C117,IF($D$22=$BI$4,排煙検査結果表!C189,IF($D$22=$BH$4,換気検査結果表!C114,\"\"))))","v":""},""]
[{"$nulls":54},"第一号　（換気）2(7)","排気筒及び煙突と可燃物、電線等との離隔距離","2(7)",{"$nulls":6},{"$f":"IF($D$22=$BK$4,水検査結果表!C102,IF($D$22=$BJ$4,非照検査結果表!C118,IF($D$22=$BI$4,排煙検査結果表!C190,IF($D$22=$BH$4,換気検査結果表!C115,\"\"))))","v":""},""]
[{"$nulls":54},"第一号　（換気）2(8)","煙突等への防火ダンパー、風道等の設置の状況","2(8)",{"$nulls":6},{"$f":"IF($D$22=$BK$4,水検査結果表!C103,IF($D$22=$BJ$4,非照検査結果表!C119,IF($D$22=$BI$4,排煙検査結果表!C191,IF($D$22=$BH$4,換気検査結果表!C116,\"\"))))","v":""},""]
[{"$nulls":54},"第一号　（換気）2(9)","煙突の先端の立ち上がりの状況（密閉型燃焼器具の煙突を除く。）","2(9)",{"$nulls":6},{"$f":"IF($D$22=$BK$4,水検査結果表!C104,IF($D$22=$BJ$4,非照検査結果表!C120,IF($D$22=$BI$4,排煙検査結果表!C192,IF($D$22=$BH$4,換気検査結果表!C117,\"\"))))","v":""},""]
[{"$nulls":54},"第一号　（換気）2(10)","煙突に連結した排気筒及び半密閉式瞬間湯沸器等の設置の状況","2(10)",{"$nulls":6},{"$f":"IF($D$22=$BK$4,水検査結果表!C105,IF($D$22=$BJ$4,非照検査結果表!C121,IF($D$22=$BI$4,排煙検査結果表!C193,IF($D$22=$BH$4,換気検査結果表!C118,\"\"))))","v":""},""]
[{"$nulls":54},"第一号　（換気）2(11)","換気扇による換気の状況","2(11)"]
[{"$nulls":54},"第一号　（換気）2(12)","給気機又は排気機の設置の状況","2(12)"]
[{"$nulls":54},"第一号　（換気）2(13)","機械換気設備の換気量","2(13)"]
[{"$nulls":54},"第一号　（換気）3(1)","防火ダンパーの設置の状況","3(1)"]
[{"$nulls":54},"第一号　（換気）3(2)","防火ダンパーの取付けの状況","3(2)"]
[null," (注意）",{"$nulls":52},"第一号　（換気）3(3)","防火ダンパーの作動の状況","3(3)"]
[null,"①　この書類は、検査の結果「要是正」かつ「既存不適格」ではない項目等について作成してください。また、「既存不適格」及び",{"$nulls":52},"第一号　（換気）3(4)","防火ダンパーの劣化及び損傷の状況","3(4)"]
[null,"　「指摘なし」の項目等についても、特記すべき事項があれば、必要に応じて作成してください。「要是正」の項目等がない場合は、",{"$nulls":52},"第一号　（換気）3(5)","防火ダンパーの点検口の有無及び大きさ並びに検査口の有無","3(5)"]
[null,"　この書類は省略しても構いません。",{"$nulls":52},"第一号　（換気）3(6)","防火ダンパーの温度ヒューズ","3(6)"]
[null,"②　記入欄が不足する場合は、枠を拡大、行を追加して記入するか、別紙に必要な事項を記入して添えてください。",{"$nulls":52},"第一号　（換気）3(7)","壁及び床の防火区画貫通部の措置の状況","3(7)"]
[null,"③　「部位」欄の「番号」、「検査項目等」は、それぞれ別記第一号様式から第四号様式の番号、検査項目等に対応したものを記入し",{"$nulls":52},"第一号　（換気）3(8)","連動型防火ダンパーの煙感知器、熱煙複合式感知器及び熱感知器の位置","3(8)"]
[null,"　てください。",{"$nulls":52},"第一号　（換気）3(9)","連動型防火ダンパーの煙感知器、熱煙複合式感知器及び熱感知器との連動の状況","3(9)"]
[null,"④　「検査結果」欄は、検査の結果、要是正の指摘があった場合は「要是正」のチェックボックスに「レ」マークを入れ、それ以外の",{"$nulls":52},"第二号　（排煙）1(1)","排煙機の設置の状況","1(1)"]
[null,"　場合で特記すべき事項がある場合は「その他」のチェックボックスに「レ」マークを入れてください。",{"$nulls":52},"第二号　（排煙）1(2)","排煙風道との接続の状況","1(2)"]
[null,"⑤　写真は、当該部位の外観の状況が確認できるように撮影したものを貼付してください。",{"$nulls":52},"第二号　（排煙）1(3)","煙排出口の設置の状況","1(3)"]
[null,"別添様式　関係写真２（Ａ４）",{"$nulls":52},"第二号　（排煙）1(4)","煙排出口の周囲の状況","1(4)"]
[{"$nulls":54},"第二号　（排煙）1(5)","屋外に設置された煙排出口への雨水等の防止措置の状況","1(5)"]
[null,"部位",null,"番号",{"$nulls":4},"検査項目等",{"$nulls":13},"検査結果",{"$nulls":31},"第二号　（排煙）1(6)","排煙口の開放と連動起動の状況","1(6)"]
[{"$nulls":8},{"$f":"IF(OR(D51=\"\",G51=\"\"),\"\",IF(BB3=\"\",\"\",VLOOKUP(G51,INDIRECT(BB3),2,0)))","v":""},{"$nulls":16},"要是正",{"$nulls":3},"その他",{"$nulls":24},"第二号　（排煙）1(7)","作動の状況","1(7)","【ロ．指摘の概要】",{"$nulls":5},"検査結果表-特記",{"$f":"D51","v":0}]
[null,"写真貼付",{"$nulls":15},"特記事項",{"$nulls":36},"第二号　（排煙）1(8)","電源を必要とする排煙機の予備電源による作動の状況","1(8)",{"$f":"報告書!$BM$656","v":""},{"$nulls":5},{"$f":"IF($D$51=$BK$4,水検査結果表!C96,IF($D$51=$BJ$4,非照検査結果表!C112,IF($D$51=$BI$4,排煙検査結果表!C184,IF($D$51=$BH$4,換気検査結果表!C109,\"\"))))","v":""},{"$f":"IF($D$51=$BK$4,BK5,IF($D$51=$BJ$4,BJ5,IF($D$51=$BI$4,BI5,IF($D$51=$BH$4,BH5,\"\"))))","v":""}]
[{"$nulls":54},"第二号　（排煙）1(9)","排煙機の排煙風量　　　　　　　　　　　　　　　　　　　　　　　　","1(9)",{"$f":"報告書!$BM$657","v":""},{"$nulls":5},{"$f":"IF($D$51=$BK$4,水検査結果表!C97,IF($D$51=$BJ$4,非照検査結果表!C113,IF($D$51=$BI$4,排煙検査結果表!C185,IF($D$51=$BH$4,換気検査結果表!C110,\"\"))))","v":""},{"$f":"IF($D$51=$BK$4,BK6,IF($D$51=$BJ$4,BJ6,IF($D$51=$BI$4,BI6,IF($D$51=$BH$4,BH6,\"\"))))","v":""}]
[{"$nulls":54},"第二号　（排煙）1(10)","中央管理室における制御及び作動状態の監視の状況","1(10)",{"$f":"報告書!$BM$658","v":""},{"$nulls":5},{"$f":"IF($D$51=$BK$4,水検査結果表!C98,IF($D$51=$BJ$4,非照検査結果表!C114,IF($D$51=$BI$4,排煙検査結果表!C186,IF($D$51=$BH$4,換気検査結果表!C111,\"\"))))","v":""},""]
[{"$nulls":54},"第二号　（排煙）1(11)","排煙口の位置","1(11)",{"$f":"報告書!$BM$659","v":""},{"$nulls":5},{"$f":"IF($D$51=$BK$4,水検査結果表!C99,IF($D$51=$BJ$4,非照検査結果表!C115,IF($D$51=$BI$4,排煙検査結果表!C187,IF($D$51=$BH$4,換気検査結果表!C112,\"\"))))","v":""},""]
[{"$nulls":54},"第二号　（排煙）1(12)","排煙口の周囲の状況","1(12)","【ニ．その他特記事項】",{"$nulls":5},{"$f":"IF($D$51=$BK$4,水検査結果表!C100,IF($D$51=$BJ$4,非照検査結果表!C116,IF($D$51=$BI$4,排煙検査結果表!C188,IF($D$51=$BH$4,換気検査結果表!C113,\"\"))))","v":""},""]
[{"$nulls":54},"第二号　（排煙）1(13)","排煙口の取付けの状況","1(13)",{"$f":"報告書!$BM$670","v":""},{"$nulls":5},{"$f":"IF($D$51=$BK$4,水検査結果表!C101,IF($D$51=$BJ$4,非照検査結果表!C117,IF($D$51=$BI$4,排煙検査結果表!C189,IF($D$51=$BH$4,換気検査結果表!C114,\"\"))))","v":""},""]
[{"$nulls":54},"第二号　（排煙）1(14)","手動開放装置の設置の状況","1(14)",{"$f":"報告書!$BM$671","v":""},{"$nulls":5},{"$f":"IF($D$51=$BK$4,水検査結果表!C102,IF($D$51=$BJ$4,非照検査結果表!C118,IF($D$51=$BI$4,排煙検査結果表!C190,IF($D$51=$BH$4,換気検査結果表!C115,\"\"))))","v":""},""]
[{"$nulls":54},"第二号　（排煙）1(15)","手動開放装置の操作方法の表示の状況","1(15)",{"$f":"報告書!$BM$672","v":""},{"$nulls":5},{"$f":"IF($D$51=$BK$4,水検査結果表!C103,IF($D$51=$BJ$4,非照検査結果表!C119,IF($D$51=$BI$4,排煙検査結果表!C191,IF($D$51=$BH$4,換気検査結果表!C116,\"\"))))","v":""},""]
[{"$nulls":54},"第二号　（排煙）1(16)","手動開放装置による開放の状況","1(16)",{"$f":"報告書!$BM$673","v":""},{"$nulls":5},{"$f":"IF($D$51=$BK$4,水検査結果表!C104,IF($D$51=$BJ$4,非照検査結果表!C120,IF($D$51=$BI$4,排煙検査結果表!C192,IF($D$51=$BH$4,換気検査結果表!C117,\"\"))))","v":""},""]
[{"$nulls":54},"第二号　（排煙）1(17)","排煙口の開放の状況","1(17)",{"$nulls":6},{"$f":"IF($D$51=$BK$4,水検査結果表!C105,IF($D$51=$BJ$4,非照検査結果表!C121,IF($D$51=$BI$4,排煙検査結果表!C193,IF($D$51=$BH$4,換気検査結果表!C118,\"\"))))","v":""},""]
[{"$nulls":54},"第二号　（排煙）1(18)","排煙口の排煙風量　　　　　　　　　　　　　　　　　　　　","1(18)"]
[{"$nulls":54},"第二号　（排煙）1(19)","中央管理室における制御及び作動状態の監視の状況","1(19)"]
[{"$nulls":54},"第二号　（排煙）1(20)","煙感知器による作動の状況","1(20)"]
[{"$nulls":54},"第二号　（排煙）1(21)","排煙風道の劣化及び損傷の状況","1(21)"]
[{"$nulls":54},"第二号　（排煙）1(22)","排煙風道の取付けの状況","1(22)"]
[{"$nulls":54},"第二号　（排煙）1(23)","排煙風道の材質","1(23)"]
[null,"部位",null,"番号",{"$nulls":4},"検査項目等",{"$nulls":13},"検査結果",{"$nulls":31},"第二号　（排煙）1(24)","防煙壁の貫通措置の状況","1(24)"]
[{"$nulls":8},{"$f":"IF(OR(D69=\"\",G69=\"\"),\"\",IF(BB4=\"\",\"\",VLOOKUP(G69,INDIRECT(BB4),2,0)))","v":""},{"$nulls":16},"要是正",{"$nulls":3},"その他",{"$nulls":24},"第二号　（排煙）1(25)","排煙風道と可燃物、電線等との離隔距離及び断熱の状況","1(25)",{"$nulls":6},"検査結果表-特記",{"$f":"D69","v":0}]
[null,"写真貼付",{"$nulls":15},"特記事項",{"$nulls":36},"第二号　（排煙）1(26)","防火ダンパーの取付けの状況","1(26)",{"$nulls":6},{"$f":"IF($D$69=$BK$4,水検査結果表!C96,IF($D$69=$BJ$4,非照検査結果表!C112,IF($D$69=$BI$4,排煙検査結果表!C184,IF($D$69=$BH$4,換気検査結果表!C109,\"\"))))","v":""},{"$f":"IF($D$69=$BK$4,BK5,IF($D$69=$BJ$4,BJ5,IF($D$69=$BI$4,BI5,IF($D$69=$BH$4,BH5,\"\"))))","v":""}]
[{"$nulls":54},"第二号　（排煙）1(27)","防火ダンパーの作動の状況","1(27)",{"$nulls":6},{"$f":"IF($D$69=$BK$4,水検査結果表!C97,IF($D$69=$BJ$4,非照検査結果表!C113,IF($D$69=$BI$4,排煙検査結果表!C185,IF($D$69=$BH$4,換気検査結果表!C110,\"\"))))","v":""},{"$f":"IF($D$69=$BK$4,BK6,IF($D$69=$BJ$4,BJ6,IF($D$69=$BI$4,BI6,IF($D$69=$BH$4,BH6,\"\"))))","v":""}]
[{"$nulls":54},"第二号　（排煙）1(28)","防火ダンパーの劣化及び損傷の状況","1(28)",{"$nulls":6},{"$f":"IF($D$69=$BK$4,水検査結果表!C98,IF($D$69=$BJ$4,非照検査結果表!C114,IF($D$69=$BI$4,排煙検査結果表!C186,IF($D$69=$BH$4,換気検査結果表!C111,\"\"))))","v":""},""]
[{"$nulls":54},"第二号　（排煙）1(29)","防火ダンパーの点検口の有無及び大きさ並びに検査口の有無","1(29)",{"$nulls":6},{"$f":"IF($D$69=$BK$4,水検査結果表!C99,IF($D$69=$BJ$4,非照検査結果表!C115,IF($D$69=$BI$4,排煙検査結果表!C187,IF($D$69=$BH$4,換気検査結果表!C112,\"\"))))","v":""},""]
[{"$nulls":54},"第二号　（排煙）1(30)","防火ダンパーの温度ヒューズ","1(30)",{"$nulls":6},{"$f":"IF($D$69=$BK$4,水検査結果表!C100,IF($D$69=$BJ$4,非照検査結果表!C116,IF($D$69=$BI$4,排煙検査結果表!C188,IF($D$69=$BH$4,換気検査結果表!C113,\"\"))))","v":""},""]
[{"$nulls":54},"第二号　（排煙）1(31)","壁及び床の防火区画貫通部の措置の状況","1(31)",{"$nulls":6},{"$f":"IF($D$69=$BK$4,水検査結果表!C101,IF($D$69=$BJ$4,非照検査結果表!C117,IF($D$69=$BI$4,排煙検査結果表!C189,IF($D$69=$BH$4,換気検査結果表!C114,\"\"))))","v":""},""]
[{"$nulls":54},"第二号　（排煙）1(32)","排煙口及び給気口の大きさ及び位置","1(32)",{"$nulls":6},{"$f":"IF($D$69=$BK$4,水検査結果表!C102,IF($D$69=$BJ$4,非照検査結果表!C118,IF($D$69=$BI$4,排煙検査結果表!C190,IF($D$69=$BH$4,換気検査結果表!C115,\"\"))))","v":""},""]
[{"$nulls":54},"第二号　（排煙）1(33)","排煙口及び給気口の周囲の状況","1(33)",{"$nulls":6},{"$f":"IF($D$69=$BK$4,水検査結果表!C103,IF($D$69=$BJ$4,非照検査結果表!C119,IF($D$69=$BI$4,排煙検査結果表!C191,IF($D$69=$BH$4,換気検査結果表!C116,\"\"))))","v":""},""]
[{"$nulls":54},"第二号　（排煙）1(34)","排煙口及び給気口の取付けの状況","1(34)",{"$nulls":6},{"$f":"IF($D$69=$BK$4,水検査結果表!C104,IF($D$69=$BJ$4,非照検査結果表!C120,IF($D$69=$BI$4,排煙検査結果表!C192,IF($D$69=$BH$4,換気検査結果表!C117,\"\"))))","v":""},""]
[{"$nulls":54},"第二号　（排煙）1(35)","手動開放装置の設置の状況","1(35)",{"$nulls":6},{"$f":"IF($D$69=$BK$4,水検査結果表!C105,IF($D$69=$BJ$4,非照検査結果表!C121,IF($D$69=$BI$4,排煙検査結果表!C193,IF($D$69=$BH$4,換気検査結果表!C118,\"\"))))","v":""},""]
[{"$nulls":54},"第二号　（排煙）1(36)","手動開放装置の操作方法の表示の状況","1(36)"]
[{"$nulls":54},"第二号　（排煙）1(37)","排煙口の排煙風量","1(37)"]
[{"$nulls":54},"第二号　（排煙）1(38)","中央管理室における制御及び作動状態の監視の状況","1(38)"]
[{"$nulls":54},"第二号　（排煙）1(39)","煙感知器による作動の状況","1(39)"]
[{"$nulls":54},"第二号　（排煙）1(40)","給気風道の劣化及び損傷の状況","1(40)"]
[null," (注意）",{"$nulls":52},"第二号　（排煙）1(41)","給気風道の材質","1(41)"]
[null,"①　この書類は、検査の結果「要是正」かつ「既存不適格」ではない項目等について作成してください。また、「既存不適格」及び",{"$nulls":52},"第二号　（排煙）1(42)","給気風道の取付けの状況","1(42)"]
[null,"　「指摘なし」の項目等についても、特記すべき事項があれば、必要に応じて作成してください。「要是正」の項目等がない場合は、",{"$nulls":52},"第二号　（排煙）1(43)","防煙壁の貫通措置の状況","1(43)"]
[null,"　この書類は省略しても構いません。",{"$nulls":52},"第二号　（排煙）1(44)","給気送風機の設置の状況","1(44)"]
[null,"②　記入欄が不足する場合は、枠を拡大、行を追加して記入するか、別紙に必要な事項を記入して添えてください。",{"$nulls":52},"第二号　（排煙）1(45)","給気風道との接続の状況","1(45)"]
[null,"③　「部位」欄の「番号」、「検査項目等」は、それぞれ別記第一号様式から第四号様式の番号、検査項目等に対応したものを記入し",{"$nulls":52},"第二号　（排煙）1(46)","排煙口の開放と連動起動の状況","1(46)"]
[null,"　てください。",{"$nulls":52},"第二号　（排煙）1(47)","作動の状況","1(47)"]
[null,"④　「検査結果」欄は、検査の結果、要是正の指摘があった場合は「要是正」のチェックボックスに「レ」マークを入れ、それ以外の",{"$nulls":52},"第二号　（排煙）1(48)","電源を必要とする給気送風機の予備電源による作動の状況","1(48)"]
[null,"　場合で特記すべき事項がある場合は「その他」のチェックボックスに「レ」マークを入れてください。",{"$nulls":52},"第二号　（排煙）1(49)","中央管理室における制御及び作動状態の監視の状況","1(49)"]
[null,"⑤　写真は、当該部位の外観の状況が確認できるように撮影したものを貼付してください。",{"$nulls":52},"第二号　（排煙）1(50)","吸込口の設置位置","1(50)"]
[null,"別添様式　関係写真３（Ａ４）",{"$nulls":52},"第二号　（排煙）1(51)","吸込口の周囲の状況","1(51)"]
[{"$nulls":54},"第二号　（排煙）1(52)","屋外に設置された吸込口への雨水等の防止措置の状況","1(52)"]
[null,"部位",null,"番号",{"$nulls":4},"検査項目等",{"$nulls":13},"検査結果",{"$nulls":31},"第二号　（排煙）2(1)","排煙機、排煙口及び給気口の作動の状況","2(1)"]
[{"$nulls":8},{"$f":"IF(OR(D98=\"\",G98=\"\"),\"\",IF(BB5=\"\",\"\",VLOOKUP(G98,INDIRECT(BB5),2,0)))","v":""},{"$nulls":16},"要是正",{"$nulls":3},"その他",{"$nulls":24},"第二号　（排煙）2(2)","給気口の周囲の状況","2(2)","【ロ．指摘の概要】",{"$nulls":5},"検査結果表-特記",{"$f":"D98","v":0}]
[null,"写真貼付",{"$nulls":15},"特記事項",{"$nulls":36},"第二号　（排煙）2(3)","排煙風道の劣化及び損傷の状況","2(3)",{"$f":"報告書!$BM$656","v":""},{"$nulls":5},{"$f":"IF($D$98=$BK$4,水検査結果表!C96,IF($D$98=$BJ$4,非照検査結果表!C112,IF($D$98=$BI$4,排煙検査結果表!C184,IF($D$98=$BH$4,換気検査結果表!C109,\"\"))))","v":""},{"$f":"IF($D$98=$BK$4,BK5,IF($D$98=$BJ$4,BJ5,IF($D$98=$BI$4,BI5,IF($D$98=$BH$4,BH5,\"\"))))","v":""}]
[{"$nulls":54},"第二号　（排煙）2(4)","排煙風道の取付けの状況","2(4)",{"$f":"報告書!$BM$657","v":""},{"$nulls":5},{"$f":"IF($D$98=$BK$4,水検査結果表!C97,IF($D$98=$BJ$4,非照検査結果表!C113,IF($D$98=$BI$4,排煙検査結果表!C185,IF($D$98=$BH$4,換気検査結果表!C110,\"\"))))","v":""},{"$f":"IF($D$98=$BK$4,BK6,IF($D$98=$BJ$4,BJ6,IF($D$98=$BI$4,BI6,IF($D$98=$BH$4,BH6,\"\"))))","v":""}]
[{"$nulls":54},"第二号　（排煙）2(5)","排煙風道の材質","2(5)",{"$f":"報告書!$BM$658","v":""},{"$nulls":5},{"$f":"IF($D$98=$BK$4,水検査結果表!C98,IF($D$98=$BJ$4,非照検査結果表!C114,IF($D$98=$BI$4,排煙検査結果表!C186,IF($D$98=$BH$4,換気検査結果表!C111,\"\"))))","v":""},""]
[{"$nulls":54},"第二号　（排煙）2(6)","給気口の周囲の状況","2(6)",{"$f":"報告書!$BM$659","v":""},{"$nulls":5},{"$f":"IF($D$98=$BK$4,水検査結果表!C99,IF($D$98=$BJ$4,非照検査結果表!C115,IF($D$98=$BI$4,排煙検査結果表!C187,IF($D$98=$BH$4,換気検査結果表!C112,\"\"))))","v":""},""]
[{"$nulls":54},"第二号　（排煙）2(7)","給気口の取付けの状況","2(7)","【ニ．その他特記事項】",{"$nulls":5},{"$f":"IF($D$98=$BK$4,水検査結果表!C100,IF($D$98=$BJ$4,非照検査結果表!C116,IF($D$98=$BI$4,排煙検査結果表!C188,IF($D$98=$BH$4,換気検査結果表!C113,\"\"))))","v":""},""]
[{"$nulls":54},"第二号　（排煙）2(8)","給気口の手動開放装置の設置の状況","2(8)",{"$f":"報告書!$BM$670","v":""},{"$nulls":5},{"$f":"IF($D$98=$BK$4,水検査結果表!C101,IF($D$98=$BJ$4,非照検査結果表!C117,IF($D$98=$BI$4,排煙検査結果表!C189,IF($D$98=$BH$4,換気検査結果表!C114,\"\"))))","v":""},""]
[{"$nulls":54},"第二号　（排煙）2(9)","給気口の手動開放装置の操作方法の表示の状況","2(9)",{"$f":"報告書!$BM$671","v":""},{"$nulls":5},{"$f":"IF($D$98=$BK$4,水検査結果表!C102,IF($D$98=$BJ$4,非照検査結果表!C118,IF($D$98=$BI$4,排煙検査結果表!C190,IF($D$98=$BH$4,換気検査結果表!C115,\"\"))))","v":""},""]
[{"$nulls":54},"第二号　（排煙）2(10)","給気口の手動開放装置による開放の状況","2(10)",{"$f":"報告書!$BM$672","v":""},{"$nulls":5},{"$f":"IF($D$98=$BK$4,水検査結果表!C103,IF($D$98=$BJ$4,非照検査結果表!C119,IF($D$98=$BI$4,排煙検査結果表!C191,IF($D$98=$BH$4,換気検査結果表!C116,\"\"))))","v":""},""]
[{"$nulls":54},"第二号　（排煙）2(11)","給気口の開放の状況","2(11)",{"$f":"報告書!$BM$673","v":""},{"$nulls":5},{"$f":"IF($D$98=$BK$4,水検査結果表!C104,IF($D$98=$BJ$4,非照検査結果表!C120,IF($D$98=$BI$4,排煙検査結果表!C192,IF($D$98=$BH$4,換気検査結果表!C117,\"\"))))","v":""},""]
[{"$nulls":54},"第二号　（排煙）2(12)","給気風道の劣化及び損傷の状況","2(12)",{"$nulls":6},{"$f":"IF($D$98=$BK$4,水検査結果表!C105,IF($D$98=$BJ$4,非照検査結果表!C121,IF($D$98=$BI$4,排煙検査結果表!C193,IF($D$98=$BH$4,換気検査結果表!C118,\"\"))))","v":""},""]
[{"$nulls":54},"第二号　（排煙）2(13)","給気風道の取付けの状況","2(13)"]
[{"$nulls":54},"第二号　（排煙）2(14)","給気風道の材質","2(14)"]
[{"$nulls":54},"第二号　（排煙）2(15)","給気送風機の設置の状況","2(15)"]
[{"$nulls":54},"第二号　（排煙）2(16)","給気風道との接続の状況","2(16)"]
[{"$nulls":54},"第二号　（排煙）2(17)","給気口の開放と連動起動の状況","2(17)"]
[{"$nulls":54},"第二号　（排煙）2(18)","給気送風機の作動の状況","2(18)"]
[null,"部位",null,"番号",{"$nulls":4},"検査項目等",{"$nulls":13},"検査結果",{"$nulls":31},"第二号　（排煙）2(19)","電源を必要とする給気送風機の予備電源による作動の状況","2(19)"]
[{"$nulls":8},{"$f":"IF(OR(D116=\"\",G116=\"\"),\"\",IF(BB6=\"\",\"\",VLOOKUP(G116,INDIRECT(BB6),2,0)))","v":""},{"$nulls":16},"要是正",{"$nulls":3},"その他",{"$nulls":24},"第二号　（排煙）2(20)","中央管理室における制御及び作動状態の監視の状況","2(20)",{"$nulls":6},"検査結果表-特記",{"$f":"D116","v":0}]
[null,"写真貼付",{"$nulls":15},"特記事項",{"$nulls":36},"第二号　（排煙）2(21)","吸込口の設置位置","2(21)",{"$nulls":6},{"$f":"IF($D$116=$BK$4,水検査結果表!C96,IF($D$116=$BJ$4,非照検査結果表!C112,IF($D$116=$BI$4,排煙検査結果表!C184,IF($D$116=$BH$4,換気検査結果表!C109,\"\"))))","v":""},{"$f":"IF($D$116=$BK$4,BK5,IF($D$116=$BJ$4,BJ5,IF($D$116=$BI$4,BI5,IF($D$116=$BH$4,BH5,\"\"))))","v":""}]
[{"$nulls":54},"第二号　（排煙）2(22)","吸込口の周囲の状況","2(22)",{"$nulls":6},{"$f":"IF($D$116=$BK$4,水検査結果表!C97,IF($D$116=$BJ$4,非照検査結果表!C113,IF($D$116=$BI$4,排煙検査結果表!C185,IF($D$116=$BH$4,換気検査結果表!C110,\"\"))))","v":""},{"$f":"IF($D$116=$BK$4,BK6,IF($D$116=$BJ$4,BJ6,IF($D$116=$BI$4,BI6,IF($D$116=$BH$4,BH6,\"\"))))","v":""}]
[{"$nulls":54},"第二号　（排煙）2(23)","屋外に設置された吸込口への雨水等の防止措置の状況","2(23)",{"$nulls":6},{"$f":"IF($D$116=$BK$4,水検査結果表!C98,IF($D$116=$BJ$4,非照検査結果表!C114,IF($D$116=$BI$4,排煙検査結果表!C186,IF($D$116=$BH$4,換気検査結果表!C111,\"\"))))","v":""},""]
[{"$nulls":54},"第二号　（排煙）2(24)","遮煙開口部の排出風速","2(24)",{"$nulls":6},{"$f":"IF($D$116=$BK$4,水検査結果表!C99,IF($D$116=$BJ$4,非照検査結果表!C115,IF($D$116=$BI$4,排煙検査結果表!C187,IF($D$116=$BH$4,換気検査結果表!C112,\"\"))))","v":""},""]
[{"$nulls":54},"第二号　（排煙）2(25)","空気逃し口の大きさ及び位置","2(25)",{"$nulls":6},{"$f":"IF($D$116=$BK$4,水検査結果表!C100,IF($D$116=$BJ$4,非照検査結果表!C116,IF($D$116=$BI$4,排煙検査結果表!C188,IF($D$116=$BH$4,換気検査結果表!C113,\"\"))))","v":""},""]
[{"$nulls":54},"第二号　（排煙）2(26)","空気逃し口の周囲の状況","2(26)",{"$nulls":6},{"$f":"IF($D$116=$BK$4,水検査結果表!C101,IF($D$116=$BJ$4,非照検査結果表!C117,IF($D$116=$BI$4,排煙検査結果表!C189,IF($D$116=$BH$4,換気検査結果表!C114,\"\"))))","v":""},""]
[{"$nulls":54},"第二号　（排煙）2(27)","空気逃し口の取付けの状況","2(27)",{"$nulls":6},{"$f":"IF($D$116=$BK$4,水検査結果表!C102,IF($D$116=$BJ$4,非照検査結果表!C118,IF($D$116=$BI$4,排煙検査結果表!C190,IF($D$116=$BH$4,換気検査結果表!C115,\"\"))))","v":""},""]
[{"$nulls":54},"第二号　（排煙）2(28)","空気逃し口の作動の状況","2(28)",{"$nulls":6},{"$f":"IF($D$116=$BK$4,水検査結果表!C103,IF($D$116=$BJ$4,非照検査結果表!C119,IF($D$116=$BI$4,排煙検査結果表!C191,IF($D$116=$BH$4,換気検査結果表!C116,\"\"))))","v":""},""]
[{"$nulls":54},"第二号　（排煙）2(29)","圧力調整装置の大きさ及び位置","2(29)",{"$nulls":6},{"$f":"IF($D$116=$BK$4,水検査結果表!C104,IF($D$116=$BJ$4,非照検査結果表!C120,IF($D$116=$BI$4,排煙検査結果表!C192,IF($D$116=$BH$4,換気検査結果表!C117,\"\"))))","v":""},""]
[{"$nulls":54},"第二号　（排煙）2(30)","圧力調整装置の周囲の状況","2(30)",{"$nulls":6},{"$f":"IF($D$116=$BK$4,水検査結果表!C105,IF($D$116=$BJ$4,非照検査結果表!C121,IF($D$116=$BI$4,排煙検査結果表!C193,IF($D$116=$BH$4,換気検査結果表!C118,\"\"))))","v":""},""]
[{"$nulls":54},"第二号　（排煙）2(31)","圧力調整装置の取付けの状況","2(31)"]
[{"$nulls":54},"第二号　（排煙）2(32)","圧力調整装置の作動の状況","2(32)"]
[{"$nulls":54},"第二号　（排煙）3(1)","手動降下装置の作動の状況","3(1)"]
[{"$nulls":54},"第二号　（排煙）3(2)","手動降下装置による連動の状況","3(2)"]
[{"$nulls":54},"第二号　（排煙）3(3)","煙感知器による連動の状況","3(3)"]
[null," (注意）",{"$nulls":52},"第二号　（排煙）3(4)","可動防煙壁の材質","3(4)"]
[null,"①　この書類は、検査の結果「要是正」かつ「既存不適格」ではない項目等について作成してください。また、「既存不適格」及び",{"$nulls":52},"第二号　（排煙）3(5)","可動防煙壁の防煙区画","3(5)"]
[null,"　「指摘なし」の項目等についても、特記すべき事項があれば、必要に応じて作成してください。「要是正」の項目等がない場合は、",{"$nulls":52},"第二号　（排煙）3(6)","中央管理室における制御及び作動状態の監視の状況","3(6)"]
[null,"　この書類は省略しても構いません。",{"$nulls":52},"第二号　（排煙）4(1)","自家用発電機室の防火区画貫通措置の状況","4(1)"]
[null,"②　記入欄が不足する場合は、枠を拡大、行を追加して記入するか、別紙に必要な事項を記入して添えてください。",{"$nulls":52},"第二号　（排煙）4(2)","発電機の発電容量","4(2)"]
[null,"③　「部位」欄の「番号」、「検査項目等」は、それぞれ別記第一号様式から第四号様式の番号、検査項目等に対応したものを記入し",{"$nulls":52},"第二号　（排煙）4(3)","発電機及び原動機の状況","4(3)"]
[null,"　てください。",{"$nulls":52},"第二号　（排煙）4(4)","燃料油、潤滑油及び冷却水の状況","4(4)"]
[null,"④　「検査結果」欄は、検査の結果、要是正の指摘があった場合は「要是正」のチェックボックスに「レ」マークを入れ、それ以外の",{"$nulls":52},"第二号　（排煙）4(5)","始動用の空気槽の圧力","4(5)"]
[null,"　場合で特記すべき事項がある場合は「その他」のチェックボックスに「レ」マークを入れてください。",{"$nulls":52},"第二号　（排煙）4(6)","セル始動用蓄電池及び電気ケーブルの接続の状況","4(6)"]
[null,"⑤　写真は、当該部位の外観の状況が確認できるように撮影したものを貼付してください。",{"$nulls":52},"第二号　（排煙）4(7)","燃料及び冷却水の漏洩の状況","4(7)"]
[null,"別添様式　関係写真４（Ａ４）",{"$nulls":52},"第二号　（排煙）4(8)","計器類及びランプ類の指示及び点灯の状況","4(8)"]
[{"$nulls":54},"第二号　（排煙）4(9)","自家用発電装置の取付けの状況","4(9)"]
[null,"部位",null,"番号",{"$nulls":4},"検査項目等",{"$nulls":13},"検査結果",{"$nulls":31},"第二号　（排煙）4(10)","自家用発電機室の給排気の状況（屋内に設置されている場合に限る。）","4(10)"]
[{"$nulls":8},{"$f":"IF(OR(D145=\"\",G145=\"\"),\"\",IF(BB7=\"\",\"\",VLOOKUP(G145,INDIRECT(BB7),2,0)))","v":""},{"$nulls":16},"要是正",{"$nulls":3},"その他",{"$nulls":24},"第二号　（排煙）4(11)","接地線の接続の状況","4(11)","【ロ．指摘の概要】",{"$nulls":5},"検査結果表-特記",{"$f":"D145","v":0}]
[null,"写真貼付",{"$nulls":15},"特記事項",{"$nulls":36},"第二号　（排煙）4(12)","絶縁抵抗","4(12)",{"$f":"報告書!$BM$656","v":""},{"$nulls":5},{"$f":"IF($D$145=$BK$4,水検査結果表!C96,IF($D$145=$BJ$4,非照検査結果表!C112,IF($D$145=$BI$4,排煙検査結果表!C184,IF($D$145=$BH$4,換気検査結果表!C109,\"\"))))","v":""},{"$f":"IF($D$145=$BK$4,BK5,IF($D$145=$BJ$4,BJ5,IF($D$145=$BI$4,BI5,IF($D$145=$BH$4,BH5,\"\"))))","v":""}]
[{"$nulls":54},"第二号　（排煙）4(13)","電源の切替えの状況","4(13)",{"$f":"報告書!$BM$657","v":""},{"$nulls":5},{"$f":"IF($D$145=$BK$4,水検査結果表!C97,IF($D$145=$BJ$4,非照検査結果表!C113,IF($D$145=$BI$4,排煙検査結果表!C185,IF($D$145=$BH$4,換気検査結果表!C110,\"\"))))","v":""},{"$f":"IF($D$145=$BK$4,BK6,IF($D$145=$BJ$4,BJ6,IF($D$145=$BI$4,BI6,IF($D$145=$BH$4,BH6,\"\"))))","v":""}]
[{"$nulls":54},"第二号　（排煙）4(14)","始動の状況","4(14)",{"$f":"報告書!$BM$658","v":""},{"$nulls":5},{"$f":"IF($D$145=$BK$4,水検査結果表!C98,IF($D$145=$BJ$4,非照検査結果表!C114,IF($D$145=$BI$4,排煙検査結果表!C186,IF($D$145=$BH$4,換気検査結果表!C111,\"\"))))","v":""},""]
[{"$nulls":54},"第二号　（排煙）4(15)","運転の状況","4(15)",{"$f":"報告書!$BM$659","v":""},{"$nulls":5},{"$f":"IF($D$145=$BK$4,水検査結果表!C99,IF($D$145=$BJ$4,非照検査結果表!C115,IF($D$145=$BI$4,排煙検査結果表!C187,IF($D$145=$BH$4,換気検査結果表!C112,\"\"))))","v":""},""]
[{"$nulls":54},"第二号　（排煙）4(16)","排気の状況","4(16)","【ニ．その他特記事項】",{"$nulls":5},{"$f":"IF($D$145=$BK$4,水検査結果表!C100,IF($D$145=$BJ$4,非照検査結果表!C116,IF($D$145=$BI$4,排煙検査結果表!C188,IF($D$145=$BH$4,換気検査結果表!C113,\"\"))))","v":""},""]
[{"$nulls":54},"第二号　（排煙）4(17)","コンプレッサー、燃料ポンプ、冷却水ポンプ等の補機類の作動の状況","4(17)",{"$f":"報告書!$BM$670","v":""},{"$nulls":5},{"$f":"IF($D$145=$BK$4,水検査結果表!C101,IF($D$145=$BJ$4,非照検査結果表!C117,IF($D$145=$BI$4,排煙検査結果表!C189,IF($D$145=$BH$4,換気検査結果表!C114,\"\"))))","v":""},""]
[{"$nulls":54},"第二号　（排煙）4(18)","直結エンジンの設置の状況","4(18)",{"$f":"報告書!$BM$671","v":""},{"$nulls":5},{"$f":"IF($D$145=$BK$4,水検査結果表!C102,IF($D$145=$BJ$4,非照検査結果表!C118,IF($D$145=$BI$4,排煙検査結果表!C190,IF($D$145=$BH$4,換気検査結果表!C115,\"\"))))","v":""},""]
[{"$nulls":54},"第二号　（排煙）4(19)","燃料油、潤滑油及び冷却水の状況","4(19)",{"$f":"報告書!$BM$672","v":""},{"$nulls":5},{"$f":"IF($D$145=$BK$4,水検査結果表!C103,IF($D$145=$BJ$4,非照検査結果表!C119,IF($D$145=$BI$4,排煙検査結果表!C191,IF($D$145=$BH$4,換気検査結果表!C116,\"\"))))","v":""},""]
[{"$nulls":54},"第二号　（排煙）4(20)","セル始動用蓄電池及び電気ケーブルの接続の状況","4(20)",{"$f":"報告書!$BM$673","v":""},{"$nulls":5},{"$f":"IF($D$145=$BK$4,水検査結果表!C104,IF($D$145=$BJ$4,非照検査結果表!C120,IF($D$145=$BI$4,排煙検査結果表!C192,IF($D$145=$BH$4,換気検査結果表!C117,\"\"))))","v":""},""]
[{"$nulls":54},"第二号　（排煙）4(21)","計器類及びランプ類の指示及び点灯の状況","4(21)",{"$nulls":6},{"$f":"IF($D$145=$BK$4,水検査結果表!C105,IF($D$145=$BJ$4,非照検査結果表!C121,IF($D$145=$BI$4,排煙検査結果表!C193,IF($D$145=$BH$4,換気検査結果表!C118,\"\"))))","v":""},""]
[{"$nulls":54},"第二号　（排煙）4(22)","給気部及び排気管の取付けの状況","4(22)"]
[{"$nulls":54},"第二号　（排煙）4(23)","Ｖベルト","4(23)"]
[{"$nulls":54},"第二号　（排煙）4(24)","接地線の接続の状況","4(24)"]
[{"$nulls":54},"第二号　（排煙）4(25)","絶縁抵抗","4(25)"]
[{"$nulls":54},"第二号　（排煙）4(26)","始動及び停止の状況","4(26)"]
[{"$nulls":54},"第二号　（排煙）4(27)","運転の状況","4(27)"]
[null,"部位",null,"番号",{"$nulls":4},"検査項目等",{"$nulls":13},"検査結果",{"$nulls":31},"第三号　（非照）1(1)","使用電球、ランプ等 ","1(1)"]
[{"$nulls":8},{"$f":"IF(OR(D163=\"\",G163=\"\"),\"\",IF(BB8=\"\",\"\",VLOOKUP(G163,INDIRECT(BB8),2,0)))","v":""},{"$nulls":16},"要是正",{"$nulls":3},"その他",{"$nulls":24},"第三号　（非照）1(2)","照明器具の取付けの状況","1(2)",{"$nulls":6},"検査結果表-特記",{"$f":"D163","v":0}]
[null,"写真貼付",{"$nulls":15},"特記事項",{"$nulls":36},"第三号　（非照）2(1)","予備電源への切替え及び器具の点灯の状況","2(1)",{"$nulls":6},{"$f":"IF($D$163=$BK$4,水検査結果表!C96,IF($D$163=$BJ$4,非照検査結果表!C112,IF($D$163=$BI$4,排煙検査結果表!C184,IF($D$163=$BH$4,換気検査結果表!C109,\"\"))))","v":""},{"$f":"IF($D$163=$BK$4,BK5,IF($D$163=$BJ$4,BJ5,IF($D$163=$BI$4,BI5,IF($D$163=$BH$4,BH5,\"\"))))","v":""}]
[{"$nulls":54},"第三号　（非照）2(2)","予備電源の性能","2(2)",{"$nulls":6},{"$f":"IF($D$163=$BK$4,水検査結果表!C97,IF($D$163=$BJ$4,非照検査結果表!C113,IF($D$163=$BI$4,排煙検査結果表!C185,IF($D$163=$BH$4,換気検査結果表!C110,\"\"))))","v":""},{"$f":"IF($D$163=$BK$4,BK6,IF($D$163=$BJ$4,BJ6,IF($D$163=$BI$4,BI6,IF($D$163=$BH$4,BH6,\"\"))))","v":""}]
[{"$nulls":54},"第三号　（非照）2(3)","照度の状況","2(3)",{"$nulls":6},{"$f":"IF($D$163=$BK$4,水検査結果表!C98,IF($D$163=$BJ$4,非照検査結果表!C114,IF($D$163=$BI$4,排煙検査結果表!C186,IF($D$163=$BH$4,換気検査結果表!C111,\"\"))))","v":""},""]
[{"$nulls":54},"第三号　（非照）2(4)","非常用電源分岐回路の表示の状況","2(4)",{"$nulls":6},{"$f":"IF($D$163=$BK$4,水検査結果表!C99,IF($D$163=$BJ$4,非照検査結果表!C115,IF($D$163=$BI$4,排煙検査結果表!C187,IF($D$163=$BH$4,換気検査結果表!C112,\"\"))))","v":""},""]
[{"$nulls":54},"第三号　（非照）2(5)","配電管等の防火区画の貫通措置の状況（隠蔽部分及び埋設部分を除く。）","2(5)",{"$nulls":6},{"$f":"IF($D$163=$BK$4,水検査結果表!C100,IF($D$163=$BJ$4,非照検査結果表!C116,IF($D$163=$BI$4,排煙検査結果表!C188,IF($D$163=$BH$4,換気検査結果表!C113,\"\"))))","v":""},""]
[{"$nulls":54},"第三号　（非照）3(1)","照明器具の取付けの状況及び配線の接続の状況（隠蔽部分及び埋設部分を除く。）","3(1)",{"$nulls":6},{"$f":"IF($D$163=$BK$4,水検査結果表!C101,IF($D$163=$BJ$4,非照検査結果表!C117,IF($D$163=$BI$4,排煙検査結果表!C189,IF($D$163=$BH$4,換気検査結果表!C114,\"\"))))","v":""},""]
[{"$nulls":54},"第三号　（非照）3(2)","電気回路の接続の状況","3(2)",{"$nulls":6},{"$f":"IF($D$163=$BK$4,水検査結果表!C102,IF($D$163=$BJ$4,非照検査結果表!C118,IF($D$163=$BI$4,排煙検査結果表!C190,IF($D$163=$BH$4,換気検査結果表!C115,\"\"))))","v":""},""]
[{"$nulls":54},"第三号　（非照）3(3)","接続部（幹線分岐及びボックス内に限る。）の耐熱処理の状況","3(3)",{"$nulls":6},{"$f":"IF($D$163=$BK$4,水検査結果表!C103,IF($D$163=$BJ$4,非照検査結果表!C119,IF($D$163=$BI$4,排煙検査結果表!C191,IF($D$163=$BH$4,換気検査結果表!C116,\"\"))))","v":""},""]
[{"$nulls":54},"第三号　（非照）3(4)","予備電源から非常用の照明器具間の配線の耐熱処理の状況（隠蔽部分及び埋設部分を除く。）","3(4)",{"$nulls":6},{"$f":"IF($D$163=$BK$4,水検査結果表!C104,IF($D$163=$BJ$4,非照検査結果表!C120,IF($D$163=$BI$4,排煙検査結果表!C192,IF($D$163=$BH$4,換気検査結果表!C117,\"\"))))","v":""},""]
[{"$nulls":54},"第三号　（非照）3(5)","常用の電源から蓄電池設備への切替えの状況","3(5)",{"$nulls":6},{"$f":"IF($D$163=$BK$4,水検査結果表!C105,IF($D$163=$BJ$4,非照検査結果表!C121,IF($D$163=$BI$4,排煙検査結果表!C193,IF($D$163=$BH$4,換気検査結果表!C118,\"\"))))","v":""},""]
[{"$nulls":54},"第三号　（非照）3(6)","蓄電池設備と自家用発電装置併用の場合の切替えの状況","3(6)"]
[{"$nulls":54},"第三号　（非照）4(1)","充電ランプの点灯の状況","4(1)"]
[{"$nulls":54},"第三号　（非照）4(2)","誘導灯及び非常用照明兼用器具の専用回路の確保の状況","4(2)"]
[{"$nulls":54},"第三号　（非照）5(1)","蓄電池室の防火区画等の貫通措置の状況","5(1)"]
[{"$nulls":54},"第三号　（非照）5(2)","蓄電池室の換気の状況","5(2)"]
[null," (注意）",{"$nulls":52},"第三号　（非照）5(3)","蓄電池の設置の状況","5(3)"]
[null,"①　この書類は、検査の結果「要是正」かつ「既存不適格」ではない項目等について作成してください。また、「既存不適格」及び",{"$nulls":52},"第三号　（非照）5(4)","電圧 ","5(4)"]
[null,"　「指摘なし」の項目等についても、特記すべき事項があれば、必要に応じて作成してください。「要是正」の項目等がない場合は、",{"$nulls":52},"第三号　（非照）5(5)","電解液比重 ","5(5)"]
[null,"　この書類は省略しても構いません。",{"$nulls":52},"第三号　（非照）5(6)","電解液の温度","5(6)"]
[null,"②　記入欄が不足する場合は、枠を拡大、行を追加して記入するか、別紙に必要な事項を記入して添えてください。",{"$nulls":52},"第三号　（非照）5(7)","充電器室の防火区画等の貫通措置の状況","5(7)"]
[null,"③　「部位」欄の「番号」、「検査項目等」は、それぞれ別記第一号様式から第四号様式の番号、検査項目等に対応したものを記入し",{"$nulls":52},"第三号　（非照）5(8)","キュービクルの取付けの状況","5(8)"]
[null,"　てください。",{"$nulls":52},"第三号　（非照）6(1)","自家用発電機室の防火区画等の貫通措置の状況","6(1)"]
[null,"④　「検査結果」欄は、検査の結果、要是正の指摘があった場合は「要是正」のチェックボックスに「レ」マークを入れ、それ以外の",{"$nulls":52},"第三号　（非照）6(2)","発電機の発電容量","6(2)"]
[null,"　場合で特記すべき事項がある場合は「その他」のチェックボックスに「レ」マークを入れてください。",{"$nulls":52},"第三号　（非照）6(3)","発電機及び原動機の状況","6(3)"]
[null,"⑤　写真は、当該部位の外観の状況が確認できるように撮影したものを貼付してください。",{"$nulls":52},"第三号　（非照）6(4)","燃料油、潤滑油及び冷却水の状況","6(4)"]
[null,"別添様式　関係写真５（Ａ４）",{"$nulls":52},"第三号　（非照）6(5)","始動用の空気槽の圧力","6(5)"]
[{"$nulls":54},"第三号　（非照）6(6)","セル始動用蓄電池及び電気ケーブルの接続の状況","6(6)"]
[null,"部位",null,"番号",{"$nulls":4},"検査項目等",{"$nulls":13},"検査結果",{"$nulls":31},"第三号　（非照）6(7)","燃料及び冷却水の漏洩の状況","6(7)"]
[{"$nulls":8},{"$f":"IF(OR(D192=\"\",G192=\"\"),\"\",IF(BB9=\"\",\"\",VLOOKUP(G192,INDIRECT(BB9),2,0)))","v":""},{"$nulls":16},"要是正",{"$nulls":3},"その他",{"$nulls":24},"第三号　（非照）6(8)","計器類及びランプ類の指示及び点灯の状況","6(8)","【ロ．指摘の概要】",{"$nulls":5},"検査結果表-特記",{"$f":"D192","v":0}]
[null,"写真貼付",{"$nulls":15},"特記事項",{"$nulls":36},"第三号　（非照）6(9)","自家用発電装置の取付けの状況","6(9)",{"$f":"報告書!$BM$656","v":""},{"$nulls":5},{"$f":"IF($D$192=$BK$4,水検査結果表!C96,IF($D$192=$BJ$4,非照検査結果表!C112,IF($D$192=$BI$4,排煙検査結果表!C184,IF($D$192=$BH$4,換気検査結果表!C109,\"\"))))","v":""},{"$f":"IF($D$192=$BK$4,BK5,IF($D$192=$BJ$4,BJ5,IF($D$192=$BI$4,BI5,IF($D$192=$BH$4,BH5,\"\"))))","v":""}]
[{"$nulls":54},"第三号　（非照）6(10)","自家用発電機室の給排気の状況（屋内に設置されている場合に限る。）","6(10)",{"$f":"報告書!$BM$657","v":""},{"$nulls":5},{"$f":"IF($D$192=$BK$4,水検査結果表!C97,IF($D$192=$BJ$4,非照検査結果表!C113,IF($D$192=$BI$4,排煙検査結果表!C185,IF($D$192=$BH$4,換気検査結果表!C110,\"\"))))","v":""},{"$f":"IF($D$192=$BK$4,BK6,IF($D$192=$BJ$4,BJ6,IF($D$192=$BI$4,BI6,IF($D$192=$BH$4,BH6,\"\"))))","v":""}]
[{"$nulls":54},"第三号　（非照）6(11)","接地線の接続の状況","6(11)",{"$f":"報告書!$BM$658","v":""},{"$nulls":5},{"$f":"IF($D$192=$BK$4,水検査結果表!C98,IF($D$192=$BJ$4,非照検査結果表!C114,IF($D$192=$BI$4,排煙検査結果表!C186,IF($D$192=$BH$4,換気検査結果表!C111,\"\"))))","v":""},""]
[{"$nulls":54},"第三号　（非照）6(12)","絶縁抵抗","6(12)",{"$f":"報告書!$BM$659","v":""},{"$nulls":5},{"$f":"IF($D$192=$BK$4,水検査結果表!C99,IF($D$192=$BJ$4,非照検査結果表!C115,IF($D$192=$BI$4,排煙検査結果表!C187,IF($D$192=$BH$4,換気検査結果表!C112,\"\"))))","v":""},""]
[{"$nulls":54},"第三号　（非照）6(13)","電源の切替えの状況","6(13)","【ニ．その他特記事項】",{"$nulls":5},{"$f":"IF($D$192=$BK$4,水検査結果表!C100,IF($D$192=$BJ$4,非照検査結果表!C116,IF($D$192=$BI$4,排煙検査結果表!C188,IF($D$192=$BH$4,換気検査結果表!C113,\"\"))))","v":""},""]
[{"$nulls":54},"第三号　（非照）6(14)","始動の状況","6(14)",{"$f":"報告書!$BM$670","v":""},{"$nulls":5},{"$f":"IF($D$192=$BK$4,水検査結果表!C101,IF($D$192=$BJ$4,非照検査結果表!C117,IF($D$192=$BI$4,排煙検査結果表!C189,IF($D$192=$BH$4,換気検査結果表!C114,\"\"))))","v":""},""]
[{"$nulls":54},"第三号　（非照）6(15)","音、振動等の状況","6(15)",{"$f":"報告書!$BM$671","v":""},{"$nulls":5},{"$f":"IF($D$192=$BK$4,水検査結果表!C102,IF($D$192=$BJ$4,非照検査結果表!C118,IF($D$192=$BI$4,排煙検査結果表!C190,IF($D$192=$BH$4,換気検査結果表!C115,\"\"))))","v":""},""]
[{"$nulls":54},"第三号　（非照）6(16)","排気の状況","6(16)",{"$f":"報告書!$BM$672","v":""},{"$nulls":5},{"$f":"IF($D$192=$BK$4,水検査結果表!C103,IF($D$192=$BJ$4,非照検査結果表!C119,IF($D$192=$BI$4,排煙検査結果表!C191,IF($D$192=$BH$4,換気検査結果表!C116,\"\"))))","v":""},""]
[{"$nulls":54},"第三号　（非照）6(17)","コンプレッサー、燃料ポンプ、冷却水ポンプ等の補機類の作動の状況","6(17)",{"$f":"報告書!$BM$673","v":""},{"$nulls":5},{"$f":"IF($D$192=$BK$4,水検査結果表!C104,IF($D$192=$BJ$4,非照検査結果表!C120,IF($D$192=$BI$4,排煙検査結果表!C192,IF($D$192=$BH$4,換気検査結果表!C117,\"\"))))","v":""},""]
[{"$nulls":54},"第四号　（水）1(1)","配管の取付けの状況","1(1)",{"$nulls":6},{"$f":"IF($D$192=$BK$4,水検査結果表!C105,IF($D$192=$BJ$4,非照検査結果表!C121,IF($D$192=$BI$4,排煙検査結果表!C193,IF($D$192=$BH$4,換気検査結果表!C118,\"\"))))","v":""},""]
[{"$nulls":54},"第四号　（水）1(2)","配管の腐食及び漏水の状況","1(2)"]
[{"$nulls":54},"第四号　（水）1(3)","配管が貫通する箇所の損傷防止措置の状況","1(3)"]
[{"$nulls":54},"第四号　（水）1(4)","継手類の取付けの状況","1(4)"]
[{"$nulls":54},"第四号　（水）1(5)","保温措置の状況","1(5)"]
[{"$nulls":54},"第四号　（水）1(6)","防火区画等の貫通措置の状況","1(6)"]
[{"$nulls":54},"第四号　（水）1(7)","配管の支持金物","1(7)"]
[null,"部位",null,"番号",{"$nulls":4},"検査項目等",{"$nulls":13},"検査結果",{"$nulls":31},"第四号　（水）1(8)","飲料水系統配管の汚染防止措置の状況","1(8)"]
[{"$nulls":8},{"$f":"IF(OR(D210=\"\",G210=\"\"),\"\",IF(BB10=\"\",\"\",VLOOKUP(G210,INDIRECT(BB10),2,0)))","v":""},{"$nulls":16},"要是正",{"$nulls":3},"その他",{"$nulls":24},"第四号　（水）1(9)","止水弁の設置の状況","1(9)",{"$nulls":6},"検査結果表-特記",{"$f":"D210","v":0}]
[null,"写真貼付",{"$nulls":15},"特記事項",{"$nulls":36},"第四号　（水）1(10)","ウォーターハンマーの防止措置の状況","1(10)",{"$nulls":6},{"$f":"IF($D$210=$BK$4,水検査結果表!C96,IF($D$210=$BJ$4,非照検査結果表!C112,IF($D$210=$BI$4,排煙検査結果表!C184,IF($D$210=$BH$4,換気検査結果表!C109,\"\"))))","v":""},{"$f":"IF($D$210=$BK$4,BK5,IF($D$210=$BJ$4,BJ5,IF($D$210=$BI$4,BI5,IF($D$210=$BH$4,BH5,\"\"))))","v":""}]
[{"$nulls":54},"第四号　（水）1(11)","給湯管及び膨張管の設置の状況","1(11)",{"$nulls":6},{"$f":"IF($D$210=$BK$4,水検査結果表!C97,IF($D$210=$BJ$4,非照検査結果表!C113,IF($D$210=$BI$4,排煙検査結果表!C185,IF($D$210=$BH$4,換気検査結果表!C110,\"\"))))","v":""},{"$f":"IF($D$210=$BK$4,BK6,IF($D$210=$BJ$4,BJ6,IF($D$210=$BI$4,BI6,IF($D$210=$BH$4,BH6,\"\"))))","v":""}]
[{"$nulls":54},"第四号　（水）2(1)","給水タンク等の設置の状況","2(1)",{"$nulls":6},{"$f":"IF($D$210=$BK$4,水検査結果表!C98,IF($D$210=$BJ$4,非照検査結果表!C114,IF($D$210=$BI$4,排煙検査結果表!C186,IF($D$210=$BH$4,換気検査結果表!C111,\"\"))))","v":""},""]
[{"$nulls":54},"第四号　（水）2(2)","給水タンク等の通気管、水抜き管、オーバーフロー管等の設置の状況","2(2)",{"$nulls":6},{"$f":"IF($D$210=$BK$4,水検査結果表!C99,IF($D$210=$BJ$4,非照検査結果表!C115,IF($D$210=$BI$4,排煙検査結果表!C187,IF($D$210=$BH$4,換気検査結果表!C112,\"\"))))","v":""},""]
[{"$nulls":54},"第四号　（水）2(3)","給水タンク等の腐食及び漏水の状況","2(3)",{"$nulls":6},{"$f":"IF($D$210=$BK$4,水検査結果表!C100,IF($D$210=$BJ$4,非照検査結果表!C116,IF($D$210=$BI$4,排煙検査結果表!C188,IF($D$210=$BH$4,換気検査結果表!C113,\"\"))))","v":""},""]
[{"$nulls":54},"第四号　（水）2(4)","給水用圧力タンクの安全装置の状況","2(4)",{"$nulls":6},{"$f":"IF($D$210=$BK$4,水検査結果表!C101,IF($D$210=$BJ$4,非照検査結果表!C117,IF($D$210=$BI$4,排煙検査結果表!C189,IF($D$210=$BH$4,換気検査結果表!C114,\"\"))))","v":""},""]
[{"$nulls":54},"第四号　（水）2(5)","給水ポンプの運転の状況","2(5)",{"$nulls":6},{"$f":"IF($D$210=$BK$4,水検査結果表!C102,IF($D$210=$BJ$4,非照検査結果表!C118,IF($D$210=$BI$4,排煙検査結果表!C190,IF($D$210=$BH$4,換気検査結果表!C115,\"\"))))","v":""},""]
[{"$nulls":54},"第四号　（水）2(6)","給水タンク及びポンプ等の取付けの状況","2(6)",{"$nulls":6},{"$f":"IF($D$210=$BK$4,水検査結果表!C103,IF($D$210=$BJ$4,非照検査結果表!C119,IF($D$210=$BI$4,排煙検査結果表!C191,IF($D$210=$BH$4,換気検査結果表!C116,\"\"))))","v":""},""]
[{"$nulls":54},"第四号　（水）2(7)","給水タンク等の内部の状況","2(7)",{"$nulls":6},{"$f":"IF($D$210=$BK$4,水検査結果表!C104,IF($D$210=$BJ$4,非照検査結果表!C120,IF($D$210=$BI$4,排煙検査結果表!C192,IF($D$210=$BH$4,換気検査結果表!C117,\"\"))))","v":""},""]
[{"$nulls":54},"第四号　（水）2(8)","給湯設備（ガス湯沸器を除く。）の取付けの状況","2(8)",{"$nulls":6},{"$f":"IF($D$210=$BK$4,水検査結果表!C105,IF($D$210=$BJ$4,非照検査結果表!C121,IF($D$210=$BI$4,排煙検査結果表!C193,IF($D$210=$BH$4,換気検査結果表!C118,\"\"))))","v":""},""]
[{"$nulls":54},"第四号　（水）2(9)","ガス湯沸器の取付けの状況","2(9)"]
[{"$nulls":54},"第四号　（水）2(10)","給湯設備の腐食及び漏水の状況","2(10)"]
[{"$nulls":54},"第四号　（水）2(11)","ガス湯沸器の煙突及び給排気部の構造","2(11)"]
[{"$nulls":54},"第四号　（水）3(1)","排水槽のマンホールの大きさ","3(1)"]
[{"$nulls":54},"第四号　（水）3(2)","排水槽の通気の状況","3(2)"]
[null," (注意）",{"$nulls":52},"第四号　（水）3(3)","排水漏れの状況","3(3)"]
[null,"①　この書類は、検査の結果「要是正」かつ「既存不適格」ではない項目等について作成してください。また、「既存不適格」及び",{"$nulls":52},"第四号　（水）3(4)","排水ポンプの設置の状況","3(4)"]
[null,"　「指摘なし」の項目等についても、特記すべき事項があれば、必要に応じて作成してください。「要是正」の項目等がない場合は、",{"$nulls":52},"第四号　（水）3(5)","排水ポンプの運転の状況","3(5)"]
[null,"　この書類は省略しても構いません。",{"$nulls":52},"第四号　（水）3(6)","地下街の非常用の排水設備の処理能力及び予備電源の状況","3(6)"]
[null,"②　記入欄が不足する場合は、枠を拡大、行を追加して記入するか、別紙に必要な事項を記入して添えてください。",{"$nulls":52},"第四号　（水）3(7)","雑用水の用途","3(7)"]
[null,"③　「部位」欄の「番号」、「検査項目等」は、それぞれ別記第一号様式から第四号様式の番号、検査項目等に対応したものを記入し",{"$nulls":52},"第四号　（水）3(8)","雑用水給水栓の表示の状況","3(8)"]
[null,"　てください。",{"$nulls":52},"第四号　（水）3(9)","配管の標識等","3(9)"]
[null,"④　「検査結果」欄は、検査の結果、要是正の指摘があった場合は「要是正」のチェックボックスに「レ」マークを入れ、それ以外の",{"$nulls":52},"第四号　（水）3(10)","雑用水タンク、ポンプ等の設置の状況","3(10)"]
[null,"　場合で特記すべき事項がある場合は「その他」のチェックボックスに「レ」マークを入れてください。",{"$nulls":52},"第四号　（水）3(11)","消毒装置","3(11)"]
[null,"⑤　写真は、当該部位の外観の状況が確認できるように撮影したものを貼付してください。",{"$nulls":52},"第四号　（水）3(12)","衛生器具の取付けの状況","3(12)"]
[{"$nulls":54},"第四号　（水）3(13)","排水トラップの取付けの状況","3(13)"]
[{"$nulls":54},"第四号　（水）3(14)","阻集器の構造、機能及び設置の状況","3(14)"]
[{"$nulls":54},"第四号　（水）3(15)","公共下水道等への接続の状況","3(15)"]
[{"$nulls":54},"第四号　（水）3(16)","雨水排水立て管の接続の状況","3(16)"]
[{"$nulls":54},"第四号　（水）3(17)","排水の状況","3(17)"]
[{"$nulls":54},"第四号　（水）3(18)","掃除口の取付けの状況","3(18)"]
[{"$nulls":54},"第四号　（水）3(19)","雨水系統との接続の状況","3(19)"]
[{"$nulls":54},"第四号　（水）3(20)","間接排水の状況","3(20)"]
[{"$nulls":54},"第四号　（水）3(21)","通気開口部の状況","3(21)"]
[{"$nulls":54},"第四号　（水）3(22)","通気管の状況","3(22)"]
[{"$nulls":54},{"$f":"IF(BD246=\"\",\"\",\"第四号　（水）4(4)\")","v":""},{"$f":"IF(水検査結果表!D87=\"\",\"\",水検査結果表!D87)","v":""}]
[{"$nulls":54},{"$f":"IF(BD247=\"\",\"\",\"第四号　（水）4(5)\")","v":""},{"$f":"IF(水検査結果表!D88=\"\",\"\",水検査結果表!D88)","v":""}]
[{"$nulls":54},{"$f":"IF(BD248=\"\",\"\",\"第四号　（水）4(6)\")","v":""},{"$f":"IF(水検査結果表!D89=\"\",\"\",水検査結果表!D89)","v":""}]
[{"$nulls":54},{"$f":"IF(BD249=\"\",\"\",\"第四号　（水）4(7)\")","v":""},{"$f":"IF(水検査結果表!D90=\"\",\"\",水検査結果表!D90)","v":""}]
[{"$nulls":54},{"$f":"IF(BD250=\"\",\"\",\"第四号　（水）4(8)\")","v":""},{"$f":"IF(水検査結果表!D91=\"\",\"\",水検査結果表!D91)","v":""}]
[{"$nulls":54},{"$f":"IF(BD251=\"\",\"\",\"第四号　（水）4(9)\")","v":""},{"$f":"IF(水検査結果表!D92=\"\",\"\",水検査結果表!D92)","v":""}]
[{"$nulls":54},{"$f":"IF(BD252=\"\",\"\",\"第四号　（水）4(10)\")","v":""},{"$f":"IF(水検査結果表!D93=\"\",\"\",水検査結果表!D93)","v":""}]
[{"$nulls":54},"*****","*****"]

{"sheet":"実施状況表","index":14,"n_rows":55,"n_cols":93,"rows_kept":55,"merged":[[1,0,1,25],[1,51,1,57],[2,0,2,67],[3,0,4,1],[3,2,4,16],[3,17,3,33],[3,41,3,42],[3,44,3,45],[3,58,3,59],[3,61,3,62],[4,21,4,22],[4,23,4,24],[4,26,4,27],[4,38,4,39],[4,40,4,41],[4,43,4,44],[4,55,4,56],[4,57,4,58],[4,60,4,61],[4,74,4,75],[4,77,4,78],[5,0,18,1],[5,2,11,3],[5,26,5,28],[5,29,5,33],[5,43,5,45],[5,46,5,50],[5,60,5,62],[5,63,5,67],[6,4,6,5],[6,6,6,16],[7,22,7,26],[7,39,7,43],[7,45,7,49],[7,56,7,61],[8,4,8,15],[9,6,9,15],[9,17,9,22],[9,23,9,27],[9,29,9,33],[9,34,9,39],[9,40,9,44],[9,46,9,50],[9,51,9,56],[9,57,9,61],[9,63,9,67],[10,17,10,22],[10,23,10,33],[10,34,10,39],[10,40,10,50],[10,51,10,56],[10,57,10,67],[11,17,11,22],[11,23,11,33],[11,34,11,39],[11,40,11,50],[11,51,11,56],[11,57,11,67],[12,2,18,3],[12,4,12,5],[12,26,12,28],[12,29,12,33],[12,43,12,45],[12,46,12,50],[12,60,12,62],[12,63,12,67],[13,4,13,5],[14,4,14,5],[14,6,14,16],[14,22,14,26],[14,39,14,43],[14,45,14,49],[14,56,14,61],[15,4,15,5],[15,6,15,16],[16,4,16,5],[16,6,16,16],[16,17,16,22],[16,23,16,27],[16,29,16,33],[16,34,16,39],[16,40,16,44],[16,46,16,50],[16,51,16,56],[16,57,16,61],[16,63,16,67],[17,4,17,5],[17,6,17,16],[17,17,17,22],[17,23,17,33],[17,34,17,39],[17,40,17,50],[17,51,17,56],[17,57,17,67],[18,4,18,5],[18,6,18,16],[18,17,18,22],[18,23,18,33],[18,34,18,39],[18,40,18,50],[18,51,18,56],[18,57,18,67],[19,0,39,0],[19,1,25,1],[19,2,39,3],[19,26,19,28],[19,29,19,33],[19,43,19,45],[19,46,19,50],[19,60,19,62],[19,63,19,67],[20,4,20,13],[21,22,21,26],[21,39,21,43],[21,45,21,49],[21,56,21,61],[22,4,22,15],[23,6,23,15],[23,17,23,22],[23,23,23,27],[23,29,23,33],[23,34,23,39],[23,40,23,44],[23,46,23,50],[23,51,23,56],[23,57,23,61],[23,63,23,67],[24,17,24,22],[24,23,24,33],[24,34,24,39],[24,40,24,50],[24,51,24,56],[24,57,24,67],[25,17,25,22],[25,23,25,33],[25,34,25,39],[25,40,25,50],[25,51,25,56],[25,57,25,67],[26,1,32,1],[26,26,26,28],[26,29,26,33],[26,43,26,45],[26,46,26,50],[26,60,26,62],[26,63,26,67],[27,4,27,15],[28,22,28,26],[28,39,28,43],[28,45,28,49],[28,56,28,61],[29,4,29,15],[30,6,30,15],[30,17,30,22],[30,23,30,27],[30,29,30,33],[30,34,30,39],[30,40,30,44],[30,46,30,50],[30,51,30,56],[30,57,30,61],[30,63,30,67],[31,17,31,22],[31,23,31,33],[31,34,31,39],[31,40,31,50],[31,51,31,56],[31,57,31,67],[32,17,32,22],[32,23,32,33],[32,34,32,39],[32,40,32,50],[32,51,32,56],[32,57,32,67],[33,1,39,1],[33,26,33,28],[33,29,33,33],[33,43,33,45],[33,46,33,50],[33,60,33,62],[33,63,33,67],[35,4,36,5],[35,6,36,16],[35,22,35,26],[35,39,35,43],[35,45,35,49],[35,56,35,61],[37,6,37,15],[37,17,37,22],[37,23,37,27],[37,29,37,33],[37,34,37,39],[37,40,37,44],[37,46,37,50],[37,51,37,56],[37,57,37,61],[37,63,37,67],[38,17,38,22],[38,23,38,33],[38,34,38,39],[38,40,38,50],[38,51,38,56],[38,57,38,67],[39,17,39,22],[39,23,39,33],[39,34,39,39],[39,40,39,50],[39,51,39,56],[39,57,39,67],[40,0,46,1],[40,2,46,3],[40,26,40,28],[40,29,40,33],[40,43,40,45],[40,46,40,50],[40,60,40,62],[40,63,40,67],[42,4,43,5],[42,6,43,16],[42,22,42,26],[42,39,42,43],[42,45,42,49],[42,56,42,61],[44,17,44,22],[44,23,44,27],[44,29,44,33],[44,34,44,39],[44,40,44,44],[44,46,44,50],[44,51,44,56],[44,57,44,61],[44,63,44,67],[45,17,45,22],[45,23,45,33],[45,34,45,39],[45,40,45,50],[45,51,45,56],[45,57,45,67],[46,17,46,22],[46,23,46,33],[46,34,46,39],[46,40,46,50],[46,51,46,56],[46,57,46,67],[47,7,47,8],[47,9,47,10],[47,18,47,19],[47,20,47,21],[47,34,47,51],[47,60,47,67]]}
[{"$nulls":71},"【イ．今回の検査】(年月)",null,"○",{"$nulls":7},"○","今回の報告年月",null,null,"○",{"$nulls":6},"○"]
["３年までの間に１回行う検査項目の年度別実施状況表",{"$nulls":25},"※　１年目から３年目までの検査（実施･予定）箇所数等を記入してください。",{"$nulls":24},{"$f":"IF(報告書!$AN$79=\"\",\"\",報告書!$AN$79)","v":""},{"$nulls":13},{"$f":"IF(BF5+BI5=0,\"\",R49+AI49+AZ49)","v":""},{"$f":"IF(BF5+BI5=0,\"\",IF(R49=1,S49,IF(AI49=2,AJ49,(IF(AZ49=3,BA49,\"\")))))","v":""},null,null,{"$f":"IF(報告書!W451=\"レ\",1,0)","v":0},null,{"$f":"IF(報告書!R122=\"\",\"\",報告書!R122)","v":""},{"$f":"IF(報告書!U122=\"\",\"\",報告書!U122)","v":""},{"$f":"IF(OR(BT2=\"\",BU2=\"\"),\"\",IF(BU2<4,BT2-1,BT2))","v":""},{"$f":"IF(CD2=\"\",BT2,IF(CD2>=BV2,CD2,BV2))","v":""},{"$nulls":6},{"$f":"IF(OR(CE2=\"\",CF2=\"\"),\"\",IF(CF2<4,CE2-1,CE2))","v":""},{"$f":"IF(報告書!AL16=\"\",\"\",報告書!AL16)","v":""},{"$f":"IF(報告書!AO16=\"\",\"\",報告書!AO16)","v":""}]
[]
["種類",null,"各建築設備検査結果表における\n検査項目番号及び検査項目",{"$nulls":14},"１年目検査実施箇所数",{"$nulls":22},"２年目検査（",{"$f":"IF(OR(AO5=\"\",AR5=\"\"),\"\",IF($BW$2<$BW$48,\"―――\",\"\"))","v":""},null,"・",{"$f":"IF(OR(AO5=\"\",AR5=\"\"),\"\",IF($BW$2>=$BW$48,\"―――\",\"\"))","v":""},null,"）箇所数",{"$nulls":10},"３年目検査（",{"$f":"IF(OR(BF5=\"\",BI5=\"\"),\"\",IF($BW$2<$U$48,\"―――\",\"\"))","v":""},null,"・",{"$f":"IF(OR(BF5=\"\",BI5=\"\"),\"\",IF($BW$2>=$U$48,\"―――\",\"\"))","v":""},null,"）箇所数",{"$nulls":5},{"$f":"IF(報告書!W451=\"レ\",\"大臣項目あり\",\"-----\")","v":"-----"},{"$f":"IF(AND(BR4=\"大臣項目あり\",OR(X5=\"\",AA5=\"\",BF5=\"\",BI5=\"\")),\"未入力\",\"-----\")","v":"-----"},{"$f":"IF(BR48=\"\",\"\",IF(BR48=3,\"\",\"（入力年月を確認してください）\"))","v":""}]
[{"$nulls":20},"（","令和",{"$nulls":3},"年",null,null,"月実施）",{"$nulls":8},"（","令和",{"$nulls":3},"年",null,null,"月実施）",{"$nulls":8},"（","令和",{"$nulls":3},"年",null,null,"月実施）"]
["換気設備",null,"評価表（別表１）",{"$nulls":10},{"$f":"IF(AND(換気検査結果表!S2=\"-----\",排煙検査結果表!S2=\"-----\",水検査結果表!S2=\"-----\"),\"\",IF(換気検査結果表!S2=\"-----\",\"レ\",IF(BT10>=1,\"\",IF(BW9>=1,\"レ\",\"\"))))","v":""},"該当無",null,null,{"$f":"IF(AND(AD10=\"\",X10=\"\"),\"\",IF(AD10=X10,\"レ\",\"\"))","v":""},"全数を実施",{"$nulls":7},{"$f":"IF(N6=\"レ\",\"\",IF(AND(AD10=\"\",X10=\"\"),\"\",IF(AD6=AD10,\"【完】\",\"-未-\")))","v":""},null,null,{"$f":"IF(N6=\"レ\",\"\",IF(AND(AD10=\"\",X10=\"\"),\"\",X10))","v":""},{"$nulls":4},{"$f":"IF(AND(AU10=\"\",AO10=\"\"),\"\",IF(AU10=AO10,\"レ\",\"\"))","v":""},"全数を実施",{"$nulls":7},{"$f":"IF(N6=\"レ\",\"\",IF(AND(AD10=\"\",X10=\"\"),\"\",IF(AU6=AU10,\"【完】\",\"-未-\")))","v":""},null,null,{"$f":"IF(N6=\"レ\",\"\",IF(AND(AD10=\"\",X10=\"\"),\"\",IF(AU10<=AD6+AO10,AU10,IF(AU10<>AD10,AD6+AO10,IF(AD6=AD10,AD6,AD6+AO10)))))","v":""},{"$nulls":4},{"$f":"IF(AND(BL10=\"\",BF10=\"\"),\"\",IF(BL10=BF10,\"レ\",\"\"))","v":""},"全数を実施",{"$nulls":7},{"$f":"IF(N6=\"レ\",\"\",IF(AND(AD10=\"\",X10=\"\"),\"\",IF(BL6=BL10,\"【完】\",\"-未-\")))","v":""},null,null,{"$f":"IF(AND(AD10=\"\",X10=\"\"),\"\",IF(BL10<=AU6+BF10,BL10,IF(BL10<>AU10,AU6+BF10,IF(AU6=AU10,AU6,AU6+BF10))))","v":""},{"$nulls":5},"設備別判定",{"$f":"換気検査結果表!S2","v":"-----"},{"$f":"IF(BW6=\"要是正継続及び未了部分あり\",\"(国土交通大臣が定める検査項目に要是正継続及び未了部分あり)\",IF(BW6=\"未了部分あり\",\"(国土交通大臣が定める検査項目に未了部分あり)\",IF(BW6=\"要是正継続あり\",\"(国土交通大臣が定める検査項目に要是正継続あり)\",\"\")))","v":""},null,null,{"$f":"IF(BF11=\"要是正継続あり\",\"要是正継続あり\",IF(AND(CA12=\"未了部分あり\",CA19=\"要是正継続あり\"),\"要是正継続及び未了部分あり\",IF(AND(CA12=\"要是正継続あり\",CA19=\"未了部分あり\"),\"要是正継続及び未了部分あり\",IF(OR(CA12=\"要是正継続及び未了部分あり\",CA19=\"要是正継続及び未了部分あり\"),\"要是正継続及び未了部分あり\",IF(OR(CA12=\"未了部分あり\",CA19=\"未了部分あり\"),\"未了部分あり\",IF(OR(CA12=\"要是正継続あり\",AO11=\"要是正継続あり\"),\"要是正継続あり\",\"\"))))))","v":""},"(国土交通大臣が定める検査項目に要是正継続あり)",null,null,{"$f":"\"要是正継続あり\"","v":"要是正継続あり"},"IF(OR(X11=\"要是正継続あり\",AO11=\"要是正継続あり\",BF11=\"要是正継続あり\",X18=\"要是正継続あり\",AO18=\"要是正継続あり\",BF18=\"要是正継続あり\"),\"要是正継続あり\",",null,"IF(AND(AD10=\"\",X10=\"\"),\"\",IF(AD10=X10,\"レ\",\"\"))","【イ．無窓居室】","系統","室"]
[{"$nulls":4},"1(10)",null,"各居室の換気量",{"$nulls":10},{"$f":"IF(AND(AD10=\"\",X10=\"\"),\"\",IF(X10=0,\"レ\",\"\"))","v":""},"実施せず",{"$nulls":15},{"$f":"IF(AND(AU10=\"\",AO10=\"\"),\"\",IF(AO10=0,\"レ\",\"\"))","v":""},"実施せず",{"$nulls":15},{"$f":"IF(AND(BL10=\"\",BF10=\"\"),\"\",IF(BF10=0,\"レ\",\"\"))","v":""},"実施せず",{"$nulls":22},"(国土交通大臣が定める検査項目に未了部分あり),(国土交通大臣が定める検査項目に要是正継続及び未了部分あり)",null,null,{"$f":"\"未了部分あり\"","v":"未了部分あり"},"IF(OR(X11=\"未了部分あり\",AO11=\"未了部分あり\",BF11=\"未了部分あり\",X18=\"未了部分あり\",AO18=\"未了部分あり\",BF18=\"未了部分あり\"),\"未了部分あり\",",null,"IF(AND(AD10=\"\",X10=\"\"),\"\",IF(X10=0,\"レ\",\"\"))","機械換気設備",{"$f":"IF(報告書!AK170=\"\",\"\",報告書!AK170)","v":""},{"$f":"IF(報告書!AO170=\"\",\"\",報告書!AO170)","v":""}]
[{"$nulls":17},{"$f":"IF(R7=\"レ\",\"\",IF(AD10>X10,\"レ\",\"\"))","v":""},"一部実施 （",{"$nulls":3},"次年に繰越し",{"$nulls":4},"）",{"$nulls":6},{"$f":"IF(AI7=\"レ\",\"\",IF(AU10>AO10,\"レ\",\"\"))","v":""},"一部実施 （",{"$nulls":3},{"$f":"IF(AI8=\"\",\"\",IF(AND(AI8=\"レ\",AR6=\"【完】\",AA6=\"-未-\"),\"―――――――\",IF(AND(AI8=\"レ\",\"―――――――\"),\"\",IF(AI8=\"\",\"\",\"\"))))","v":""},{"$nulls":4},"・",{"$f":"IF(AND(AI8=\"レ\",AR6=\"-未-\"),\"―――――――\",\"\")","v":""},{"$nulls":4},"）",{"$f":"IF(AZ7=\"レ\",\"\",IF(BL10>BF10,\"レ\",\"\"))","v":""},"一部実施 （",{"$nulls":3},"当年で全数実施",{"$nulls":5},"）",{"$nulls":7},"各居室の換気量",{"$f":"IF(BS6=\"-----\",\"\",IF(COUNTA(換気検査結果表!L33:M33)>=2,\"\",\"●\"))","v":""},{"$f":"IF(換気検査結果表!$L$33=\"実施せず\",\"実施せず\",IF(換気検査結果表!$L$33=\"―\",\"該当なし\",IF(換気検査結果表!$L$33=\"○\",\"指摘なし\",IF(換気検査結果表!$N$33=\"○\",\"既存不適格\",IF(換気検査結果表!$M$33=\"○\",\"要是正\")))))","v":false},{"$f":"IF(BU8=\"該当なし\",1,\"\")","v":""},null,"(国土交通大臣が定める検査項目に要是正継続及び未了部分あり)",null,null,{"$f":"\"要是正継続及び未了部分あり\"","v":"要是正継続及び未了部分あり"},"IF(OR(X11=\"要是正継続及び未了部分あり\",AO11=\"要是正継続及び未了部分あり\",BF11=\"要是正継続及び未了部分あり\",X18=\"要是正継続及び未了部分あり\",AO18=\"要是正継続及び未了部分あり\",BF18=\"要是正継続及び未了部分あり\"),\"要是正継続及び未了部分あり\",",null,"IF(R7=\"レ\",\"\",IF(AD10>X10,\"レ\",\"\"))","【ハ．居室等】"]
[{"$nulls":4},{"$f":"IF(N6=\"レ\",\"\",IF(BV9=1,\"――――――――――――――\",\"\"))","v":""},{"$nulls":12},"＜実施箇所数及び指摘の概要を下欄に記入＞",{"$nulls":16},"＜実施・予定箇所数及び指摘の概要を下欄に記入＞",{"$nulls":16},"＜実施・予定箇所数及び指摘の概要を下欄に記入＞",{"$nulls":18},"中央管理室における制御及び作動状態の監視の状況",{"$f":"IF(BS6=\"-----\",\"\",IF(COUNTA(換気検査結果表!L34:M34)>=2,\"\",\"●\"))","v":""},{"$f":"IF(換気検査結果表!$L$34=\"実施せず\",\"実施せず\",IF(換気検査結果表!$L$34=\"―\",\"該当なし\",IF(換気検査結果表!$L$34=\"○\",\"指摘なし\",IF(換気検査結果表!$N$34=\"○\",\"既存不適格\",IF(換気検査結果表!$M$34=\"○\",\"要是正\")))))","v":false},{"$f":"IF(BU9=\"該当なし\",1,\"\")","v":""},{"$f":"SUM(BV8:BV9)","v":0},"――――――――――――――",{"$nulls":6},"機械換気設備",{"$f":"IF(報告書!AK175=\"\",\"\",報告書!AK175)","v":""},{"$f":"IF(報告書!AO175=\"\",\"\",報告書!AO175)","v":""}]
[{"$nulls":6},"及び作動状態の監視の状況",{"$nulls":10},"実施箇所数",{"$nulls":10},"／",{"$nulls":5},"実施箇所数",{"$nulls":10},"／",{"$nulls":5},"実施箇所数",{"$nulls":10},"／",{"$nulls":8},{"$f":"COUNTIF(BT8:BT9,\"●\")","v":0},{"$nulls":6},{"$f":"IF(OR(X11=\"要是正継続あり\",X11=\"指摘なし（要是正継続あり）\",X11=\"要是正（要是正継続あり）\"),\"要是正継続あり\",\"\")","v":""},{"$f":"IF(OR(AO11=\"要是正継続あり\",AO11=\"指摘なし（要是正継続あり）\",AO11=\"要是正（要是正継続あり）\"),\"要是正継続あり\",\"\")","v":""},{"$f":"IF(OR(BF11=\"未了部分あり\",BF11=\"指摘なし（未了部分あり）\",BF11=\"要是正（未了部分あり）\"),\"未了部分あり\",IF(OR(BF11=\"要是正継続及び未了部分あり\",BF11=\"指摘なし（要是正継続及び未了部分あり）\",BF11=\"要是正（要是正継続及び未了部分あり）\"),\"要是正継続及び未了部分あり\",IF(OR(BF11=\"要是正継続あり\",BF11=\"指摘なし（要是正継続あり）\",BF11=\"要是正（要是正継続あり）\"),\"要是正継続あり\",\"\")))","v":""},{"$nulls":3},{"$f":"SUM(CG7:CG9)","v":0},null,"指摘なし",{"$f":"IF($AS$4=\"\",\"\",IF($AP$4=\"―――\",\"\",\"指摘なし\"))","v":""},{"$f":"IF(BI6=\"-未-\",\"\",IF($BJ$4=\"\",\"\",IF($BG$4=\"―――\",\"\",\"指摘なし\")))","v":""}]
[{"$nulls":17},"指摘の概要",{"$nulls":16},"指摘の概要",{"$nulls":16},"指摘の概要",{"$nulls":26},{"$f":"IF(CC11=\"○\",\"×\",IF(AND($AS$4=\"―――\",$BJ$4=\"―――\"),\"○\",\"\"))","v":""},{"$f":"IF(CC11=\"○\",\"×\",IF($AS$4=\"―――\",\"○\",\"×\"))","v":"×"},{"$f":"IF($BJ$4=\"―――\",\"○\",\"×\")","v":"×"},{"$nulls":5},"要是正",{"$f":"IF($AS$4=\"\",\"\",IF($AP$4=\"―――\",\"\",\"要是正\"))","v":""},{"$f":"IF(BI6=\"-未-\",\"\",IF($BJ$4=\"\",\"\",IF($BG$4=\"―――\",\"\",\"要是正\")))","v":""}]
[{"$nulls":17},"備考",{"$nulls":16},"備考",{"$nulls":16},"備考",{"$nulls":26},{"$f":"IF(CC11=\"○\",CC10,IF(CB11=\"○\",CB10,IF(AND(CB11=\"×\",CC11=\"×\"),CA10,\"\")))","v":""},{"$nulls":7},"指摘なし（要是正継続あり）",{"$f":"IF($AS$4=\"\",\"\",IF($AP$4=\"―――\",\"\",IF($AS$4=\"\",\"\",IF(OR(X11=\"要是正\",X11=\"要是正（要是正継続あり）\",X11=\"指摘なし（要是正継続あり）\",X11=\"要是正継続あり\"),\"指摘なし（要是正継続あり）\",\"\"))))","v":""},{"$f":"IF(BI6=\"-未-\",\"\",IF($BJ$4=\"\",\"\",IF($BG$4=\"―――\",\"\",IF($BJ$4=\"\",\"\",IF(OR(X11=\"要是正\",X11=\"要是正（要是正継続あり）\",X11=\"指摘なし（要是正継続あり）\",X11=\"要是正継続あり\",AO11=\"要是正\",AO11=\"要是正（要是正継続あり）\",AO11=\"指摘なし（要是正継続あり）\",AO11=\"要是正継続あり\"),\"指摘なし（要是正継続あり）\",\"\")))))","v":""}]
[null,null,"室内環境測定記録",null,"1(17)",null,"各居室の温度",{"$nulls":6},{"$f":"IF(AND(換気検査結果表!S2=\"-----\",排煙検査結果表!S2=\"-----\",水検査結果表!S2=\"-----\"),\"\",IF(換気検査結果表!S2=\"-----\",\"レ\",IF(BW18>=1,\"レ\",\"\")))","v":""},"該当無",null,null,{"$f":"IF(AND(AD17=\"\",X17=\"\"),\"\",IF(AD17=X17,\"レ\",\"\"))","v":""},"全数を実施",{"$nulls":7},{"$f":"IF(N13=\"レ\",\"\",IF(AND(AD17=\"\",X17=\"\"),\"\",IF(AD13=AD17,\"【完】\",\"-未-\")))","v":""},null,null,{"$f":"IF(N13=\"レ\",\"\",IF(AND(AD17=\"\",X17=\"\"),\"\",X17))","v":""},{"$nulls":4},{"$f":"IF(AND(AU17=\"\",AO17=\"\"),\"\",IF(AU17=AO17,\"レ\",\"\"))","v":""},"全数を実施",{"$nulls":7},{"$f":"IF(N13=\"レ\",\"\",IF(AND(AD17=\"\",X17=\"\"),\"\",IF(AU13=AU17,\"【完】\",\"-未-\")))","v":""},null,null,{"$f":"IF(N13=\"レ\",\"\",IF(AND(AD17=\"\",X17=\"\"),\"\",IF(AU17<=AD13+AO17,AU17,IF(AU17<>AD17,AD13+AO17,IF(AD13=AD17,AD13,AD13+AO17)))))","v":""},{"$nulls":4},{"$f":"IF(AND(BL17=\"\",BF17=\"\"),\"\",IF(BL17=BF17,\"レ\",\"\"))","v":""},"全数を実施",{"$nulls":7},{"$f":"IF(N13=\"レ\",\"\",IF(AND(AD17=\"\",X17=\"\"),\"\",IF(BL13=BL17,\"【完】\",\"-未-\")))","v":""},null,null,{"$f":"IF(AND(AD17=\"\",X17=\"\"),\"\",IF(BL17<=AU13+BF17,BL17,IF(BL17<>AU17,AU13+BF17,IF(AU13=AU17,AU13,AU13+BF17))))","v":""},{"$nulls":6},"各居室の温度",{"$f":"IF(BS6=\"-----\",\"\",IF(COUNTA(換気検査結果表!L40:M40)>=2,\"\",\"●\"))","v":""},{"$f":"IF(換気検査結果表!$L$40=\"実施せず\",\"実施せず\",IF(換気検査結果表!$L$40=\"―\",\"該当なし\",IF(換気検査結果表!$L$40=\"○\",\"指摘なし\",IF(換気検査結果表!$N$40=\"○\",\"既存不適格\",IF(換気検査結果表!$M$40=\"○\",\"要是正\")))))","v":false},{"$f":"IF(BU13=\"該当なし\",1,\"\")","v":""},{"$nulls":8},"【イ．無窓居室】","系統","室",null,"要是正（要是正継続あり）",{"$f":"IF($AS$4=\"\",\"\",IF($AP$4=\"―――\",\"\",IF($AS$4=\"\",\"\",IF(OR(X11=\"要是正\",X11=\"要是正（要是正継続あり）\",X11=\"指摘なし（要是正継続あり）\",X11=\"要是正継続あり\"),\"要是正（要是正継続あり）\",\"\"))))","v":""},{"$f":"IF(BI6=\"-未-\",\"\",IF($BJ$4=\"\",\"\",IF($BG$4=\"―――\",\"\",IF($BJ$4=\"\",\"\",IF(OR(X11=\"要是正\",X11=\"要是正（要是正継続あり）\",X11=\"指摘なし（要是正継続あり）\",X11=\"要是正継続あり\",AO11=\"要是正\",AO11=\"要是正（要是正継続あり）\",AO11=\"指摘なし（要是正継続あり）\",AO11=\"要是正継続あり\"),\"要是正（要是正継続あり）\",\"\")))))","v":""}]
[{"$nulls":4},"1(18)",null,"各居室の相対湿度",{"$nulls":10},{"$f":"IF(AND(AD17=\"\",X17=\"\"),\"\",IF(X17=0,\"レ\",\"\"))","v":""},"実施せず",{"$nulls":15},{"$f":"IF(AND(AU17=\"\",AO17=\"\"),\"\",IF(AO17=0,\"レ\",\"\"))","v":""},"実施せず",{"$nulls":15},{"$f":"IF(AND(BL17=\"\",BF17=\"\"),\"\",IF(BF17=0,\"レ\",\"\"))","v":""},"実施せず",{"$nulls":17},"各居室の相対湿度",{"$f":"IF(BS6=\"-----\",\"\",IF(COUNTA(換気検査結果表!L41:M41)>=2,\"\",\"●\"))","v":""},{"$f":"IF(換気検査結果表!$L$41=\"実施せず\",\"実施せず\",IF(換気検査結果表!$L$41=\"―\",\"該当なし\",IF(換気検査結果表!$L$41=\"○\",\"指摘なし\",IF(換気検査結果表!$N$41=\"○\",\"既存不適格\",IF(換気検査結果表!$M$41=\"○\",\"要是正\")))))","v":false},{"$f":"IF(BU14=\"該当なし\",1,\"\")","v":""},{"$nulls":8},"中央管理方式の空気調和設備",{"$f":"IF(報告書!AA171=\"\",\"\",報告書!AA171)","v":""},{"$f":"IF(報告書!AE171=\"\",\"\",報告書!AE171)","v":""},null,"要是正継続あり",{"$f":"IF($AS$4=\"\",\"\",IF($AP$4=\"―――\",\"\",IF($AS$4=\"\",\"\",IF(OR(X11=\"要是正\",X11=\"要是正（要是正継続あり）\",X11=\"指摘なし（要是正継続あり）\",X11=\"要是正継続あり\"),\"要是正継続あり\",\"\"))))","v":""},{"$f":"IF(BI6=\"【完】\",\"\",IF($BJ$4=\"\",\"\",IF($BG$4=\"―――\",\"\",IF(OR(X11=\"要是正\",X11=\"要是正（要是正継続あり）\",X11=\"指摘なし（要是正継続あり）\",X11=\"要是正継続あり\",AO11=\"要是正\",AO11=\"要是正（要是正継続あり）\",AO11=\"指摘なし（要是正継続あり）\",AO11=\"要是正継続あり\"),\"指摘なし（要是正継続及び未了部分あり）\",\"\"))))","v":""}]
[{"$nulls":4},"1(19)",null,"各居室の浮遊粉じん量",{"$nulls":10},{"$f":"IF(R14=\"レ\",\"\",IF(AD17>X17,\"レ\",\"\"))","v":""},"一部実施 （",{"$nulls":3},"次年に繰越し",{"$nulls":4},"）",{"$nulls":6},{"$f":"IF(AI14=\"レ\",\"\",IF(AU17>AO17,\"レ\",\"\"))","v":""},"一部実施 （",{"$nulls":3},{"$f":"IF(AI15=\"\",\"\",IF(AND(AI15=\"レ\",AR13=\"【完】\",AA13=\"-未-\"),\"―――――――\",IF(AND(AI15=\"レ\",\"―――――――\"),\"\",IF(AI15=\"\",\"\",\"\"))))","v":""},{"$nulls":4},"・",{"$f":"IF(AND(AI15=\"レ\",AR13=\"-未-\"),\"―――――――\",\"\")","v":""},{"$nulls":4},"）",{"$f":"IF(AZ14=\"レ\",\"\",IF(BL17>BF17,\"レ\",\"\"))","v":""},"一部実施 （",{"$nulls":3},"当年で全数実施",{"$nulls":5},"）",{"$nulls":7},"各居室の浮遊粉じん量",{"$f":"IF(BS6=\"-----\",\"\",IF(COUNTA(換気検査結果表!L42:M42)>=2,\"\",\"●\"))","v":""},{"$f":"IF(換気検査結果表!$L$42=\"実施せず\",\"実施せず\",IF(換気検査結果表!$L$42=\"―\",\"該当なし\",IF(換気検査結果表!$L$42=\"○\",\"指摘なし\",IF(換気検査結果表!$N$42=\"○\",\"既存不適格\",IF(換気検査結果表!$M$42=\"○\",\"要是正\")))))","v":false},"",{"$nulls":8},"【ハ．居室等】",{"$nulls":5},{"$f":"IF(BI6=\"【完】\",\"\",IF($BJ$4=\"\",\"\",IF($BG$4=\"―――\",\"\",IF(OR(X11=\"要是正\",X11=\"要是正（要是正継続あり）\",X11=\"指摘なし（要是正継続あり）\",X11=\"要是正継続あり\",AO11=\"要是正\",AO11=\"要是正（要是正継続あり）\",AO11=\"指摘なし（要是正継続あり）\",AO11=\"要是正継続あり\"),\"要是正（要是正継続及び未了部分あり）\",\"\"))))","v":""}]
[{"$nulls":4},"1(20)",null,"各居室の一酸化炭素含有率",{"$nulls":10},"＜実施箇所数及び指摘の概要を下欄に記入＞",{"$nulls":16},"＜実施・予定箇所数及び指摘の概要を下欄に記入＞",{"$nulls":16},"＜実施・予定箇所数及び指摘の概要を下欄に記入＞",{"$nulls":18},"各居室の一酸化炭素含有率",{"$f":"IF(BS6=\"-----\",\"\",IF(COUNTA(換気検査結果表!L43:M43)>=2,\"\",\"●\"))","v":""},{"$f":"IF(換気検査結果表!$L$43=\"実施せず\",\"実施せず\",IF(換気検査結果表!$L$43=\"―\",\"該当なし\",IF(換気検査結果表!$L$43=\"○\",\"指摘なし\",IF(換気検査結果表!$N$43=\"○\",\"既存不適格\",IF(換気検査結果表!$M$43=\"○\",\"要是正\")))))","v":false},"",{"$nulls":8},"中央管理方式の空気調和設備",{"$f":"IF(報告書!Q177=\"\",\"\",報告書!Q177)","v":""},{"$f":"IF(報告書!AE176=\"\",\"\",報告書!AE176)","v":""},{"$nulls":3},{"$f":"IF(BI6=\"【完】\",\"\",IF($BJ$4=\"\",\"\",IF($BG$4=\"―――\",\"\",IF(AND($BG$4=\"\",BI6=\"-未-\"),\"指摘なし（未了部分あり）\",IF($BJ$4=\"\",\"\",IF(OR(X11=\"要是正\",X11=\"要是正（要是正継続あり）\",X11=\"指摘なし（要是正継続あり）\",AO11=\"要是正\",AO11=\"要是正（要是正継続あり）\",AO11=\"指摘なし（要是正継続あり）\"),\"指摘なし（未了部分あり）\",\"\"))))))","v":""}]
[{"$nulls":4},"1(21)",null,"各居室の二酸化炭素含有率",{"$nulls":10},"実施箇所数",{"$nulls":10},"／",{"$nulls":5},"実施箇所数",{"$nulls":10},"／",{"$nulls":5},"実施箇所数",{"$nulls":10},"／",{"$nulls":7},"各居室の二酸化炭素含有率",{"$f":"IF(BS6=\"-----\",\"\",IF(COUNTA(換気検査結果表!L44:M44)>=2,\"\",\"●\"))","v":""},{"$f":"IF(換気検査結果表!$L$44=\"実施せず\",\"実施せず\",IF(換気検査結果表!$L$44=\"―\",\"該当なし\",IF(換気検査結果表!$L$44=\"○\",\"指摘なし\",IF(換気検査結果表!$N$44=\"○\",\"既存不適格\",IF(換気検査結果表!$M$44=\"○\",\"要是正\")))))","v":false},"",{"$nulls":4},{"$f":"IF(OR(X18=\"要是正継続あり\",X18=\"指摘なし（要是正継続あり）\",X18=\"要是正（要是正継続あり）\"),\"要是正継続あり\",\"\")","v":""},{"$f":"IF(OR(AO18=\"要是正継続あり\",AO18=\"指摘なし（要是正継続あり）\",AO18=\"要是正（要是正継続あり）\"),\"要是正継続あり\",\"\")","v":""},{"$f":"IF(OR(BF18=\"未了部分あり\",BF18=\"指摘なし（未了部分あり）\",BF18=\"要是正（未了部分あり）\"),\"未了部分あり\",IF(OR(BF18=\"要是正継続及び未了部分あり\",BF18=\"指摘なし（要是正継続及び未了部分あり）\",BF18=\"要是正（要是正継続及び未了部分あり）\"),\"要是正継続及び未了部分あり\",IF(OR(BF18=\"要是正継続あり\",BF18=\"指摘なし（要是正継続あり）\",BF18=\"要是正（要是正継続あり）\"),\"要是正継続あり\",\"\")))","v":""},{"$nulls":3},{"$f":"SUM(CG14:CG16)","v":0},{"$nulls":3},{"$f":"IF(BI6=\"【完】\",\"\",IF($BJ$4=\"\",\"\",IF($BG$4=\"―――\",\"\",IF(AND($BG$4=\"\",BI6=\"-未-\"),\"要是正（未了部分あり）\",IF($BJ$4=\"\",\"\",IF(OR(X11=\"要是正\",X11=\"要是正（要是正継続あり）\",X11=\"指摘なし（要是正継続あり）\",AO11=\"要是正\",AO11=\"要是正（要是正継続あり）\",AO11=\"指摘なし（要是正継続あり）\"),\"要是正（未了部分あり）\",\"\"))))))","v":""},null,"指摘なし",{"$f":"IF($AS$4=\"\",\"\",IF($AP$4=\"―――\",\"\",\"指摘なし\"))","v":""},{"$f":"IF(BI13=\"-未-\",\"\",IF($BJ$4=\"\",\"\",IF($BG$4=\"―――\",\"\",\"指摘なし\")))","v":""}]
[{"$nulls":4},"1(22)",null,"各居室の気流",{"$nulls":10},"指摘の概要",{"$nulls":16},"指摘の概要",{"$nulls":16},"指摘の概要",{"$nulls":18},"各居室の気流",{"$f":"IF(BS6=\"-----\",\"\",IF(COUNTA(換気検査結果表!L45:M45)>=2,\"\",\"●\"))","v":""},{"$f":"IF(換気検査結果表!$L$45=\"実施せず\",\"実施せず\",IF(換気検査結果表!$L$45=\"―\",\"該当なし\",IF(換気検査結果表!$L$45=\"○\",\"指摘なし\",IF(換気検査結果表!$N$45=\"○\",\"既存不適格\",IF(換気検査結果表!$M$45=\"○\",\"要是正\")))))","v":false},{"$f":"IF(BU18=\"該当なし\",1,\"\")","v":""},{"$f":"SUM(BV13:BV18)","v":0},{"$nulls":3},{"$f":"IF(CC18=\"○\",\"×\",IF(AND($AS$4=\"―――\",$BJ$4=\"―――\"),\"○\",\"\"))","v":""},{"$f":"IF(CC18=\"○\",\"×\",IF($AS$4=\"―――\",\"○\",\"×\"))","v":"×"},{"$f":"IF($BJ$4=\"―――\",\"○\",\"×\")","v":"×"},{"$nulls":7},{"$f":"IF(AND(BF10=0,BL10>0),\"要是正継続あり\",IF($BJ$4=\"\",\"\",IF($BG$4=\"―――\",\"\",IF($BJ$4=\"\",\"\",IF(OR(X11=\"要是正\",X11=\"要是正（要是正継続あり）\",X11=\"指摘なし（要是正継続あり）\",AO11=\"要是正\",AO11=\"要是正（要是正継続あり）\",AO11=\"指摘なし（要是正継続あり）\"),\"未了部分あり\",\"\")))))","v":""},null,"要是正",{"$f":"IF($AS$4=\"\",\"\",IF($AP$4=\"―――\",\"\",\"要是正\"))","v":""},{"$f":"IF(BI13=\"-未-\",\"\",IF($BJ$4=\"\",\"\",IF($BG$4=\"―――\",\"\",\"要是正\")))","v":""}]
[{"$nulls":17},"備考",{"$nulls":16},"備考",{"$nulls":16},"備考",{"$nulls":19},{"$f":"COUNTIF(BT13:BT18,\"●\")","v":0},{"$nulls":6},{"$f":"IF(CC18=\"○\",CC17,IF(CB18=\"○\",CB17,IF(AND(CB18=\"×\",CC18=\"×\"),CA17,\"\")))","v":""},{"$nulls":9},{"$f":"IF($BF$10=\"\",\"\",IF($BF$10=0,\"未了部分あり\"))","v":""},null,"指摘なし（要是正継続あり）",{"$f":"IF($AS$4=\"\",\"\",IF($AP$4=\"―――\",\"\",IF($AS$4=\"\",\"\",IF(OR(X18=\"要是正\",X18=\"要是正（要是正継続あり）\",X18=\"指摘なし（要是正継続あり）\",X18=\"要是正継続あり\"),\"指摘なし（要是正継続あり）\",\"\"))))","v":""},{"$f":"IF(BI13=\"-未-\",\"\",IF($BJ$4=\"\",\"\",IF($BG$4=\"―――\",\"\",IF($BJ$4=\"\",\"\",IF(OR(X18=\"要是正\",X18=\"要是正（要是正継続あり）\",X18=\"指摘なし（要是正継続あり）\",X18=\"要是正継続あり\",AO18=\"要是正\",AO18=\"要是正（要是正継続あり）\",AO18=\"指摘なし（要是正継続あり）\",AO18=\"要是正継続あり\"),\"指摘なし（要是正継続あり）\",\"\")))))","v":""}]
["排煙設備","機械排煙","風量測定記録表（別表３）",{"$nulls":10},{"$f":"IF(AND(換気検査結果表!S2=\"-----\",排煙検査結果表!S2=\"-----\",水検査結果表!S2=\"-----\"),\"\",IF(排煙検査結果表!S2=\"-----\",\"レ\",IF(BT24>=1,\"\",IF(BW23>=1,\"レ\",\"\"))))","v":""},"該当無",null,null,{"$f":"IF(AND(AD24=\"\",X24=\"\"),\"\",IF(AD24=X24,\"レ\",\"\"))","v":""},"全数を実施",{"$nulls":7},{"$f":"IF(N20=\"レ\",\"\",IF(AND(AD24=\"\",X24=\"\"),\"\",IF(AD20=AD24,\"【完】\",\"-未-\")))","v":""},null,null,{"$f":"IF(N20=\"レ\",\"\",IF(AND(AD24=\"\",X24=\"\"),\"\",X24))","v":""},{"$nulls":4},{"$f":"IF(AND(AU24=\"\",AO24=\"\"),\"\",IF(AU24=AO24,\"レ\",\"\"))","v":""},"全数を実施",{"$nulls":7},{"$f":"IF(N20=\"レ\",\"\",IF(AND(AD24=\"\",X24=\"\"),\"\",IF(AU20=AU24,\"【完】\",\"-未-\")))","v":""},null,null,{"$f":"IF(N20=\"レ\",\"\",IF(AND(AD24=\"\",X24=\"\"),\"\",IF(AU24<=AD20+AO24,AU24,IF(AU24<>AD24,AD20+AO24,IF(AD20=AD24,AD20,AD20+AO24)))))","v":""},{"$nulls":4},{"$f":"IF(AND(BL24=\"\",BF24=\"\"),\"\",IF(BL24=BF24,\"レ\",\"\"))","v":""},"全数を実施",{"$nulls":7},{"$f":"IF(N20=\"レ\",\"\",IF(AND(AD24=\"\",X24=\"\"),\"\",IF(BL20=BL24,\"【完】\",\"-未-\")))","v":""},null,null,{"$f":"IF(AND(AD24=\"\",X24=\"\"),\"\",IF(BL24<=AU20+BF24,BL24,IF(BL24<>AU24,AU20+BF24,IF(AU20=AU24,AU20,AU20+BF24))))","v":""},{"$nulls":5},"設備別判定",{"$f":"排煙検査結果表!S2","v":"-----"},{"$f":"IF(BW20=\"要是正継続及び未了部分あり\",\"(国土交通大臣が定める検査項目に要是正継続及び未了部分あり)\",IF(BW20=\"未了部分あり\",\"(国土交通大臣が定める検査項目に未了部分あり)\",IF(BW20=\"要是正継続あり\",\"(国土交通大臣が定める検査項目に要是正継続あり)\",\"\")))","v":""},null,null,{"$f":"IF(BF25=\"要是正継続あり\",\"要是正継続あり\",IF(AND(BW21=\"\",BW27=\"\"),\"\",IF(AND(BW21=\"未了部分あり\",BW27=\"要是正継続あり\"),\"要是正継続及び未了部分あり\",IF(AND(BW21=\"要是正継続あり\",BW27=\"未了部分あり\"),\"要是正継続及び未了部分あり\",IF(OR(BW21=\"要是正継続及び未了部分あり\",BW27=\"要是正継続及び未了部分あり\"),\"要是正継続及び未了部分あり\",IF(OR(BW21=\"未了部分あり\",BW27=\"未了部分あり\"),\"未了部分あり\",IF(OR(BW21=\"要是正継続あり\",BW27=\"要是正継続あり\"),\"要是正継続あり\",\"\")))))))","v":""},{"$nulls":8},"吸引式",{"$nulls":4},{"$f":"IF($BF$10=\"\",\"\",IF($BF$10=0,\"要是正継続及び未了部分あり\"))","v":""},null,"要是正（要是正継続あり）",{"$f":"IF($AS$4=\"\",\"\",IF($AP$4=\"―――\",\"\",IF($AS$4=\"\",\"\",IF(OR(X18=\"要是正\",X18=\"要是正（要是正継続あり）\",X18=\"指摘なし（要是正継続あり）\",X18=\"要是正継続あり\"),\"要是正（要是正継続あり）\",\"\"))))","v":""},{"$f":"IF(BI13=\"-未-\",\"\",IF($BJ$4=\"\",\"\",IF($BG$4=\"―――\",\"\",IF($BJ$4=\"\",\"\",IF(OR(X18=\"要是正\",X18=\"要是正（要是正継続あり）\",X18=\"指摘なし（要是正継続あり）\",X18=\"要是正継続あり\",AO18=\"要是正\",AO18=\"要是正（要是正継続あり）\",AO18=\"指摘なし（要是正継続あり）\",AO18=\"要是正継続あり\"),\"要是正（要是正あり）\",\"\")))))","v":""}]
[{"$nulls":4},{"$f":"IF(N20=\"レ\",\"\",IF(BT22=\"●\",\"\",IF(BV22=1,\"――――――――――――\",\"\")))","v":""},{"$nulls":12},{"$f":"IF(AND(AD24=\"\",X24=\"\"),\"\",IF(X24=0,\"レ\",\"\"))","v":""},"実施せず",{"$nulls":15},{"$f":"IF(AND(AU24=\"\",AO24=\"\"),\"\",IF(AO24=0,\"レ\",\"\"))","v":""},"実施せず",{"$nulls":15},{"$f":"IF(AND(BL24=\"\",BF24=\"\"),\"\",IF(BF24=0,\"レ\",\"\"))","v":""},"実施せず",{"$nulls":21},{"$f":"CA26","v":""},{"$nulls":7},"【ロ．特別避難階段の階段室又は付室】",{"$f":"IF(報告書!P253=\"\",\"\",報告書!P253)","v":""},{"$nulls":6},"要是正継続あり",{"$f":"IF($AS$4=\"\",\"\",IF($AP$4=\"―――\",\"\",IF($AS$4=\"\",\"\",IF(OR(X18=\"要是正\",X18=\"要是正（要是正継続あり）\",X18=\"指摘なし（要是正継続あり）\",X18=\"要是正継続あり\"),\"要是正継続あり\",\"\"))))","v":""},{"$f":"IF(BI13=\"【完】\",\"\",IF($BJ$4=\"\",\"\",IF($BG$4=\"―――\",\"\",IF($BJ$4=\"\",\"\",IF(OR(X18=\"要是正\",X18=\"要是正（要是正継続あり）\",X18=\"指摘なし（要是正継続あり）\",X18=\"要是正継続あり\",AO18=\"要是正\",AO18=\"要是正（要是正継続あり）\",AO18=\"指摘なし（要是正継続あり）\",AO18=\"要是正継続あり\"),\"指摘なし（要是正継続及び未了部分あり）\",\"\")))))","v":""}]
[{"$nulls":17},{"$f":"IF(R21=\"レ\",\"\",IF(AD24>X24,\"レ\",\"\"))","v":""},"一部実施 （",{"$nulls":3},"次年に繰越し",{"$nulls":4},"）",{"$nulls":6},{"$f":"IF(AI21=\"レ\",\"\",IF(AU24>AO24,\"レ\",\"\"))","v":""},"一部実施 （",{"$nulls":3},{"$f":"IF(AI22=\"\",\"\",IF(AND(AI22=\"レ\",AR20=\"【完】\",AA20=\"-未-\"),\"―――――――\",IF(AND(AI22=\"レ\",\"―――――――\"),\"\",IF(AI22=\"\",\"\",\"\"))))","v":""},{"$nulls":4},"・",{"$f":"IF(AND(AI22=\"レ\",AR20=\"-未-\"),\"―――――――\",\"\")","v":""},{"$nulls":4},"）",{"$f":"IF(AZ21=\"レ\",\"\",IF(BL24>BF24,\"レ\",\"\"))","v":""},"一部実施 （",{"$nulls":3},"当年で全数実施",{"$nulls":5},"）",{"$nulls":7},"排煙口の排煙風量",{"$f":"IF(BS20=\"-----\",\"\",IF(COUNTA(排煙検査結果表!L42:M42)>=2,\"\",\"●\"))","v":""},{"$f":"IF(排煙検査結果表!$L$42=\"実施せず\",\"実施せず\",IF(排煙検査結果表!$L$42=\"―\",\"該当なし\",IF(排煙検査結果表!$L$42=\"○\",\"指摘なし\",IF(排煙検査結果表!$N$42=\"○\",\"既存不適格\",IF(排煙検査結果表!$M$42=\"○\",\"要是正\")))))","v":false},{"$f":"IF(BU22=\"該当なし\",1,\"\")","v":""},null,"――――――――――――",{"$nulls":6},"【ハ．非エレ...乗降ロビー】",{"$f":"IF(報告書!P255=\"\",\"\",報告書!P255)","v":""},{"$nulls":8},{"$f":"IF(BI13=\"【完】\",\"\",IF($BJ$4=\"\",\"\",IF($BG$4=\"―――\",\"\",IF($BJ$4=\"\",\"\",IF(OR(X18=\"要是正\",X18=\"要是正（要是正継続あり）\",X18=\"指摘なし（要是正継続あり）\",X18=\"要是正継続あり\",AO18=\"要是正\",AO18=\"要是正（要是正継続あり）\",AO18=\"指摘なし（要是正継続あり）\",AO18=\"要是正継続あり\"),\"要是正（要是正継続及び未了部分あり）\",\"\")))))","v":""}]
[{"$nulls":4},{"$f":"IF(N20=\"レ\",\"\",IF(BT23=\"●\",\"\",IF(BV23=1,\"――――――――――――――\",\"\")))","v":""},{"$nulls":12},"＜実施箇所数及び指摘の概要を下欄に記入＞",{"$nulls":16},"＜実施・予定箇所数及び指摘の概要を下欄に記入＞",{"$nulls":16},"＜実施・予定箇所数及び指摘の概要を下欄に記入＞",{"$nulls":18},"中央管理室における制御及び作動状態の監視の状況",{"$f":"IF(BS20=\"-----\",\"\",IF(COUNTA(排煙検査結果表!L43:M43)>=2,\"\",\"●\"))","v":""},{"$f":"IF(排煙検査結果表!$L$43=\"実施せず\",\"実施せず\",IF(排煙検査結果表!$L$43=\"―\",\"該当なし\",IF(排煙検査結果表!$L$43=\"○\",\"指摘なし\",IF(排煙検査結果表!$N$43=\"○\",\"既存不適格\",IF(排煙検査結果表!$M$43=\"○\",\"要是正\")))))","v":false},{"$f":"IF(BU23=\"該当なし\",1,\"\")","v":""},{"$f":"SUM(BV22:BV23)","v":0},"――――――――――――――",{"$nulls":6},"【ニ．非エレ...付室】",{"$f":"IF(報告書!P257=\"\",\"\",報告書!P257)","v":""},{"$nulls":8},{"$f":"IF(BI13=\"【完】\",\"\",IF($BJ$4=\"\",\"\",IF($BG$4=\"―――\",\"\",IF(AND($BG$4=\"\",BI13=\"-未-\"),\"指摘なし（未了部分あり）\",IF($BJ$4=\"\",\"\",IF(OR(X18=\"要是正\",X18=\"要是正（要是正継続あり）\",X18=\"指摘なし（要是正継続あり）\",AO18=\"要是正\",AO18=\"要是正（要是正継続あり）\",AO18=\"指摘なし（要是正継続あり）\"),\"指摘なし（未了部分あり）\",\"\"))))))","v":""}]
[{"$nulls":6},"及び作動状態の監視の状況",{"$nulls":10},"実施箇所数",{"$nulls":10},"／",{"$nulls":5},"実施箇所数",{"$nulls":10},"／",{"$nulls":5},"実施箇所数",{"$nulls":10},"／",{"$nulls":8},{"$f":"COUNTIF(BT22:BT23,\"●\")","v":0},{"$nulls":6},{"$f":"IF(OR(X25=\"要是正継続あり\",X25=\"指摘なし（要是正継続あり）\",X25=\"要是正（要是正継続あり）\"),\"要是正継続あり\",\"\")","v":""},{"$f":"IF(OR(AO25=\"要是正継続あり\",AO25=\"指摘なし（要是正継続あり）\",AO25=\"要是正（要是正継続あり）\"),\"要是正継続あり\",\"\")","v":""},{"$f":"IF(OR(BF25=\"未了部分あり\",BF25=\"指摘なし（未了部分あり）\",BF25=\"要是正（未了部分あり）\"),\"未了部分あり\",IF(OR(BF25=\"要是正継続及び未了部分あり\",BF25=\"指摘なし（要是正継続及び未了部分あり）\",BF25=\"要是正（要是正継続及び未了部分あり）\"),\"要是正継続及び未了部分あり\",IF(OR(BF25=\"要是正継続あり\",BF25=\"指摘なし（要是正継続あり）\",BF25=\"要是正（要是正継続あり）\"),\"要是正継続あり\",\"\")))","v":""},null,"【ホ．居室等】",{"$f":"IF(報告書!P258=\"\",\"\",報告書!P258)","v":""},null,null,"指摘なし",{"$f":"IF($AS$4=\"\",\"\",IF($AP$4=\"―――\",\"\",\"指摘なし\"))","v":""},{"$f":"IF(BI20=\"-未-\",\"\",IF($BJ$4=\"\",\"\",IF($BG$4=\"―――\",\"\",\"指摘なし\")))","v":""},{"$nulls":3},{"$f":"IF(BI13=\"【完】\",\"\",IF($BJ$4=\"\",\"\",IF($BG$4=\"―――\",\"\",IF(AND($BG$4=\"\",BI13=\"-未-\"),\"要是正（未了部分あり）\",IF($BJ$4=\"\",\"\",IF(OR(X18=\"要是正\",X18=\"要是正（要是正継続あり）\",X18=\"指摘なし（要是正継続あり）\",AO18=\"要是正\",AO18=\"要是正（要是正継続あり）\",AO18=\"指摘なし（要是正継続あり）\"),\"要是正（未了部分あり）\",\"\"))))))","v":""}]
[{"$nulls":17},"指摘の概要",{"$nulls":16},"指摘の概要",{"$nulls":16},"指摘の概要",{"$nulls":26},{"$f":"IF(CC25=\"○\",\"×\",IF(AND($AS$4=\"―――\",$BJ$4=\"―――\"),\"○\",\"\"))","v":""},{"$f":"IF(CC25=\"○\",\"×\",IF($AS$4=\"―――\",\"○\",\"×\"))","v":"×"},{"$f":"IF($BJ$4=\"―――\",\"○\",\"×\")","v":"×"},null,null,{"$f":"SUM(CF21:CF24)","v":0},null,null,"要是正",{"$f":"IF($AS$4=\"\",\"\",IF($AP$4=\"―――\",\"\",\"要是正\"))","v":""},{"$f":"IF(BI20=\"-未-\",\"\",IF($BJ$4=\"\",\"\",IF($BG$4=\"―――\",\"\",\"要是正\")))","v":""},{"$nulls":3},{"$f":"IF(AND(BF17=0,BL17>0),\"要是正継続あり\",IF($BJ$4=\"\",\"\",IF($BG$4=\"―――\",\"\",IF($BJ$4=\"\",\"\",IF(OR(X18=\"要是正\",X18=\"要是正（要是正継続あり）\",X18=\"指摘なし（要是正継続あり）\",AO18=\"要是正\",AO18=\"要是正（要是正継続あり）\",AO18=\"指摘なし（要是正継続あり）\"),\"未了部分あり\",\"\")))))","v":""}]
[{"$nulls":17},"備考",{"$nulls":16},"備考",{"$nulls":16},"備考",{"$nulls":26},{"$f":"IF(CC25=\"○\",CC24,IF(CB25=\"○\",CB24,IF(AND(CB25=\"×\",CC25=\"×\"),CA24,\"\")))","v":""},{"$nulls":7},"指摘なし（要是正継続あり）",{"$f":"IF($AS$4=\"\",\"\",IF($AP$4=\"―――\",\"\",IF($AS$4=\"\",\"\",IF(OR(X25=\"要是正\",X25=\"要是正（要是正継続あり）\",X25=\"指摘なし（要是正継続あり）\",X25=\"要是正継続あり\"),\"指摘なし（要是正継続あり）\",\"\"))))","v":""},{"$f":"IF(BI20=\"-未-\",\"\",IF($BJ$4=\"\",\"\",IF($BG$4=\"―――\",\"\",IF($BJ$4=\"\",\"\",IF(OR(X25=\"要是正\",X25=\"要是正（要是正継続あり）\",X25=\"指摘なし（要是正継続あり）\",X25=\"要是正継続あり\",AO25=\"要是正\",AO25=\"要是正（要是正継続あり）\",AO25=\"指摘なし（要是正継続あり）\",AO25=\"要是正継続あり\"),\"指摘なし（要是正継続あり）\",\"\")))))","v":""},{"$nulls":3},{"$f":"IF($BF$17=\"\",\"\",IF($BF$17=0,\"未了部分あり\"))","v":""}]
[null,"特殊な構造の排煙",{"$nulls":11},{"$f":"IF(AND(換気検査結果表!S2=\"-----\",排煙検査結果表!S2=\"-----\",水検査結果表!S2=\"-----\"),\"\",IF(排煙検査結果表!S2=\"-----\",\"レ\",IF(BT30>=1,\"\",IF(BW29>=1,\"レ\",\"\"))))","v":""},"該当無",null,null,{"$f":"IF(AND(AD31=\"\",X31=\"\"),\"\",IF(AD31=X31,\"レ\",\"\"))","v":""},"全数を実施",{"$nulls":7},{"$f":"IF(N27=\"レ\",\"\",IF(AND(AD31=\"\",X31=\"\"),\"\",IF(AD27=AD31,\"【完】\",\"-未-\")))","v":""},null,null,{"$f":"IF(N27=\"レ\",\"\",IF(AND(AD31=\"\",X31=\"\"),\"\",X31))","v":""},{"$nulls":4},{"$f":"IF(AND(AU31=\"\",AO31=\"\"),\"\",IF(AU31=AO31,\"レ\",\"\"))","v":""},"全数を実施",{"$nulls":7},{"$f":"IF(N27=\"レ\",\"\",IF(AND(AD31=\"\",X31=\"\"),\"\",IF(AU27=AU31,\"【完】\",\"-未-\")))","v":""},null,null,{"$f":"IF(N27=\"レ\",\"\",IF(AND(AD31=\"\",X31=\"\"),\"\",IF(AU31<=AD27+AO31,AU31,IF(AU31<>AD31,AD27+AO31,IF(AD27=AD31,AD27,AD27+AO31)))))","v":""},{"$nulls":4},{"$f":"IF(AND(BL31=\"\",BF31=\"\"),\"\",IF(BL31=BF31,\"レ\",\"\"))","v":""},"全数を実施",{"$nulls":7},{"$f":"IF(N27=\"レ\",\"\",IF(AND(AD31=\"\",X31=\"\"),\"\",IF(BL27=BL31,\"【完】\",\"-未-\")))","v":""},null,null,{"$f":"IF(AND(AD31=\"\",X31=\"\"),\"\",IF(BL31<=AU27+BF31,BL31,IF(BL31<>AU31,AU27+BF31,IF(AU27=AU31,AU27,AU27+BF31))))","v":""},{"$nulls":10},{"$f":"IF(AND(CA33=\"\",CA40=\"\"),\"\",IF(AND(CA33=\"未了部分あり\",CA40=\"要是正継続あり\"),\"要是正継続及び未了部分あり\",IF(AND(CA33=\"要是正継続あり\",CA40=\"未了部分あり\"),\"要是正継続及び未了部分あり\",IF(OR(CA33=\"要是正継続及び未了部分あり\",CA40=\"要是正継続及び未了部分あり\"),\"要是正継続及び未了部分あり\",IF(OR(CA33=\"未了部分あり\",CA40=\"未了部分あり\"),\"未了部分あり\",IF(OR(CA33=\"要是正継続あり\",CA40=\"要是正継続あり\"),\"要是正継続あり\",\"\"))))))","v":""},{"$nulls":8},"給気式",null,null,"要是正（要是正継続あり）",{"$f":"IF($AS$4=\"\",\"\",IF($AP$4=\"―――\",\"\",IF($AS$4=\"\",\"\",IF(OR(X25=\"要是正\",X25=\"要是正（要是正継続あり）\",X25=\"指摘なし（要是正継続あり）\",X25=\"要是正継続あり\"),\"要是正（要是正継続あり）\",\"\"))))","v":""},{"$f":"IF(BI20=\"-未-\",\"\",IF($BJ$4=\"\",\"\",IF($BG$4=\"―――\",\"\",IF($BJ$4=\"\",\"\",IF(OR(X25=\"要是正\",X25=\"要是正（要是正継続あり）\",X25=\"指摘なし（要是正継続あり）\",X25=\"要是正継続あり\",AO25=\"要是正\",AO25=\"要是正（要是正継続あり）\",AO25=\"指摘なし（要是正継続あり）\",AO25=\"要是正継続あり\"),\"要是正（要是正継続あり）\",\"\")))))","v":""},{"$nulls":3},{"$f":"IF($BF$17=\"\",\"\",IF($BF$17=0,\"要是正継続及び未了部分あり\"))","v":""}]
[{"$nulls":4},{"$f":"IF(N27=\"レ\",\"\",IF(BT28=\"●\",\"\",IF(BV28=1,\"――――――――――――――\",\"\")))","v":""},{"$nulls":12},{"$f":"IF(AND(AD31=\"\",X31=\"\"),\"\",IF(X31=0,\"レ\",\"\"))","v":""},"実施せず",{"$nulls":15},{"$f":"IF(AND(AU31=\"\",AO31=\"\"),\"\",IF(AO31=0,\"レ\",\"\"))","v":""},"実施せず",{"$nulls":15},{"$f":"IF(AND(BL31=\"\",BF31=\"\"),\"\",IF(BF31=0,\"レ\",\"\"))","v":""},"実施せず",{"$nulls":17},"排煙口の排煙風量",{"$f":"IF(BS20=\"-----\",\"\",IF(COUNTA(排煙検査結果表!L61:M61)>=2,\"\",\"●\"))","v":""},{"$f":"IF(排煙検査結果表!$L$61=\"実施せず\",\"実施せず\",IF(排煙検査結果表!$L$61=\"―\",\"該当なし\",IF(排煙検査結果表!$L$61=\"○\",\"指摘なし\",IF(排煙検査結果表!$N$61=\"○\",\"既存不適格\",IF(排煙検査結果表!$M$61=\"○\",\"要是正\")))))","v":false},{"$f":"IF(BU28=\"該当なし\",1,\"\")","v":""},null,"――――――――――――――",{"$nulls":6},"【ロ．特別避難階段の階段室又は付室】",{"$f":"IF(報告書!AA253=\"\",\"\",報告書!AA253)","v":""},null,null,"要是正継続あり",{"$f":"IF($AS$4=\"\",\"\",IF($AP$4=\"―――\",\"\",IF($AS$4=\"\",\"\",IF(OR(X25=\"要是正\",X25=\"要是正（要是正継続あり）\",X25=\"指摘なし（要是正継続あり）\",X25=\"要是正継続あり\"),\"要是正継続あり\",\"\"))))","v":""},{"$f":"IF(BI20=\"【完】\",\"\",IF($BJ$4=\"\",\"\",IF($BG$4=\"―――\",\"\",IF(OR(X25=\"要是正\",X25=\"要是正（要是正継続あり）\",X25=\"指摘なし（要是正継続あり）\",X25=\"要是正継続あり\",AO25=\"要是正\",AO25=\"要是正（要是正継続あり）\",AO25=\"指摘なし（要是正継続あり）\",AO25=\"要是正継続あり\"),\"指摘なし（要是正継続及び未了部分あり）\",\"\"))))","v":""}]
[{"$nulls":17},{"$f":"IF(R28=\"レ\",\"\",IF(AD31>X31,\"レ\",\"\"))","v":""},"一部実施 （",{"$nulls":3},"次年に繰越し",{"$nulls":4},"）",{"$nulls":6},{"$f":"IF(AI28=\"レ\",\"\",IF(AU31>AO31,\"レ\",\"\"))","v":""},"一部実施 （",{"$nulls":3},{"$f":"IF(AI29=\"\",\"\",IF(AND(AI29=\"レ\",AR27=\"【完】\",AA27=\"-未-\"),\"―――――――\",IF(AND(AI29=\"レ\",\"―――――――\"),\"\",IF(AI29=\"\",\"\",\"\"))))","v":""},{"$nulls":4},"・",{"$f":"IF(AND(AI29=\"レ\",AR27=\"-未-\"),\"―――――――\",\"\")","v":""},{"$nulls":4},"）",{"$f":"IF(AZ28=\"レ\",\"\",IF(BL31>BF31,\"レ\",\"\"))","v":""},"一部実施 （",{"$nulls":3},"当年で全数実施",{"$nulls":5},"）",{"$nulls":7},"中央管理室における制御及び作動状態の監視の状況",{"$f":"IF(BS20=\"-----\",\"\",IF(COUNTA(排煙検査結果表!L62:M62)>=2,\"\",\"●\"))","v":""},{"$f":"IF(排煙検査結果表!$L$62=\"実施せず\",\"実施せず\",IF(排煙検査結果表!$L$62=\"―\",\"該当なし\",IF(排煙検査結果表!$L$62=\"○\",\"指摘なし\",IF(排煙検査結果表!$N$62=\"○\",\"既存不適格\",IF(排煙検査結果表!$M$62=\"○\",\"要是正\")))))","v":false},{"$f":"IF(BU29=\"該当なし\",1,\"\")","v":""},{"$f":"SUM(BV28:BV29)","v":0},"――――――――――――――",{"$nulls":6},"【ハ．非エレ...乗降ロビー】",{"$f":"IF(報告書!AA255=\"\",\"\",報告書!AA255)","v":""},{"$nulls":4},{"$f":"IF(BI20=\"【完】\",\"\",IF($BJ$4=\"\",\"\",IF($BG$4=\"―――\",\"\",IF(OR(X25=\"要是正\",X25=\"要是正（要是正継続あり）\",X25=\"指摘なし（要是正継続あり）\",X25=\"要是正継続あり\",AO25=\"要是正\",AO25=\"要是正（要是正継続あり）\",AO25=\"指摘なし（要是正継続あり）\",AO25=\"要是正継続あり\"),\"要是正（要是正継続及び未了部分あり）\",\"\"))))","v":""}]
[{"$nulls":4},{"$f":"IF(N27=\"レ\",\"\",IF(BT29=\"●\",\"\",IF(BV29=1,\"――――――――――――――\",\"\")))","v":""},{"$nulls":12},"＜実施箇所数及び指摘の概要を下欄に記入＞",{"$nulls":16},"＜実施・予定箇所数及び指摘の概要を下欄に記入＞",{"$nulls":16},"＜実施・予定箇所数及び指摘の概要を下欄に記入＞",{"$nulls":19},{"$f":"COUNTIF(BT28:BT29,\"●\")","v":0},{"$nulls":10},"【ニ．非エレ...付室】",{"$f":"IF(報告書!AA257=\"\",\"\",報告書!AA257)","v":""},{"$nulls":4},{"$f":"IF(BI20=\"【完】\",\"\",IF($BJ$4=\"\",\"\",IF($BG$4=\"―――\",\"\",IF(AND($BG$4=\"\",BI20=\"-未-\"),\"指摘なし（未了部分あり）\",IF($BJ$4=\"\",\"\",IF(OR(X25=\"要是正\",X25=\"要是正（要是正継続あり）\",X25=\"指摘なし（要是正継続あり）\",AO25=\"要是正\",AO25=\"要是正（要是正継続あり）\",AO25=\"指摘なし（要是正継続あり）\"),\"指摘なし（未了部分あり）\",\"\"))))))","v":""}]
[{"$nulls":6},"及び作動状態の監視の状況",{"$nulls":10},"実施箇所数",{"$nulls":10},"／",{"$nulls":5},"実施箇所数",{"$nulls":10},"／",{"$nulls":5},"実施箇所数",{"$nulls":10},"／",{"$nulls":15},{"$f":"IF(OR(X32=\"要是正継続あり\",X32=\"指摘なし（要是正継続あり）\",X32=\"要是正（要是正継続あり）\"),\"要是正継続あり\",\"\")","v":""},{"$f":"IF(OR(AO32=\"要是正継続あり\",AO32=\"指摘なし（要是正継続あり）\",AO32=\"要是正（要是正継続あり）\"),\"要是正継続あり\",\"\")","v":""},{"$f":"IF(OR(BF32=\"未了部分あり\",BF32=\"指摘なし（未了部分あり）\",BF32=\"要是正（未了部分あり）\"),\"未了部分あり\",IF(OR(BF32=\"要是正継続及び未了部分あり\",BF32=\"指摘なし（要是正継続及び未了部分あり）\",BF32=\"要是正（要是正継続及び未了部分あり）\"),\"要是正継続及び未了部分あり\",IF(OR(BF32=\"要是正継続あり\",BF32=\"指摘なし（要是正継続あり）\",BF32=\"要是正（要是正継続あり）\"),\"要是正継続あり\",\"\")))","v":""},null,"【ホ．居室等】",{"$f":"IF(報告書!AA258=\"\",\"\",報告書!AA258)","v":""},{"$nulls":4},{"$f":"IF(BI20=\"【完】\",\"\",IF($BJ$4=\"\",\"\",IF($BG$4=\"―――\",\"\",IF(AND($BG$4=\"\",BI20=\"-未-\"),\"要是正（未了部分あり）\",IF($BJ$4=\"\",\"\",IF(OR(X25=\"要是正\",X25=\"要是正（要是正継続あり）\",X25=\"指摘なし（要是正継続あり）\",AO25=\"要是正\",AO25=\"要是正（要是正継続あり）\",AO25=\"指摘なし（要是正継続あり）\"),\"要是正（未了部分あり）\",\"\"))))))","v":""},null,"指摘なし",{"$f":"IF($AS$4=\"\",\"\",IF($AP$4=\"―――\",\"\",\"指摘なし\"))","v":""},{"$f":"IF(BI27=\"-未-\",\"\",IF($BJ$4=\"\",\"\",IF($BG$4=\"―――\",\"\",\"指摘なし\")))","v":""}]
[{"$nulls":17},"指摘の概要",{"$nulls":16},"指摘の概要",{"$nulls":16},"指摘の概要",{"$nulls":26},{"$f":"IF(CC32=\"○\",\"×\",IF(AND($AS$4=\"―――\",$BJ$4=\"―――\"),\"○\",\"\"))","v":""},{"$f":"IF(CC32=\"○\",\"×\",IF($AS$4=\"―――\",\"○\",\"×\"))","v":"×"},{"$f":"IF($BJ$4=\"―――\",\"○\",\"×\")","v":"×"},null,null,{"$f":"SUM(CF28:CF31)","v":0},{"$nulls":4},{"$f":"IF(AND(BF24=0,BL24>0),\"要是正継続あり\",IF($BJ$4=\"\",\"\",IF($BG$4=\"―――\",\"\",IF($BJ$4=\"\",\"\",IF(OR(X25=\"要是正\",X25=\"要是正（要是正継続あり）\",X25=\"指摘なし（要是正継続あり）\",AO25=\"要是正\",AO25=\"要是正（要是正継続あり）\",AO25=\"指摘なし（要是正継続あり）\"),\"未了部分あり\",\"\")))))","v":""},null,"要是正",{"$f":"IF($AS$4=\"\",\"\",IF($AP$4=\"―――\",\"\",\"要是正\"))","v":""},{"$f":"IF(BI27=\"-未-\",\"\",IF($BJ$4=\"\",\"\",IF($BG$4=\"―――\",\"\",\"要是正\")))","v":""}]
[{"$nulls":17},"備考",{"$nulls":16},"備考",{"$nulls":16},"備考",{"$nulls":26},{"$f":"IF(CC32=\"○\",CC31,IF(CB32=\"○\",CB31,IF(AND(CB32=\"×\",CC32=\"×\"),CA31,\"\")))","v":""},{"$nulls":9},{"$f":"IF($BF$24=\"\",\"\",IF($BF$24=0,\"未了部分あり\"))","v":""},null,"指摘なし（要是正継続あり）",{"$f":"IF($AS$4=\"\",\"\",IF($AP$4=\"―――\",\"\",IF($AS$4=\"\",\"\",IF(OR(X32=\"要是正\",X32=\"要是正（要是正継続あり）\",X32=\"指摘なし（要是正継続あり）\",X32=\"要是正継続あり\"),\"指摘なし（要是正継続あり）\",\"\"))))","v":""},{"$f":"IF(BI27=\"-未-\",\"\",IF($BJ$4=\"\",\"\",IF($BG$4=\"―――\",\"\",IF($BJ$4=\"\",\"\",IF(OR(X32=\"要是正\",X32=\"要是正（要是正継続あり）\",X32=\"指摘なし（要是正継続あり）\",X32=\"要是正継続あり\",AO32=\"要是正\",AO32=\"要是正（要是正継続あり）\",AO32=\"指摘なし（要是正継続あり）\",AO32=\"要是正継続あり\"),\"指摘なし（要是正継続あり）\",\"\")))))","v":""}]
[null,"加圧防排煙",{"$nulls":11},{"$f":"IF(AND(換気検査結果表!S2=\"-----\",排煙検査結果表!S2=\"-----\",水検査結果表!S2=\"-----\"),\"\",IF(排煙検査結果表!S2=\"-----\",\"レ\",IF(BW37>=1,\"レ\",\"\")))","v":""},"該当無",null,null,{"$f":"IF(AND(AD38=\"\",X38=\"\"),\"\",IF(AD38=X38,\"レ\",\"\"))","v":""},"全数を実施",{"$nulls":7},{"$f":"IF(N34=\"レ\",\"\",IF(AND(AD38=\"\",X38=\"\"),\"\",IF(AD34=AD38,\"【完】\",\"-未-\")))","v":""},null,null,{"$f":"IF(N34=\"レ\",\"\",IF(AND(AD38=\"\",X38=\"\"),\"\",X38))","v":""},{"$nulls":4},{"$f":"IF(AND(AU38=\"\",AO38=\"\"),\"\",IF(AU38=AO38,\"レ\",\"\"))","v":""},"全数を実施",{"$nulls":7},{"$f":"IF(N34=\"レ\",\"\",IF(AND(AD38=\"\",X38=\"\"),\"\",IF(AU34=AU38,\"【完】\",\"-未-\")))","v":""},null,null,{"$f":"IF(N34=\"レ\",\"\",IF(AND(AD38=\"\",X38=\"\"),\"\",IF(AU38<=AD34+AO38,AU38,IF(AU38<>AD38,AD34+AO38,IF(AD34=AD38,AD34,AD34+AO38)))))","v":""},{"$nulls":4},{"$f":"IF(AND(BL38=\"\",BF38=\"\"),\"\",IF(BL38=BF38,\"レ\",\"\"))","v":""},"全数を実施",{"$nulls":7},{"$f":"IF(N34=\"レ\",\"\",IF(AND(AD38=\"\",X38=\"\"),\"\",IF(BL34=BL38,\"【完】\",\"-未-\")))","v":""},null,null,{"$f":"IF(AND(AD38=\"\",X38=\"\"),\"\",IF(BL38<=AU34+BF38,BL38,IF(BL38<>AU38,AU34+BF38,IF(AU34=AU38,AU34,AU34+BF38))))","v":""},{"$nulls":19},"加圧式",{"$nulls":4},{"$f":"IF($BF$24=\"\",\"\",IF($BF$24=0,\"要是正継続及び未了部分あり\"))","v":""},null,"要是正（要是正継続あり）",{"$f":"IF($AS$4=\"\",\"\",IF($AP$4=\"―――\",\"\",IF($AS$4=\"\",\"\",IF(OR(X32=\"要是正\",X32=\"要是正（要是正継続あり）\",X32=\"指摘なし（要是正継続あり）\",X32=\"要是正継続あり\"),\"要是正（要是正継続あり）\",\"\"))))","v":""},{"$f":"IF(BI27=\"-未-\",\"\",IF($BJ$4=\"\",\"\",IF($BG$4=\"―――\",\"\",IF($BJ$4=\"\",\"\",IF(OR(X32=\"要是正\",X32=\"要是正（要是正継続あり）\",X32=\"指摘なし（要是正継続あり）\",X32=\"要是正継続あり\",AO32=\"要是正\",AO32=\"要是正（要是正継続あり）\",AO32=\"指摘なし（要是正継続あり）\",AO32=\"要是正継続あり\"),\"要是正（要是正あり）\",\"\")))))","v":""}]
[{"$nulls":17},{"$f":"IF(AND(AD38=\"\",X38=\"\"),\"\",IF(X38=0,\"レ\",\"\"))","v":""},"実施せず",{"$nulls":15},{"$f":"IF(AND(AU38=\"\",AO38=\"\"),\"\",IF(AO38=0,\"レ\",\"\"))","v":""},"実施せず",{"$nulls":15},{"$f":"IF(AND(BL38=\"\",BF38=\"\"),\"\",IF(BF38=0,\"レ\",\"\"))","v":""},"実施せず",{"$nulls":29},"【ロ．特別避難階段の階段室又は付室】",{"$f":"IF(報告書!AL253=\"\",\"\",報告書!AL253)","v":""},{"$nulls":6},"要是正継続あり",{"$f":"IF($AS$4=\"\",\"\",IF($AP$4=\"―――\",\"\",IF($AS$4=\"\",\"\",IF(OR(X32=\"要是正\",X32=\"要是正（要是正継続あり）\",X32=\"指摘なし（要是正継続あり）\",X32=\"要是正継続あり\"),\"要是正継続あり\",\"\"))))","v":""},{"$f":"IF(BI27=\"【完】\",\"\",IF($BJ$4=\"\",\"\",IF($BG$4=\"―――\",\"\",IF($BJ$4=\"\",\"\",IF(OR(X32=\"要是正\",X32=\"要是正（要是正継続あり）\",X32=\"指摘なし（要是正継続あり）\",X32=\"要是正継続あり\",AO32=\"要是正\",AO32=\"要是正（要是正継続あり）\",AO32=\"指摘なし（要是正継続あり）\",AO32=\"要是正継続あり\"),\"指摘なし（要是正継続及び未了部分あり）\",\"\")))))","v":""}]
[{"$nulls":4},"2(24)",null,"遮煙開口部の排出風速",{"$nulls":10},{"$f":"IF(R35=\"レ\",\"\",IF(AD38>X38,\"レ\",\"\"))","v":""},"一部実施 （",{"$nulls":3},"次年に繰越し",{"$nulls":4},"）",{"$nulls":6},{"$f":"IF(AI35=\"レ\",\"\",IF(AU38>AO38,\"レ\",\"\"))","v":""},"一部実施 （",{"$nulls":3},{"$f":"IF(AI36=\"\",\"\",IF(AND(AI36=\"レ\",AR34=\"【完】\",AA34=\"-未-\"),\"―――――――\",IF(AND(AI36=\"レ\",\"―――――――\"),\"\",IF(AI36=\"\",\"\",\"\"))))","v":""},{"$nulls":4},"・",{"$f":"IF(AND(AI36=\"レ\",AR34=\"-未-\"),\"―――――――\",\"\")","v":""},{"$nulls":4},"）",{"$f":"IF(AZ35=\"レ\",\"\",IF(BL38>BF38,\"レ\",\"\"))","v":""},"一部実施 （",{"$nulls":3},"当年で全数実施",{"$nulls":5},"）",{"$nulls":19},"【ハ．非エレ...乗降ロビー】",{"$f":"IF(報告書!AL255=\"\",\"\",報告書!AL255)","v":""},{"$nulls":8},{"$f":"IF(BI27=\"【完】\",\"\",IF($BJ$4=\"\",\"\",IF($BG$4=\"―――\",\"\",IF($BJ$4=\"\",\"\",IF(OR(X32=\"要是正\",X32=\"要是正（要是正継続あり）\",X32=\"指摘なし（要是正継続あり）\",X32=\"要是正継続あり\",AO32=\"要是正\",AO32=\"要是正（要是正継続あり）\",AO32=\"指摘なし（要是正継続あり）\",AO32=\"要是正継続あり\"),\"要是正（要是正継続及び未了部分あり）\",\"\")))))","v":""}]
[{"$nulls":17},"＜実施箇所数及び指摘の概要を下欄に記入＞",{"$nulls":16},"＜実施・予定箇所数及び指摘の概要を下欄に記入＞",{"$nulls":16},"＜実施・予定箇所数及び指摘の概要を下欄に記入＞",{"$nulls":18},"遮煙開口部の排出風速",{"$f":"IF(BS20=\"-----\",\"\",IF(COUNTA(排煙検査結果表!L109:M109)>=2,\"\",\"●\"))","v":""},{"$f":"IF(排煙検査結果表!$L$109=\"実施せず\",\"実施せず\",IF(排煙検査結果表!$L$109=\"―\",\"該当なし\",IF(排煙検査結果表!$L$109=\"○\",\"指摘なし\",IF(排煙検査結果表!$N$109=\"○\",\"既存不適格\",IF(排煙検査結果表!$M$109=\"○\",\"要是正\")))))","v":false},{"$f":"IF(BU37=\"該当なし\",1,\"\")","v":""},{"$f":"SUM(BV37)","v":0},{"$nulls":7},"【ニ．非エレ...付室】",{"$f":"IF(報告書!AL257=\"\",\"\",報告書!AL257)","v":""},{"$nulls":8},{"$f":"IF(BI27=\"【完】\",\"\",IF($BJ$4=\"\",\"\",IF($BG$4=\"―――\",\"\",IF(AND($BG$4=\"\",BI27=\"-未-\"),\"指摘なし（未了部分あり）\",IF($BJ$4=\"\",\"\",IF(OR(X32=\"要是正\",X32=\"要是正（要是正継続あり）\",X32=\"指摘なし（要是正継続あり）\",AO32=\"要是正\",AO32=\"要是正（要是正継続あり）\",AO32=\"指摘なし（要是正継続あり）\"),\"指摘なし（未了部分あり）\",\"\"))))))","v":""}]
[{"$nulls":17},"実施箇所数",{"$nulls":10},"／",{"$nulls":5},"実施箇所数",{"$nulls":10},"／",{"$nulls":5},"実施箇所数",{"$nulls":10},"／",{"$nulls":8},{"$f":"COUNTIF(BT37,\"●\")","v":0},{"$nulls":6},{"$f":"IF(OR(X39=\"要是正継続あり\",X39=\"指摘なし（要是正継続あり）\",X39=\"要是正（要是正継続あり）\"),\"要是正継続あり\",\"\")","v":""},{"$f":"IF(OR(AO39=\"要是正継続あり\",AO39=\"指摘なし（要是正継続あり）\",AO39=\"要是正（要是正継続あり）\"),\"要是正継続あり\",\"\")","v":""},{"$f":"IF(OR(BF39=\"未了部分あり\",BF39=\"指摘なし（未了部分あり）\",BF39=\"要是正（未了部分あり）\"),\"未了部分あり\",IF(OR(BF39=\"要是正継続及び未了部分あり\",BF39=\"指摘なし（要是正継続及び未了部分あり）\",BF39=\"要是正（要是正継続及び未了部分あり）\"),\"要是正継続及び未了部分あり\",IF(OR(BF39=\"要是正継続あり\",BF39=\"指摘なし（要是正継続あり）\",BF39=\"要是正（要是正継続あり）\"),\"要是正継続あり\",\"\")))","v":""},null,null,{"$f":"SUM(CF35:CF37)","v":0},null,null,"指摘なし",{"$f":"IF($AS$4=\"\",\"\",IF($AP$4=\"―――\",\"\",\"指摘なし\"))","v":""},{"$f":"IF(BI34=\"-未-\",\"\",IF($BJ$4=\"\",\"\",IF($BG$4=\"―――\",\"\",\"指摘なし\")))","v":""},{"$nulls":3},{"$f":"IF(BI27=\"【完】\",\"\",IF($BJ$4=\"\",\"\",IF($BG$4=\"―――\",\"\",IF(AND($BG$4=\"\",BI27=\"-未-\"),\"要是正（未了部分あり）\",IF($BJ$4=\"\",\"\",IF(OR(X32=\"要是正\",X32=\"要是正（要是正継続あり）\",X32=\"指摘なし（要是正継続あり）\",AO32=\"要是正\",AO32=\"要是正（要是正継続あり）\",AO32=\"指摘なし（要是正継続あり）\"),\"要是正（未了部分あり）\",\"\"))))))","v":""}]
[{"$nulls":17},"指摘の概要",{"$nulls":16},"指摘の概要",{"$nulls":16},"指摘の概要",{"$nulls":26},{"$f":"IF(CC39=\"○\",\"×\",IF(AND($AS$4=\"―――\",$BJ$4=\"―――\"),\"○\",\"\"))","v":""},{"$f":"IF(CC39=\"○\",\"×\",IF($AS$4=\"―――\",\"○\",\"×\"))","v":"×"},{"$f":"IF($BJ$4=\"―――\",\"○\",\"×\")","v":"×"},{"$nulls":5},"要是正",{"$f":"IF($AS$4=\"\",\"\",IF($AP$4=\"―――\",\"\",\"要是正\"))","v":""},{"$f":"IF(BI34=\"-未-\",\"\",IF($BJ$4=\"\",\"\",IF($BG$4=\"―――\",\"\",\"要是正\")))","v":""},{"$nulls":3},{"$f":"IF(AND(BF31=0,BL31>0),\"要是正継続あり\",IF($BJ$4=\"\",\"\",IF($BG$4=\"―――\",\"\",IF($BJ$4=\"\",\"\",IF(OR(X32=\"要是正\",X32=\"要是正（要是正継続あり）\",X32=\"指摘なし（要是正継続あり）\",AO32=\"要是正\",AO32=\"要是正（要是正継続あり）\",AO32=\"指摘なし（要是正継続あり）\"),\"未了部分あり\",\"\")))))","v":""}]
[{"$nulls":17},"備考",{"$nulls":16},"備考",{"$nulls":16},"備考",{"$nulls":26},{"$f":"IF(CC39=\"○\",CC38,IF(CB39=\"○\",CB38,IF(AND(CB39=\"×\",CC39=\"×\"),CA38,\"\")))","v":""},{"$nulls":7},"指摘なし（要是正継続あり）",{"$f":"IF($AS$4=\"\",\"\",IF($AP$4=\"―――\",\"\",IF($AS$4=\"\",\"\",IF(OR(X39=\"要是正\",X39=\"要是正（要是正継続あり）\",X39=\"指摘なし（要是正継続あり）\",X39=\"要是正継続あり\"),\"指摘なし（要是正継続あり）\",\"\"))))","v":""},{"$f":"IF(BI34=\"-未-\",\"\",IF($BJ$4=\"\",\"\",IF($BG$4=\"―――\",\"\",IF($BJ$4=\"\",\"\",IF(OR(X39=\"要是正\",X39=\"要是正（要是正継続あり）\",X39=\"指摘なし（要是正継続あり）\",X39=\"要是正継続あり\",AO39=\"要是正\",AO39=\"要是正（要是正継続あり）\",AO39=\"指摘なし（要是正継続あり）\",AO39=\"要是正継続あり\"),\"指摘なし（要是正継続あり）\",\"\")))))","v":""},{"$nulls":3},{"$f":"IF($BF$31=\"\",\"\",IF($BF$31=0,\"未了部分あり\"))","v":""}]
["給水設備及び\n排水設備",null,"再利用・中水",{"$nulls":10},{"$f":"IF(AND(換気検査結果表!S2=\"-----\",排煙検査結果表!S2=\"-----\",水検査結果表!S2=\"-----\"),\"\",IF(水検査結果表!S2=\"-----\",\"レ\",IF(BW43>=1,\"レ\",\"\")))","v":""},"該当無",null,null,{"$f":"IF(AND(AD45=\"\",X45=\"\"),\"\",IF(AD45=X45,\"レ\",\"\"))","v":""},"全数を実施",{"$nulls":7},{"$f":"IF(N41=\"レ\",\"\",IF(AND(AD45=\"\",X45=\"\"),\"\",IF(AD41=AD45,\"【完】\",\"-未-\")))","v":""},null,null,{"$f":"IF(N41=\"レ\",\"\",IF(AND(AD45=\"\",X45=\"\"),\"\",X45))","v":""},{"$nulls":4},{"$f":"IF(AND(AU45=\"\",AO45=\"\"),\"\",IF(AU45=AO45,\"レ\",\"\"))","v":""},"全数を実施",{"$nulls":7},{"$f":"IF(N41=\"レ\",\"\",IF(AND(AD45=\"\",X45=\"\"),\"\",IF(AU41=AU45,\"【完】\",\"-未-\")))","v":""},null,null,{"$f":"IF(N41=\"レ\",\"\",IF(AND(AD45=\"\",X45=\"\"),\"\",IF(AU45<=AD41+AO45,AU45,IF(AU45<>AD45,AD41+AO45,IF(AD41=AD45,AD41,AD41+AO45)))))","v":""},{"$nulls":4},{"$f":"IF(AND(BL45=\"\",BF45=\"\"),\"\",IF(BL45=BF45,\"レ\",\"\"))","v":""},"全数を実施",{"$nulls":7},{"$f":"IF(N41=\"レ\",\"\",IF(AND(AD45=\"\",X45=\"\"),\"\",IF(BL41=BL45,\"【完】\",\"-未-\")))","v":""},null,null,{"$f":"IF(AND(AD45=\"\",X45=\"\"),\"\",IF(BL45<=AU41+BF45,BL45,IF(BL45<>AU45,AU41+BF45,IF(AU41=AU45,AU41,AU41+BF45))))","v":""},{"$nulls":5},"設備別判定",{"$f":"水検査結果表!S2","v":"-----"},{"$f":"IF(BW41=\"要是正継続及び未了部分あり\",\"(国土交通大臣が定める検査項目に要是正継続及び未了部分あり)\",IF(BW41=\"未了部分あり\",\"(国土交通大臣が定める検査項目に未了部分あり)\",IF(BW41=\"要是正継続あり\",\"(国土交通大臣が定める検査項目に要是正継続あり)\",\"\")))","v":""},null,null,{"$f":"IF(BF46=\"要是正継続あり\",\"要是正継続あり\",CA47)","v":""},{"$nulls":11},"要是正（要是正継続あり）",{"$f":"IF($AS$4=\"\",\"\",IF($AP$4=\"―――\",\"\",IF($AS$4=\"\",\"\",IF(OR(X39=\"要是正\",X39=\"要是正（要是正継続あり）\",X39=\"指摘なし（要是正継続あり）\",X39=\"要是正継続あり\"),\"要是正（要是正継続あり）\",\"\"))))","v":""},{"$f":"IF(BI34=\"-未-\",\"\",IF($BJ$4=\"\",\"\",IF($BG$4=\"―――\",\"\",IF($BJ$4=\"\",\"\",IF(OR(X39=\"要是正\",X39=\"要是正（要是正継続あり）\",X39=\"指摘なし（要是正継続あり）\",X39=\"要是正継続あり\",AO39=\"要是正\",AO39=\"要是正（要是正継続あり）\",AO39=\"指摘なし（要是正継続あり）\",AO39=\"要是正継続あり\"),\"要是正（要是正継続あり）\",\"\")))))","v":""},{"$nulls":3},{"$f":"IF($BF$31=\"\",\"\",IF($BF$31=0,\"要是正継続及び未了部分あり\"))","v":""}]
[{"$nulls":17},{"$f":"IF(AND(AD45=\"\",X45=\"\"),\"\",IF(X45=0,\"レ\",\"\"))","v":""},"実施せず",{"$nulls":15},{"$f":"IF(AND(AU45=\"\",AO45=\"\"),\"\",IF(AO45=0,\"レ\",\"\"))","v":""},"実施せず",{"$nulls":15},{"$f":"IF(AND(BL45=\"\",BF45=\"\"),\"\",IF(BF45=0,\"レ\",\"\"))","v":""},"実施せず",{"$nulls":33},"要是正継続あり",{"$f":"IF($AS$4=\"\",\"\",IF($AP$4=\"―――\",\"\",IF($AS$4=\"\",\"\",IF(OR(X39=\"要是正\",X39=\"要是正（要是正継続あり）\",X39=\"指摘なし（要是正継続あり）\",X39=\"要是正継続あり\"),\"要是正継続あり\",\"\"))))","v":""},{"$f":"IF(BI34=\"【完】\",\"\",IF($BJ$4=\"\",\"\",IF($BG$4=\"―――\",\"\",IF(OR(X39=\"要是正\",X39=\"要是正（要是正継続あり）\",X39=\"指摘なし（要是正継続あり）\",X39=\"要是正継続あり\",AO39=\"要是正\",AO39=\"要是正（要是正継続あり）\",AO39=\"指摘なし（要是正継続あり）\",AO39=\"要是正継続あり\"),\"指摘なし（要是正継続及び未了部分あり）\",\"\"))))","v":""}]
[{"$nulls":4},"3(7)",null,"雑用水の用途",{"$nulls":10},{"$f":"IF(R42=\"レ\",\"\",IF(AD45>X45,\"レ\",\"\"))","v":""},"一部実施 （",{"$nulls":3},"次年に繰越し",{"$nulls":4},"）",{"$nulls":6},{"$f":"IF(AI42=\"レ\",\"\",IF(AU45>AO45,\"レ\",\"\"))","v":""},"一部実施 （",{"$nulls":3},{"$f":"IF(AI43=\"\",\"\",IF(AND(AI43=\"レ\",AR41=\"【完】\",AA41=\"-未-\"),\"―――――――\",IF(AND(AI43=\"レ\",\"―――――――\"),\"\",IF(AI43=\"\",\"\",\"\"))))","v":""},{"$nulls":4},"・",{"$f":"IF(AND(AI43=\"レ\",AR41=\"-未-\"),\"―――――――\",\"\")","v":""},{"$nulls":4},"）",{"$f":"IF(AZ42=\"レ\",\"\",IF(BL45>BF45,\"レ\",\"\"))","v":""},"一部実施 （",{"$nulls":3},"当年で全数実施",{"$nulls":5},"）",{"$nulls":7},"雑用水の用途",{"$f":"IF(BS41=\"-----\",\"\",IF(COUNTA(水検査結果表!L64:M64)>=2,\"\",\"●\"))","v":""},{"$f":"IF(水検査結果表!$L$64=\"実施せず\",\"実施せず\",IF(水検査結果表!$L$64=\"―\",\"該当なし\",IF(水検査結果表!$L$64=\"○\",\"指摘なし\",IF(水検査結果表!$N$64=\"○\",\"既存不適格\",IF(水検査結果表!$M$64=\"○\",\"要是正\")))))","v":false},{"$f":"IF(BU43=\"該当なし\",1,\"\")","v":""},{"$f":"SUM(BV43)","v":0},{"$nulls":13},{"$f":"IF(BI34=\"【完】\",\"\",IF($BJ$4=\"\",\"\",IF($BG$4=\"―――\",\"\",IF(OR(X39=\"要是正\",X39=\"要是正（要是正継続あり）\",X39=\"指摘なし（要是正継続あり）\",X39=\"要是正継続あり\",AO39=\"要是正\",AO39=\"要是正（要是正継続あり）\",AO39=\"指摘なし（要是正継続あり）\",AO39=\"要是正継続あり\"),\"要是正（要是正継続及び未了部分あり）\",\"\"))))","v":""}]
[{"$nulls":17},"＜実施箇所数及び指摘の概要を下欄に記入＞",{"$nulls":16},"＜実施・予定箇所数及び指摘の概要を下欄に記入＞",{"$nulls":16},"＜実施・予定箇所数及び指摘の概要を下欄に記入＞",{"$nulls":19},{"$f":"COUNTIF(BT43,\"●\")","v":0},{"$nulls":16},{"$f":"IF(BI34=\"【完】\",\"\",IF($BJ$4=\"\",\"\",IF($BG$4=\"―――\",\"\",IF(AND($BG$4=\"\",BI34=\"-未-\"),\"指摘なし（未了部分あり）\",IF($BJ$4=\"\",\"\",IF(OR(X39=\"要是正\",X39=\"要是正（要是正継続あり）\",X39=\"指摘なし（要是正継続あり）\",AO39=\"要是正\",AO39=\"要是正（要是正継続あり）\",AO39=\"指摘なし（要是正継続あり）\"),\"指摘なし（未了部分あり）\",\"\"))))))","v":""}]
[{"$nulls":17},"実施箇所数",{"$nulls":10},"／",{"$nulls":5},"実施箇所数",{"$nulls":10},"／",{"$nulls":5},"実施箇所数",{"$nulls":10},"／",{"$nulls":15},{"$f":"IF(OR(X46=\"要是正継続あり\",X46=\"指摘なし（要是正継続あり）\",X46=\"要是正（要是正継続あり）\"),\"要是正継続あり\",\"\")","v":""},{"$f":"IF(OR(AO46=\"要是正継続あり\",AO46=\"指摘なし（要是正継続あり）\",AO46=\"要是正（要是正継続あり）\"),\"要是正継続あり\",\"\")","v":""},{"$f":"IF(OR(BF46=\"未了部分あり\",BF46=\"指摘なし（未了部分あり）\",BF46=\"要是正（未了部分あり）\"),\"未了部分あり\",IF(OR(BF46=\"要是正継続及び未了部分あり\",BF46=\"指摘なし（要是正継続及び未了部分あり）\",BF46=\"要是正（要是正継続及び未了部分あり）\"),\"要是正継続及び未了部分あり\",IF(OR(BF46=\"要是正継続あり\",BF46=\"指摘なし（要是正継続あり）\",BF46=\"要是正（要是正継続あり）\"),\"要是正継続あり\",\"\")))","v":""},{"$nulls":7},{"$f":"IF(BI34=\"【完】\",\"\",IF($BJ$4=\"\",\"\",IF($BG$4=\"―――\",\"\",IF(AND($BG$4=\"\",BI34=\"-未-\"),\"要是正（未了部分あり）\",IF($BJ$4=\"\",\"\",IF(OR(X39=\"要是正\",X39=\"要是正（要是正継続あり）\",X39=\"指摘なし（要是正継続あり）\",AO39=\"要是正\",AO39=\"要是正（要是正継続あり）\",AO39=\"指摘なし（要是正継続あり）\"),\"要是正（未了部分あり）\",\"\"))))))","v":""},null,"指摘なし",{"$f":"IF($AS$4=\"\",\"\",IF($AP$4=\"―――\",\"\",\"指摘なし\"))","v":""},{"$f":"IF(BI41=\"-未-\",\"\",IF($BJ$4=\"\",\"\",IF($BG$4=\"―――\",\"\",\"指摘なし\")))","v":""}]
[{"$nulls":17},"指摘の概要",{"$nulls":16},"指摘の概要",{"$nulls":16},"指摘の概要",{"$nulls":26},{"$f":"IF(CC46=\"○\",\"×\",IF(AND($AS$4=\"―――\",$BJ$4=\"―――\"),\"○\",\"\"))","v":""},{"$f":"IF(CC46=\"○\",\"×\",IF($AS$4=\"―――\",\"○\",\"×\"))","v":"×"},{"$f":"IF($BJ$4=\"―――\",\"○\",\"×\")","v":"×"},{"$nulls":7},{"$f":"IF(AND(BF38=0,BL38>0),\"要是正継続あり\",IF($BJ$4=\"\",\"\",IF($BG$4=\"―――\",\"\",IF($BJ$4=\"\",\"\",IF(OR(X39=\"要是正\",X39=\"要是正（要是正継続あり）\",X39=\"指摘なし（要是正継続あり）\",AO39=\"要是正\",AO39=\"要是正（要是正継続あり）\",AO39=\"指摘なし（要是正継続あり）\"),\"未了部分あり\",\"\")))))","v":""},null,"要是正",{"$f":"IF($AS$4=\"\",\"\",IF($AP$4=\"―――\",\"\",\"要是正\"))","v":""},{"$f":"IF(BI41=\"-未-\",\"\",IF($BJ$4=\"\",\"\",IF($BG$4=\"―――\",\"\",\"要是正\")))","v":""}]
[{"$nulls":17},"備考",{"$nulls":16},"備考",{"$nulls":16},"備考",{"$nulls":26},{"$f":"IF(CC46=\"○\",CC45,IF(CB46=\"○\",CB45,IF(AND(CB46=\"×\",CC46=\"×\"),CA45,\"\")))","v":""},{"$nulls":9},{"$f":"IF($BF$38=\"\",\"\",IF($BF$38=0,\"未了部分あり\"))","v":""},null,"指摘なし（要是正継続あり）",{"$f":"IF($AS$4=\"\",\"\",IF($AP$4=\"―――\",\"\",IF($AS$4=\"\",\"\",IF(OR(X46=\"要是正\",X46=\"要是正（要是正継続あり）\",X46=\"指摘なし（要是正継続あり）\",X46=\"要是正継続あり\"),\"指摘なし（要是正継続あり）\",\"\"))))","v":""},{"$f":"IF(BI41=\"-未-\",\"\",IF($BJ$4=\"\",\"\",IF($BG$4=\"―――\",\"\",IF($BJ$4=\"\",\"\",IF(OR(X46=\"要是正\",X46=\"要是正（要是正継続あり）\",X46=\"指摘なし（要是正継続あり）\",X46=\"要是正継続あり\",AO46=\"要是正\",AO46=\"要是正（要是正継続あり）\",AO46=\"指摘なし（要是正継続あり）\",AO46=\"要是正継続あり\"),\"指摘なし（要是正継続あり）\",\"\")))))","v":""}]
[{"$nulls":6},"初年度（","令和",null,{"$f":"IF(OR(X5=\"\",AA5=\"\"),\"\",IF(AND(CF2<4,AA5<4),X5-1,X5))","v":""},null,"年度）　～ ",{"$nulls":5},"終年度（","令和",null,{"$f":"IF(OR(BF5=\"\",BI5=\"\"),\"\",IF(AND(CF2<4,BI5<4),BF5-1,BF5))","v":""},null,"年度）",{"$nulls":10},"建築物名称",{"$f":"IF(報告書!W451=\"\",\"\",IF(報告書!N55=\"\",\"\",報告書!N55))","v":""},{"$nulls":24},"センター受付番号",{"$f":"IF(報告書!W451=\"\",\"\",IF(報告書!AL2=\"\",\"\",報告書!AL2))","v":""},{"$nulls":8},{"$f":"IF(OR(U48=\"\",J48=\"\"),\"\",U48-J48+1)","v":""},{"$f":"IF(OR(AO5=\"\",AR5=\"\"),\"\",IF(AND(CF2<4,AR5<4),AO5-1,AO5))","v":""},{"$f":"IF(J48=\"\",\"\",IF(J48+1=BS48,\"\",1))","v":""},{"$f":"IF(OR(AND(BT2=BF5,BU2=BI5),AND(BT2=AO5,BU2=AR5),AND(BT2=X5,BU2=AA5)),\"\",1)","v":""},null,{"$f":"IF(J48=\"\",\"\",J48+1)","v":""},{"$nulls":13},{"$f":"IF($BF$38=\"\",\"\",IF($BF$38=0,\"要是正継続及び未了部分あり\"))","v":""},null,"要是正（要是正継続あり）",{"$f":"IF($AS$4=\"\",\"\",IF($AP$4=\"―――\",\"\",IF($AS$4=\"\",\"\",IF(OR(X46=\"要是正\",X46=\"要是正（要是正継続あり）\",X46=\"指摘なし（要是正継続あり）\",X46=\"要是正継続あり\"),\"要是正（要是正継続あり）\",\"\"))))","v":""},{"$f":"IF(BI41=\"-未-\",\"\",IF($BJ$4=\"\",\"\",IF($BG$4=\"―――\",\"\",IF($BJ$4=\"\",\"\",IF(OR(X46=\"要是正\",X46=\"要是正（要是正継続あり）\",X46=\"指摘なし（要是正継続あり）\",X46=\"要是正継続あり\",AO46=\"要是正\",AO46=\"要是正（要是正継続あり）\",AO46=\"指摘なし（要是正継続あり）\",AO46=\"要是正継続あり\"),\"要是正（要是正あり）\",\"\")))))","v":""}]
[{"$nulls":17},{"$f":"IF(BF5+BI5=0,\"\",IF(AND(X5=$BT$2,AA5=$BU$2),1,0))","v":""},{"$f":"IF(BF5+BI5=0,\"\",IF(AND(AA49=\"【完】\",OR(AC49=\"\",AC49=\"-未-\",)),\"【完】\",\"-未-\"))","v":""},{"$nulls":7},{"$f":"IF(AC49=\"-未-\",\"\",IF(BF5+BI5=0,\"\",IF(OR(AA6=\"【完】\",AA13=\"【完】\",AA20=\"【完】\",AA27=\"【完】\",AA34=\"【完】\",AA41=\"【完】\"),\"【完】\",\"\")))","v":""},null,{"$f":"IF(R49=0,\"\",IF(OR(AA6=\"-未-\",AA13=\"-未-\",AA20=\"-未-\",AA27=\"-未-\",AA34=\"-未-\",AA41=\"-未-\"),\"-未-\",\"\"))","v":""},{"$nulls":5},{"$f":"IF(BF5+BI5=0,\"\",IF(AND(AO5=$BT$2,AR5=$BU$2),2,0))","v":""},{"$f":"IF(BF5+BI5=0,\"\",IF(AND(AR49=\"【完】\",OR(AT49=\"\",AT49=\"-未-\",)),\"【完】\",\"-未-\"))","v":""},{"$nulls":7},{"$f":"IF(AT49=\"-未-\",\"\",IF(BF5+BI5=0,\"\",IF(AT49=\"-未-\",\"\",IF(OR(AR6=\"【完】\",AR13=\"【完】\",AR20=\"【完】\",AR27=\"【完】\",AR34=\"【完】\",AR41=\"【完】\"),\"【完】\",\"\"))))","v":""},null,{"$f":"IF(OR(AR6=\"-未-\",AR13=\"-未-\",AR20=\"-未-\",AR27=\"-未-\",AR34=\"-未-\",AR41=\"-未-\"),\"-未-\",\"\")","v":""},{"$nulls":5},{"$f":"IF(BF5+BI5=0,\"\",IF(AND(BF5=$BT$2,BI5=$BU$2),3,0))","v":""},{"$f":"IF(BF5+BI5=0,\"\",IF(AND(BI49=\"【完】\",OR(BK49=\"\",BK49=\"-未-\",)),\"【完】\",\"-未-\"))","v":""},{"$nulls":7},{"$f":"IF(BK49=\"-未-\",\"\",IF(BF5+BI5=0,\"\",IF(BK49=\"-未-\",\"\",IF(OR(BI6=\"【完】\",BI13=\"【完】\",BI20=\"【完】\",BI27=\"【完】\",BI34=\"【完】\",BI41=\"【完】\"),\"【完】\",\"\"))))","v":""},null,{"$f":"IF(OR(BI6=\"-未-\",BI13=\"-未-\",BI20=\"-未-\",BI27=\"-未-\",BI34=\"-未-\",BI41=\"-未-\"),\"-未-\",\"\")","v":""},{"$nulls":27},"要是正継続あり",{"$f":"IF($AS$4=\"\",\"\",IF($AP$4=\"―――\",\"\",IF($AS$4=\"\",\"\",IF(OR(X46=\"要是正\",X46=\"要是正（要是正継続あり）\",X46=\"指摘なし（要是正継続あり）\",X46=\"要是正継続あり\"),\"要是正継続あり\",\"\"))))","v":""},{"$f":"IF(BI41=\"【完】\",\"\",IF($BJ$4=\"\",\"\",IF($BG$4=\"―――\",\"\",IF($BJ$4=\"\",\"\",IF(OR(X46=\"要是正\",X46=\"要是正（要是正継続あり）\",X46=\"指摘なし（要是正継続あり）\",X46=\"要是正継続あり\",AO46=\"要是正\",AO46=\"要是正（要是正継続あり）\",AO46=\"指摘なし（要是正継続あり）\",AO46=\"要是正継続あり\"),\"指摘なし（要是正継続及び未了部分あり）\",\"\")))))","v":""}]
[{"$nulls":92},{"$f":"IF(BI41=\"【完】\",\"\",IF($BJ$4=\"\",\"\",IF($BG$4=\"―――\",\"\",IF($BJ$4=\"\",\"\",IF(OR(X46=\"要是正\",X46=\"要是正（要是正継続あり）\",X46=\"指摘なし（要是正継続あり）\",X46=\"要是正継続あり\",AO46=\"要是正\",AO46=\"要是正（要是正継続あり）\",AO46=\"指摘なし（要是正継続あり）\",AO46=\"要是正継続あり\"),\"要是正（要是正継続及び未了部分あり）\",\"\")))))","v":""}]
[{"$nulls":92},{"$f":"IF(BI41=\"【完】\",\"\",IF($BJ$4=\"\",\"\",IF($BG$4=\"―――\",\"\",IF(AND($BG$4=\"\",BI41=\"-未-\"),\"指摘なし（未了部分あり）\",IF($BJ$4=\"\",\"\",IF(OR(X46=\"要是正\",X46=\"要是正（要是正継続あり）\",X46=\"指摘なし（要是正継続あり）\",AO46=\"要是正\",AO46=\"要是正（要是正継続あり）\",AO46=\"指摘なし（要是正継続あり）\"),\"指摘なし（未了部分あり）\",\"\"))))))","v":""}]
[{"$nulls":92},{"$f":"IF(BI41=\"【完】\",\"\",IF($BJ$4=\"\",\"\",IF($BG$4=\"―――\",\"\",IF(AND($BG$4=\"\",BI41=\"-未-\"),\"要是正（未了部分あり）\",IF($BJ$4=\"\",\"\",IF(OR(X46=\"要是正\",X46=\"要是正（要是正継続あり）\",X46=\"指摘なし（要是正継続あり）\",AO46=\"要是正\",AO46=\"要是正（要是正継続あり）\",AO46=\"指摘なし（要是正継続あり）\"),\"要是正（未了部分あり）\",\"\"))))))","v":""}]
[{"$nulls":92},{"$f":"IF(AND(BF45=0,BL45>0),\"要是正継続あり\",IF($BJ$4=\"\",\"\",IF($BG$4=\"―――\",\"\",IF($BJ$4=\"\",\"\",IF(OR(X46=\"要是正\",X46=\"要是正（要是正継続あり）\",X46=\"指摘なし（要是正継続あり）\",AO46=\"要是正\",AO46=\"要是正（要是正継続あり）\",AO46=\"指摘なし（要是正継続あり）\"),\"未了部分あり\",\"\")))))","v":""}]
[{"$nulls":92},{"$f":"IF($BF$45=\"\",\"\",IF($BF$45=0,\"未了部分あり\"))","v":""}]
[{"$nulls":92},{"$f":"IF($BF$45=\"\",\"\",IF($BF$45=0,\"要是正継続及び未了部分あり\"))","v":""}]

{"sheet":"報告概要書","index":15,"n_rows":558,"n_cols":108,"rows_kept":558,"merged":[[1,34,1,45],[3,40,3,45],[5,1,5,46],[6,1,6,46],[8,1,8,46],[13,2,13,13],[15,35,15,36],[15,38,15,39],[15,41,15,42],[17,30,17,42],[18,30,18,42],[21,30,21,42],[30,13,30,45],[31,13,31,45],[32,13,32,21],[33,13,33,45],[41,13,41,45],[42,13,42,45],[43,13,43,21],[44,13,44,45],[52,13,52,45],[53,13,53,45],[54,13,54,45],[55,13,55,45],[63,13,63,45],[64,13,64,45],[65,13,65,45],[66,13,66,45],[67,13,67,45],[68,18,68,19],[68,21,68,22],[69,13,69,45],[70,13,70,45],[71,13,71,45],[72,13,72,45],[73,13,73,45],[79,13,79,45],[80,13,80,45],[81,13,81,45],[82,13,82,45],[83,13,83,45],[84,13,84,45],[85,13,85,45],[86,13,86,45],[87,13,87,45],[88,13,88,45],[89,24,89,25],[89,27,89,28],[90,20,90,43],[95,1,95,46],[100,15,100,16],[100,23,100,24],[101,12,101,19],[102,12,102,19],[102,23,102,30],[111,16,111,17],[111,19,111,20],[111,21,111,22],[111,24,111,25],[111,27,111,28],[111,32,111,39],[112,32,112,42],[113,16,113,17],[113,19,113,20],[113,21,113,22],[113,24,113,25],[113,27,113,28],[113,32,113,39],[114,32,114,42],[121,17,121,18],[121,20,121,21],[121,23,121,24],[122,15,122,16],[122,17,122,18],[122,20,122,21],[122,23,122,24],[131,10,131,11],[131,23,131,28],[131,29,131,32],[131,33,131,39],[132,33,132,39],[133,33,133,39],[134,13,134,45],[135,13,135,45],[136,13,136,45],[137,10,137,11],[137,23,137,26],[137,27,137,32],[137,33,137,39],[138,13,138,21],[139,13,139,45],[140,13,140,29],[142,10,142,11],[142,23,142,28],[142,29,142,32],[142,33,142,39],[143,33,143,39],[144,33,144,39],[145,13,145,45],[146,13,146,45],[147,13,147,45],[148,10,148,11],[148,23,148,26],[148,27,148,32],[148,33,148,39],[149,13,149,21],[150,13,150,45],[151,13,151,29],[153,10,153,11],[153,23,153,28],[153,33,153,39],[154,33,154,39],[155,33,155,39],[156,13,156,45],[157,13,157,45],[158,13,158,45],[159,10,159,11],[159,23,159,26],[159,33,159,39],[160,13,160,21],[161,13,161,45],[162,13,162,29],[169,19,169,20],[169,21,169,22],[169,23,169,24],[169,36,169,37],[169,38,169,39],[169,40,169,41],[170,26,170,27],[170,28,170,29],[170,30,170,31],[171,16,171,17],[171,18,171,19],[171,20,171,21],[172,19,172,20],[172,21,172,22],[172,23,172,24],[172,36,172,37],[172,38,172,39],[172,40,172,41],[173,16,173,17],[173,18,173,19],[173,20,173,21],[174,19,174,20],[174,21,174,22],[174,23,174,24],[174,36,174,37],[174,38,174,39],[174,40,174,41],[175,26,175,27],[175,28,175,29],[175,30,175,31],[176,16,176,17],[176,18,176,19],[176,20,176,21],[178,39,178,44],[186,13,186,45],[187,13,187,45],[188,13,188,45],[189,13,189,45],[190,13,190,45],[191,16,191,17],[191,18,191,19],[191,21,191,22],[192,13,192,45],[213,10,213,11],[213,23,213,28],[213,29,213,32],[213,33,213,39],[214,33,214,39],[215,33,215,39],[216,13,216,45],[217,13,217,45],[218,13,218,45],[219,10,219,11],[219,23,219,26],[219,27,219,32],[219,33,219,39],[220,13,220,21],[221,13,221,45],[222,13,222,29],[224,10,224,11],[224,23,224,28],[224,29,224,32],[224,33,224,39],[225,33,225,39],[226,33,226,39],[227,13,227,45],[228,13,228,45],[229,13,229,45],[230,10,230,11],[230,23,230,26],[230,27,230,32],[230,33,230,39],[231,13,231,21],[232,13,232,45],[233,13,233,29],[235,10,235,11],[235,23,235,28],[235,33,235,39],[236,33,236,39],[237,33,237,39],[238,13,238,45],[239,13,239,45],[240,13,240,45],[241,10,241,11],[241,23,241,26],[241,33,241,39],[242,13,242,21],[243,13,243,45],[244,13,244,29],[249,28,249,29],[249,42,249,43],[250,26,250,43],[252,15,252,16],[252,26,252,27],[252,37,252,38],[254,15,254,16],[254,26,254,27],[254,37,254,38],[256,15,256,16],[256,26,256,27],[256,37,256,38],[257,15,257,16],[257,26,257,27],[258,37,258,43],[263,13,263,45],[264,13,264,45],[265,13,265,45],[266,13,266,45],[267,13,267,45],[268,16,268,17],[268,18,268,19],[268,21,268,22],[269,13,269,45],[290,10,290,11],[290,23,290,28],[290,29,290,32],[290,33,290,39],[291,33,291,39],[292,33,292,39],[293,13,293,45],[294,13,294,45],[295,13,295,45],[296,10,296,11],[296,23,296,26],[296,27,296,32],[296,33,296,39],[297,13,297,21],[298,13,298,45],[299,13,299,29],[301,10,301,11],[301,23,301,28],[301,29,301,32],[301,33,301,39],[302,33,302,39],[303,33,303,39],[304,13,304,45],[305,13,305,45],[306,13,306,45],[307,10,307,11],[307,23,307,26],[307,27,307,32],[307,33,307,39],[308,13,308,21],[309,13,309,45],[310,13,310,29],[312,10,312,11],[312,23,312,28],[312,33,312,39],[313,33,313,39],[314,33,314,39],[315,13,315,45],[316,13,316,45],[317,13,317,45],[318,10,318,11],[318,23,318,26],[318,33,318,39],[319,13,319,21],[320,13,320,45],[321,13,321,29],[328,15,328,16],[328,25,328,26],[328,37,328,38],[329,15,329,16],[332,22,332,23],[332,28,332,29],[332,34,332,35],[333,22,333,23],[333,28,333,29],[333,34,333,35],[334,22,334,23],[334,28,334,29],[334,34,334,35],[335,31,335,32],[335,37,335,38],[335,43,335,44],[336,15,336,21],[344,13,344,45],[345,13,345,45],[346,13,346,45],[347,13,347,45],[348,13,348,45],[349,16,349,17],[349,18,349,19],[349,21,349,22],[350,13,350,45],[371,10,371,11],[371,23,371,28],[371,29,371,32],[371,33,371,39],[372,33,372,39],[373,33,373,39],[374,13,374,45],[375,13,375,45],[376,13,376,45],[377,10,377,11],[377,23,377,26],[377,27,377,32],[377,33,377,39],[378,13,378,21],[379,13,379,45],[380,13,380,29],[382,10,382,11],[382,23,382,28],[382,29,382,32],[382,33,382,39],[383,33,383,39],[384,33,384,39],[385,13,385,45],[386,13,386,45],[387,13,387,45],[388,10,388,11],[388,23,388,26],[388,27,388,32],[388,33,388,39],[389,13,389,21],[390,13,390,45],[391,13,391,29],[393,10,393,11],[393,23,393,28],[393,33,393,39],[394,33,394,39],[395,33,395,39],[396,13,396,45],[397,13,397,45],[398,13,398,45],[399,10,399,11],[399,23,399,26],[399,33,399,39],[400,13,400,21],[401,13,401,45],[402,13,402,29],[409,21,409,22],[409,24,409,25],[409,37,409,38],[409,40,409,41],[410,19,410,33],[412,31,412,45],[416,16,416,35],[424,13,424,45],[425,13,425,45],[426,13,426,45],[427,13,427,45],[428,13,428,45],[429,16,429,17],[429,18,429,19],[429,21,429,22],[430,13,430,45],[450,2,450,20],[450,25,450,26],[450,28,450,29],[450,31,450,33],[451,2,451,45],[452,2,452,45],[453,2,453,45],[454,2,454,45],[455,2,455,45],[456,2,456,45],[457,2,457,45],[458,2,458,45],[459,2,459,45],[460,2,460,45],[461,2,461,45],[462,2,462,45],[463,2,463,45],[464,2,464,45],[475,63,475,68],[475,69,475,78],[475,79,475,88],[475,89,475,94],[475,95,475,107],[476,63,476,68],[476,69,476,78],[476,79,476,88],[476,89,476,94],[476,95,476,107],[477,63,477,68],[478,63,478,68],[479,63,479,68],[480,63,480,68],[481,63,481,68],[482,63,482,68],[483,63,483,68],[484,63,484,68],[485,63,485,68],[486,63,486,68],[487,63,487,68],[488,63,488,68],[489,63,489,68],[490,63,490,68],[491,63,491,68],[492,63,492,68],[493,63,493,68],[494,63,494,68],[495,63,495,68],[496,63,496,68],[497,63,497,68],[498,63,498,68],[499,63,499,68],[500,63,500,68],[501,63,501,68],[502,63,502,68],[503,63,503,68],[504,63,504,68],[505,63,505,68],[506,63,506,68],[507,63,507,68],[508,63,508,68],[509,63,509,68],[510,63,510,68],[511,63,511,68],[512,63,512,68],[513,63,513,68],[514,63,514,68],[515,63,515,68],[516,63,516,68],[517,0,517,46]]}
[{"$nulls":28},"建築物基本番号",{"$f":"IF(報告書!AD1=\"\",\"\",報告書!AD1)","v":""},"－",{"$f":"IF(報告書!AF1=\"\",\"\",報告書!AF1)","v":""},{"$f":"IF(報告書!AG1=\"\",\"\",報告書!AG1)","v":""},"－",{"$f":"IF(報告書!AI1=\"\",\"\",報告書!AI1)","v":""},{"$f":"IF(報告書!AJ1=\"\",\"\",報告書!AJ1)","v":""},"－",{"$f":"IF(報告書!AL1=\"\",\"\",報告書!AL1)","v":""},{"$f":"IF(報告書!AM1=\"\",\"\",報告書!AM1)","v":""},"－",{"$f":"IF(報告書!AO1=\"\",\"\",報告書!AO1)","v":""},{"$f":"IF(報告書!AP1=\"\",\"\",報告書!AP1)","v":""},{"$f":"IF(報告書!AQ1=\"\",\"\",報告書!AQ1)","v":""},{"$f":"IF(報告書!AR1=\"\",\"\",報告書!AR1)","v":""},"－",{"$f":"IF(報告書!AT1=\"\",\"\",報告書!AT1)","v":""},{"$nulls":8},"〇",{"$nulls":10},"〇",{"$nulls":41},"○"]
[{"$nulls":33},"行政庁",{"$f":"IF(報告書!C14=\"\",\"\",LEFT(AY2,LEN(AY2)-2))","v":""},{"$nulls":15},{"$f":"報告書!C14","v":0}]
[]
[null,"第三十六号の七様式（第六条、第六条の二の二、第六条の三、第十一条の三関係）（Ａ４）",{"$nulls":38},{"$f":"IF(報告_1_03建築物_ハ_名称=\"\",\"\",受付用!$C$12)","v":""},{"$nulls":11},{"$f":"報告書!BA1","v":""}]
[]
[null,"定期検査報告概要書"]
[null,"（建築設備（昇降機を除く。））"]
[{"$nulls":52},{"$f":"報告書!BA8","v":""}]
[null,"（第一面）"]
[]
[null,"　建築基準法第12条第３項の規定により、定期検査の結果を報告します。この報告書に記載の事項は"]
[null,"事実に相違ありません。"]
[]
[{"$nulls":14},"様"]
[]
[{"$nulls":34},"平成",null,null,"年",null,null,"月",null,null,"日"]
[]
[]
[{"$nulls":24},"報告者氏名",{"$nulls":18},"印"]
[]
[]
[{"$nulls":24},"検査者氏名",{"$nulls":18},"印"]
{"$rows_empty":7}
[null,"【1．所有者】"]
[null,null,"【イ．氏名のフリガナ】",{"$nulls":10},{"$f":"IF(報告書!N31=\"\",\"\",報告書!N31)&IF(報告書!AE31=\"\",\"\",\"　\"&報告書!AE31)","v":""},{"$f":"IF(報告書!O31=\"\",\"\",報告書!O31)","v":""},{"$f":"IF(報告書!P31=\"\",\"\",報告書!P31)","v":""},{"$f":"IF(報告書!Q31=\"\",\"\",報告書!Q31)","v":""},{"$f":"IF(報告書!R31=\"\",\"\",報告書!R31)","v":""},{"$f":"IF(報告書!S31=\"\",\"\",報告書!S31)","v":""},{"$f":"IF(報告書!T31=\"\",\"\",報告書!T31)","v":""},{"$f":"IF(報告書!U31=\"\",\"\",報告書!U31)","v":""},{"$f":"IF(報告書!V31=\"\",\"\",報告書!V31)","v":""},{"$f":"IF(報告書!W31=\"\",\"\",報告書!W31)","v":""},{"$f":"IF(報告書!X31=\"\",\"\",報告書!X31)","v":""},{"$f":"IF(報告書!Y31=\"\",\"\",報告書!Y31)","v":""},{"$f":"IF(報告書!Z31=\"\",\"\",報告書!Z31)","v":""},{"$f":"IF(報告書!AA31=\"\",\"\",報告書!AA31)","v":""},{"$f":"IF(報告書!AB31=\"\",\"\",報告書!AB31)","v":""},{"$f":"IF(報告書!AC31=\"\",\"\",報告書!AC31)","v":""},{"$f":"IF(報告書!AD31=\"\",\"\",報告書!AD31)","v":""},{"$f":"IF(報告書!AE31=\"\",\"\",報告書!AE31)","v":""},{"$f":"IF(報告書!AF31=\"\",\"\",報告書!AF31)","v":""},{"$f":"IF(報告書!AG31=\"\",\"\",報告書!AG31)","v":""},{"$f":"IF(報告書!AH31=\"\",\"\",報告書!AH31)","v":""},{"$f":"IF(報告書!AI31=\"\",\"\",報告書!AI31)","v":""},{"$f":"IF(報告書!AJ31=\"\",\"\",報告書!AJ31)","v":""},{"$f":"IF(報告書!AK31=\"\",\"\",報告書!AK31)","v":""},{"$f":"IF(報告書!AL31=\"\",\"\",報告書!AL31)","v":""},{"$f":"IF(報告書!AM31=\"\",\"\",報告書!AM31)","v":""},{"$f":"IF(報告書!AN31=\"\",\"\",報告書!AN31)","v":""},{"$f":"IF(報告書!AO31=\"\",\"\",報告書!AO31)","v":""},{"$f":"IF(報告書!AP31=\"\",\"\",報告書!AP31)","v":""},{"$f":"IF(報告書!AQ31=\"\",\"\",報告書!AQ31)","v":""},{"$f":"IF(報告書!AR31=\"\",\"\",報告書!AR31)","v":""},{"$f":"IF(報告書!AS31=\"\",\"\",報告書!AS31)","v":""},{"$f":"IF(報告書!AT31=\"\",\"\",報告書!AT31)","v":""}]
[null,null,"【ロ．氏名】",{"$nulls":10},{"$f":"IF(報告書!N32=\"\",\"\",報告書!N32)&IF(報告書!AE32=\"\",\"\",\"　\"&報告書!AE32)","v":""},{"$f":"IF(報告書!O32=\"\",\"\",報告書!O32)","v":""},{"$f":"IF(報告書!P32=\"\",\"\",報告書!P32)","v":""},{"$f":"IF(報告書!Q32=\"\",\"\",報告書!Q32)","v":""},{"$f":"IF(報告書!R32=\"\",\"\",報告書!R32)","v":""},{"$f":"IF(報告書!S32=\"\",\"\",報告書!S32)","v":""},{"$f":"IF(報告書!T32=\"\",\"\",報告書!T32)","v":""},{"$f":"IF(報告書!U32=\"\",\"\",報告書!U32)","v":""},{"$f":"IF(報告書!V32=\"\",\"\",報告書!V32)","v":""},{"$f":"IF(報告書!W32=\"\",\"\",報告書!W32)","v":""},{"$f":"IF(報告書!X32=\"\",\"\",報告書!X32)","v":""},{"$f":"IF(報告書!Y32=\"\",\"\",報告書!Y32)","v":""},{"$f":"IF(報告書!Z32=\"\",\"\",報告書!Z32)","v":""},{"$f":"IF(報告書!AA32=\"\",\"\",報告書!AA32)","v":""},{"$f":"IF(報告書!AB32=\"\",\"\",報告書!AB32)","v":""},{"$f":"IF(報告書!AC32=\"\",\"\",報告書!AC32)","v":""},{"$f":"IF(報告書!AD32=\"\",\"\",報告書!AD32)","v":""},{"$f":"IF(報告書!AE32=\"\",\"\",報告書!AE32)","v":""},{"$f":"IF(報告書!AF32=\"\",\"\",報告書!AF32)","v":""},{"$f":"IF(報告書!AG32=\"\",\"\",報告書!AG32)","v":""},{"$f":"IF(報告書!AH32=\"\",\"\",報告書!AH32)","v":""},{"$f":"IF(報告書!AI32=\"\",\"\",報告書!AI32)","v":""},{"$f":"IF(報告書!AJ32=\"\",\"\",報告書!AJ32)","v":""},{"$f":"IF(報告書!AK32=\"\",\"\",報告書!AK32)","v":""},{"$f":"IF(報告書!AL32=\"\",\"\",報告書!AL32)","v":""},{"$f":"IF(報告書!AM32=\"\",\"\",報告書!AM32)","v":""},{"$f":"IF(報告書!AN32=\"\",\"\",報告書!AN32)","v":""},{"$f":"IF(報告書!AO32=\"\",\"\",報告書!AO32)","v":""},{"$f":"IF(報告書!AP32=\"\",\"\",報告書!AP32)","v":""},{"$f":"IF(報告書!AQ32=\"\",\"\",報告書!AQ32)","v":""},{"$f":"IF(報告書!AR32=\"\",\"\",報告書!AR32)","v":""},{"$f":"IF(報告書!AS32=\"\",\"\",報告書!AS32)","v":""},{"$f":"IF(報告書!AT32=\"\",\"\",報告書!AT32)","v":""}]
[null,null,"【ハ．郵便番号】",{"$nulls":10},{"$f":"IF(報告書!N33=\"\",\"\",報告書!N33)","v":""},{"$f":"IF(報告書!O33=\"\",\"\",報告書!O33)","v":""},{"$f":"IF(報告書!P33=\"\",\"\",報告書!P33)","v":""},{"$f":"IF(報告書!Q33=\"\",\"\",報告書!Q33)","v":""},{"$f":"IF(報告書!R33=\"\",\"\",報告書!R33)","v":""},{"$f":"IF(報告書!S33=\"\",\"\",報告書!S33)","v":""},{"$f":"IF(報告書!T33=\"\",\"\",報告書!T33)","v":""},{"$f":"IF(報告書!U33=\"\",\"\",報告書!U33)","v":""},{"$f":"IF(報告書!V33=\"\",\"\",報告書!V33)","v":""}]
[null,null,"【ニ．住所】",{"$nulls":10},{"$f":"IF(報告書!N34=\"\",\"\",報告書!N34)&IF(報告書!AE34=\"\",\"\",\"　\"&報告書!AE34)","v":""},{"$f":"IF(報告書!O34=\"\",\"\",報告書!O34)","v":""},{"$f":"IF(報告書!P34=\"\",\"\",報告書!P34)","v":""},{"$f":"IF(報告書!Q34=\"\",\"\",報告書!Q34)","v":""},{"$f":"IF(報告書!R34=\"\",\"\",報告書!R34)","v":""},{"$f":"IF(報告書!S34=\"\",\"\",報告書!S34)","v":""},{"$f":"IF(報告書!T34=\"\",\"\",報告書!T34)","v":""},{"$f":"IF(報告書!U34=\"\",\"\",報告書!U34)","v":""},{"$f":"IF(報告書!V34=\"\",\"\",報告書!V34)","v":""},{"$f":"IF(報告書!W34=\"\",\"\",報告書!W34)","v":""},{"$f":"IF(報告書!X34=\"\",\"\",報告書!X34)","v":""},{"$f":"IF(報告書!Y34=\"\",\"\",報告書!Y34)","v":""},{"$f":"IF(報告書!Z34=\"\",\"\",報告書!Z34)","v":""},{"$f":"IF(報告書!AA34=\"\",\"\",報告書!AA34)","v":""},{"$f":"IF(報告書!AB34=\"\",\"\",報告書!AB34)","v":""},{"$f":"IF(報告書!AC34=\"\",\"\",報告書!AC34)","v":""},{"$f":"IF(報告書!AD34=\"\",\"\",報告書!AD34)","v":""},{"$f":"IF(報告書!AE34=\"\",\"\",報告書!AE34)","v":""},{"$f":"IF(報告書!AF34=\"\",\"\",報告書!AF34)","v":""},{"$f":"IF(報告書!AG34=\"\",\"\",報告書!AG34)","v":""},{"$f":"IF(報告書!AH34=\"\",\"\",報告書!AH34)","v":""},{"$f":"IF(報告書!AI34=\"\",\"\",報告書!AI34)","v":""},{"$f":"IF(報告書!AJ34=\"\",\"\",報告書!AJ34)","v":""},{"$f":"IF(報告書!AK34=\"\",\"\",報告書!AK34)","v":""},{"$f":"IF(報告書!AL34=\"\",\"\",報告書!AL34)","v":""},{"$f":"IF(報告書!AM34=\"\",\"\",報告書!AM34)","v":""},{"$f":"IF(報告書!AN34=\"\",\"\",報告書!AN34)","v":""},{"$f":"IF(報告書!AO34=\"\",\"\",報告書!AO34)","v":""},{"$f":"IF(報告書!AP34=\"\",\"\",報告書!AP34)","v":""},{"$f":"IF(報告書!AQ34=\"\",\"\",報告書!AQ34)","v":""},{"$f":"IF(報告書!AR34=\"\",\"\",報告書!AR34)","v":""},{"$f":"IF(報告書!AS34=\"\",\"\",報告書!AS34)","v":""},{"$f":"IF(報告書!AT34=\"\",\"\",報告書!AT34)","v":""}]
[]
[{"$nulls":53},"立川市長　"]
[{"$nulls":53},"立川市長　"]
[{"$nulls":53},"立川市長　"]
[]
[]
[null,"【2．管理者】"]
[null,null,"【イ．氏名のフリガナ】",{"$nulls":10},{"$f":"IF(報告書!N42=\"\",\"\",報告書!N42)&IF(報告書!AE42=\"\",\"\",\"　\"&報告書!AE42)","v":""},{"$f":"IF(報告書!O42=\"\",\"\",報告書!O42)","v":""},{"$f":"IF(報告書!P42=\"\",\"\",報告書!P42)","v":""},{"$f":"IF(報告書!Q42=\"\",\"\",報告書!Q42)","v":""},{"$f":"IF(報告書!R42=\"\",\"\",報告書!R42)","v":""},{"$f":"IF(報告書!S42=\"\",\"\",報告書!S42)","v":""},{"$f":"IF(報告書!T42=\"\",\"\",報告書!T42)","v":""},{"$f":"IF(報告書!U42=\"\",\"\",報告書!U42)","v":""},{"$f":"IF(報告書!V42=\"\",\"\",報告書!V42)","v":""},{"$f":"IF(報告書!W42=\"\",\"\",報告書!W42)","v":""},{"$f":"IF(報告書!X42=\"\",\"\",報告書!X42)","v":""},{"$f":"IF(報告書!Y42=\"\",\"\",報告書!Y42)","v":""},{"$f":"IF(報告書!Z42=\"\",\"\",報告書!Z42)","v":""},{"$f":"IF(報告書!AA42=\"\",\"\",報告書!AA42)","v":""},{"$f":"IF(報告書!AB42=\"\",\"\",報告書!AB42)","v":""},{"$f":"IF(報告書!AC42=\"\",\"\",報告書!AC42)","v":""},{"$f":"IF(報告書!AD42=\"\",\"\",報告書!AD42)","v":""},{"$f":"IF(報告書!AE42=\"\",\"\",報告書!AE42)","v":""},{"$f":"IF(報告書!AF42=\"\",\"\",報告書!AF42)","v":""},{"$f":"IF(報告書!AG42=\"\",\"\",報告書!AG42)","v":""},{"$f":"IF(報告書!AH42=\"\",\"\",報告書!AH42)","v":""},{"$f":"IF(報告書!AI42=\"\",\"\",報告書!AI42)","v":""},{"$f":"IF(報告書!AJ42=\"\",\"\",報告書!AJ42)","v":""},{"$f":"IF(報告書!AK42=\"\",\"\",報告書!AK42)","v":""},{"$f":"IF(報告書!AL42=\"\",\"\",報告書!AL42)","v":""},{"$f":"IF(報告書!AM42=\"\",\"\",報告書!AM42)","v":""},{"$f":"IF(報告書!AN42=\"\",\"\",報告書!AN42)","v":""},{"$f":"IF(報告書!AO42=\"\",\"\",報告書!AO42)","v":""},{"$f":"IF(報告書!AP42=\"\",\"\",報告書!AP42)","v":""},{"$f":"IF(報告書!AQ42=\"\",\"\",報告書!AQ42)","v":""},{"$f":"IF(報告書!AR42=\"\",\"\",報告書!AR42)","v":""},{"$f":"IF(報告書!AS42=\"\",\"\",報告書!AS42)","v":""},{"$f":"IF(報告書!AT42=\"\",\"\",報告書!AT42)","v":""}]
[null,null,"【ロ．氏名】",{"$nulls":10},{"$f":"IF(報告書!N43=\"\",\"\",報告書!N43)&IF(報告書!AE43=\"\",\"\",\"　\"&報告書!AE43)","v":""},{"$f":"IF(報告書!O43=\"\",\"\",報告書!O43)","v":""},{"$f":"IF(報告書!P43=\"\",\"\",報告書!P43)","v":""},{"$f":"IF(報告書!Q43=\"\",\"\",報告書!Q43)","v":""},{"$f":"IF(報告書!R43=\"\",\"\",報告書!R43)","v":""},{"$f":"IF(報告書!S43=\"\",\"\",報告書!S43)","v":""},{"$f":"IF(報告書!T43=\"\",\"\",報告書!T43)","v":""},{"$f":"IF(報告書!U43=\"\",\"\",報告書!U43)","v":""},{"$f":"IF(報告書!V43=\"\",\"\",報告書!V43)","v":""},{"$f":"IF(報告書!W43=\"\",\"\",報告書!W43)","v":""},{"$f":"IF(報告書!X43=\"\",\"\",報告書!X43)","v":""},{"$f":"IF(報告書!Y43=\"\",\"\",報告書!Y43)","v":""},{"$f":"IF(報告書!Z43=\"\",\"\",報告書!Z43)","v":""},{"$f":"IF(報告書!AA43=\"\",\"\",報告書!AA43)","v":""},{"$f":"IF(報告書!AB43=\"\",\"\",報告書!AB43)","v":""},{"$f":"IF(報告書!AC43=\"\",\"\",報告書!AC43)","v":""},{"$f":"IF(報告書!AD43=\"\",\"\",報告書!AD43)","v":""},{"$f":"IF(報告書!AE43=\"\",\"\",報告書!AE43)","v":""},{"$f":"IF(報告書!AF43=\"\",\"\",報告書!AF43)","v":""},{"$f":"IF(報告書!AG43=\"\",\"\",報告書!AG43)","v":""},{"$f":"IF(報告書!AH43=\"\",\"\",報告書!AH43)","v":""},{"$f":"IF(報告書!AI43=\"\",\"\",報告書!AI43)","v":""},{"$f":"IF(報告書!AJ43=\"\",\"\",報告書!AJ43)","v":""},{"$f":"IF(報告書!AK43=\"\",\"\",報告書!AK43)","v":""},{"$f":"IF(報告書!AL43=\"\",\"\",報告書!AL43)","v":""},{"$f":"IF(報告書!AM43=\"\",\"\",報告書!AM43)","v":""},{"$f":"IF(報告書!AN43=\"\",\"\",報告書!AN43)","v":""},{"$f":"IF(報告書!AO43=\"\",\"\",報告書!AO43)","v":""},{"$f":"IF(報告書!AP43=\"\",\"\",報告書!AP43)","v":""},{"$f":"IF(報告書!AQ43=\"\",\"\",報告書!AQ43)","v":""},{"$f":"IF(報告書!AR43=\"\",\"\",報告書!AR43)","v":""},{"$f":"IF(報告書!AS43=\"\",\"\",報告書!AS43)","v":""},{"$f":"IF(報告書!AT43=\"\",\"\",報告書!AT43)","v":""}]
[null,null,"【ハ．郵便番号】",{"$nulls":10},{"$f":"IF(報告書!N44=\"\",\"\",報告書!N44)","v":""},{"$f":"IF(報告書!O44=\"\",\"\",報告書!O44)","v":""},{"$f":"IF(報告書!P44=\"\",\"\",報告書!P44)","v":""},{"$f":"IF(報告書!Q44=\"\",\"\",報告書!Q44)","v":""},{"$f":"IF(報告書!R44=\"\",\"\",報告書!R44)","v":""},{"$f":"IF(報告書!S44=\"\",\"\",報告書!S44)","v":""},{"$f":"IF(報告書!T44=\"\",\"\",報告書!T44)","v":""},{"$f":"IF(報告書!U44=\"\",\"\",報告書!U44)","v":""},{"$f":"IF(報告書!V44=\"\",\"\",報告書!V44)","v":""}]
[null,null,"【ニ．住所】",{"$nulls":10},{"$f":"IF(報告書!N45=\"\",\"\",報告書!N45)&IF(報告書!AE45=\"\",\"\",\"　\"&報告書!AE45)","v":""},{"$f":"IF(報告書!O45=\"\",\"\",報告書!O45)","v":""},{"$f":"IF(報告書!P45=\"\",\"\",報告書!P45)","v":""},{"$f":"IF(報告書!Q45=\"\",\"\",報告書!Q45)","v":""},{"$f":"IF(報告書!R45=\"\",\"\",報告書!R45)","v":""},{"$f":"IF(報告書!S45=\"\",\"\",報告書!S45)","v":""},{"$f":"IF(報告書!T45=\"\",\"\",報告書!T45)","v":""},{"$f":"IF(報告書!U45=\"\",\"\",報告書!U45)","v":""},{"$f":"IF(報告書!V45=\"\",\"\",報告書!V45)","v":""},{"$f":"IF(報告書!W45=\"\",\"\",報告書!W45)","v":""},{"$f":"IF(報告書!X45=\"\",\"\",報告書!X45)","v":""},{"$f":"IF(報告書!Y45=\"\",\"\",報告書!Y45)","v":""},{"$f":"IF(報告書!Z45=\"\",\"\",報告書!Z45)","v":""},{"$f":"IF(報告書!AA45=\"\",\"\",報告書!AA45)","v":""},{"$f":"IF(報告書!AB45=\"\",\"\",報告書!AB45)","v":""},{"$f":"IF(報告書!AC45=\"\",\"\",報告書!AC45)","v":""},{"$f":"IF(報告書!AD45=\"\",\"\",報告書!AD45)","v":""},{"$f":"IF(報告書!AE45=\"\",\"\",報告書!AE45)","v":""},{"$f":"IF(報告書!AF45=\"\",\"\",報告書!AF45)","v":""},{"$f":"IF(報告書!AG45=\"\",\"\",報告書!AG45)","v":""},{"$f":"IF(報告書!AH45=\"\",\"\",報告書!AH45)","v":""},{"$f":"IF(報告書!AI45=\"\",\"\",報告書!AI45)","v":""},{"$f":"IF(報告書!AJ45=\"\",\"\",報告書!AJ45)","v":""},{"$f":"IF(報告書!AK45=\"\",\"\",報告書!AK45)","v":""},{"$f":"IF(報告書!AL45=\"\",\"\",報告書!AL45)","v":""},{"$f":"IF(報告書!AM45=\"\",\"\",報告書!AM45)","v":""},{"$f":"IF(報告書!AN45=\"\",\"\",報告書!AN45)","v":""},{"$f":"IF(報告書!AO45=\"\",\"\",報告書!AO45)","v":""},{"$f":"IF(報告書!AP45=\"\",\"\",報告書!AP45)","v":""},{"$f":"IF(報告書!AQ45=\"\",\"\",報告書!AQ45)","v":""},{"$f":"IF(報告書!AR45=\"\",\"\",報告書!AR45)","v":""},{"$f":"IF(報告書!AS45=\"\",\"\",報告書!AS45)","v":""},{"$f":"IF(報告書!AT45=\"\",\"\",報告書!AT45)","v":""}]
[]
[]
[]
[]
[]
[]
[null,"【3．報告対象建築物】"]
[null,null,"【イ．所在地】",{"$nulls":10},{"$f":"IF(報告書!N53=\"\",\"\",報告書!N53)&IF(報告書!Q53=\"\",\"\",報告書!Q53)&IF(報告書!W53=\"\",\"\",報告書!W53)&IF(報告書!AC53=\"\",\"\",報告書!AC53)","v":""},{"$f":"IF(報告書!O53=\"\",\"\",報告書!O53)","v":""},{"$f":"IF(報告書!P53=\"\",\"\",報告書!P53)","v":""},{"$f":"IF(報告書!#REF!=\"\",\"\",報告書!#REF!)","v":{"$error":"#REF!"}},{"$f":"IF(報告書!#REF!=\"\",\"\",報告書!#REF!)","v":{"$error":"#REF!"}},{"$f":"IF(報告書!S53=\"\",\"\",報告書!S53)","v":""},{"$f":"IF(報告書!T53=\"\",\"\",報告書!T53)","v":""},{"$f":"IF(報告書!U53=\"\",\"\",報告書!U53)","v":""},{"$f":"IF(報告書!V53=\"\",\"\",報告書!V53)","v":""},{"$f":"IF(報告書!#REF!=\"\",\"\",報告書!#REF!)","v":{"$error":"#REF!"}},{"$f":"IF(報告書!#REF!=\"\",\"\",報告書!#REF!)","v":{"$error":"#REF!"}},{"$f":"IF(報告書!Y53=\"\",\"\",報告書!Y53)","v":""},{"$f":"IF(報告書!#REF!=\"\",\"\",報告書!#REF!)","v":{"$error":"#REF!"}},{"$f":"IF(報告書!AA53=\"\",\"\",報告書!AA53)","v":""},{"$f":"IF(報告書!AB53=\"\",\"\",報告書!AB53)","v":""},{"$f":"IF(報告書!AC53=\"\",\"\",報告書!AC53)","v":""},{"$f":"IF(報告書!AD53=\"\",\"\",報告書!AD53)","v":""},{"$f":"IF(報告書!AE53=\"\",\"\",報告書!AE53)","v":""},{"$f":"IF(報告書!AF53=\"\",\"\",報告書!AF53)","v":""},{"$f":"IF(報告書!AG53=\"\",\"\",報告書!AG53)","v":""},{"$f":"IF(報告書!AH53=\"\",\"\",報告書!AH53)","v":""},{"$f":"IF(報告書!AI53=\"\",\"\",報告書!AI53)","v":""},{"$f":"IF(報告書!AJ53=\"\",\"\",報告書!AJ53)","v":""},{"$f":"IF(報告書!AK53=\"\",\"\",報告書!AK53)","v":""},{"$f":"IF(報告書!AL53=\"\",\"\",報告書!AL53)","v":""},{"$f":"IF(報告書!AM53=\"\",\"\",報告書!AM53)","v":""},{"$f":"IF(報告書!AN53=\"\",\"\",報告書!AN53)","v":""},{"$f":"IF(報告書!AO53=\"\",\"\",報告書!AO53)","v":""},{"$f":"IF(報告書!AP53=\"\",\"\",報告書!AP53)","v":""},{"$f":"IF(報告書!AQ53=\"\",\"\",報告書!AQ53)","v":""},{"$f":"IF(報告書!AR53=\"\",\"\",報告書!AR53)","v":""},{"$f":"IF(報告書!AS53=\"\",\"\",報告書!AS53)","v":""},{"$f":"IF(報告書!AT53=\"\",\"\",報告書!AT53)","v":""}]
[null,null,"【ロ．名称のフリガナ】",{"$nulls":10},{"$f":"IF(報告書!N54=\"\",\"\",報告書!N54)","v":""},{"$f":"IF(報告書!O54=\"\",\"\",報告書!O54)","v":""},{"$f":"IF(報告書!P54=\"\",\"\",報告書!P54)","v":""},{"$f":"IF(報告書!Q54=\"\",\"\",報告書!Q54)","v":""},{"$f":"IF(報告書!R54=\"\",\"\",報告書!R54)","v":""},{"$f":"IF(報告書!S54=\"\",\"\",報告書!S54)","v":""},{"$f":"IF(報告書!T54=\"\",\"\",報告書!T54)","v":""},{"$f":"IF(報告書!U54=\"\",\"\",報告書!U54)","v":""},{"$f":"IF(報告書!V54=\"\",\"\",報告書!V54)","v":""},{"$f":"IF(報告書!W54=\"\",\"\",報告書!W54)","v":""},{"$f":"IF(報告書!X54=\"\",\"\",報告書!X54)","v":""},{"$f":"IF(報告書!Y54=\"\",\"\",報告書!Y54)","v":""},{"$f":"IF(報告書!Z54=\"\",\"\",報告書!Z54)","v":""},{"$f":"IF(報告書!AA54=\"\",\"\",報告書!AA54)","v":""},{"$f":"IF(報告書!AB54=\"\",\"\",報告書!AB54)","v":""},{"$f":"IF(報告書!AC54=\"\",\"\",報告書!AC54)","v":""},{"$f":"IF(報告書!AD54=\"\",\"\",報告書!AD54)","v":""},{"$f":"IF(報告書!AE54=\"\",\"\",報告書!AE54)","v":""},{"$f":"IF(報告書!AF54=\"\",\"\",報告書!AF54)","v":""},{"$f":"IF(報告書!AG54=\"\",\"\",報告書!AG54)","v":""},{"$f":"IF(報告書!AH54=\"\",\"\",報告書!AH54)","v":""},{"$f":"IF(報告書!AI54=\"\",\"\",報告書!AI54)","v":""},{"$f":"IF(報告書!AJ54=\"\",\"\",報告書!AJ54)","v":""},{"$f":"IF(報告書!AK54=\"\",\"\",報告書!AK54)","v":""},{"$f":"IF(報告書!AL54=\"\",\"\",報告書!AL54)","v":""},{"$f":"IF(報告書!AM54=\"\",\"\",報告書!AM54)","v":""},{"$f":"IF(報告書!AN54=\"\",\"\",報告書!AN54)","v":""},{"$f":"IF(報告書!AO54=\"\",\"\",報告書!AO54)","v":""},{"$f":"IF(報告書!AP54=\"\",\"\",報告書!AP54)","v":""},{"$f":"IF(報告書!AQ54=\"\",\"\",報告書!AQ54)","v":""},{"$f":"IF(報告書!AR54=\"\",\"\",報告書!AR54)","v":""},{"$f":"IF(報告書!AS54=\"\",\"\",報告書!AS54)","v":""},{"$f":"IF(報告書!AT54=\"\",\"\",報告書!AT54)","v":""}]
[null,null,"【ハ．名称】",{"$nulls":10},{"$f":"IF(報告書!N55=\"\",\"\",報告書!N55)","v":""},{"$f":"IF(報告書!O55=\"\",\"\",報告書!O55)","v":""},{"$f":"IF(報告書!P55=\"\",\"\",報告書!P55)","v":""},{"$f":"IF(報告書!Q55=\"\",\"\",報告書!Q55)","v":""},{"$f":"IF(報告書!R55=\"\",\"\",報告書!R55)","v":""},{"$f":"IF(報告書!S55=\"\",\"\",報告書!S55)","v":""},{"$f":"IF(報告書!T55=\"\",\"\",報告書!T55)","v":""},{"$f":"IF(報告書!U55=\"\",\"\",報告書!U55)","v":""},{"$f":"IF(報告書!V55=\"\",\"\",報告書!V55)","v":""},{"$f":"IF(報告書!W55=\"\",\"\",報告書!W55)","v":""},{"$f":"IF(報告書!X55=\"\",\"\",報告書!X55)","v":""},{"$f":"IF(報告書!Y55=\"\",\"\",報告書!Y55)","v":""},{"$f":"IF(報告書!Z55=\"\",\"\",報告書!Z55)","v":""},{"$f":"IF(報告書!AA55=\"\",\"\",報告書!AA55)","v":""},{"$f":"IF(報告書!AB55=\"\",\"\",報告書!AB55)","v":""},{"$f":"IF(報告書!AC55=\"\",\"\",報告書!AC55)","v":""},{"$f":"IF(報告書!AD55=\"\",\"\",報告書!AD55)","v":""},{"$f":"IF(報告書!AE55=\"\",\"\",報告書!AE55)","v":""},{"$f":"IF(報告書!AF55=\"\",\"\",報告書!AF55)","v":""},{"$f":"IF(報告書!AG55=\"\",\"\",報告書!AG55)","v":""},{"$f":"IF(報告書!AH55=\"\",\"\",報告書!AH55)","v":""},{"$f":"IF(報告書!AI55=\"\",\"\",報告書!AI55)","v":""},{"$f":"IF(報告書!AJ55=\"\",\"\",報告書!AJ55)","v":""},{"$f":"IF(報告書!AK55=\"\",\"\",報告書!AK55)","v":""},{"$f":"IF(報告書!AL55=\"\",\"\",報告書!AL55)","v":""},{"$f":"IF(報告書!AM55=\"\",\"\",報告書!AM55)","v":""},{"$f":"IF(報告書!AN55=\"\",\"\",報告書!AN55)","v":""},{"$f":"IF(報告書!AO55=\"\",\"\",報告書!AO55)","v":""},{"$f":"IF(報告書!AP55=\"\",\"\",報告書!AP55)","v":""},{"$f":"IF(報告書!AQ55=\"\",\"\",報告書!AQ55)","v":""},{"$f":"IF(報告書!AR55=\"\",\"\",報告書!AR55)","v":""},{"$f":"IF(報告書!AS55=\"\",\"\",報告書!AS55)","v":""},{"$f":"IF(報告書!AT55=\"\",\"\",報告書!AT55)","v":""}]
[null,null,"【ニ．用途】",{"$nulls":10},{"$f":"IF(報告書!N56&報告書!S56&報告書!T56&報告書!Y56&報告書!Z56&報告書!AE56&報告書!AF56&報告書!AK56&報告書!AL56=\"\",\"\",報告書!N56&報告書!S56&報告書!T56&報告書!Y56&報告書!Z56&報告書!AE56&報告書!AF56&報告書!AK56&報告書!AL56)","v":""},{"$f":"IF(報告書!O56=\"\",\"\",報告書!O56)","v":""},{"$f":"IF(報告書!P56=\"\",\"\",報告書!P56)","v":""},{"$f":"IF(報告書!Q56=\"\",\"\",報告書!Q56)","v":""},{"$f":"IF(報告書!R56=\"\",\"\",報告書!R56)","v":""},{"$f":"IF(報告書!S56=\"\",\"\",報告書!S56)","v":""},{"$f":"IF(報告書!T56=\"\",\"\",報告書!T56)","v":""},{"$f":"IF(報告書!U56=\"\",\"\",報告書!U56)","v":""},{"$f":"IF(報告書!V56=\"\",\"\",報告書!V56)","v":""},{"$f":"IF(報告書!W56=\"\",\"\",報告書!W56)","v":""},{"$f":"IF(報告書!X56=\"\",\"\",報告書!X56)","v":""},{"$f":"IF(報告書!Y56=\"\",\"\",報告書!Y56)","v":""},{"$f":"IF(報告書!Z56=\"\",\"\",報告書!Z56)","v":""},{"$f":"IF(報告書!AA56=\"\",\"\",報告書!AA56)","v":""},{"$f":"IF(報告書!AB56=\"\",\"\",報告書!AB56)","v":""},{"$f":"IF(報告書!AC56=\"\",\"\",報告書!AC56)","v":""},{"$f":"IF(報告書!AD56=\"\",\"\",報告書!AD56)","v":""},{"$f":"IF(報告書!AE56=\"\",\"\",報告書!AE56)","v":""},{"$f":"IF(報告書!AF56=\"\",\"\",報告書!AF56)","v":""},{"$f":"IF(報告書!AG56=\"\",\"\",報告書!AG56)","v":""},{"$f":"IF(報告書!AH56=\"\",\"\",報告書!AH56)","v":""},{"$f":"IF(報告書!AI56=\"\",\"\",報告書!AI56)","v":""},{"$f":"IF(報告書!AJ56=\"\",\"\",報告書!AJ56)","v":""},{"$f":"IF(報告書!AK56=\"\",\"\",報告書!AK56)","v":""},{"$f":"IF(報告書!AL56=\"\",\"\",報告書!AL56)","v":""},{"$f":"IF(報告書!AM56=\"\",\"\",報告書!AM56)","v":""},{"$f":"IF(報告書!AN56=\"\",\"\",報告書!AN56)","v":""},{"$f":"IF(報告書!AO56=\"\",\"\",報告書!AO56)","v":""},{"$f":"IF(報告書!AP56=\"\",\"\",報告書!AP56)","v":""},{"$f":"IF(報告書!AQ56=\"\",\"\",報告書!AQ56)","v":""},{"$f":"IF(報告書!AR56=\"\",\"\",報告書!AR56)","v":""},{"$f":"IF(報告書!AS56=\"\",\"\",報告書!AS56)","v":""},{"$f":"IF(報告書!AT56=\"\",\"\",報告書!AT56)","v":""}]
[]
[]
[]
[]
[]
[null,"【4．検査による指摘の概要】"]
[null,null,"【イ．指摘の内容】",{"$nulls":10},{"$f":"報告書!N63","v":""},"要是正の指摘あり",{"$nulls":7},"(",{"$f":"報告書!X63","v":""},"既存不適格）",{"$nulls":7},{"$f":"報告書!AG63","v":""},"指摘なし"]
[null,null,"【ロ．指摘の概要】",{"$nulls":10},{"$f":"IF(報告書!N64=\"\",\"\",報告書!N64)","v":""},{"$f":"IF(報告書!O64=\"\",\"\",報告書!O64)","v":""},{"$f":"IF(報告書!P64=\"\",\"\",報告書!P64)","v":""},{"$f":"IF(報告書!Q64=\"\",\"\",報告書!Q64)","v":""},{"$f":"IF(報告書!R64=\"\",\"\",報告書!R64)","v":""},{"$f":"IF(報告書!S64=\"\",\"\",報告書!S64)","v":""},{"$f":"IF(報告書!T64=\"\",\"\",報告書!T64)","v":""},{"$f":"IF(報告書!U64=\"\",\"\",報告書!U64)","v":""},{"$f":"IF(報告書!V64=\"\",\"\",報告書!V64)","v":""},{"$f":"IF(報告書!W64=\"\",\"\",報告書!W64)","v":""},{"$f":"IF(報告書!X64=\"\",\"\",報告書!X64)","v":""},{"$f":"IF(報告書!Y64=\"\",\"\",報告書!Y64)","v":""},{"$f":"IF(報告書!Z64=\"\",\"\",報告書!Z64)","v":""},{"$f":"IF(報告書!AA64=\"\",\"\",報告書!AA64)","v":""},{"$f":"IF(報告書!AB64=\"\",\"\",報告書!AB64)","v":""},{"$f":"IF(報告書!AC64=\"\",\"\",報告書!AC64)","v":""},{"$f":"IF(報告書!AD64=\"\",\"\",報告書!AD64)","v":""},{"$f":"IF(報告書!AE64=\"\",\"\",報告書!AE64)","v":""},{"$f":"IF(報告書!AF64=\"\",\"\",報告書!AF64)","v":""},{"$f":"IF(報告書!AG64=\"\",\"\",報告書!AG64)","v":""},{"$f":"IF(報告書!AH64=\"\",\"\",報告書!AH64)","v":""},{"$f":"IF(報告書!AI64=\"\",\"\",報告書!AI64)","v":""},{"$f":"IF(報告書!AJ64=\"\",\"\",報告書!AJ64)","v":""},{"$f":"IF(報告書!AK64=\"\",\"\",報告書!AK64)","v":""},{"$f":"IF(報告書!AL64=\"\",\"\",報告書!AL64)","v":""},{"$f":"IF(報告書!AM64=\"\",\"\",報告書!AM64)","v":""},{"$f":"IF(報告書!AN64=\"\",\"\",報告書!AN64)","v":""},{"$f":"IF(報告書!AO64=\"\",\"\",報告書!AO64)","v":""},{"$f":"IF(報告書!AP64=\"\",\"\",報告書!AP64)","v":""},{"$f":"IF(報告書!AQ64=\"\",\"\",報告書!AQ64)","v":""},{"$f":"IF(報告書!AR64=\"\",\"\",報告書!AR64)","v":""},{"$f":"IF(報告書!AS64=\"\",\"\",報告書!AS64)","v":""},{"$f":"IF(報告書!AT64=\"\",\"\",報告書!AT64)","v":""}]
[{"$nulls":13},{"$f":"IF(報告書!N65=\"\",\"\",報告書!N65)","v":""},{"$f":"IF(報告書!O65=\"\",\"\",報告書!O65)","v":""},{"$f":"IF(報告書!P65=\"\",\"\",報告書!P65)","v":""},{"$f":"IF(報告書!Q65=\"\",\"\",報告書!Q65)","v":""},{"$f":"IF(報告書!R65=\"\",\"\",報告書!R65)","v":""},{"$f":"IF(報告書!S65=\"\",\"\",報告書!S65)","v":""},{"$f":"IF(報告書!T65=\"\",\"\",報告書!T65)","v":""},{"$f":"IF(報告書!U65=\"\",\"\",報告書!U65)","v":""},{"$f":"IF(報告書!V65=\"\",\"\",報告書!V65)","v":""},{"$f":"IF(報告書!W65=\"\",\"\",報告書!W65)","v":""},{"$f":"IF(報告書!X65=\"\",\"\",報告書!X65)","v":""},{"$f":"IF(報告書!Y65=\"\",\"\",報告書!Y65)","v":""},{"$f":"IF(報告書!Z65=\"\",\"\",報告書!Z65)","v":""},{"$f":"IF(報告書!AA65=\"\",\"\",報告書!AA65)","v":""},{"$f":"IF(報告書!AB65=\"\",\"\",報告書!AB65)","v":""},{"$f":"IF(報告書!AC65=\"\",\"\",報告書!AC65)","v":""},{"$f":"IF(報告書!AD65=\"\",\"\",報告書!AD65)","v":""},{"$f":"IF(報告書!AE65=\"\",\"\",報告書!AE65)","v":""},{"$f":"IF(報告書!AF65=\"\",\"\",報告書!AF65)","v":""},{"$f":"IF(報告書!AG65=\"\",\"\",報告書!AG65)","v":""},{"$f":"IF(報告書!AH65=\"\",\"\",報告書!AH65)","v":""},{"$f":"IF(報告書!AI65=\"\",\"\",報告書!AI65)","v":""},{"$f":"IF(報告書!AJ65=\"\",\"\",報告書!AJ65)","v":""},{"$f":"IF(報告書!AK65=\"\",\"\",報告書!AK65)","v":""},{"$f":"IF(報告書!AL65=\"\",\"\",報告書!AL65)","v":""},{"$f":"IF(報告書!AM65=\"\",\"\",報告書!AM65)","v":""},{"$f":"IF(報告書!AN65=\"\",\"\",報告書!AN65)","v":""},{"$f":"IF(報告書!AO65=\"\",\"\",報告書!AO65)","v":""},{"$f":"IF(報告書!AP65=\"\",\"\",報告書!AP65)","v":""},{"$f":"IF(報告書!AQ65=\"\",\"\",報告書!AQ65)","v":""},{"$f":"IF(報告書!AR65=\"\",\"\",報告書!AR65)","v":""},{"$f":"IF(報告書!AS65=\"\",\"\",報告書!AS65)","v":""},{"$f":"IF(報告書!AT65=\"\",\"\",報告書!AT65)","v":""}]
[{"$nulls":13},{"$f":"IF(報告書!N66=\"\",\"\",報告書!N66)","v":""},{"$f":"IF(報告書!O66=\"\",\"\",報告書!O66)","v":""},{"$f":"IF(報告書!P66=\"\",\"\",報告書!P66)","v":""},{"$f":"IF(報告書!Q66=\"\",\"\",報告書!Q66)","v":""},{"$f":"IF(報告書!R66=\"\",\"\",報告書!R66)","v":""},{"$f":"IF(報告書!S66=\"\",\"\",報告書!S66)","v":""},{"$f":"IF(報告書!T66=\"\",\"\",報告書!T66)","v":""},{"$f":"IF(報告書!U66=\"\",\"\",報告書!U66)","v":""},{"$f":"IF(報告書!V66=\"\",\"\",報告書!V66)","v":""},{"$f":"IF(報告書!W66=\"\",\"\",報告書!W66)","v":""},{"$f":"IF(報告書!X66=\"\",\"\",報告書!X66)","v":""},{"$f":"IF(報告書!Y66=\"\",\"\",報告書!Y66)","v":""},{"$f":"IF(報告書!Z66=\"\",\"\",報告書!Z66)","v":""},{"$f":"IF(報告書!AA66=\"\",\"\",報告書!AA66)","v":""},{"$f":"IF(報告書!AB66=\"\",\"\",報告書!AB66)","v":""},{"$f":"IF(報告書!AC66=\"\",\"\",報告書!AC66)","v":""},{"$f":"IF(報告書!AD66=\"\",\"\",報告書!AD66)","v":""},{"$f":"IF(報告書!AE66=\"\",\"\",報告書!AE66)","v":""},{"$f":"IF(報告書!AF66=\"\",\"\",報告書!AF66)","v":""},{"$f":"IF(報告書!AG66=\"\",\"\",報告書!AG66)","v":""},{"$f":"IF(報告書!AH66=\"\",\"\",報告書!AH66)","v":""},{"$f":"IF(報告書!AI66=\"\",\"\",報告書!AI66)","v":""},{"$f":"IF(報告書!AJ66=\"\",\"\",報告書!AJ66)","v":""},{"$f":"IF(報告書!AK66=\"\",\"\",報告書!AK66)","v":""},{"$f":"IF(報告書!AL66=\"\",\"\",報告書!AL66)","v":""},{"$f":"IF(報告書!AM66=\"\",\"\",報告書!AM66)","v":""},{"$f":"IF(報告書!AN66=\"\",\"\",報告書!AN66)","v":""},{"$f":"IF(報告書!AO66=\"\",\"\",報告書!AO66)","v":""},{"$f":"IF(報告書!AP66=\"\",\"\",報告書!AP66)","v":""},{"$f":"IF(報告書!AQ66=\"\",\"\",報告書!AQ66)","v":""},{"$f":"IF(報告書!AR66=\"\",\"\",報告書!AR66)","v":""},{"$f":"IF(報告書!AS66=\"\",\"\",報告書!AS66)","v":""},{"$f":"IF(報告書!AT66=\"\",\"\",報告書!AT66)","v":""}]
[{"$nulls":13},{"$f":"IF(報告書!N67=\"\",\"\",報告書!N67)","v":""},{"$f":"IF(報告書!O67=\"\",\"\",報告書!O67)","v":""},{"$f":"IF(報告書!P67=\"\",\"\",報告書!P67)","v":""},{"$f":"IF(報告書!Q67=\"\",\"\",報告書!Q67)","v":""},{"$f":"IF(報告書!R67=\"\",\"\",報告書!R67)","v":""},{"$f":"IF(報告書!S67=\"\",\"\",報告書!S67)","v":""},{"$f":"IF(報告書!T67=\"\",\"\",報告書!T67)","v":""},{"$f":"IF(報告書!U67=\"\",\"\",報告書!U67)","v":""},{"$f":"IF(報告書!V67=\"\",\"\",報告書!V67)","v":""},{"$f":"IF(報告書!W67=\"\",\"\",報告書!W67)","v":""},{"$f":"IF(報告書!X67=\"\",\"\",報告書!X67)","v":""},{"$f":"IF(報告書!Y67=\"\",\"\",報告書!Y67)","v":""},{"$f":"IF(報告書!Z67=\"\",\"\",報告書!Z67)","v":""},{"$f":"IF(報告書!AA67=\"\",\"\",報告書!AA67)","v":""},{"$f":"IF(報告書!AB67=\"\",\"\",報告書!AB67)","v":""},{"$f":"IF(報告書!AC67=\"\",\"\",報告書!AC67)","v":""},{"$f":"IF(報告書!AD67=\"\",\"\",報告書!AD67)","v":""},{"$f":"IF(報告書!AE67=\"\",\"\",報告書!AE67)","v":""},{"$f":"IF(報告書!AF67=\"\",\"\",報告書!AF67)","v":""},{"$f":"IF(報告書!AG67=\"\",\"\",報告書!AG67)","v":""},{"$f":"IF(報告書!AH67=\"\",\"\",報告書!AH67)","v":""},{"$f":"IF(報告書!AI67=\"\",\"\",報告書!AI67)","v":""},{"$f":"IF(報告書!AJ67=\"\",\"\",報告書!AJ67)","v":""},{"$f":"IF(報告書!AK67=\"\",\"\",報告書!AK67)","v":""},{"$f":"IF(報告書!AL67=\"\",\"\",報告書!AL67)","v":""},{"$f":"IF(報告書!AM67=\"\",\"\",報告書!AM67)","v":""},{"$f":"IF(報告書!AN67=\"\",\"\",報告書!AN67)","v":""},{"$f":"IF(報告書!AO67=\"\",\"\",報告書!AO67)","v":""},{"$f":"IF(報告書!AP67=\"\",\"\",報告書!AP67)","v":""},{"$f":"IF(報告書!AQ67=\"\",\"\",報告書!AQ67)","v":""},{"$f":"IF(報告書!AR67=\"\",\"\",報告書!AR67)","v":""},{"$f":"IF(報告書!AS67=\"\",\"\",報告書!AS67)","v":""},{"$f":"IF(報告書!AT67=\"\",\"\",報告書!AT67)","v":""}]
[{"$nulls":13},{"$f":"IF(報告書!N68=\"\",\"\",報告書!N68)","v":""},{"$f":"IF(報告書!O68=\"\",\"\",報告書!O68)","v":""},{"$f":"IF(報告書!P68=\"\",\"\",報告書!P68)","v":""},{"$f":"IF(報告書!Q68=\"\",\"\",報告書!Q68)","v":""},{"$f":"IF(報告書!R68=\"\",\"\",報告書!R68)","v":""},{"$f":"IF(報告書!S68=\"\",\"\",報告書!S68)","v":""},{"$f":"IF(報告書!T68=\"\",\"\",報告書!T68)","v":""},{"$f":"IF(報告書!U68=\"\",\"\",報告書!U68)","v":""},{"$f":"IF(報告書!V68=\"\",\"\",報告書!V68)","v":""},{"$f":"IF(報告書!W68=\"\",\"\",報告書!W68)","v":""},{"$f":"IF(報告書!X68=\"\",\"\",報告書!X68)","v":""},{"$f":"IF(報告書!Y68=\"\",\"\",報告書!Y68)","v":""},{"$f":"IF(報告書!Z68=\"\",\"\",報告書!Z68)","v":""},{"$f":"IF(報告書!AA68=\"\",\"\",報告書!AA68)","v":""},{"$f":"IF(報告書!AB68=\"\",\"\",報告書!AB68)","v":""},{"$f":"IF(報告書!AC68=\"\",\"\",報告書!AC68)","v":""},{"$f":"IF(報告書!AD68=\"\",\"\",報告書!AD68)","v":""},{"$f":"IF(報告書!AE68=\"\",\"\",報告書!AE68)","v":""},{"$f":"IF(報告書!AF68=\"\",\"\",報告書!AF68)","v":""},{"$f":"IF(報告書!AG68=\"\",\"\",報告書!AG68)","v":""},{"$f":"IF(報告書!AH68=\"\",\"\",報告書!AH68)","v":""},{"$f":"IF(報告書!AI68=\"\",\"\",報告書!AI68)","v":""},{"$f":"IF(報告書!AJ68=\"\",\"\",報告書!AJ68)","v":""},{"$f":"IF(報告書!AK68=\"\",\"\",報告書!AK68)","v":""},{"$f":"IF(報告書!AL68=\"\",\"\",報告書!AL68)","v":""},{"$f":"IF(報告書!AM68=\"\",\"\",報告書!AM68)","v":""},{"$f":"IF(報告書!AN68=\"\",\"\",報告書!AN68)","v":""},{"$f":"IF(報告書!AO68=\"\",\"\",報告書!AO68)","v":""},{"$f":"IF(報告書!AP68=\"\",\"\",報告書!AP68)","v":""},{"$f":"IF(報告書!AQ68=\"\",\"\",報告書!AQ68)","v":""},{"$f":"IF(報告書!AR68=\"\",\"\",報告書!AR68)","v":""},{"$f":"IF(報告書!AS68=\"\",\"\",報告書!AS68)","v":""},{"$f":"IF(報告書!AT68=\"\",\"\",報告書!AT68)","v":""}]
[null,null,"【ハ．改善予定の有無】",{"$nulls":10},{"$f":"報告書!N69","v":""},"有",null,null,"（令和",{"$f":"IF(報告書!S69=\"\",\"\",報告書!S69)","v":""},null,"年",{"$f":"IF(報告書!V69=\"\",\"\",報告書!V69)","v":""},null,"月に改善予定）",{"$nulls":8},{"$f":"報告書!AG69","v":""},"無"]
[null,null,"【ニ．その他特記事項】",{"$nulls":10},{"$f":"IF(報告書!N70=\"\",\"\",報告書!N70)","v":""},{"$f":"IF(報告書!O70=\"\",\"\",報告書!O70)","v":""},{"$f":"IF(報告書!P70=\"\",\"\",報告書!P70)","v":""},{"$f":"IF(報告書!Q70=\"\",\"\",報告書!Q70)","v":""},{"$f":"IF(報告書!R70=\"\",\"\",報告書!R70)","v":""},{"$f":"IF(報告書!S70=\"\",\"\",報告書!S70)","v":""},{"$f":"IF(報告書!T70=\"\",\"\",報告書!T70)","v":""},{"$f":"IF(報告書!U70=\"\",\"\",報告書!U70)","v":""},{"$f":"IF(報告書!V70=\"\",\"\",報告書!V70)","v":""},{"$f":"IF(報告書!W70=\"\",\"\",報告書!W70)","v":""},{"$f":"IF(報告書!X70=\"\",\"\",報告書!X70)","v":""},{"$f":"IF(報告書!Y70=\"\",\"\",報告書!Y70)","v":""},{"$f":"IF(報告書!Z70=\"\",\"\",報告書!Z70)","v":""},{"$f":"IF(報告書!AA70=\"\",\"\",報告書!AA70)","v":""},{"$f":"IF(報告書!AB70=\"\",\"\",報告書!AB70)","v":""},{"$f":"IF(報告書!AC70=\"\",\"\",報告書!AC70)","v":""},{"$f":"IF(報告書!AD70=\"\",\"\",報告書!AD70)","v":""},{"$f":"IF(報告書!AE70=\"\",\"\",報告書!AE70)","v":""},{"$f":"IF(報告書!AF70=\"\",\"\",報告書!AF70)","v":""},{"$f":"IF(報告書!AG70=\"\",\"\",報告書!AG70)","v":""},{"$f":"IF(報告書!AH70=\"\",\"\",報告書!AH70)","v":""},{"$f":"IF(報告書!AI70=\"\",\"\",報告書!AI70)","v":""},{"$f":"IF(報告書!AJ70=\"\",\"\",報告書!AJ70)","v":""},{"$f":"IF(報告書!AK70=\"\",\"\",報告書!AK70)","v":""},{"$f":"IF(報告書!AL70=\"\",\"\",報告書!AL70)","v":""},{"$f":"IF(報告書!AM70=\"\",\"\",報告書!AM70)","v":""},{"$f":"IF(報告書!AN70=\"\",\"\",報告書!AN70)","v":""},{"$f":"IF(報告書!AO70=\"\",\"\",報告書!AO70)","v":""},{"$f":"IF(報告書!AP70=\"\",\"\",報告書!AP70)","v":""},{"$f":"IF(報告書!AQ70=\"\",\"\",報告書!AQ70)","v":""},{"$f":"IF(報告書!AR70=\"\",\"\",報告書!AR70)","v":""},{"$f":"IF(報告書!AS70=\"\",\"\",報告書!AS70)","v":""},{"$f":"IF(報告書!AT70=\"\",\"\",報告書!AT70)","v":""}]
[{"$nulls":13},{"$f":"IF(報告書!N71=\"\",\"\",報告書!N71)","v":""},{"$f":"IF(報告書!O71=\"\",\"\",報告書!O71)","v":""},{"$f":"IF(報告書!P71=\"\",\"\",報告書!P71)","v":""},{"$f":"IF(報告書!Q71=\"\",\"\",報告書!Q71)","v":""},{"$f":"IF(報告書!R71=\"\",\"\",報告書!R71)","v":""},{"$f":"IF(報告書!S71=\"\",\"\",報告書!S71)","v":""},{"$f":"IF(報告書!T71=\"\",\"\",報告書!T71)","v":""},{"$f":"IF(報告書!U71=\"\",\"\",報告書!U71)","v":""},{"$f":"IF(報告書!V71=\"\",\"\",報告書!V71)","v":""},{"$f":"IF(報告書!W71=\"\",\"\",報告書!W71)","v":""},{"$f":"IF(報告書!X71=\"\",\"\",報告書!X71)","v":""},{"$f":"IF(報告書!Y71=\"\",\"\",報告書!Y71)","v":""},{"$f":"IF(報告書!Z71=\"\",\"\",報告書!Z71)","v":""},{"$f":"IF(報告書!AA71=\"\",\"\",報告書!AA71)","v":""},{"$f":"IF(報告書!AB71=\"\",\"\",報告書!AB71)","v":""},{"$f":"IF(報告書!AC71=\"\",\"\",報告書!AC71)","v":""},{"$f":"IF(報告書!AD71=\"\",\"\",報告書!AD71)","v":""},{"$f":"IF(報告書!AE71=\"\",\"\",報告書!AE71)","v":""},{"$f":"IF(報告書!AF71=\"\",\"\",報告書!AF71)","v":""},{"$f":"IF(報告書!AG71=\"\",\"\",報告書!AG71)","v":""},{"$f":"IF(報告書!AH71=\"\",\"\",報告書!AH71)","v":""},{"$f":"IF(報告書!AI71=\"\",\"\",報告書!AI71)","v":""},{"$f":"IF(報告書!AJ71=\"\",\"\",報告書!AJ71)","v":""},{"$f":"IF(報告書!AK71=\"\",\"\",報告書!AK71)","v":""},{"$f":"IF(報告書!AL71=\"\",\"\",報告書!AL71)","v":""},{"$f":"IF(報告書!AM71=\"\",\"\",報告書!AM71)","v":""},{"$f":"IF(報告書!AN71=\"\",\"\",報告書!AN71)","v":""},{"$f":"IF(報告書!AO71=\"\",\"\",報告書!AO71)","v":""},{"$f":"IF(報告書!AP71=\"\",\"\",報告書!AP71)","v":""},{"$f":"IF(報告書!AQ71=\"\",\"\",報告書!AQ71)","v":""},{"$f":"IF(報告書!AR71=\"\",\"\",報告書!AR71)","v":""},{"$f":"IF(報告書!AS71=\"\",\"\",報告書!AS71)","v":""},{"$f":"IF(報告書!AT71=\"\",\"\",報告書!AT71)","v":""}]
[{"$nulls":13},{"$f":"IF(報告書!N72=\"\",\"\",報告書!N72)","v":""},{"$f":"IF(報告書!O72=\"\",\"\",報告書!O72)","v":""},{"$f":"IF(報告書!P72=\"\",\"\",報告書!P72)","v":""},{"$f":"IF(報告書!Q72=\"\",\"\",報告書!Q72)","v":""},{"$f":"IF(報告書!R72=\"\",\"\",報告書!R72)","v":""},{"$f":"IF(報告書!S72=\"\",\"\",報告書!S72)","v":""},{"$f":"IF(報告書!T72=\"\",\"\",報告書!T72)","v":""},{"$f":"IF(報告書!U72=\"\",\"\",報告書!U72)","v":""},{"$f":"IF(報告書!V72=\"\",\"\",報告書!V72)","v":""},{"$f":"IF(報告書!W72=\"\",\"\",報告書!W72)","v":""},{"$f":"IF(報告書!X72=\"\",\"\",報告書!X72)","v":""},{"$f":"IF(報告書!Y72=\"\",\"\",報告書!Y72)","v":""},{"$f":"IF(報告書!Z72=\"\",\"\",報告書!Z72)","v":""},{"$f":"IF(報告書!AA72=\"\",\"\",報告書!AA72)","v":""},{"$f":"IF(報告書!AB72=\"\",\"\",報告書!AB72)","v":""},{"$f":"IF(報告書!AC72=\"\",\"\",報告書!AC72)","v":""},{"$f":"IF(報告書!AD72=\"\",\"\",報告書!AD72)","v":""},{"$f":"IF(報告書!AE72=\"\",\"\",報告書!AE72)","v":""},{"$f":"IF(報告書!AF72=\"\",\"\",報告書!AF72)","v":""},{"$f":"IF(報告書!AG72=\"\",\"\",報告書!AG72)","v":""},{"$f":"IF(報告書!AH72=\"\",\"\",報告書!AH72)","v":""},{"$f":"IF(報告書!AI72=\"\",\"\",報告書!AI72)","v":""},{"$f":"IF(報告書!AJ72=\"\",\"\",報告書!AJ72)","v":""},{"$f":"IF(報告書!AK72=\"\",\"\",報告書!AK72)","v":""},{"$f":"IF(報告書!AL72=\"\",\"\",報告書!AL72)","v":""},{"$f":"IF(報告書!AM72=\"\",\"\",報告書!AM72)","v":""},{"$f":"IF(報告書!AN72=\"\",\"\",報告書!AN72)","v":""},{"$f":"IF(報告書!AO72=\"\",\"\",報告書!AO72)","v":""},{"$f":"IF(報告書!AP72=\"\",\"\",報告書!AP72)","v":""},{"$f":"IF(報告書!AQ72=\"\",\"\",報告書!AQ72)","v":""},{"$f":"IF(報告書!AR72=\"\",\"\",報告書!AR72)","v":""},{"$f":"IF(報告書!AS72=\"\",\"\",報告書!AS72)","v":""},{"$f":"IF(報告書!AT72=\"\",\"\",報告書!AT72)","v":""}]
[{"$nulls":13},{"$f":"IF(報告書!N73=\"\",\"\",報告書!N73)","v":""},{"$f":"IF(報告書!O73=\"\",\"\",報告書!O73)","v":""},{"$f":"IF(報告書!P73=\"\",\"\",報告書!P73)","v":""},{"$f":"IF(報告書!Q73=\"\",\"\",報告書!Q73)","v":""},{"$f":"IF(報告書!R73=\"\",\"\",報告書!R73)","v":""},{"$f":"IF(報告書!S73=\"\",\"\",報告書!S73)","v":""},{"$f":"IF(報告書!T73=\"\",\"\",報告書!T73)","v":""},{"$f":"IF(報告書!U73=\"\",\"\",報告書!U73)","v":""},{"$f":"IF(報告書!V73=\"\",\"\",報告書!V73)","v":""},{"$f":"IF(報告書!W73=\"\",\"\",報告書!W73)","v":""},{"$f":"IF(報告書!X73=\"\",\"\",報告書!X73)","v":""},{"$f":"IF(報告書!Y73=\"\",\"\",報告書!Y73)","v":""},{"$f":"IF(報告書!Z73=\"\",\"\",報告書!Z73)","v":""},{"$f":"IF(報告書!AA73=\"\",\"\",報告書!AA73)","v":""},{"$f":"IF(報告書!AB73=\"\",\"\",報告書!AB73)","v":""},{"$f":"IF(報告書!AC73=\"\",\"\",報告書!AC73)","v":""},{"$f":"IF(報告書!AD73=\"\",\"\",報告書!AD73)","v":""},{"$f":"IF(報告書!AE73=\"\",\"\",報告書!AE73)","v":""},{"$f":"IF(報告書!AF73=\"\",\"\",報告書!AF73)","v":""},{"$f":"IF(報告書!AG73=\"\",\"\",報告書!AG73)","v":""},{"$f":"IF(報告書!AH73=\"\",\"\",報告書!AH73)","v":""},{"$f":"IF(報告書!AI73=\"\",\"\",報告書!AI73)","v":""},{"$f":"IF(報告書!AJ73=\"\",\"\",報告書!AJ73)","v":""},{"$f":"IF(報告書!AK73=\"\",\"\",報告書!AK73)","v":""},{"$f":"IF(報告書!AL73=\"\",\"\",報告書!AL73)","v":""},{"$f":"IF(報告書!AM73=\"\",\"\",報告書!AM73)","v":""},{"$f":"IF(報告書!AN73=\"\",\"\",報告書!AN73)","v":""},{"$f":"IF(報告書!AO73=\"\",\"\",報告書!AO73)","v":""},{"$f":"IF(報告書!AP73=\"\",\"\",報告書!AP73)","v":""},{"$f":"IF(報告書!AQ73=\"\",\"\",報告書!AQ73)","v":""},{"$f":"IF(報告書!AR73=\"\",\"\",報告書!AR73)","v":""},{"$f":"IF(報告書!AS73=\"\",\"\",報告書!AS73)","v":""},{"$f":"IF(報告書!AT73=\"\",\"\",報告書!AT73)","v":""}]
[{"$nulls":13},{"$f":"IF(報告書!N74=\"\",\"\",報告書!N74)","v":""},{"$f":"IF(報告書!O74=\"\",\"\",報告書!O74)","v":""},{"$f":"IF(報告書!P74=\"\",\"\",報告書!P74)","v":""},{"$f":"IF(報告書!Q74=\"\",\"\",報告書!Q74)","v":""},{"$f":"IF(報告書!R74=\"\",\"\",報告書!R74)","v":""},{"$f":"IF(報告書!S74=\"\",\"\",報告書!S74)","v":""},{"$f":"IF(報告書!T74=\"\",\"\",報告書!T74)","v":""},{"$f":"IF(報告書!U74=\"\",\"\",報告書!U74)","v":""},{"$f":"IF(報告書!V74=\"\",\"\",報告書!V74)","v":""},{"$f":"IF(報告書!W74=\"\",\"\",報告書!W74)","v":""},{"$f":"IF(報告書!X74=\"\",\"\",報告書!X74)","v":""},{"$f":"IF(報告書!Y74=\"\",\"\",報告書!Y74)","v":""},{"$f":"IF(報告書!Z74=\"\",\"\",報告書!Z74)","v":""},{"$f":"IF(報告書!AA74=\"\",\"\",報告書!AA74)","v":""},{"$f":"IF(報告書!AB74=\"\",\"\",報告書!AB74)","v":""},{"$f":"IF(報告書!AC74=\"\",\"\",報告書!AC74)","v":""},{"$f":"IF(報告書!AD74=\"\",\"\",報告書!AD74)","v":""},{"$f":"IF(報告書!AE74=\"\",\"\",報告書!AE74)","v":""},{"$f":"IF(報告書!AF74=\"\",\"\",報告書!AF74)","v":""},{"$f":"IF(報告書!AG74=\"\",\"\",報告書!AG74)","v":""},{"$f":"IF(報告書!AH74=\"\",\"\",報告書!AH74)","v":""},{"$f":"IF(報告書!AI74=\"\",\"\",報告書!AI74)","v":""},{"$f":"IF(報告書!AJ74=\"\",\"\",報告書!AJ74)","v":""},{"$f":"IF(報告書!AK74=\"\",\"\",報告書!AK74)","v":""},{"$f":"IF(報告書!AL74=\"\",\"\",報告書!AL74)","v":""},{"$f":"IF(報告書!AM74=\"\",\"\",報告書!AM74)","v":""},{"$f":"IF(報告書!AN74=\"\",\"\",報告書!AN74)","v":""},{"$f":"IF(報告書!AO74=\"\",\"\",報告書!AO74)","v":""},{"$f":"IF(報告書!AP74=\"\",\"\",報告書!AP74)","v":""},{"$f":"IF(報告書!AQ74=\"\",\"\",報告書!AQ74)","v":""},{"$f":"IF(報告書!AR74=\"\",\"\",報告書!AR74)","v":""},{"$f":"IF(報告書!AS74=\"\",\"\",報告書!AS74)","v":""},{"$f":"IF(報告書!AT74=\"\",\"\",報告書!AT74)","v":""}]
[]
[]
[null,"【5．不具合の発生状況】",{"$nulls":55},"換気（有）","換気（無）","排煙（有）","排煙（無）","非照（有）","非照（無）","水（有）","水（無）"]
[null,null,"【イ．不具合】",{"$nulls":8},{"$f":"BF94","v":""},"有",null,{"$f":"BG94","v":""},"無",{"$nulls":40},"【イ．不具合】",{"$f":"報告書!L199","v":""},{"$f":"報告書!O199","v":""},{"$f":"報告書!L276","v":""},{"$f":"報告書!O276","v":""},{"$f":"報告書!L357","v":""},{"$f":"報告書!O357","v":""},{"$f":"報告書!L437","v":""},{"$f":"報告書!O437","v":""},12]
[null,null,"【ロ．不具合記録】",{"$nulls":8},{"$f":"BF95","v":""},"有",null,{"$f":"BG95","v":""},"無",{"$nulls":40},"【ロ．不具合記録】",{"$f":"報告書!L200","v":0},{"$f":"報告書!O200","v":0},{"$f":"報告書!L277","v":0},{"$f":"報告書!O277","v":0},{"$f":"報告書!L358","v":0},{"$f":"報告書!O358","v":0},{"$f":"報告書!L438","v":0},{"$f":"報告書!O438","v":0}]
[null,null,"【ハ．不具合の概要】",{"$nulls":10},{"$f":"BJ518","v":""},{"$nulls":32},{"$f":"IF(BB80=2,\"⠅\",IF(BB80=3,\"⠕\",IF(BB80=4,\"⠭\",IF(BB80=5,\"⁙\",IF(BB80=6,\"⠿\",IF(BB80=7,\"⡿\",IF(BB80=8,\"⣿\",IF(BB80=9,\"ⅸ\",IF(BB80>10,\"ⅹ\",\"\")))))))))","v":""},{"$nulls":4},"レ",null,{"$f":"COUNTA(報告書!H484:Q486)+COUNTA(報告書!H499:Q501)+COUNTA(報告書!H514:Q516)+COUNTA(報告書!H529:Q531)","v":0},"①","AND($BB80>=2,$N81<>\"\")","【ニ．改善の状況】",{"$f":"報告書!L201","v":""},{"$f":"報告書!AL201","v":""},{"$f":"報告書!L278","v":""},{"$f":"報告書!AL278","v":""},{"$f":"報告書!L359","v":""},{"$f":"報告書!AL359","v":""},{"$f":"報告書!L439","v":""},{"$f":"報告書!AL439","v":""}]
[{"$nulls":13},{"$f":"BJ519","v":""},{"$nulls":40},"②","AND($BB80>=3,$N81<>\"\",$N82<>\"\")"]
[{"$nulls":13},"",{"$nulls":40},"③","AND($BB80>=4,$N81<>\"\",$N82<>\"\",$N83<>\"\")"]
[{"$nulls":13},"",{"$nulls":40},"④","AND($BB80>=5,$N81<>\"\",$N82<>\"\",$N83<>\"\",$N84<>\"\")"]
[{"$nulls":13},"",{"$nulls":40},"⑤","AND($BB80>=6,$N81<>\"\",$N82<>\"\",$N83<>\"\",$N84<>\"\",$N85<>\"\")"]
[{"$nulls":13},"",{"$nulls":40},"⑥","AND($BB80>=7,$N81<>\"\",$N82<>\"\",$N83<>\"\",$N84<>\"\",$N85<>\"\",$N86<>\"\")"]
[{"$nulls":13},"",{"$nulls":40},"⑦","AND($BB80>=8,$N81<>\"\",$N82<>\"\",$N83<>\"\",$N84<>\"\",$N85<>\"\",$N86<>\"\",$N87<>\"\")"]
[{"$nulls":13},"",{"$nulls":40},"⑧","AND($BB80>=9,$N81<>\"\",$N82<>\"\",$N83<>\"\",$N84<>\"\",$N85<>\"\",$N86<>\"\",$N87<>\"\",$N88<>\"\")"]
[{"$nulls":13},"",{"$nulls":40},"⑨","AND($BB80>=10,$N81<>\"\",$N82<>\"\",$N83<>\"\",$N84<>\"\",$N85<>\"\",$N86<>\"\",$N87<>\"\",$N88<>\"\",$N89<>\"\")"]
[{"$nulls":13},"",{"$nulls":40},"⑩","IF(BB80=2,\"②\",IF(BB80=3,\"③\",IF(BB80=4,\"④\",IF(BB80=5,\"⑤\",IF(BB80=6,\"⑥\",IF(BB80=7,\"⑦\",IF(BB80=8,\"⑧\",IF(BB80=9,\"⑨\",IF(BB80=10,\"⑩\",\"\")))))))))"]
[null,null,"【ニ．改善の状況】",{"$nulls":8},{"$f":"BF96","v":""},"実施済",{"$nulls":3},{"$f":"BF97","v":""},"改善予定",{"$nulls":5},"（令和",{"$f":"BH97","v":""},null,"年",{"$f":"BI97","v":""},null,"月に改善予定）",{"$nulls":26},"改善予定",{"$f":"報告書!Q201","v":""},{"$f":"IF(OR(BF91=0,BG91=0),\"\",VALUE(BF91&0&BG91))","v":0},{"$f":"報告書!Q278","v":""},{"$f":"IF(OR(BH91=0,BI91=0),\"\",VALUE(BH91&0&BI91))","v":0},{"$f":"報告書!Q359","v":""},{"$f":"IF(OR(BJ91=0,BK91=0),\"\",VALUE(BJ91&0&BK91))","v":0},{"$f":"報告書!Q439","v":""},{"$f":"IF(OR(BL91=0,BM91=0),\"\",VALUE(BL91&0&BM91))","v":0}]
[{"$nulls":11},{"$f":"BG96","v":""},"予定なし",{"$nulls":6},"（理由：",{"$f":"IF(報告書!BM751=\"\",\"\",報告書!BM751)","v":""},{"$nulls":23},"）",{"$nulls":11},"年月",{"$f":"0&報告書!Y201","v":"0"},{"$f":"0&報告書!AB201","v":"0"},{"$f":"0&報告書!Y278","v":"0"},{"$f":"0&報告書!AB278","v":"0"},{"$f":"0&報告書!Y359","v":"0"},{"$f":"0&報告書!AB359","v":"0"},{"$f":"0&報告書!Y439","v":"0"},{"$f":"0&報告書!AB439","v":"0"}]
[{"$nulls":57},{"$f":"LEFT(BG90,1)","v":"0"},{"$f":"RIGHT(BG90,2)","v":"0"},{"$f":"LEFT(BI90,1)","v":"0"},{"$f":"RIGHT(BI90,2)","v":"0"},{"$f":"LEFT(BK90,1)","v":"0"},{"$f":"RIGHT(BK90,2)","v":"0"},{"$f":"LEFT(BM90,1)","v":"0"},{"$f":"RIGHT(BM90,2)","v":"0"}]
[{"$nulls":58},{"$f":"IF(OR(BF91=0,BG91=0),\"\",VALUE(BF92&BG92))","v":0},null,{"$f":"IF(OR(BH91=0,BI91=0),\"\",VALUE(BH92&BI92))","v":0},null,{"$f":"IF(OR(BJ91=0,BK91=0),\"\",VALUE(BJ92&BK92))","v":0},null,{"$f":"IF(OR(BL91=0,BM91=0),\"\",VALUE(BL92&BM92))","v":0}]
[{"$nulls":56},"【イ．不具合】",{"$f":"IF(OR(BF78=\"レ\",BH78=\"レ\",BJ78=\"レ\",BL78=\"レ\"),\"レ\",\"\")","v":""},{"$f":"IF(BF94=\"レ\",\"\",IF(OR(BG78=\"レ\",BI78=\"レ\",BK78=\"レ\",BM78=\"レ\"),\"レ\",\"\"))","v":""}]
[{"$nulls":56},"【ロ．不具合記録】",{"$f":"IF(OR(BF79=\"レ\",BH79=\"レ\",BJ79=\"レ\",BL79=\"レ\"),\"レ\",\"\")","v":""},{"$f":"IF(BF95=\"レ\",\"\",IF(OR(BG79=\"レ\",BI79=\"レ\",BK79=\"レ\",BM79=\"レ\"),\"レ\",\"\"))","v":""}]
[null,"（第二面）",{"$nulls":54},"【ニ．改善の状況】",{"$f":"IF(OR(BG96=\"レ\",BF97=\"レ\"),\"\",IF(OR(BF80=\"レ\",BH80=\"レ\",BJ80=\"レ\",BL80=\"レ\"),\"レ\",\"\"))","v":""},{"$f":"IF(OR(BG80=\"レ\",BI80=\"レ\",BK80=\"レ\",BM80=\"レ\"),\"レ\",\"\")","v":""}]
[null,"建築設備の状況等",{"$nulls":54},"改善予定＆年月",{"$f":"IF(BG96=\"レ\",\"\",IF(OR(BF90=\"レ\",BH90=\"レ\",BJ90=\"レ\",BL90=\"レ\"),\"レ\",\"\"))","v":""},{"$f":"IF(BF97=\"レ\",報告書!BZ558,\"\")","v":""},{"$f":"IF(BF97=\"レ\",報告書!CA558,\"\")","v":""},{"$f":"IF(BF97=\"レ\",報告書!CB558,\"\")","v":""}]
[]
[]
[null,"【1．建築物の概要】"]
[null,null,"【イ．階数】",{"$nulls":9},"地上",null,null,{"$f":"IF(報告書!N63=\"\",\"\",IF(報告書!P101=\"\",\"\",報告書!P101))","v":""},null,"階",null,null,"地下",null,null,{"$f":"IF(報告書!N63=\"\",\"\",IF(報告書!X101=\"\",\"\",報告書!X101))","v":""},null,"階"]
[null,null,"【ロ．建築面積】",{"$nulls":9},{"$f":"IF(報告書!N63=\"\",\"\",IF(報告書!M102=\"\",\"\",報告書!M102))","v":""},null,{"$f":"IF(報告書!O102=\"\",\"\",報告書!O102)","v":""},null,{"$f":"IF(報告書!Q102=\"\",\"\",報告書!Q102)","v":""},null,{"$f":"IF(報告書!S102=\"\",\"\",報告書!S102)","v":""},null,"㎡"]
[null,null,"【ハ．延べ面積】",{"$nulls":9},{"$f":"IF(報告書!N63=\"\",\"\",IF(報告書!M103=\"\",\"\",報告書!M103))","v":""},null,{"$f":"IF(報告書!O103=\"\",\"\",報告書!O103)","v":""},null,{"$f":"IF(報告書!Q103=\"\",\"\",報告書!Q103)","v":""},null,{"$f":"IF(報告書!S103=\"\",\"\",報告書!S103)","v":""},null,"㎡",null,null,{"$f":"IF(報告書!N63=\"\",\"\",IF(報告書!X103=\"\",\"\",報告書!X103))","v":""}]
[null,null,"【ニ．検査対象建築設備】",{"$nulls":11},{"$f":"IF(報告書!N63=\"\",\"\",報告書!O104)","v":""},"換気設備",{"$nulls":5},{"$f":"IF(報告書!N63=\"\",\"\",報告書!V104)","v":""},"排煙設備",{"$nulls":5},{"$f":"IF(報告書!N63=\"\",\"\",報告書!AC104)","v":""},"非常用の照明装置"]
[{"$nulls":14},{"$f":"IF(報告書!N63=\"\",\"\",報告書!O105)","v":""},"給水設備及び排水設備"]
[]
[]
[]
[]
[]
[null,"【2．確認済証交付年月日等】"]
[null,null,"【イ．確認済証交付年月日】",{"$nulls":16},{"$f":"IF(報告書!N63=\"\",\"\",報告書!T112:U112)","v":""},null,{"$f":"IF(報告書!N63=\"\",\"\",IF(報告書!V112=\"\",\"\",報告書!V112))","v":""},null,"年",{"$f":"IF(報告書!N63=\"\",\"\",IF(報告書!Y112=\"\",\"\",報告書!Y112))","v":""},null,"月",{"$f":"IF(報告書!N63=\"\",\"\",IF(報告書!AB112=\"\",\"\",報告書!AB112))","v":""},null,"日",null,"第",{"$f":"IF(報告書!N63=\"\",\"\",IF(報告書!AG112=\"\",\"\",報告書!AG112))","v":""},null,{"$f":"IF(報告書!AI112=\"\",\"\",報告書!AI112)","v":""},null,{"$f":"IF(報告書!AK112=\"\",\"\",報告書!AK112)","v":""},null,{"$f":"IF(報告書!AM112=\"\",\"\",報告書!AM112)","v":""},null,"号"]
[null,null,"【ロ．確認済証交付者】",{"$nulls":13},{"$f":"IF(報告書!N63=\"\",\"\",報告書!Q113)","v":""},"建築主事等",{"$nulls":4},{"$f":"IF(報告書!N63=\"\",\"\",報告書!W113)","v":""},"指定確認検査機関 （",{"$nulls":8},{"$f":"IF(報告書!N63=\"\",\"\",IF(報告書!AG113=\"\",\"\",報告書!AG113))","v":""},{"$nulls":10},"）"]
[null,null,"【ハ．検査済証交付年月日】",{"$nulls":16},{"$f":"IF(報告書!N63=\"\",\"\",報告書!T114:U114)","v":""},null,{"$f":"IF(報告書!N63=\"\",\"\",IF(報告書!V114=\"\",\"\",報告書!V114))","v":""},null,"年",{"$f":"IF(報告書!N63=\"\",\"\",IF(報告書!Y114=\"\",\"\",報告書!Y114))","v":""},null,"月",{"$f":"IF(報告書!N63=\"\",\"\",IF(報告書!AB114=\"\",\"\",報告書!AB114))","v":""},null,"日",null,"第",{"$f":"IF(報告書!N63=\"\",\"\",IF(報告書!AG114=\"\",\"\",報告書!AG114))","v":""},null,{"$f":"IF(報告書!AI114=\"\",\"\",報告書!AI114)","v":""},null,{"$f":"IF(報告書!AK114=\"\",\"\",報告書!AK114)","v":""},null,{"$f":"IF(報告書!AM114=\"\",\"\",報告書!AM114)","v":""},null,"号"]
[null,null,"【ニ．検査済証交付者】",{"$nulls":13},{"$f":"IF(報告書!N63=\"\",\"\",報告書!Q115)","v":""},"建築主事等",{"$nulls":4},{"$f":"IF(報告書!N63=\"\",\"\",報告書!W115)","v":""},"指定確認検査機関 （",{"$nulls":8},{"$f":"IF(報告書!N63=\"\",\"\",IF(報告書!AG115=\"\",\"\",報告書!AG115))","v":""},{"$nulls":10},"）"]
[]
[]
[]
[]
[]
[null,"【3．検査日等】"]
[null,null,"【イ．今回の検査】",{"$nulls":13},"令和",{"$f":"IF(報告書!N63=\"\",\"\",IF(報告書!R122=\"\",\"\",報告書!R122))","v":""},null,"年",{"$f":"IF(報告書!N63=\"\",\"\",IF(報告書!U122=\"\",\"\",報告書!U122))","v":""},null,"月",{"$f":"IF(報告書!N63=\"\",\"\",IF(報告書!X122=\"\",\"\",報告書!X122))","v":""},null,"日実施"]
[null,null,"【ロ．前回の検査】",{"$nulls":8},{"$f":"IF(報告書!N63=\"\",\"\",報告書!L123)","v":""},"実施（",null,null,{"$f":"IF(報告書!N63=\"\",\"\",報告書!P123:Q123)","v":""},null,{"$f":"IF(報告書!N63=\"\",\"\",IF(報告書!R123=\"\",\"\",報告書!R123))","v":""},null,"年",{"$f":"IF(報告書!N63=\"\",\"\",IF(報告書!U123=\"\",\"\",報告書!U123))","v":""},null,"月",{"$f":"IF(報告書!N63=\"\",\"\",IF(報告書!X123=\"\",\"\",報告書!X123))","v":""},null,"日報告）",{"$nulls":4},{"$f":"IF(報告書!N63=\"\",\"\",報告書!AE123)","v":""},"未実施"]
[null,null,"【ハ．前回の検査に関する書類の写し】",{"$nulls":17},{"$f":"IF(報告書!N63=\"\",\"\",報告書!U124)","v":""},"有",null,{"$f":"IF(報告書!N63=\"\",\"\",報告書!X124)","v":""},"無"]
[]
[]
[]
[]
[]
[null,"【4．換気設備の検査者】",{"$nulls":52},{"$f":"IF($N$136=\"\",\"\",BD130)","v":""},"4.換気設備(代表となる検査者)と同じ"]
[null," （代表となる検査者）",{"$nulls":52},{"$f":"IF($N$147=\"\",\"\",BD131)","v":""},"4.換気設備(その他の検査者)と同じ"]
[null,null,"【イ．資格】",{"$nulls":6},"（",{"$f":"IF(報告書_換気_要是正の指摘あり=\"\",\"\",IF(報告書!K132=\"\",\"\",報告書!K132))","v":""},null," ）建築士",{"$nulls":9},"（",{"$f":"IF(報告書_換気_要是正の指摘あり=\"\",\"\",IF(報告書!X132=\"\",\"\",報告書!X132))","v":""},{"$nulls":5},"）登録第",{"$nulls":3},{"$f":"IF(報告書_換気_要是正の指摘あり=\"\",\"\",IF(報告書!AH132=\"\",\"\",報告書!AH132))","v":""},{"$nulls":6},"号",{"$nulls":13},{"$f":"IF($N$158=\"\",\"\",BD132)","v":""},"4.換気設備(その他の検査者２)と同じ"]
[{"$nulls":9},"建築設備検査員",{"$nulls":22},"第",{"$f":"IF(報告書_換気_要是正の指摘あり=\"\",\"\",IF(報告書!AH133=\"\",\"\",報告書!AH133))","v":""},{"$nulls":6},"号",{"$nulls":13},{"$f":"IF($N$218=\"\",\"\",BD133)","v":""},"8.排煙設備(代表となる検査者)と同じ"]
[{"$nulls":54},{"$f":"IF($N$229=\"\",\"\",BD134)","v":""},"8.排煙設備(その他の検査者)と同じ"]
[null,null,"【ロ．氏名のフリガナ】",{"$nulls":10},{"$f":"IF(報告書_換気_要是正の指摘あり=\"\",\"\",IF(報告書!N135=\"\",\"\",報告書!N135))","v":""},"ﾀｹﾀﾞﾃﾂﾔ","ﾀｹﾀﾞﾃﾂﾔ","ﾀｹﾀﾞﾃﾂﾔ","ﾀｹﾀﾞﾃﾂﾔ","ﾀｹﾀﾞﾃﾂﾔ","ﾀｹﾀﾞﾃﾂﾔ","ﾀｹﾀﾞﾃﾂﾔ","ﾀｹﾀﾞﾃﾂﾔ","ﾀｹﾀﾞﾃﾂﾔ","ﾀｹﾀﾞﾃﾂﾔ","ﾀｹﾀﾞﾃﾂﾔ","ﾀｹﾀﾞﾃﾂﾔ","ﾀｹﾀﾞﾃﾂﾔ","ﾀｹﾀﾞﾃﾂﾔ","ﾀｹﾀﾞﾃﾂﾔ","ﾀｹﾀﾞﾃﾂﾔ","ﾀｹﾀﾞﾃﾂﾔ","ﾀｹﾀﾞﾃﾂﾔ","ﾀｹﾀﾞﾃﾂﾔ","ﾀｹﾀﾞﾃﾂﾔ","ﾀｹﾀﾞﾃﾂﾔ","ﾀｹﾀﾞﾃﾂﾔ","ﾀｹﾀﾞﾃﾂﾔ","ﾀｹﾀﾞﾃﾂﾔ","ﾀｹﾀﾞﾃﾂﾔ","ﾀｹﾀﾞﾃﾂﾔ","ﾀｹﾀﾞﾃﾂﾔ","ﾀｹﾀﾞﾃﾂﾔ","ﾀｹﾀﾞﾃﾂﾔ","ﾀｹﾀﾞﾃﾂﾔ","ﾀｹﾀﾞﾃﾂﾔ","ﾀｹﾀﾞﾃﾂﾔ",{"$nulls":8},{"$f":"IF($N$240=\"\",\"\",BD135)","v":""},"8.排煙設備(その他の検査者２)と同じ"]
[null,null,"【ハ．氏名】",{"$nulls":10},{"$f":"IF(報告書_換気_要是正の指摘あり=\"\",\"\",IF(報告書!N136=\"\",\"\",報告書!N136))","v":""},"","","","","","","","","","","","","","","","","","","","","","","","","","","","","","","","",{"$nulls":8},{"$f":"IF($N$295=\"\",\"\",BD136)","v":""},"12.非常用の照明装置(代表となる検査者)と同じ"]
[null,null,"【ニ．勤務先】",{"$nulls":10},{"$f":"IF(報告書_換気_要是正の指摘あり=\"\",\"\",IF(報告書!N137=\"\",\"\",報告書!N137))","v":""},"","","","","","","","","","","","","","","","","","","","","","","","","","","","","","","","",{"$nulls":8},{"$f":"IF($N$306=\"\",\"\",BD137)","v":""},"12.非常用の照明装置(その他の検査者)と同じ"]
[{"$nulls":9},"（",{"$f":"IF(報告書_換気_要是正の指摘あり=\"\",\"\",IF(報告書!K138=\"\",\"\",報告書!K138))","v":""},null," ）建築士事務所",{"$nulls":9},"（",{"$f":"IF(報告書_換気_要是正の指摘あり=\"\",\"\",IF(報告書!X138=\"\",\"\",報告書!X138))","v":""},{"$nulls":3},"）知事登録第",{"$nulls":5},{"$f":"IF(報告書_換気_要是正の指摘あり=\"\",\"\",IF(報告書!AH138=\"\",\"\",報告書!AH138))","v":""},{"$nulls":6},"号",{"$nulls":13},{"$f":"IF($N$317=\"\",\"\",BD138)","v":""},"12.非常用の照明装置(その他の検査者２)と同じ"]
[null,null,"【ホ．郵便番号】",{"$nulls":10},{"$f":"IF(報告書_換気_要是正の指摘あり=\"\",\"\",IF(報告書!N139=\"\",\"\",報告書!N139))","v":""},"","","","","","","",""]
[null,null,"【ヘ．所在地】",{"$nulls":10},{"$f":"IF(報告書_換気_要是正の指摘あり=\"\",\"\",IF(報告書!N140=\"\",\"\",報告書!N140)&IF(報告書!AE140=\"\",\"\",\"　\"&報告書!AE140))","v":""},"","","","","","","","","","","","","","","","","","","","","","","","","","","","","","","",""]
[null,null,"【ト．電話番号】",{"$nulls":10},{"$f":"IF(報告書_換気_要是正の指摘あり=\"\",\"\",IF(報告書!N141=\"\",\"\",報告書!N141))","v":""},"","","","","","","","","","","","","","","",""]
[null," （その他の検査者）"]
[null,null,"【イ．資格】",{"$nulls":6},"（",{"$f":"IF(報告書_換気_要是正の指摘あり=\"\",\"\",IF(報告書!K143=\"\",\"\",報告書!K143))","v":""},null," ）建築士",{"$nulls":9},"（",{"$f":"IF(報告書_換気_要是正の指摘あり=\"\",\"\",IF(報告書!X143=\"\",\"\",報告書!X143))","v":""},{"$nulls":5},"）登録第",{"$nulls":3},{"$f":"IF(報告書_換気_要是正の指摘あり=\"\",\"\",IF(報告書!AH143=\"\",\"\",報告書!AH143))","v":""},{"$nulls":6},"号"]
[{"$nulls":9},"建築設備検査員",{"$nulls":22},"第",{"$f":"IF(報告書_換気_要是正の指摘あり=\"\",\"\",IF(報告書!AH144=\"\",\"\",報告書!AH144))","v":""},{"$nulls":6},"号"]
[]
[null,null,"【ロ．氏名のフリガナ】",{"$nulls":10},{"$f":"IF(報告書_換気_要是正の指摘あり=\"\",\"\",IF(報告書!N146=\"\",\"\",報告書!N146))","v":""},"","","","","","","","","","","","","","","","","","","","","","","","","","","","","","","",""]
[null,null,"【ハ．氏名】",{"$nulls":10},{"$f":"IF(報告書_換気_要是正の指摘あり=\"\",\"\",IF(報告書!N147=\"\",\"\",報告書!N147))","v":""},"","","","","","","","","","","","","","","","","","","","","","","","","","","","","","","",""]
[null,null,"【ニ．勤務先】",{"$nulls":10},{"$f":"IF(報告書_換気_要是正の指摘あり=\"\",\"\",IF(報告書!N148=\"\",\"\",報告書!N148))","v":""},"","","","","","","","","","","","","","","","","","","","","","","","","","","","","","","",""]
[{"$nulls":9},"（",{"$f":"IF(報告書_換気_要是正の指摘あり=\"\",\"\",IF(報告書!K149=\"\",\"\",報告書!K149))","v":""},null," ）建築士事務所",{"$nulls":9},"（",{"$f":"IF(報告書_換気_要是正の指摘あり=\"\",\"\",IF(報告書!X149=\"\",\"\",報告書!X149))","v":""},{"$nulls":3},"）知事登録第",{"$nulls":5},{"$f":"IF(報告書_換気_要是正の指摘あり=\"\",\"\",IF(報告書!AH149=\"\",\"\",報告書!AH149))","v":""},{"$nulls":6},"号"]
[null,null,"【ホ．郵便番号】",{"$nulls":10},{"$f":"IF(報告書_換気_要是正の指摘あり=\"\",\"\",IF(報告書!N150=\"\",\"\",報告書!N150))","v":""},"","","","","","","",""]
[null,null,"【ヘ．所在地】",{"$nulls":10},{"$f":"IF(報告書_換気_要是正の指摘あり=\"\",\"\",IF(報告書!N151=\"\",\"\",報告書!N151)&IF(報告書!AE151=\"\",\"\",\"　\"&報告書!AE151))","v":""},"","","","","","","","","","","","","","","","","","","","","","","","","","","","","","","",""]
[null,null,"【ト．電話番号】",{"$nulls":10},{"$f":"IF(報告書_換気_要是正の指摘あり=\"\",\"\",IF(報告書!N152=\"\",\"\",報告書!N152))","v":""},"","","","","","","","","","","","","","","",""]
[null," （その他の検査者２）"]
[null,null,"【イ．資格等】",{"$nulls":6},"（",{"$f":"IF(報告書_換気_要是正の指摘あり=\"\",\"\",IF(報告書!K154=\"\",\"\",報告書!K154))","v":""},null," ）建築士",{"$nulls":9},"（",{"$f":"IF(報告書_換気_要是正の指摘あり=\"\",\"\",IF(報告書!X154=\"\",\"\",報告書!X154))","v":""},{"$nulls":8},")登録第",{"$f":"IF(報告書_換気_要是正の指摘あり=\"\",\"\",IF(報告書!AH154=\"\",\"\",報告書!AH154))","v":""},{"$nulls":6},"号"]
[{"$nulls":9},"建築設備検査員",{"$nulls":22},"第",{"$f":"IF(報告書_換気_要是正の指摘あり=\"\",\"\",IF(報告書!AH155=\"\",\"\",報告書!AH155))","v":""},{"$nulls":6},"号"]
[]
[null,null,"【ロ．氏名のフリガナ】",{"$nulls":10},{"$f":"IF(報告書_換気_要是正の指摘あり=\"\",\"\",IF(報告書!N157=\"\",\"\",報告書!N157))","v":""},"","","","","","","","","","","","","","","","","","","","","","","","","","","","","","","",""]
[null,null,"【ハ．氏名】",{"$nulls":10},{"$f":"IF(報告書_換気_要是正の指摘あり=\"\",\"\",IF(報告書!N158=\"\",\"\",報告書!N158))","v":""},"","","","","","","","","","","","","","","","","","","","","","","","","","","","","","","",""]
[null,null,"【ニ．勤務先】",{"$nulls":10},{"$f":"IF(報告書_換気_要是正の指摘あり=\"\",\"\",IF(報告書!N159=\"\",\"\",報告書!N159))","v":""},"","","","","","","","","","","","","","","","","","","","","","","","","","","","","","","",""]
[{"$nulls":9},"（",{"$f":"IF(報告書_換気_要是正の指摘あり=\"\",\"\",IF(報告書!K160=\"\",\"\",報告書!K160))","v":""},null," ）建築士事務所",{"$nulls":9},"（",{"$f":"IF(報告書_換気_要是正の指摘あり=\"\",\"\",IF(報告書!X160=\"\",\"\",報告書!X160))","v":""},{"$nulls":8},")知事登録第",{"$f":"IF(報告書_換気_要是正の指摘あり=\"\",\"\",IF(報告書!AH160=\"\",\"\",報告書!AH160))","v":""},{"$nulls":6},"号"]
[null,null,"【ホ．郵便番号】",{"$nulls":10},{"$f":"IF(報告書_換気_要是正の指摘あり=\"\",\"\",IF(報告書!N161=\"\",\"\",報告書!N161))","v":""},"","","","","","","",""]
[null,null,"【ヘ．所在地】",{"$nulls":10},{"$f":"IF(報告書_換気_要是正の指摘あり=\"\",\"\",IF(報告書!N162=\"\",\"\",報告書!N162)&IF(報告書!AE162=\"\",\"\",\"　\"&報告書!AE162))","v":""},"","","","","","","","","","","","","","","","","","","","","","","","","","","","","","","",""]
[null,null,"【ト．電話番号】",{"$nulls":10},{"$f":"IF(報告書_換気_要是正の指摘あり=\"\",\"\",IF(報告書!N163=\"\",\"\",報告書!N163))","v":""},"","","","","","","","","","","","","","","",""]
[]
[]
[]
[]
[]
[null,"【5．換気設備の概要】"]
[null,null,"【イ．無窓居室】",{"$nulls":9},"自然換気設備 （",{"$nulls":6},"―",null,"系統",null,"―",null,"室）",null,null,{"$f":"IF(報告書_換気_要是正の指摘あり=\"\",\"\",報告書!AC170)","v":""},"機械換気設備 (",{"$nulls":6},{"$f":"IF(報告書_換気_要是正の指摘あり=\"\",\"\",IF(報告書!AK170=\"\",\"\",報告書!AK170))","v":""},null,"系統",null,{"$f":"IF(報告書_換気_要是正の指摘あり=\"\",\"\",IF(報告書!AO170=\"\",\"\",報告書!AO170))","v":""},null,"室）"]
[{"$nulls":11},{"$f":"IF(報告書_換気_要是正の指摘あり=\"\",\"\",報告書!L171)","v":""},"中央管理方式の空気調和設備 (",{"$nulls":13},{"$f":"IF(報告書_換気_要是正の指摘あり=\"\",\"\",IF(報告書!AA171=\"\",\"\",報告書!AA171))","v":""},null,"系統",null,{"$f":"IF(報告書_換気_要是正の指摘あり=\"\",\"\",IF(報告書!AE171=\"\",\"\",報告書!AE171))","v":""},null,"室）"]
[{"$nulls":11},{"$f":"IF(報告書_換気_要是正の指摘あり=\"\",\"\",報告書!L172)","v":""},"その他 (",{"$nulls":3},{"$f":"IF(報告書_換気_要是正の指摘あり=\"\",\"\",IF(報告書!Q172=\"\",\"\",報告書!Q172))","v":""},null,"系統",null,{"$f":"IF(報告書_換気_要是正の指摘あり=\"\",\"\",IF(報告書!U172=\"\",\"\",報告書!U172))","v":""},null,"室）",{"$nulls":5},{"$f":"IF(報告書_換気_要是正の指摘あり=\"\",\"\",報告書!AC172)","v":""},"無"]
[null,null,"【ロ．火気使用室】",{"$nulls":9},"自然換気設備 （",{"$nulls":6},"―",null,"系統",null,"―",null,"室）",null,null,{"$f":"IF(報告書_換気_要是正の指摘あり=\"\",\"\",報告書!AC173)","v":""},"機械換気設備 (",{"$nulls":6},{"$f":"IF(報告書_換気_要是正の指摘あり=\"\",\"\",IF(報告書!AK173=\"\",\"\",報告書!AK173))","v":""},null,"系統",null,{"$f":"IF(報告書_換気_要是正の指摘あり=\"\",\"\",IF(報告書!AO173=\"\",\"\",報告書!AO173))","v":""},null,"室）"]
[{"$nulls":11},{"$f":"IF(報告書_換気_要是正の指摘あり=\"\",\"\",報告書!L174)","v":""},"その他 (",{"$nulls":3},{"$f":"IF(報告書_換気_要是正の指摘あり=\"\",\"\",IF(報告書!Q174=\"\",\"\",報告書!Q174))","v":""},null,"系統",null,{"$f":"IF(報告書_換気_要是正の指摘あり=\"\",\"\",IF(報告書!U174=\"\",\"\",報告書!U174))","v":""},null,"室）",{"$nulls":5},{"$f":"IF(報告書_換気_要是正の指摘あり=\"\",\"\",報告書!AC174)","v":""},"無"]
[null,null,"【ハ．居室等】",{"$nulls":9},"自然換気設備 （",{"$nulls":6},"―",null,"系統",null,"―",null,"室）",null,null,{"$f":"IF(報告書_換気_要是正の指摘あり=\"\",\"\",報告書!AC175)","v":""},"機械換気設備 (",{"$nulls":6},{"$f":"IF(報告書_換気_要是正の指摘あり=\"\",\"\",IF(報告書!AK175=\"\",\"\",報告書!AK175))","v":""},null,"系統",null,{"$f":"IF(報告書_換気_要是正の指摘あり=\"\",\"\",IF(報告書!AO175=\"\",\"\",報告書!AO175))","v":""},null,"室）"]
[{"$nulls":11},{"$f":"IF(報告書_換気_要是正の指摘あり=\"\",\"\",報告書!L176)","v":""},"中央管理方式の空気調和設備 (",{"$nulls":13},{"$f":"IF(報告書_換気_要是正の指摘あり=\"\",\"\",IF(報告書!AA176=\"\",\"\",報告書!AA176))","v":""},null,"系統",null,{"$f":"IF(報告書_換気_要是正の指摘あり=\"\",\"\",IF(報告書!AE176=\"\",\"\",報告書!AE176))","v":""},null,"室）"]
[{"$nulls":11},{"$f":"IF(報告書_換気_要是正の指摘あり=\"\",\"\",報告書!L177)","v":""},"その他 (",{"$nulls":3},{"$f":"IF(報告書_換気_要是正の指摘あり=\"\",\"\",IF(報告書!Q177=\"\",\"\",報告書!Q177))","v":""},null,"系統",null,{"$f":"IF(報告書_換気_要是正の指摘あり=\"\",\"\",IF(報告書!U177=\"\",\"\",報告書!U177))","v":""},null,"室）",{"$nulls":5},{"$f":"IF(報告書_換気_要是正の指摘あり=\"\",\"\",報告書!AC177)","v":""},"無"]
[null,null,"【ニ．空気調和設備・冷暖房設備】"]
[]
[null,null,"【ニ．防火ダンパーの有無】",{"$nulls":15},{"$f":"IF(報告書_換気_要是正の指摘あり=\"\",\"\",報告書!S180)","v":""},"有",null,{"$f":"IF(報告書_換気_要是正の指摘あり=\"\",\"\",報告書!V180)","v":""},"無"]
[]
[]
[]
[]
[null,"【6．換気設備の検査の状況】"]
[null,null,"【イ．指摘の内容】",{"$nulls":11},"要是正の指摘あり （",{"$nulls":9},"既存不適格）",{"$nulls":8},"指摘なし"]
[null,null,"【ロ．指摘の概要】"]
[]
[]
[]
[]
[null,null,"【ハ．改善予定の有無】",{"$nulls":11},"有","（","令和",{"$nulls":3},"年",null,null,"月に改善予定）",{"$nulls":9},"無"]
[null,null,"【ニ．その他特記事項】"]
{"$rows_empty":18}
[null,"【6．排煙設備の検査者】"]
[null," （代表となる検査者）"]
[null,null,"【イ．資格】",{"$nulls":6},"（",{"$f":"IF(報告書_排煙_要是正の指摘あり=\"\",\"\",IF(報告書!K214=\"\",\"\",報告書!K214))","v":""},null," ）建築士",{"$nulls":9},"（",{"$f":"IF(報告書_排煙_要是正の指摘あり=\"\",\"\",IF(報告書!X214=\"\",\"\",報告書!X214))","v":""},{"$nulls":5},"）登録第",{"$nulls":3},{"$f":"IF(報告書_排煙_要是正の指摘あり=\"\",\"\",IF(報告書!AH214=\"\",\"\",報告書!AH214))","v":""},{"$nulls":6},"号"]
[{"$nulls":9},"建築設備検査員",{"$nulls":22},"第",{"$f":"IF(報告書_排煙_要是正の指摘あり=\"\",\"\",IF(報告書!AH215=\"\",\"\",報告書!AH215))","v":""},{"$nulls":6},"号"]
[]
[null,null,"【ロ．氏名のフリガナ】",{"$nulls":10},{"$f":"IF(報告書_排煙_要是正の指摘あり=\"\",\"\",IF(報告書!N217=\"\",\"\",報告書!N217))","v":""},"ﾀｹﾀﾞﾃﾂﾔ","ﾀｹﾀﾞﾃﾂﾔ","ﾀｹﾀﾞﾃﾂﾔ","ﾀｹﾀﾞﾃﾂﾔ","ﾀｹﾀﾞﾃﾂﾔ","ﾀｹﾀﾞﾃﾂﾔ","ﾀｹﾀﾞﾃﾂﾔ","ﾀｹﾀﾞﾃﾂﾔ","ﾀｹﾀﾞﾃﾂﾔ","ﾀｹﾀﾞﾃﾂﾔ","ﾀｹﾀﾞﾃﾂﾔ","ﾀｹﾀﾞﾃﾂﾔ","ﾀｹﾀﾞﾃﾂﾔ","ﾀｹﾀﾞﾃﾂﾔ","ﾀｹﾀﾞﾃﾂﾔ","ﾀｹﾀﾞﾃﾂﾔ","ﾀｹﾀﾞﾃﾂﾔ","ﾀｹﾀﾞﾃﾂﾔ","ﾀｹﾀﾞﾃﾂﾔ","ﾀｹﾀﾞﾃﾂﾔ","ﾀｹﾀﾞﾃﾂﾔ","ﾀｹﾀﾞﾃﾂﾔ","ﾀｹﾀﾞﾃﾂﾔ","ﾀｹﾀﾞﾃﾂﾔ","ﾀｹﾀﾞﾃﾂﾔ","ﾀｹﾀﾞﾃﾂﾔ","ﾀｹﾀﾞﾃﾂﾔ","ﾀｹﾀﾞﾃﾂﾔ","ﾀｹﾀﾞﾃﾂﾔ","ﾀｹﾀﾞﾃﾂﾔ","ﾀｹﾀﾞﾃﾂﾔ","ﾀｹﾀﾞﾃﾂﾔ"]
[null,null,"【ハ．氏名】",{"$nulls":10},{"$f":"IF(報告書_排煙_要是正の指摘あり=\"\",\"\",IF(報告書!N218=\"\",\"\",報告書!N218))","v":""},"","","","","","","","","","","","","","","","","","","","","","","","","","","","","","","",""]
[null,null,"【ニ．勤務先】",{"$nulls":10},{"$f":"IF(報告書_排煙_要是正の指摘あり=\"\",\"\",IF(報告書!N219=\"\",\"\",報告書!N219))","v":""},"","","","","","","","","","","","","","","","","","","","","","","","","","","","","","","",""]
[{"$nulls":9},"（",{"$f":"IF(報告書_排煙_要是正の指摘あり=\"\",\"\",IF(報告書!K220=\"\",\"\",報告書!K220))","v":""},null," ）建築士事務所",{"$nulls":9},"（",{"$f":"IF(報告書_排煙_要是正の指摘あり=\"\",\"\",IF(報告書!X220=\"\",\"\",報告書!X220))","v":""},{"$nulls":3},"）知事登録第",{"$nulls":5},{"$f":"IF(報告書_排煙_要是正の指摘あり=\"\",\"\",IF(報告書!AH220=\"\",\"\",報告書!AH220))","v":""},{"$nulls":6},"号"]
[null,null,"【ホ．郵便番号】",{"$nulls":10},{"$f":"IF(報告書_排煙_要是正の指摘あり=\"\",\"\",IF(報告書!N221=\"\",\"\",報告書!N221))","v":""},"","","","","","","",""]
[null,null,"【ヘ．所在地】",{"$nulls":10},{"$f":"IF(報告書_排煙_要是正の指摘あり=\"\",\"\",IF(報告書!N222=\"\",\"\",報告書!N222)&IF(報告書!AE222=\"\",\"\",\"　\"&報告書!AE222))","v":""},"","","","","","","","","","","","","","","","","","","","","","","","","","","","","","","",""]
[null,null,"【ト．電話番号】",{"$nulls":10},{"$f":"IF(報告書_排煙_要是正の指摘あり=\"\",\"\",IF(報告書!N223=\"\",\"\",報告書!N223))","v":""},"","","","","","","","","","","","","","","",""]
[null," （その他の検査者）"]
[null,null,"【イ．資格】",{"$nulls":6},"（",{"$f":"IF(報告書_排煙_要是正の指摘あり=\"\",\"\",IF(報告書!K225=\"\",\"\",報告書!K225))","v":""},null," ）建築士",{"$nulls":9},"（",{"$f":"IF(報告書_排煙_要是正の指摘あり=\"\",\"\",IF(報告書!X225=\"\",\"\",報告書!X225))","v":""},{"$nulls":5},"）登録第",{"$nulls":3},{"$f":"IF(報告書_排煙_要是正の指摘あり=\"\",\"\",IF(報告書!AH225=\"\",\"\",報告書!AH225))","v":""},{"$nulls":6},"号"]
[{"$nulls":9},"建築設備検査員",{"$nulls":22},"第",{"$f":"IF(報告書_排煙_要是正の指摘あり=\"\",\"\",IF(報告書!AH226=\"\",\"\",報告書!AH226))","v":""},{"$nulls":6},"号"]
[]
[null,null,"【ロ．氏名のフリガナ】",{"$nulls":10},{"$f":"IF(報告書_排煙_要是正の指摘あり=\"\",\"\",IF(報告書!N228=\"\",\"\",報告書!N228))","v":""},"","","","","","","","","","","","","","","","","","","","","","","","","","","","","","","",""]
[null,null,"【ハ．氏名】",{"$nulls":10},{"$f":"IF(報告書_排煙_要是正の指摘あり=\"\",\"\",IF(報告書!N229=\"\",\"\",報告書!N229))","v":""},"","","","","","","","","","","","","","","","","","","","","","","","","","","","","","","",""]
[null,null,"【ニ．勤務先】",{"$nulls":10},{"$f":"IF(報告書_排煙_要是正の指摘あり=\"\",\"\",IF(報告書!N230=\"\",\"\",報告書!N230))","v":""},"","","","","","","","","","","","","","","","","","","","","","","","","","","","","","","",""]
[{"$nulls":9},"（",{"$f":"IF(報告書_排煙_要是正の指摘あり=\"\",\"\",IF(報告書!K231=\"\",\"\",報告書!K231))","v":""},null," ）建築士事務所",{"$nulls":9},"（",{"$f":"IF(報告書_排煙_要是正の指摘あり=\"\",\"\",IF(報告書!X231=\"\",\"\",報告書!X231))","v":""},{"$nulls":3},"）知事登録第",{"$nulls":5},{"$f":"IF(報告書_排煙_要是正の指摘あり=\"\",\"\",IF(報告書!AH231=\"\",\"\",報告書!AH231))","v":""},{"$nulls":6},"号"]
[null,null,"【ホ．郵便番号】",{"$nulls":10},{"$f":"IF(報告書_排煙_要是正の指摘あり=\"\",\"\",IF(報告書!N232=\"\",\"\",報告書!N232))","v":""},"","","","","","","",""]
[null,null,"【ヘ．所在地】",{"$nulls":10},{"$f":"IF(報告書_排煙_要是正の指摘あり=\"\",\"\",IF(報告書!N233=\"\",\"\",報告書!N233)&IF(報告書!AE233=\"\",\"\",\"　\"&報告書!AE233))","v":""},"","","","","","","","","","","","","","","","","","","","","","","","","","","","","","","",""]
[null,null,"【ト．電話番号】",{"$nulls":10},{"$f":"IF(報告書_排煙_要是正の指摘あり=\"\",\"\",IF(報告書!N234=\"\",\"\",報告書!N234))","v":""},"","","","","","","","","","","","","","","",""]
[null," （その他の検査者２）"]
[null,null,"【イ．資格等】",{"$nulls":6},"（",{"$f":"IF(報告書_排煙_要是正の指摘あり=\"\",\"\",IF(報告書!K236=\"\",\"\",報告書!K236))","v":""},null," ）建築士",{"$nulls":9},"（",{"$f":"IF(報告書_排煙_要是正の指摘あり=\"\",\"\",IF(報告書!X236=\"\",\"\",報告書!X236))","v":""},{"$nulls":8},")登録第",{"$f":"IF(報告書_排煙_要是正の指摘あり=\"\",\"\",IF(報告書!AH236=\"\",\"\",報告書!AH236))","v":""},{"$nulls":6},"号"]
[{"$nulls":9},"建築設備検査員",{"$nulls":22},"第",{"$f":"IF(報告書_排煙_要是正の指摘あり=\"\",\"\",IF(報告書!AH237=\"\",\"\",報告書!AH237))","v":""},{"$nulls":6},"号"]
[]
[null,null,"【ロ．氏名のフリガナ】",{"$nulls":10},{"$f":"IF(報告書_排煙_要是正の指摘あり=\"\",\"\",IF(報告書!N239=\"\",\"\",報告書!N239))","v":""},"","","","","","","","","","","","","","","","","","","","","","","","","","","","","","","",""]
[null,null,"【ハ．氏名】",{"$nulls":10},{"$f":"IF(報告書_排煙_要是正の指摘あり=\"\",\"\",IF(報告書!N240=\"\",\"\",報告書!N240))","v":""},"","","","","","","","","","","","","","","","","","","","","","","","","","","","","","","",""]
[null,null,"【ニ．勤務先】",{"$nulls":10},{"$f":"IF(報告書_排煙_要是正の指摘あり=\"\",\"\",IF(報告書!N241=\"\",\"\",報告書!N241))","v":""},"","","","","","","","","","","","","","","","","","","","","","","","","","","","","","","",""]
[{"$nulls":9},"（",{"$f":"IF(報告書_排煙_要是正の指摘あり=\"\",\"\",IF(報告書!K242=\"\",\"\",報告書!K242))","v":""},null," ）建築士事務所",{"$nulls":9},"（",{"$f":"IF(報告書_排煙_要是正の指摘あり=\"\",\"\",IF(報告書!X242=\"\",\"\",報告書!X242))","v":""},{"$nulls":8},")知事登録第",{"$f":"IF(報告書_排煙_要是正の指摘あり=\"\",\"\",IF(報告書!AH242=\"\",\"\",報告書!AH242))","v":""},{"$nulls":6},"号"]
[null,null,"【ホ．郵便番号】",{"$nulls":10},{"$f":"IF(報告書_排煙_要是正の指摘あり=\"\",\"\",IF(報告書!N243=\"\",\"\",報告書!N243))","v":""},"","","","","","","",""]
[null,null,"【ヘ．所在地】",{"$nulls":10},{"$f":"IF(報告書_排煙_要是正の指摘あり=\"\",\"\",IF(報告書!N244=\"\",\"\",報告書!N244)&IF(報告書!AE244=\"\",\"\",\"　\"&報告書!AE244))","v":""},"","","","","","","","","","","","","","","","","","","","","","","","","","","","","","","",""]
[null,null,"【ト．電話番号】",{"$nulls":10},{"$f":"IF(報告書_排煙_要是正の指摘あり=\"\",\"\",IF(報告書!N245=\"\",\"\",報告書!N245))","v":""},"","","","","","","","","","","","","","","",""]
[]
[]
[]
[null,"【7．排煙設備の概要】"]
[null,null,"【イ．避難安全検証法等の適用】",{"$nulls":14},{"$f":"IF(報告書_排煙_要是正の指摘あり=\"\",\"\",報告書!R250)","v":""},"区画避難安全検証法 (",{"$nulls":9},{"$f":"IF(報告書_排煙_要是正の指摘あり=\"\",\"\",IF(報告書!AC250=\"\",\"\",報告書!AC250))","v":""},null,"階）",null,{"$f":"IF(報告書_排煙_要是正の指摘あり=\"\",\"\",報告書!AG250)","v":""},"階避難安全検証法 (",{"$nulls":8},{"$f":"IF(報告書_排煙_要是正の指摘あり=\"\",\"\",IF(報告書!AQ250=\"\",\"\",報告書!AQ250))","v":""},null,"階）"]
[{"$nulls":10},{"$f":"IF(報告書_排煙_要是正の指摘あり=\"\",\"\",報告書!K251)","v":""},"全館避難安全検証法",{"$nulls":9},{"$f":"IF(報告書_排煙_要是正の指摘あり=\"\",\"\",報告書!V251)","v":""},"その他 (",{"$nulls":3},{"$f":"IF(報告書_排煙_要是正の指摘あり=\"\",\"\",IF(報告書!AA251=\"\",\"\",報告書!AA251))","v":""},{"$nulls":17},"）"]
[null,null,"【ロ．特別避難階段の階段室又は付室】"]
[{"$nulls":10},{"$f":"IF(報告書_排煙_要是正の指摘あり=\"\",\"\",報告書!K253)","v":""},"吸引式 (",{"$nulls":3},{"$f":"IF(報告書_排煙_要是正の指摘あり=\"\",\"\",IF(報告書!P253=\"\",\"\",報告書!P253))","v":""},null,"区画）",{"$nulls":3},{"$f":"IF(報告書_排煙_要是正の指摘あり=\"\",\"\",報告書!V253)","v":""},"給気式 (",{"$nulls":3},{"$f":"IF(報告書_排煙_要是正の指摘あり=\"\",\"\",IF(報告書!AA253=\"\",\"\",報告書!AA253))","v":""},null,"区画）",{"$nulls":3},{"$f":"IF(報告書_排煙_要是正の指摘あり=\"\",\"\",報告書!AG253)","v":""},"加圧式 (",{"$nulls":3},{"$f":"IF(報告書_排煙_要是正の指摘あり=\"\",\"\",IF(報告書!AL253=\"\",\"\",報告書!AL253))","v":""},null,"区画）",{"$nulls":3},{"$f":"IF(報告書_排煙_要是正の指摘あり=\"\",\"\",報告書!AR253)","v":""},"無"]
[null,null,"【ハ．非常用エレベーターの昇降路又は乗降ロビー】"]
[{"$nulls":10},{"$f":"IF(報告書_排煙_要是正の指摘あり=\"\",\"\",報告書!K255)","v":""},"吸引式 (",{"$nulls":3},{"$f":"IF(報告書_排煙_要是正の指摘あり=\"\",\"\",IF(報告書!P255=\"\",\"\",報告書!P255))","v":""},null,"区画）",{"$nulls":3},{"$f":"IF(報告書_排煙_要是正の指摘あり=\"\",\"\",報告書!V255)","v":""},"給気式 (",{"$nulls":3},{"$f":"IF(報告書_排煙_要是正の指摘あり=\"\",\"\",IF(報告書!AA255=\"\",\"\",報告書!AA255))","v":""},null,"区画）",{"$nulls":3},{"$f":"IF(報告書_排煙_要是正の指摘あり=\"\",\"\",報告書!AG255)","v":""},"加圧式 (",{"$nulls":3},{"$f":"IF(報告書_排煙_要是正の指摘あり=\"\",\"\",IF(報告書!AL255=\"\",\"\",報告書!AL255))","v":""},null,"区画）",{"$nulls":3},{"$f":"IF(報告書_排煙_要是正の指摘あり=\"\",\"\",報告書!AR255)","v":""},"無"]
[null,null,"【ニ．非常用エレベーターの乗降ロビーの用に供する付室】"]
[{"$nulls":10},{"$f":"IF(報告書_排煙_要是正の指摘あり=\"\",\"\",報告書!K257)","v":""},"吸引式 (",{"$nulls":3},{"$f":"IF(報告書_排煙_要是正の指摘あり=\"\",\"\",IF(報告書!P257=\"\",\"\",報告書!P257))","v":""},null,"区画）",{"$nulls":3},{"$f":"IF(報告書_排煙_要是正の指摘あり=\"\",\"\",報告書!V257)","v":""},"給気式 (",{"$nulls":3},{"$f":"IF(報告書_排煙_要是正の指摘あり=\"\",\"\",IF(報告書!AA257=\"\",\"\",報告書!AA257))","v":""},null,"区画）",{"$nulls":3},{"$f":"IF(報告書_排煙_要是正の指摘あり=\"\",\"\",報告書!AG257)","v":""},"加圧式 (",{"$nulls":3},{"$f":"IF(報告書_排煙_要是正の指摘あり=\"\",\"\",IF(報告書!AL257=\"\",\"\",報告書!AL257))","v":""},null,"区画）",{"$nulls":3},{"$f":"IF(報告書_排煙_要是正の指摘あり=\"\",\"\",報告書!AR257)","v":""},"無"]
[null,null,"【ホ．居室等】",{"$nulls":7},{"$f":"IF(報告書_排煙_要是正の指摘あり=\"\",\"\",報告書!K258)","v":""},"吸引式 (",{"$nulls":3},{"$f":"IF(報告書_排煙_要是正の指摘あり=\"\",\"\",IF(報告書!P258=\"\",\"\",報告書!P258))","v":""},null,"区画）",{"$nulls":3},{"$f":"IF(報告書_排煙_要是正の指摘あり=\"\",\"\",報告書!V258)","v":""},"給気式 (",{"$nulls":3},{"$f":"IF(報告書_排煙_要是正の指摘あり=\"\",\"\",IF(報告書!AA258=\"\",\"\",報告書!AA258))","v":""},null,"区画）",{"$nulls":14},{"$f":"IF(報告書_排煙_要是正の指摘あり=\"\",\"\",報告書!AR258)","v":""},"無"]
[null,null,"【ヘ．予備電源】",{"$nulls":7},{"$f":"IF(報告書_排煙_要是正の指摘あり=\"\",\"\",報告書!K259)","v":""},"蓄電池",{"$nulls":3},{"$f":"IF(報告書_排煙_要是正の指摘あり=\"\",\"\",報告書!P259)","v":""},"自家用発電装置",{"$nulls":7},{"$f":"IF(報告書_排煙_要是正の指摘あり=\"\",\"\",報告書!Y259)","v":""},"直結エンジン",{"$nulls":6},{"$f":"IF(報告書_排煙_要是正の指摘あり=\"\",\"\",報告書!AG259)","v":""},"その他(",{"$nulls":3},{"$f":"IF(報告書_排煙_要是正の指摘あり=\"\",\"\",IF(報告書!AL259=\"\",\"\",報告書!AL259))","v":""},{"$nulls":6},")"]
[]
[]
[null,"【9．排煙設備の検査の状況】"]
[null,null,"【イ．指摘の内容】",{"$nulls":11},"要是正の指摘あり （",{"$nulls":9},"既存不適格）",{"$nulls":8},"指摘なし"]
[null,null,"【ロ．指摘の概要】"]
[]
[]
[]
[]
[null,null,"【ハ．改善予定の有無】",{"$nulls":11},"有","（","令和",{"$nulls":3},"年",null,null,"月に改善予定）",{"$nulls":9},"無"]
[null,null,"【ニ．その他特記事項】"]
{"$rows_empty":18}
[null,"【8．非常用の照明装置の検査者】"]
[null," （代表となる検査者）"]
[null,null,"【イ．資格】",{"$nulls":6},"（",{"$f":"IF(報告書_照明_要是正の指摘あり=\"\",\"\",IF(報告書!K291=\"\",\"\",報告書!K291))","v":""},null," ）建築士",{"$nulls":9},"（",{"$f":"IF(報告書_照明_要是正の指摘あり=\"\",\"\",IF(報告書!X291=\"\",\"\",報告書!X291))","v":""},{"$nulls":5},"）登録第",{"$nulls":3},{"$f":"IF(報告書_照明_要是正の指摘あり=\"\",\"\",IF(報告書!AH291=\"\",\"\",報告書!AH291))","v":""},{"$nulls":6},"号"]
[{"$nulls":9},"建築設備検査員",{"$nulls":22},"第",{"$f":"IF(報告書_照明_要是正の指摘あり=\"\",\"\",IF(報告書!AH292=\"\",\"\",報告書!AH292))","v":""},{"$nulls":6},"号"]
[]
[null,null,"【ロ．氏名のフリガナ】",{"$nulls":10},{"$f":"IF(報告書_照明_要是正の指摘あり=\"\",\"\",IF(報告書!N294=\"\",\"\",報告書!N294))","v":""},"ﾀｹﾀﾞﾃﾂﾔ","ﾀｹﾀﾞﾃﾂﾔ","ﾀｹﾀﾞﾃﾂﾔ","ﾀｹﾀﾞﾃﾂﾔ","ﾀｹﾀﾞﾃﾂﾔ","ﾀｹﾀﾞﾃﾂﾔ","ﾀｹﾀﾞﾃﾂﾔ","ﾀｹﾀﾞﾃﾂﾔ","ﾀｹﾀﾞﾃﾂﾔ","ﾀｹﾀﾞﾃﾂﾔ","ﾀｹﾀﾞﾃﾂﾔ","ﾀｹﾀﾞﾃﾂﾔ","ﾀｹﾀﾞﾃﾂﾔ","ﾀｹﾀﾞﾃﾂﾔ","ﾀｹﾀﾞﾃﾂﾔ","ﾀｹﾀﾞﾃﾂﾔ","ﾀｹﾀﾞﾃﾂﾔ","ﾀｹﾀﾞﾃﾂﾔ","ﾀｹﾀﾞﾃﾂﾔ","ﾀｹﾀﾞﾃﾂﾔ","ﾀｹﾀﾞﾃﾂﾔ","ﾀｹﾀﾞﾃﾂﾔ","ﾀｹﾀﾞﾃﾂﾔ","ﾀｹﾀﾞﾃﾂﾔ","ﾀｹﾀﾞﾃﾂﾔ","ﾀｹﾀﾞﾃﾂﾔ","ﾀｹﾀﾞﾃﾂﾔ","ﾀｹﾀﾞﾃﾂﾔ","ﾀｹﾀﾞﾃﾂﾔ","ﾀｹﾀﾞﾃﾂﾔ","ﾀｹﾀﾞﾃﾂﾔ","ﾀｹﾀﾞﾃﾂﾔ"]
[null,null,"【ハ．氏名】",{"$nulls":10},{"$f":"IF(報告書_照明_要是正の指摘あり=\"\",\"\",IF(報告書!N295=\"\",\"\",報告書!N295))","v":""},"","","","","","","","","","","","","","","","","","","","","","","","","","","","","","","",""]
[null,null,"【ニ．勤務先】",{"$nulls":10},{"$f":"IF(報告書_照明_要是正の指摘あり=\"\",\"\",IF(報告書!N296=\"\",\"\",報告書!N296))","v":""},"","","","","","","","","","","","","","","","","","","","","","","","","","","","","","","",""]
[{"$nulls":9},"（",{"$f":"IF(報告書_照明_要是正の指摘あり=\"\",\"\",IF(報告書!K297=\"\",\"\",報告書!K297))","v":""},null," ）建築士事務所",{"$nulls":9},"（",{"$f":"IF(報告書_照明_要是正の指摘あり=\"\",\"\",IF(報告書!X297=\"\",\"\",報告書!X297))","v":""},{"$nulls":3},"）知事登録第",{"$nulls":5},{"$f":"IF(報告書_照明_要是正の指摘あり=\"\",\"\",IF(報告書!AH297=\"\",\"\",報告書!AH297))","v":""},{"$nulls":6},"号"]
[null,null,"【ホ．郵便番号】",{"$nulls":10},{"$f":"IF(報告書_照明_要是正の指摘あり=\"\",\"\",IF(報告書!N298=\"\",\"\",報告書!N298))","v":""},"","","","","","","",""]
[null,null,"【ヘ．所在地】",{"$nulls":10},{"$f":"IF(報告書_照明_要是正の指摘あり=\"\",\"\",IF(報告書!N299=\"\",\"\",報告書!N299)&IF(報告書!AE299=\"\",\"\",\"　\"&報告書!AE299))","v":""},"","","","","","","","","","","","","","","","","","","","","","","","","","","","","","","",""]
[null,null,"【ト．電話番号】",{"$nulls":10},{"$f":"IF(報告書_照明_要是正の指摘あり=\"\",\"\",IF(報告書!N300=\"\",\"\",報告書!N300))","v":""},"","","","","","","","","","","","","","","",""]
[null," （その他の検査者）"]
[null,null,"【イ．資格】",{"$nulls":6},"（",{"$f":"IF(報告書_照明_要是正の指摘あり=\"\",\"\",IF(報告書!K302=\"\",\"\",報告書!K302))","v":""},null," ）建築士",{"$nulls":9},"（",{"$f":"IF(報告書_照明_要是正の指摘あり=\"\",\"\",IF(報告書!X302=\"\",\"\",報告書!X302))","v":""},{"$nulls":5},"）登録第",{"$nulls":3},{"$f":"IF(報告書_照明_要是正の指摘あり=\"\",\"\",IF(報告書!AH302=\"\",\"\",報告書!AH302))","v":""},{"$nulls":6},"号"]
[{"$nulls":9},"建築設備検査員",{"$nulls":22},"第",{"$f":"IF(報告書_照明_要是正の指摘あり=\"\",\"\",IF(報告書!AH303=\"\",\"\",報告書!AH303))","v":""},{"$nulls":6},"号"]
[]
[null,null,"【ロ．氏名のフリガナ】",{"$nulls":10},{"$f":"IF(報告書_照明_要是正の指摘あり=\"\",\"\",IF(報告書!N305=\"\",\"\",報告書!N305))","v":""},"","","","","","","","","","","","","","","","","","","","","","","","","","","","","","","",""]
[null,null,"【ハ．氏名】",{"$nulls":10},{"$f":"IF(報告書_照明_要是正の指摘あり=\"\",\"\",IF(報告書!N306=\"\",\"\",報告書!N306))","v":""},"","","","","","","","","","","","","","","","","","","","","","","","","","","","","","","",""]
[null,null,"【ニ．勤務先】",{"$nulls":10},{"$f":"IF(報告書_照明_要是正の指摘あり=\"\",\"\",IF(報告書!N307=\"\",\"\",報告書!N307))","v":""},"","","","","","","","","","","","","","","","","","","","","","","","","","","","","","","",""]
[{"$nulls":9},"（",{"$f":"IF(報告書_照明_要是正の指摘あり=\"\",\"\",IF(報告書!K308=\"\",\"\",報告書!K308))","v":""},null," ）建築士事務所",{"$nulls":9},"（",{"$f":"IF(報告書_照明_要是正の指摘あり=\"\",\"\",IF(報告書!X308=\"\",\"\",報告書!X308))","v":""},{"$nulls":3},"）知事登録第",{"$nulls":5},{"$f":"IF(報告書_照明_要是正の指摘あり=\"\",\"\",IF(報告書!AH308=\"\",\"\",報告書!AH308))","v":""},{"$nulls":6},"号"]
[null,null,"【ホ．郵便番号】",{"$nulls":10},{"$f":"IF(報告書_照明_要是正の指摘あり=\"\",\"\",IF(報告書!N309=\"\",\"\",報告書!N309))","v":""},"","","","","","","",""]
[null,null,"【ヘ．所在地】",{"$nulls":10},{"$f":"IF(報告書_照明_要是正の指摘あり=\"\",\"\",IF(報告書!N310=\"\",\"\",報告書!N310)&IF(報告書!AE310=\"\",\"\",\"　\"&報告書!AE310))","v":""},"","","","","","","","","","","","","","","","","","","","","","","","","","","","","","","",""]
[null,null,"【ト．電話番号】",{"$nulls":10},{"$f":"IF(報告書_照明_要是正の指摘あり=\"\",\"\",IF(報告書!N311=\"\",\"\",報告書!N311))","v":""},"","","","","","","","","","","","","","","",""]
[null," （その他の検査者２）"]
[null,null,"【イ．資格等】",{"$nulls":6},"（",{"$f":"IF(報告書_照明_要是正の指摘あり=\"\",\"\",IF(報告書!K313=\"\",\"\",報告書!K313))","v":""},null," ）建築士",{"$nulls":9},"（",{"$f":"IF(報告書_照明_要是正の指摘あり=\"\",\"\",IF(報告書!X313=\"\",\"\",報告書!X313))","v":""},{"$nulls":8},")登録第",{"$f":"IF(報告書_照明_要是正の指摘あり=\"\",\"\",IF(報告書!AH313=\"\",\"\",報告書!AH313))","v":""},{"$nulls":6},"号"]
[{"$nulls":9},"建築設備検査員",{"$nulls":22},"第",{"$f":"IF(報告書_照明_要是正の指摘あり=\"\",\"\",IF(報告書!AH314=\"\",\"\",報告書!AH314))","v":""},{"$nulls":6},"号"]
[]
[null,null,"【ロ．氏名のフリガナ】",{"$nulls":10},{"$f":"IF(報告書_照明_要是正の指摘あり=\"\",\"\",IF(報告書!N316=\"\",\"\",報告書!N316))","v":""},"","","","","","","","","","","","","","","","","","","","","","","","","","","","","","","",""]
[null,null,"【ハ．氏名】",{"$nulls":10},{"$f":"IF(報告書_照明_要是正の指摘あり=\"\",\"\",IF(報告書!N317=\"\",\"\",報告書!N317))","v":""},"","","","","","","","","","","","","","","","","","","","","","","","","","","","","","","",""]
[null,null,"【ニ．勤務先】",{"$nulls":10},{"$f":"IF(報告書_照明_要是正の指摘あり=\"\",\"\",IF(報告書!N318=\"\",\"\",報告書!N318))","v":""},"","","","","","","","","","","","","","","","","","","","","","","","","","","","","","","",""]
[{"$nulls":9},"（",{"$f":"IF(報告書_照明_要是正の指摘あり=\"\",\"\",IF(報告書!K319=\"\",\"\",報告書!K319))","v":""},null," ）建築士事務所",{"$nulls":9},"（",{"$f":"IF(報告書_照明_要是正の指摘あり=\"\",\"\",IF(報告書!X319=\"\",\"\",報告書!X319))","v":""},{"$nulls":8},")知事登録第",{"$f":"IF(報告書_照明_要是正の指摘あり=\"\",\"\",IF(報告書!AH319=\"\",\"\",報告書!AH319))","v":""},{"$nulls":6},"号"]
[null,null,"【ホ．郵便番号】",{"$nulls":10},{"$f":"IF(報告書_照明_要是正の指摘あり=\"\",\"\",IF(報告書!N320=\"\",\"\",報告書!N320))","v":""},"","","","","","","",""]
[null,null,"【ヘ．所在地】",{"$nulls":10},{"$f":"IF(報告書_照明_要是正の指摘あり=\"\",\"\",IF(報告書!N321=\"\",\"\",報告書!N321)&IF(報告書!AE321=\"\",\"\",\"　\"&報告書!AE321))","v":""},"","","","","","","","","","","","","","","","","","","","","","","","","","","","","","","",""]
[null,null,"【ト．電話番号】",{"$nulls":10},{"$f":"IF(報告書_照明_要是正の指摘あり=\"\",\"\",IF(報告書!N322=\"\",\"\",報告書!N322))","v":""},"","","","","","","","","","","","","","","",""]
[]
[]
[]
[]
[]
[null,"【9．非常用の照明装置の概要】"]
[null,null,"【イ．照明器具】",{"$nulls":7},{"$f":"IF(報告書_照明_要是正の指摘あり=\"\",\"\",報告書!K329)","v":""},"白熱灯 （",{"$nulls":3},{"$f":"IF(報告書_照明_要是正の指摘あり=\"\",\"\",IF(報告書!P329=\"\",\"\",報告書!P329))","v":""},null,"灯）",null,null,{"$f":"IF(報告書_照明_要是正の指摘あり=\"\",\"\",報告書!U329)","v":""},"蛍光灯 （",{"$nulls":3},{"$f":"IF(報告書_照明_要是正の指摘あり=\"\",\"\",IF(報告書!Z329=\"\",\"\",報告書!Z329))","v":""},null,"灯）",null,null,{"$f":"IF(報告書_照明_要是正の指摘あり=\"\",\"\",報告書!AE329)","v":""},"LEDランプ（",{"$nulls":5},{"$f":"IF(報告書_照明_要是正の指摘あり=\"\",\"\",IF(報告書!AL329=\"\",\"\",報告書!AL329))","v":""},null,"灯）"]
[{"$nulls":10},{"$f":"IF(報告書_照明_要是正の指摘あり=\"\",\"\",報告書!K330)","v":""},"その他 （",{"$nulls":3},{"$f":"IF(報告書_照明_要是正の指摘あり=\"\",\"\",IF(報告書!P330=\"\",\"\",報告書!P330))","v":""},null,"灯）"]
[]
[]
[null,null,"【ロ．予備電源】",{"$nulls":7},{"$f":"IF(報告書_照明_要是正の指摘あり=\"\",\"\",報告書!K333)","v":""},"蓄電池（内蔵形）",{"$nulls":7}," （居室",null,null,{"$f":"IF(報告書_照明_要是正の指摘あり=\"\",\"\",IF(報告書!W333=\"\",\"\",報告書!W333))","v":""},null,"灯 、廊下",{"$nulls":3},{"$f":"IF(報告書_照明_要是正の指摘あり=\"\",\"\",IF(報告書!AC333=\"\",\"\",報告書!AC333))","v":""},null,"灯 、階段",{"$nulls":3},{"$f":"IF(報告書_照明_要是正の指摘あり=\"\",\"\",IF(報告書!AI333=\"\",\"\",報告書!AI333))","v":""},null,"灯）"]
[{"$nulls":10},{"$f":"IF(報告書_照明_要是正の指摘あり=\"\",\"\",報告書!K334)","v":""},"蓄電池（別置形）",{"$nulls":7}," （居室",null,null,{"$f":"IF(報告書_照明_要是正の指摘あり=\"\",\"\",IF(報告書!W334=\"\",\"\",報告書!W334))","v":""},null,"灯 、廊下",{"$nulls":3},{"$f":"IF(報告書_照明_要是正の指摘あり=\"\",\"\",IF(報告書!AC334=\"\",\"\",報告書!AC334))","v":""},null,"灯 、階段",{"$nulls":3},{"$f":"IF(報告書_照明_要是正の指摘あり=\"\",\"\",IF(報告書!AI334=\"\",\"\",報告書!AI334))","v":""},null,"灯）"]
[{"$nulls":10},{"$f":"IF(報告書_照明_要是正の指摘あり=\"\",\"\",報告書!K335)","v":""},"自家用発電装置 ",{"$nulls":7}," （居室",null,null,{"$f":"IF(報告書_照明_要是正の指摘あり=\"\",\"\",IF(報告書!W335=\"\",\"\",報告書!W335))","v":""},null,"灯 、廊下",{"$nulls":3},{"$f":"IF(報告書_照明_要是正の指摘あり=\"\",\"\",IF(報告書!AC335=\"\",\"\",報告書!AC335))","v":""},null,"灯 、階段",{"$nulls":3},{"$f":"IF(報告書_照明_要是正の指摘あり=\"\",\"\",IF(報告書!AI335=\"\",\"\",報告書!AI335))","v":""},null,"灯）"]
[{"$nulls":10},{"$f":"IF(報告書_照明_要是正の指摘あり=\"\",\"\",報告書!K336)","v":""},"蓄電池(別置形)・自家用発電装置併用 ",{"$nulls":18},"（居室",{"$f":"IF(報告書_照明_要是正の指摘あり=\"\",\"\",IF(報告書!AF336=\"\",\"\",報告書!AF336))","v":""},null,"灯 、廊下",{"$nulls":3},{"$f":"IF(報告書_照明_要是正の指摘あり=\"\",\"\",IF(報告書!AL336=\"\",\"\",報告書!AL336))","v":""},null,"灯 、階段",{"$nulls":3},{"$f":"IF(報告書_照明_要是正の指摘あり=\"\",\"\",IF(報告書!AR336=\"\",\"\",報告書!AR336))","v":""},null,"灯）"]
[{"$nulls":10},{"$f":"IF(報告書_照明_要是正の指摘あり=\"\",\"\",報告書!K337)","v":""},"その他 （",{"$nulls":3},{"$f":"IF(報告書_照明_要是正の指摘あり=\"\",\"\",IF(報告書!P337=\"\",\"\",報告書!P337))","v":""},{"$nulls":6},")"]
[]
[]
[]
[]
[]
[null,"【12．非常用の照明装置の検査の状況】"]
[null,null,"【イ．指摘の内容】",{"$nulls":11},"要是正の指摘あり （",{"$nulls":9},"既存不適格）",{"$nulls":8},"指摘なし"]
[null,null,"【ロ．指摘の概要】"]
[]
[]
[]
[]
[null,null,"【ハ．改善予定の有無】",{"$nulls":11},"有","（","令和",{"$nulls":3},"年",null,null,"月に改善予定）",{"$nulls":9},"無"]
[null,null,"【ニ．その他特記事項】"]
{"$rows_empty":18}
[null,"【10．給水設備及び排水設備の検査者】"]
[null," （代表となる検査者）"]
[null,null,"【イ．資格】",{"$nulls":6},"（",{"$f":"IF(報告書_給水_要是正の指摘あり=\"\",\"\",IF(報告書!K372=\"\",\"\",報告書!K372))","v":""},null," ）建築士",{"$nulls":9},"（",{"$f":"IF(報告書_給水_要是正の指摘あり=\"\",\"\",IF(報告書!X372=\"\",\"\",報告書!X372))","v":""},{"$nulls":5},"）登録第",{"$nulls":3},{"$f":"IF(報告書_給水_要是正の指摘あり=\"\",\"\",IF(報告書!AH372=\"\",\"\",報告書!AH372))","v":""},{"$nulls":6},"号"]
[{"$nulls":9},"建築設備検査員",{"$nulls":22},"第",{"$f":"IF(報告書_給水_要是正の指摘あり=\"\",\"\",IF(報告書!AH373=\"\",\"\",報告書!AH373))","v":""},{"$nulls":6},"号"]
[]
[null,null,"【ロ．氏名のフリガナ】",{"$nulls":10},{"$f":"IF(報告書_給水_要是正の指摘あり=\"\",\"\",IF(報告書!N375=\"\",\"\",報告書!N375))","v":""},"ﾀｹﾀﾞﾃﾂﾔ","ﾀｹﾀﾞﾃﾂﾔ","ﾀｹﾀﾞﾃﾂﾔ","ﾀｹﾀﾞﾃﾂﾔ","ﾀｹﾀﾞﾃﾂﾔ","ﾀｹﾀﾞﾃﾂﾔ","ﾀｹﾀﾞﾃﾂﾔ","ﾀｹﾀﾞﾃﾂﾔ","ﾀｹﾀﾞﾃﾂﾔ","ﾀｹﾀﾞﾃﾂﾔ","ﾀｹﾀﾞﾃﾂﾔ","ﾀｹﾀﾞﾃﾂﾔ","ﾀｹﾀﾞﾃﾂﾔ","ﾀｹﾀﾞﾃﾂﾔ","ﾀｹﾀﾞﾃﾂﾔ","ﾀｹﾀﾞﾃﾂﾔ","ﾀｹﾀﾞﾃﾂﾔ","ﾀｹﾀﾞﾃﾂﾔ","ﾀｹﾀﾞﾃﾂﾔ","ﾀｹﾀﾞﾃﾂﾔ","ﾀｹﾀﾞﾃﾂﾔ","ﾀｹﾀﾞﾃﾂﾔ","ﾀｹﾀﾞﾃﾂﾔ","ﾀｹﾀﾞﾃﾂﾔ","ﾀｹﾀﾞﾃﾂﾔ","ﾀｹﾀﾞﾃﾂﾔ","ﾀｹﾀﾞﾃﾂﾔ","ﾀｹﾀﾞﾃﾂﾔ","ﾀｹﾀﾞﾃﾂﾔ","ﾀｹﾀﾞﾃﾂﾔ","ﾀｹﾀﾞﾃﾂﾔ","ﾀｹﾀﾞﾃﾂﾔ"]
[null,null,"【ハ．氏名】",{"$nulls":10},{"$f":"IF(報告書_給水_要是正の指摘あり=\"\",\"\",IF(報告書!N376=\"\",\"\",報告書!N376))","v":""},"","","","","","","","","","","","","","","","","","","","","","","","","","","","","","","",""]
[null,null,"【ニ．勤務先】",{"$nulls":10},{"$f":"IF(報告書_給水_要是正の指摘あり=\"\",\"\",IF(報告書!N377=\"\",\"\",報告書!N377))","v":""},"","","","","","","","","","","","","","","","","","","","","","","","","","","","","","","",""]
[{"$nulls":9},"（",{"$f":"IF(報告書_給水_要是正の指摘あり=\"\",\"\",IF(報告書!K378=\"\",\"\",報告書!K378))","v":""},null," ）建築士事務所",{"$nulls":9},"（",{"$f":"IF(報告書_給水_要是正の指摘あり=\"\",\"\",IF(報告書!X378=\"\",\"\",報告書!X378))","v":""},{"$nulls":3},"）知事登録第",{"$nulls":5},{"$f":"IF(報告書_給水_要是正の指摘あり=\"\",\"\",IF(報告書!AH378=\"\",\"\",報告書!AH378))","v":""},{"$nulls":6},"号"]
[null,null,"【ホ．郵便番号】",{"$nulls":10},{"$f":"IF(報告書_給水_要是正の指摘あり=\"\",\"\",IF(報告書!N379=\"\",\"\",報告書!N379))","v":""},"","","","","","","",""]
[null,null,"【ヘ．所在地】",{"$nulls":10},{"$f":"IF(報告書_給水_要是正の指摘あり=\"\",\"\",IF(報告書!N380=\"\",\"\",報告書!N380)&IF(報告書!AE380=\"\",\"\",\"　\"&報告書!AE380))","v":""},"","","","","","","","","","","","","","","","","","","","","","","","","","","","","","","",""]
[null,null,"【ト．電話番号】",{"$nulls":10},{"$f":"IF(報告書_給水_要是正の指摘あり=\"\",\"\",IF(報告書!N381=\"\",\"\",報告書!N381))","v":""},"","","","","","","","","","","","","","","",""]
[null," （その他の検査者）"]
[null,null,"【イ．資格】",{"$nulls":6},"（",{"$f":"IF(報告書_給水_要是正の指摘あり=\"\",\"\",IF(報告書!K383=\"\",\"\",報告書!K383))","v":""},null," ）建築士",{"$nulls":9},"（",{"$f":"IF(報告書_給水_要是正の指摘あり=\"\",\"\",IF(報告書!X383=\"\",\"\",報告書!X383))","v":""},{"$nulls":5},"）登録第",{"$nulls":3},{"$f":"IF(報告書_給水_要是正の指摘あり=\"\",\"\",IF(報告書!AH383=\"\",\"\",報告書!AH383))","v":""},{"$nulls":6},"号"]
[{"$nulls":9},"建築設備検査員",{"$nulls":22},"第",{"$f":"IF(報告書_給水_要是正の指摘あり=\"\",\"\",IF(報告書!AH384=\"\",\"\",報告書!AH384))","v":""},{"$nulls":6},"号"]
[]
[null,null,"【ロ．氏名のフリガナ】",{"$nulls":10},{"$f":"IF(報告書_給水_要是正の指摘あり=\"\",\"\",IF(報告書!N386=\"\",\"\",報告書!N386))","v":""},"","","","","","","","","","","","","","","","","","","","","","","","","","","","","","","",""]
[null,null,"【ハ．氏名】",{"$nulls":10},{"$f":"IF(報告書_給水_要是正の指摘あり=\"\",\"\",IF(報告書!N387=\"\",\"\",報告書!N387))","v":""},"","","","","","","","","","","","","","","","","","","","","","","","","","","","","","","",""]
[null,null,"【ニ．勤務先】",{"$nulls":10},{"$f":"IF(報告書_給水_要是正の指摘あり=\"\",\"\",IF(報告書!N388=\"\",\"\",報告書!N388))","v":""},"","","","","","","","","","","","","","","","","","","","","","","","","","","","","","","",""]
[{"$nulls":9},"（",{"$f":"IF(報告書_給水_要是正の指摘あり=\"\",\"\",IF(報告書!K389=\"\",\"\",報告書!K389))","v":""},null," ）建築士事務所",{"$nulls":9},"（",{"$f":"IF(報告書_給水_要是正の指摘あり=\"\",\"\",IF(報告書!X389=\"\",\"\",報告書!X389))","v":""},{"$nulls":3},"）知事登録第",{"$nulls":5},{"$f":"IF(報告書_給水_要是正の指摘あり=\"\",\"\",IF(報告書!AH389=\"\",\"\",報告書!AH389))","v":""},{"$nulls":6},"号"]
[null,null,"【ホ．郵便番号】",{"$nulls":10},{"$f":"IF(報告書_給水_要是正の指摘あり=\"\",\"\",IF(報告書!N390=\"\",\"\",報告書!N390))","v":""},"","","","","","","",""]
[null,null,"【ヘ．所在地】",{"$nulls":10},{"$f":"IF(報告書_給水_要是正の指摘あり=\"\",\"\",IF(報告書!N391=\"\",\"\",報告書!N391)&IF(報告書!AE391=\"\",\"\",\"　\"&報告書!AE391))","v":""},"","","","","","","","","","","","","","","","","","","","","","","","","","","","","","","",""]
[null,null,"【ト．電話番号】",{"$nulls":10},{"$f":"IF(報告書_給水_要是正の指摘あり=\"\",\"\",IF(報告書!N392=\"\",\"\",報告書!N392))","v":""},"","","","","","","","","","","","","","","",""]
[null," （その他の検査者２）"]
[null,null,"【イ．資格等】",{"$nulls":6},"（",{"$f":"IF(報告書_給水_要是正の指摘あり=\"\",\"\",IF(報告書!K394=\"\",\"\",報告書!K394))","v":""},null," ）建築士",{"$nulls":9},"（",{"$f":"IF(報告書_給水_要是正の指摘あり=\"\",\"\",IF(報告書!X394=\"\",\"\",報告書!X394))","v":""},{"$nulls":8},")登録第",{"$f":"IF(報告書_給水_要是正の指摘あり=\"\",\"\",IF(報告書!AH394=\"\",\"\",報告書!AH394))","v":""},{"$nulls":6},"号"]
[{"$nulls":9},"建築設備検査員",{"$nulls":22},"第",{"$f":"IF(報告書_給水_要是正の指摘あり=\"\",\"\",IF(報告書!AH395=\"\",\"\",報告書!AH395))","v":""},{"$nulls":6},"号"]
[]
[null,null,"【ロ．氏名のフリガナ】",{"$nulls":10},{"$f":"IF(報告書_給水_要是正の指摘あり=\"\",\"\",IF(報告書!N397=\"\",\"\",報告書!N397))","v":""},"","","","","","","","","","","","","","","","","","","","","","","","","","","","","","","",""]
[null,null,"【ハ．氏名】",{"$nulls":10},{"$f":"IF(報告書_給水_要是正の指摘あり=\"\",\"\",IF(報告書!N398=\"\",\"\",報告書!N398))","v":""},"","","","","","","","","","","","","","","","","","","","","","","","","","","","","","","",""]
[null,null,"【ニ．勤務先】",{"$nulls":10},{"$f":"IF(報告書_給水_要是正の指摘あり=\"\",\"\",IF(報告書!N399=\"\",\"\",報告書!N399))","v":""},"","","","","","","","","","","","","","","","","","","","","","","","","","","","","","","",""]
[{"$nulls":9},"（",{"$f":"IF(報告書_給水_要是正の指摘あり=\"\",\"\",IF(報告書!K400=\"\",\"\",報告書!K400))","v":""},null," ）建築士事務所",{"$nulls":9},"（",{"$f":"IF(報告書_給水_要是正の指摘あり=\"\",\"\",IF(報告書!X400=\"\",\"\",報告書!X400))","v":""},{"$nulls":8},")知事登録第",{"$f":"IF(報告書_給水_要是正の指摘あり=\"\",\"\",IF(報告書!AH400=\"\",\"\",報告書!AH400))","v":""},{"$nulls":6},"号"]
[null,null,"【ホ．郵便番号】",{"$nulls":10},{"$f":"IF(報告書_給水_要是正の指摘あり=\"\",\"\",IF(報告書!N401=\"\",\"\",報告書!N401))","v":""},"","","","","","","",""]
[null,null,"【ヘ．所在地】",{"$nulls":10},{"$f":"IF(報告書_給水_要是正の指摘あり=\"\",\"\",IF(報告書!N402=\"\",\"\",報告書!N402)&IF(報告書!AE402=\"\",\"\",\"　\"&報告書!AE402))","v":""},"","","","","","","","","","","","","","","","","","","","","","","","","","","","","","","",""]
[null,null,"【ト．電話番号】",{"$nulls":10},{"$f":"IF(報告書_給水_要是正の指摘あり=\"\",\"\",IF(報告書!N403=\"\",\"\",報告書!N403))","v":""},"","","","","","","","","","","","","","","",""]
[]
[]
[]
[]
[]
[null,"【11．給水設備及び排水設備の概要】"]
[null,null,"【イ．飲料水の配管設備】",{"$nulls":11},{"$f":"IF(報告書_給水_要是正の指摘あり=\"\",\"\",報告書!O410)","v":""},"給水タンク （",{"$nulls":5},{"$f":"IF(報告書_給水_要是正の指摘あり=\"\",\"\",IF(報告書!V410=\"\",\"\",報告書!V410))","v":""},null,"基",{"$f":"IF(報告書_給水_要是正の指摘あり=\"\",\"\",IF(報告書!Y410=\"\",\"\",報告書!Y410))","v":""},null,"ｍ3）",{"$nulls":3},{"$f":"IF(報告書_給水_要是正の指摘あり=\"\",\"\",報告書!AE410)","v":""},"貯水タンク （",{"$nulls":5},{"$f":"IF(報告書_給水_要是正の指摘あり=\"\",\"\",IF(報告書!AL410=\"\",\"\",報告書!AL410))","v":""},null,"基",{"$f":"IF(報告書_給水_要是正の指摘あり=\"\",\"\",IF(報告書!AO410=\"\",\"\",報告書!AO410))","v":""},null,"ｍ3）"]
[{"$nulls":15},"その他 （",{"$nulls":18},"）"]
[null,null,"【ロ．排水設備】",{"$nulls":11},{"$f":"IF(報告書_給水_要是正の指摘あり=\"\",\"\",報告書!O412)","v":""},"排水槽 （",{"$nulls":3},{"$f":"IF(報告書_給水_要是正の指摘あり=\"\",\"\",報告書!T412)","v":""},"汚水槽",{"$nulls":3},{"$f":"IF(報告書_給水_要是正の指摘あり=\"\",\"\",報告書!Y412)","v":""},"雑排水槽",{"$nulls":4},{"$f":"IF(報告書_給水_要是正の指摘あり=\"\",\"\",報告書!AE412)","v":""},"合併槽",{"$nulls":3},{"$f":"IF(報告書_給水_要是正の指摘あり=\"\",\"\",報告書!AJ412)","v":""},"雨水槽・湧水槽）"]
[{"$nulls":14},{"$f":"IF(報告書_給水_要是正の指摘あり=\"\",\"\",報告書!O413)","v":""},"排水再利用配管設備",{"$nulls":11},"その他 （",{"$nulls":18},"）"]
[null,null,"【ハ．圧力タンクの有無】",{"$nulls":11},{"$f":"IF(報告書_給水_要是正の指摘あり=\"\",\"\",報告書!O414)","v":""},"有",null,null,{"$f":"IF(報告書_給水_要是正の指摘あり=\"\",\"\",報告書!S414)","v":""},"無"]
[null,null,"【ニ．給湯方式】",{"$nulls":8},{"$f":"IF(報告書_給水_要是正の指摘あり=\"\",\"\",報告書!L415)","v":""},"局所式",{"$nulls":4},{"$f":"IF(報告書_給水_要是正の指摘あり=\"\",\"\",報告書!R415)","v":""},"中央式"]
[null,null,"【ホ．湯沸器】",{"$nulls":8},{"$f":"IF(報告書_給水_要是正の指摘あり=\"\",\"\",報告書!L416)","v":""},"開放式燃焼器",{"$nulls":7},{"$f":"IF(報告書_給水_要是正の指摘あり=\"\",\"\",報告書!U416)","v":""},"半密閉式燃焼器",{"$nulls":8},{"$f":"IF(報告書_給水_要是正の指摘あり=\"\",\"\",報告書!AE416)","v":""},"密閉式燃焼器"]
[{"$nulls":11},{"$f":"IF(報告書_給水_要是正の指摘あり=\"\",\"\",報告書!L417)","v":""},"その他 （",{"$nulls":3},{"$f":"IF(報告書_給水_要是正の指摘あり=\"\",\"\",IF(報告書!Q417=\"\",\"\",報告書!Q417))","v":""},{"$nulls":19},"）"]
[]
[]
[]
[]
[]
[null,"【15．給水設備及び排水設備の検査の状況】"]
[null,null,"【イ．指摘の内容】",{"$nulls":11},"要是正の指摘あり （",{"$nulls":9},"既存不適格）",{"$nulls":8},"指摘なし"]
[null,null,"【ロ．指摘の概要】"]
[]
[]
[]
[]
[null,null,"【ハ．改善予定の有無】",{"$nulls":11},"有","（","令和",{"$nulls":3},"年",null,null,"月に改善予定）",{"$nulls":9},"無"]
[null,null,"【ニ．その他特記事項】"]
{"$rows_empty":18}
[null,"【12．備考】"]
[null,null,"【国土交通大臣が定める検査項目の有無】",{"$nulls":19},{"$f":"IF(報告書!N63=\"\",\"\",IF(報告書!W451=\"\",\"\",報告書!W451))","v":""},"有（",null,{"$f":"IF(報告書!N63=\"\",\"\",IF(報告書!Z451=\"\",\"\",報告書!Z451))","v":""},null,"・",{"$f":"IF(報告書!N63=\"\",\"\",IF(報告書!AC451=\"\",\"\",報告書!AC451))","v":""},null,"・",{"$f":"IF(報告書!N63=\"\",\"\",IF(報告書!AF451=\"\",\"\",報告書!AF451))","v":""},null,null,"）",null,null,{"$f":"IF(報告書!N63=\"\",\"\",IF(報告書!AL451=\"\",\"\",報告書!AL451))","v":""},"無"]
[null,null,{"$f":"IF(報告書!N63=\"\",\"\",IF(報告書!C452=\"\",\"\",報告書!C452))","v":""}]
[null,null,{"$f":"IF(報告書!N63=\"\",\"\",IF(報告書!C453=\"\",\"\",報告書!C453))","v":""}]
[null,null,{"$f":"IF(報告書!N63=\"\",\"\",IF(報告書!C454=\"\",\"\",報告書!C454))","v":""}]
[null,null,{"$f":"IF(報告書!N63=\"\",\"\",IF(報告書!C455=\"\",\"\",報告書!C455))","v":""}]
[null,null,{"$f":"IF(報告書!N63=\"\",\"\",IF(報告書!C456=\"\",\"\",報告書!C456))","v":""}]
[null,null,{"$f":"IF(報告書!N63=\"\",\"\",IF(報告書!C457=\"\",\"\",報告書!C457))","v":""}]
[null,null,{"$f":"IF(報告書!N63=\"\",\"\",IF(報告書!C458=\"\",\"\",報告書!C458))","v":""}]
[null,null,{"$f":"IF(報告書!N63=\"\",\"\",IF(報告書!C459=\"\",\"\",報告書!C459))","v":""}]
[null,null,{"$f":"IF(報告書!N63=\"\",\"\",IF(報告書!C460=\"\",\"\",報告書!C460))","v":""}]
[null,null,{"$f":"IF(報告書!N63=\"\",\"\",IF(報告書!C461=\"\",\"\",報告書!C461))","v":""}]
[null,null,{"$f":"IF(報告書!N63=\"\",\"\",IF(報告書!C462=\"\",\"\",報告書!C462))","v":""}]
[null,null,{"$f":"IF(報告書!N63=\"\",\"\",IF(報告書!C463=\"\",\"\",報告書!C463))","v":""}]
[null,null,{"$f":"IF(報告書!N63=\"\",\"\",IF(報告書!C464=\"\",\"\",報告書!C464))","v":""}]
[null,null,{"$f":"IF(報告書!N63=\"\",\"\",IF(報告書!C465=\"\",\"\",報告書!C465))","v":""}]
[]
[]
[]
[]
[]
[null,"（注意）"]
["　この様式には、第三十六号の六様式に記入した内容と同一の内容を記入してください。第二面は、","　この様式には、第三十六号の六様式に記入した内容と同一の内容を記入してください。第二面は、"]
[null,"同様式第二面において指摘があつた建築設備についてのみ作成し、第一面に添えてください。",{"$nulls":52},"順位","№","設備名","第三面","設+三"]
[{"$nulls":63},"建築設備に係る不具合の状況"]
[]
[null,{"$f":"IF(C477=\"\",\"\",\"［参考］\")","v":""},{"$nulls":61},"不具合を把",{"$nulls":5},"不具合の概要",{"$nulls":9},"考えられる原因",{"$nulls":9},"改善（予定）",{"$nulls":5},"改善措置の概要等"]
[null,null,{"$f":"IF(報告書!BL856>=1,報告書!BM856)","v":""},{"$nulls":60},"握した年月",{"$nulls":25},"年月"]
[null,null,{"$f":"IF(報告書!BL857>=1,報告書!BM857)","v":""},{"$nulls":60},"換気",{"$nulls":5},{"$f":"IF(報告書!H484=\"\",\"\",報告書!H484)","v":""},{"$nulls":9},{"$f":"IF(報告書!R484=\"\",\"\",報告書!R484)","v":""},{"$nulls":9},{"$f":"IF(報告書!AB484=\"\",\"\",報告書!AB484)","v":""},{"$nulls":5},{"$f":"IF(報告書!AH484=\"\",\"\",報告書!AH484)","v":""}]
[null,null,{"$f":"IF(報告書!BL858>=1,報告書!BM858)","v":""},{"$nulls":66},{"$f":"IF(報告書!H485=\"\",\"\",報告書!H485)","v":""},{"$nulls":9},{"$f":"IF(報告書!R485=\"\",\"\",報告書!R485)","v":""},{"$nulls":9},{"$f":"IF(報告書!AB485=\"\",\"\",報告書!AB485)","v":""},{"$nulls":5},{"$f":"IF(報告書!AH485=\"\",\"\",報告書!AH485)","v":""}]
[null,null,{"$f":"IF(報告書!BL859>=1,報告書!BM859)","v":""},{"$nulls":66},{"$f":"IF(報告書!H486=\"\",\"\",報告書!H486)","v":""},{"$nulls":9},{"$f":"IF(報告書!R486=\"\",\"\",報告書!R486)","v":""},{"$nulls":9},{"$f":"IF(報告書!AB486=\"\",\"\",報告書!AB486)","v":""},{"$nulls":5},{"$f":"IF(報告書!AH486=\"\",\"\",報告書!AH486)","v":""}]
[null,null,{"$f":"IF(報告書!BL860>=1,報告書!BM860)","v":""},{"$nulls":66},{"$f":"IF(報告書!H487=\"\",\"\",報告書!H487)","v":""},{"$nulls":9},{"$f":"IF(報告書!R487=\"\",\"\",報告書!R487)","v":""},{"$nulls":9},{"$f":"IF(報告書!AB487=\"\",\"\",報告書!AB487)","v":""},{"$nulls":5},{"$f":"IF(報告書!AH487=\"\",\"\",報告書!AH487)","v":""}]
[null,null,{"$f":"IF(報告書!BL861>=1,報告書!BM861)","v":""},{"$nulls":66},{"$f":"IF(報告書!H488=\"\",\"\",報告書!H488)","v":""},{"$nulls":9},{"$f":"IF(報告書!R488=\"\",\"\",報告書!R488)","v":""},{"$nulls":9},{"$f":"IF(報告書!AB488=\"\",\"\",報告書!AB488)","v":""},{"$nulls":5},{"$f":"IF(報告書!AH488=\"\",\"\",報告書!AH488)","v":""}]
[null,null,{"$f":"IF(報告書!BL862>=1,報告書!BM862)","v":""},{"$nulls":66},{"$f":"IF(報告書!H489=\"\",\"\",報告書!H489)","v":""},{"$nulls":9},{"$f":"IF(報告書!R489=\"\",\"\",報告書!R489)","v":""},{"$nulls":9},{"$f":"IF(報告書!AB489=\"\",\"\",報告書!AB489)","v":""},{"$nulls":5},{"$f":"IF(報告書!AH489=\"\",\"\",報告書!AH489)","v":""}]
[null,null,{"$f":"IF(報告書!BL863>=1,報告書!BM863)","v":""},{"$nulls":66},{"$f":"IF(報告書!H490=\"\",\"\",報告書!H490)","v":""},{"$nulls":9},{"$f":"IF(報告書!R490=\"\",\"\",報告書!R490)","v":""},{"$nulls":9},{"$f":"IF(報告書!AB490=\"\",\"\",報告書!AB490)","v":""},{"$nulls":5},{"$f":"IF(報告書!AH490=\"\",\"\",報告書!AH490)","v":""}]
[null,null,{"$f":"IF(報告書!BL864>=1,報告書!BM864)","v":""},{"$nulls":66},{"$f":"IF(報告書!H491=\"\",\"\",報告書!H491)","v":""},{"$nulls":9},{"$f":"IF(報告書!R491=\"\",\"\",報告書!R491)","v":""},{"$nulls":9},{"$f":"IF(報告書!AB491=\"\",\"\",報告書!AB491)","v":""},{"$nulls":5},{"$f":"IF(報告書!AH491=\"\",\"\",報告書!AH491)","v":""}]
[null,null,{"$f":"IF(報告書!BL865>=1,報告書!BM865)","v":""},{"$nulls":66},{"$f":"IF(報告書!H492=\"\",\"\",報告書!H492)","v":""},{"$nulls":9},{"$f":"IF(報告書!R492=\"\",\"\",報告書!R492)","v":""},{"$nulls":9},{"$f":"IF(報告書!AB492=\"\",\"\",報告書!AB492)","v":""},{"$nulls":5},{"$f":"IF(報告書!AH492=\"\",\"\",報告書!AH492)","v":""}]
[null,null,{"$f":"IF(報告書!BL866>=1,報告書!BM866)","v":""},{"$nulls":66},{"$f":"IF(報告書!H493=\"\",\"\",報告書!H493)","v":""},{"$nulls":9},{"$f":"IF(報告書!R493=\"\",\"\",報告書!R493)","v":""},{"$nulls":9},{"$f":"IF(報告書!AB493=\"\",\"\",報告書!AB493)","v":""},{"$nulls":5},{"$f":"IF(報告書!AH493=\"\",\"\",報告書!AH493)","v":""}]
[null,null,{"$f":"IF(報告書!BL867>=1,報告書!BM867)","v":""},{"$nulls":60},"排煙",{"$nulls":5},{"$f":"IF(報告書!H499=\"\",\"\",報告書!H499)","v":""},{"$nulls":9},{"$f":"IF(報告書!R499=\"\",\"\",報告書!R499)","v":""},{"$nulls":9},{"$f":"IF(報告書!AB499=\"\",\"\",報告書!AB499)","v":""},{"$nulls":5},{"$f":"IF(報告書!AH499=\"\",\"\",報告書!AH499)","v":""}]
[null,null,{"$f":"IF(報告書!BL868>=1,報告書!BM868)","v":""},{"$nulls":66},{"$f":"IF(報告書!H500=\"\",\"\",報告書!H500)","v":""},{"$nulls":9},{"$f":"IF(報告書!R500=\"\",\"\",報告書!R500)","v":""},{"$nulls":9},{"$f":"IF(報告書!AB500=\"\",\"\",報告書!AB500)","v":""},{"$nulls":5},{"$f":"IF(報告書!AH500=\"\",\"\",報告書!AH500)","v":""}]
[null,null,{"$f":"IF(報告書!BL869>=1,報告書!BM869)","v":""},{"$nulls":66},{"$f":"IF(報告書!H501=\"\",\"\",報告書!H501)","v":""},{"$nulls":9},{"$f":"IF(報告書!R501=\"\",\"\",報告書!R501)","v":""},{"$nulls":9},{"$f":"IF(報告書!AB501=\"\",\"\",報告書!AB501)","v":""},{"$nulls":5},{"$f":"IF(報告書!AH501=\"\",\"\",報告書!AH501)","v":""}]
[null,null,{"$f":"IF(報告書!BL870>=1,報告書!BM870)","v":""},{"$nulls":66},{"$f":"IF(報告書!H502=\"\",\"\",報告書!H502)","v":""},{"$nulls":9},{"$f":"IF(報告書!R502=\"\",\"\",報告書!R502)","v":""},{"$nulls":9},{"$f":"IF(報告書!AB502=\"\",\"\",報告書!AB502)","v":""},{"$nulls":5},{"$f":"IF(報告書!AH502=\"\",\"\",報告書!AH502)","v":""}]
[null,null,{"$f":"IF(報告書!BL871>=1,報告書!BM871)","v":""},{"$nulls":66},{"$f":"IF(報告書!H503=\"\",\"\",報告書!H503)","v":""},{"$nulls":9},{"$f":"IF(報告書!R503=\"\",\"\",報告書!R503)","v":""},{"$nulls":9},{"$f":"IF(報告書!AB503=\"\",\"\",報告書!AB503)","v":""},{"$nulls":5},{"$f":"IF(報告書!AH503=\"\",\"\",報告書!AH503)","v":""}]
[null,null,{"$f":"IF(報告書!BL872>=1,報告書!BM872)","v":""},{"$nulls":66},{"$f":"IF(報告書!H504=\"\",\"\",報告書!H504)","v":""},{"$nulls":9},{"$f":"IF(報告書!R504=\"\",\"\",報告書!R504)","v":""},{"$nulls":9},{"$f":"IF(報告書!AB504=\"\",\"\",報告書!AB504)","v":""},{"$nulls":5},{"$f":"IF(報告書!AH504=\"\",\"\",報告書!AH504)","v":""}]
[null,null,{"$f":"IF(報告書!BL873>=1,報告書!BM873)","v":""},{"$nulls":66},{"$f":"IF(報告書!H505=\"\",\"\",報告書!H505)","v":""},{"$nulls":9},{"$f":"IF(報告書!R505=\"\",\"\",報告書!R505)","v":""},{"$nulls":9},{"$f":"IF(報告書!AB505=\"\",\"\",報告書!AB505)","v":""},{"$nulls":5},{"$f":"IF(報告書!AH505=\"\",\"\",報告書!AH505)","v":""}]
[null,null,{"$f":"IF(報告書!BL874>=1,報告書!BM874)","v":""},{"$nulls":66},{"$f":"IF(報告書!H506=\"\",\"\",報告書!H506)","v":""},{"$nulls":9},{"$f":"IF(報告書!R506=\"\",\"\",報告書!R506)","v":""},{"$nulls":9},{"$f":"IF(報告書!AB506=\"\",\"\",報告書!AB506)","v":""},{"$nulls":5},{"$f":"IF(報告書!AH506=\"\",\"\",報告書!AH506)","v":""}]
[null,null,{"$f":"IF(報告書!BL875>=1,報告書!BM875)","v":""},{"$nulls":66},{"$f":"IF(報告書!H507=\"\",\"\",報告書!H507)","v":""},{"$nulls":9},{"$f":"IF(報告書!R507=\"\",\"\",報告書!R507)","v":""},{"$nulls":9},{"$f":"IF(報告書!AB507=\"\",\"\",報告書!AB507)","v":""},{"$nulls":5},{"$f":"IF(報告書!AH507=\"\",\"\",報告書!AH507)","v":""}]
[{"$nulls":69},{"$f":"IF(報告書!H508=\"\",\"\",報告書!H508)","v":""},{"$nulls":9},{"$f":"IF(報告書!R508=\"\",\"\",報告書!R508)","v":""},{"$nulls":9},{"$f":"IF(報告書!AB508=\"\",\"\",報告書!AB508)","v":""},{"$nulls":5},{"$f":"IF(報告書!AH508=\"\",\"\",報告書!AH508)","v":""}]
[{"$nulls":63},"非照",{"$nulls":5},{"$f":"IF(報告書!H514=\"\",\"\",報告書!H514)","v":""},{"$nulls":9},{"$f":"IF(報告書!R514=\"\",\"\",報告書!R514)","v":""},{"$nulls":9},{"$f":"IF(報告書!AB514=\"\",\"\",報告書!AB514)","v":""},{"$nulls":5},{"$f":"IF(報告書!AH514=\"\",\"\",報告書!AH514)","v":""}]
[{"$nulls":69},{"$f":"IF(報告書!H515=\"\",\"\",報告書!H515)","v":""},{"$nulls":9},{"$f":"IF(報告書!R515=\"\",\"\",報告書!R515)","v":""},{"$nulls":9},{"$f":"IF(報告書!AB515=\"\",\"\",報告書!AB515)","v":""},{"$nulls":5},{"$f":"IF(報告書!AH515=\"\",\"\",報告書!AH515)","v":""}]
[{"$nulls":69},{"$f":"IF(報告書!H516=\"\",\"\",報告書!H516)","v":""},{"$nulls":9},{"$f":"IF(報告書!R516=\"\",\"\",報告書!R516)","v":""},{"$nulls":9},{"$f":"IF(報告書!AB516=\"\",\"\",報告書!AB516)","v":""},{"$nulls":5},{"$f":"IF(報告書!AH516=\"\",\"\",報告書!AH516)","v":""}]
[{"$nulls":69},{"$f":"IF(報告書!H517=\"\",\"\",報告書!H517)","v":""},{"$nulls":9},{"$f":"IF(報告書!R517=\"\",\"\",報告書!R517)","v":""},{"$nulls":9},{"$f":"IF(報告書!AB517=\"\",\"\",報告書!AB517)","v":""},{"$nulls":5},{"$f":"IF(報告書!AH517=\"\",\"\",報告書!AH517)","v":""}]
[{"$nulls":69},{"$f":"IF(報告書!H518=\"\",\"\",報告書!H518)","v":""},{"$nulls":9},{"$f":"IF(報告書!R518=\"\",\"\",報告書!R518)","v":""},{"$nulls":9},{"$f":"IF(報告書!AB518=\"\",\"\",報告書!AB518)","v":""},{"$nulls":5},{"$f":"IF(報告書!AH518=\"\",\"\",報告書!AH518)","v":""}]
[{"$nulls":69},{"$f":"IF(報告書!H519=\"\",\"\",報告書!H519)","v":""},{"$nulls":9},{"$f":"IF(報告書!R519=\"\",\"\",報告書!R519)","v":""},{"$nulls":9},{"$f":"IF(報告書!AB519=\"\",\"\",報告書!AB519)","v":""},{"$nulls":5},{"$f":"IF(報告書!AH519=\"\",\"\",報告書!AH519)","v":""}]
[{"$nulls":69},{"$f":"IF(報告書!H520=\"\",\"\",報告書!H520)","v":""},{"$nulls":9},{"$f":"IF(報告書!R520=\"\",\"\",報告書!R520)","v":""},{"$nulls":9},{"$f":"IF(報告書!AB520=\"\",\"\",報告書!AB520)","v":""},{"$nulls":5},{"$f":"IF(報告書!AH520=\"\",\"\",報告書!AH520)","v":""}]
[{"$nulls":69},{"$f":"IF(報告書!H521=\"\",\"\",報告書!H521)","v":""},{"$nulls":9},{"$f":"IF(報告書!R521=\"\",\"\",報告書!R521)","v":""},{"$nulls":9},{"$f":"IF(報告書!AB521=\"\",\"\",報告書!AB521)","v":""},{"$nulls":5},{"$f":"IF(報告書!AH521=\"\",\"\",報告書!AH521)","v":""}]
[{"$nulls":69},{"$f":"IF(報告書!H522=\"\",\"\",報告書!H522)","v":""},{"$nulls":9},{"$f":"IF(報告書!R522=\"\",\"\",報告書!R522)","v":""},{"$nulls":9},{"$f":"IF(報告書!AB522=\"\",\"\",報告書!AB522)","v":""},{"$nulls":5},{"$f":"IF(報告書!AH522=\"\",\"\",報告書!AH522)","v":""}]
[{"$nulls":69},{"$f":"IF(報告書!H523=\"\",\"\",報告書!H523)","v":""},{"$nulls":9},{"$f":"IF(報告書!R523=\"\",\"\",報告書!R523)","v":""},{"$nulls":9},{"$f":"IF(報告書!AB523=\"\",\"\",報告書!AB523)","v":""},{"$nulls":5},{"$f":"IF(報告書!AH523=\"\",\"\",報告書!AH523)","v":""}]
[{"$nulls":63},"水",{"$nulls":5},{"$f":"IF(報告書!H529=\"\",\"\",報告書!H529)","v":""},{"$nulls":9},{"$f":"IF(報告書!R529=\"\",\"\",報告書!R529)","v":""},{"$nulls":9},{"$f":"IF(報告書!AB529=\"\",\"\",報告書!AB529)","v":""},{"$nulls":5},{"$f":"IF(報告書!AH529=\"\",\"\",報告書!AH529)","v":""}]
[{"$nulls":69},{"$f":"IF(報告書!H530=\"\",\"\",報告書!H530)","v":""},{"$nulls":9},{"$f":"IF(報告書!R530=\"\",\"\",報告書!R530)","v":""},{"$nulls":9},{"$f":"IF(報告書!AB530=\"\",\"\",報告書!AB530)","v":""},{"$nulls":5},{"$f":"IF(報告書!AH530=\"\",\"\",報告書!AH530)","v":""}]
[{"$nulls":69},{"$f":"IF(報告書!H531=\"\",\"\",報告書!H531)","v":""},{"$nulls":9},{"$f":"IF(報告書!R531=\"\",\"\",報告書!R531)","v":""},{"$nulls":9},{"$f":"IF(報告書!AB531=\"\",\"\",報告書!AB531)","v":""},{"$nulls":5},{"$f":"IF(報告書!AH531=\"\",\"\",報告書!AH531)","v":""}]
[{"$nulls":69},{"$f":"IF(報告書!H532=\"\",\"\",報告書!H532)","v":""},{"$nulls":9},{"$f":"IF(報告書!R532=\"\",\"\",報告書!R532)","v":""},{"$nulls":9},{"$f":"IF(報告書!AB532=\"\",\"\",報告書!AB532)","v":""},{"$nulls":5},{"$f":"IF(報告書!AH532=\"\",\"\",報告書!AH532)","v":""}]
[{"$nulls":69},{"$f":"IF(報告書!H533=\"\",\"\",報告書!H533)","v":""},{"$nulls":9},{"$f":"IF(報告書!R533=\"\",\"\",報告書!R533)","v":""},{"$nulls":9},{"$f":"IF(報告書!AB533=\"\",\"\",報告書!AB533)","v":""},{"$nulls":5},{"$f":"IF(報告書!AH533=\"\",\"\",報告書!AH533)","v":""}]
[{"$nulls":69},{"$f":"IF(報告書!H534=\"\",\"\",報告書!H534)","v":""},{"$nulls":9},{"$f":"IF(報告書!R534=\"\",\"\",報告書!R534)","v":""},{"$nulls":9},{"$f":"IF(報告書!AB534=\"\",\"\",報告書!AB534)","v":""},{"$nulls":5},{"$f":"IF(報告書!AH534=\"\",\"\",報告書!AH534)","v":""}]
[{"$nulls":69},{"$f":"IF(報告書!H535=\"\",\"\",報告書!H535)","v":""},{"$nulls":9},{"$f":"IF(報告書!R535=\"\",\"\",報告書!R535)","v":""},{"$nulls":9},{"$f":"IF(報告書!AB535=\"\",\"\",報告書!AB535)","v":""},{"$nulls":5},{"$f":"IF(報告書!AH535=\"\",\"\",報告書!AH535)","v":""}]
[{"$nulls":69},{"$f":"IF(報告書!H536=\"\",\"\",報告書!H536)","v":""},{"$nulls":9},{"$f":"IF(報告書!R536=\"\",\"\",報告書!R536)","v":""},{"$nulls":9},{"$f":"IF(報告書!AB536=\"\",\"\",報告書!AB536)","v":""},{"$nulls":5},{"$f":"IF(報告書!AH536=\"\",\"\",報告書!AH536)","v":""}]
[{"$nulls":69},{"$f":"IF(報告書!H537=\"\",\"\",報告書!H537)","v":""},{"$nulls":9},{"$f":"IF(報告書!R537=\"\",\"\",報告書!R537)","v":""},{"$nulls":9},{"$f":"IF(報告書!AB537=\"\",\"\",報告書!AB537)","v":""},{"$nulls":5},{"$f":"IF(報告書!AH537=\"\",\"\",報告書!AH537)","v":""}]
[{"$nulls":69},{"$f":"IF(報告書!H538=\"\",\"\",報告書!H538)","v":""},{"$nulls":9},{"$f":"IF(報告書!R538=\"\",\"\",報告書!R538)","v":""},{"$nulls":9},{"$f":"IF(報告書!AB538=\"\",\"\",報告書!AB538)","v":""},{"$nulls":5},{"$f":"IF(報告書!AH538=\"\",\"\",報告書!AH538)","v":""}]
[{"$nulls":54},{"$f":"IF(BD518=\"\",\"\",RANK(BD518,$BD$518:$BD$557,1))","v":""},{"$f":"IF(BF518=0,\"\",1)","v":""},{"$f":"IF(BF518=0,\"\",\"換気設備\")","v":""},{"$f":"報告書!H484","v":0},{"$f":"IF(BC518=\"\",\"\",BE518&\"　\"&BF518)","v":""},1,{"$f":"VLOOKUP(BH518,$BC$518:$BC$557,1)","v":{"$error":"#N/A"}},{"$f":"IF($BC$558=0,\"\",VLOOKUP(BH518,BC518:BG557,5))","v":""}]
[{"$nulls":54},{"$f":"IF(BD519=\"\",\"\",RANK(BD519,$BD$518:$BD$557,1))","v":""},{"$f":"IF(BF519=0,\"\",2)","v":""},{"$f":"IF(BF519=0,\"\",\"換気設備\")","v":""},{"$f":"報告書!H485","v":0},{"$f":"IF(BC519=\"\",\"\",BE519&\"　\"&BF519)","v":""},2,{"$f":"VLOOKUP(BH519,$BC$518:$BC$557,1)","v":{"$error":"#N/A"}},{"$f":"IF($BC$558=0,\"\",IF(BH519=BI519,VLOOKUP(BH519,$BC$518:$BG$557,5),\"\"))","v":""}]
[{"$nulls":54},"",{"$f":"IF(BF520=0,\"\",3)","v":""},"",{"$f":"報告書!H486","v":0},"",3,{"$error":"#N/A"},{"$f":"IF($BC$558=0,\"\",IF(BH520=BI520,VLOOKUP(BH520,$BC$518:$BG$557,5),\"\"))","v":""}]
[{"$nulls":54},"",{"$f":"IF(BF521=0,\"\",4)","v":""},"",{"$f":"報告書!H487","v":0},"",4,{"$error":"#N/A"},""]
[{"$nulls":54},"",{"$f":"IF(BF522=0,\"\",5)","v":""},"",{"$f":"報告書!H488","v":0},"",5,{"$error":"#N/A"},""]
[{"$nulls":54},"",{"$f":"IF(BF523=0,\"\",6)","v":""},"",{"$f":"報告書!H489","v":0},"",6,{"$error":"#N/A"},""]
[{"$nulls":54},"",{"$f":"IF(BF524=0,\"\",7)","v":""},"",{"$f":"報告書!H490","v":0},"",7,{"$error":"#N/A"},""]
[{"$nulls":54},"",{"$f":"IF(BF525=0,\"\",8)","v":""},"",{"$f":"報告書!H491","v":0},"",8,{"$error":"#N/A"},""]
[{"$nulls":54},"",{"$f":"IF(BF526=0,\"\",9)","v":""},"",{"$f":"報告書!H492","v":0},"",9,{"$error":"#N/A"},""]
[{"$nulls":54},"",{"$f":"IF(BF527=0,\"\",10)","v":""},"",{"$f":"報告書!H493","v":0},"",10,{"$error":"#N/A"},""]
[{"$nulls":54},"",{"$f":"IF(BF528=0,\"\",11)","v":""},{"$f":"IF(BF528=0,\"\",\"排煙設備\")","v":""},{"$f":"報告書!H499","v":0},""]
[{"$nulls":54},"",{"$f":"IF(BF529=0,\"\",12)","v":""},{"$f":"IF(BF529=0,\"\",\"排煙設備\")","v":""},{"$f":"報告書!H500","v":0},""]
[{"$nulls":54},"",{"$f":"IF(BF530=0,\"\",13)","v":""},"",{"$f":"報告書!H501","v":0},""]
[{"$nulls":54},"",{"$f":"IF(BF531=0,\"\",14)","v":""},"",{"$f":"報告書!H502","v":0},""]
[{"$nulls":54},"",{"$f":"IF(BF532=0,\"\",15)","v":""},"",{"$f":"報告書!H503","v":0},""]
[{"$nulls":54},"",{"$f":"IF(BF533=0,\"\",16)","v":""},"",{"$f":"報告書!H504","v":0},""]
[{"$nulls":54},"",{"$f":"IF(BF534=0,\"\",17)","v":""},"",{"$f":"報告書!H505","v":0},""]
[{"$nulls":54},"",{"$f":"IF(BF535=0,\"\",18)","v":""},"",{"$f":"報告書!H506","v":0},""]
[{"$nulls":54},"",{"$f":"IF(BF536=0,\"\",19)","v":""},"",{"$f":"報告書!H507","v":0},""]
[{"$nulls":54},"",{"$f":"IF(BF537=0,\"\",20)","v":""},"",{"$f":"報告書!H508","v":0},""]
[{"$nulls":54},"",{"$f":"IF(BF538=0,\"\",21)","v":""},{"$f":"IF(BF538=0,\"\",\"非常用の照明装置\")","v":""},{"$f":"報告書!H514","v":0},""]
[{"$nulls":54},"",{"$f":"IF(BF539=0,\"\",22)","v":""},{"$f":"IF(BF539=0,\"\",\"非常用の照明装置\")","v":""},{"$f":"報告書!H515","v":0},""]
[{"$nulls":54},"",{"$f":"IF(BF540=0,\"\",23)","v":""},"",{"$f":"報告書!H516","v":0},""]
[{"$nulls":54},"",{"$f":"IF(BF541=0,\"\",24)","v":""},"",{"$f":"報告書!H517","v":0},""]
[{"$nulls":54},"",{"$f":"IF(BF542=0,\"\",25)","v":""},"",{"$f":"報告書!H518","v":0},""]
[{"$nulls":54},"",{"$f":"IF(BF543=0,\"\",26)","v":""},"",{"$f":"報告書!H519","v":0},""]
[{"$nulls":54},"",{"$f":"IF(BF544=0,\"\",27)","v":""},"",{"$f":"報告書!H520","v":0},""]
[{"$nulls":54},"",{"$f":"IF(BF545=0,\"\",28)","v":""},"",{"$f":"報告書!H521","v":0},""]
[{"$nulls":54},"",{"$f":"IF(BF546=0,\"\",29)","v":""},"",{"$f":"報告書!H522","v":0},""]
[{"$nulls":54},"",{"$f":"IF(BF547=0,\"\",30)","v":""},"",{"$f":"報告書!H523","v":0},""]
[{"$nulls":54},"",{"$f":"IF(BF548=0,\"\",31)","v":""},{"$f":"IF(BF548=0,\"\",\"給水設備及び排水設備\")","v":""},{"$f":"報告書!H529","v":0},""]
[{"$nulls":54},"",{"$f":"IF(BF549=0,\"\",32)","v":""},{"$f":"IF(BF549=0,\"\",\"給水設備及び排水設備\")","v":""},{"$f":"報告書!H530","v":0},""]
[{"$nulls":54},"",{"$f":"IF(BF550=0,\"\",33)","v":""},"",{"$f":"報告書!H531","v":0},""]
[{"$nulls":54},"",{"$f":"IF(BF551=0,\"\",34)","v":""},"",{"$f":"報告書!H532","v":0},""]
[{"$nulls":54},"",{"$f":"IF(BF552=0,\"\",35)","v":""},"",{"$f":"報告書!H533","v":0},""]
[{"$nulls":54},"",{"$f":"IF(BF553=0,\"\",36)","v":""},"",{"$f":"報告書!H534","v":0},""]
[{"$nulls":54},"",{"$f":"IF(BF554=0,\"\",37)","v":""},"",{"$f":"報告書!H535","v":0},""]
[{"$nulls":54},"",{"$f":"IF(BF555=0,\"\",38)","v":""},"",{"$f":"報告書!H536","v":0},""]
[{"$nulls":54},"",{"$f":"IF(BF556=0,\"\",39)","v":""},"",{"$f":"報告書!H537","v":0},""]
[{"$nulls":54},{"$f":"IF(BD557=\"\",\"\",RANK(BD557,$BD$518:$BD$557,1))","v":""},{"$f":"IF(BF557=0,\"\",40)","v":""},"",{"$f":"報告書!H538","v":0},""]
[{"$nulls":54},{"$f":"SUM(BC518:BC557)","v":0}]

{"sheet":"移行ツール設定v16","index":16,"n_rows":520,"n_cols":11,"rows_kept":520,"hidden":true}
["移行ツール設定 V16(同一バージョン用)"]
["対象バージョンに該当するセル位置を記載する。基本は上から順番になっているが、フリガナを含む項目はフリガナ項目より先に行っている。"]
[]
["№","現ワークシート名","旧ワークシート名","フィールド名（自身の識別用）","現セル位置","旧セル位置","特殊条件"]
[1,"報告書","報告書","建築物基本番号_都区市コード","AD1","AD1"]
[2,"報告書","報告書","建築物基本番号_地区コード1","AF1","AF1"]
[3,"報告書","報告書","建築物基本番号_地区コード2","AG1","AG1"]
[4,"報告書","報告書","建築物基本番号_町名コード1","AI1","AI1"]
[5,"報告書","報告書","建築物基本番号_町名コード2","AJ1","AJ1"]
[6,"報告書","報告書","建築物基本番号_丁目コード1","AL1","AL1"]
[7,"報告書","報告書","建築物基本番号_丁目コード2","AM1","AM1"]
[8,"報告書","報告書","建築物基本番号_建築物固有番号1","AO1","AO1"]
[9,"報告書","報告書","建築物基本番号_建築物固有番号2","AP1","AP1"]
[10,"報告書","報告書","建築物基本番号_建築物固有番号3","AQ1","AQ1"]
[11,"報告書","報告書","建築物基本番号_建築物固有番号4","AR1","AR1"]
[12,"報告書","報告書","建築物基本番号_予備","AT1","AT1"]
[13,"報告書","報告書","センター受付番号",null,"AL2",{"$nulls":4},"AL2"]
[14,"報告書","報告書","特定行政庁名","C14","C14"]
[15,"報告書","報告書","報告者氏名1",null,"AE18",{"$nulls":4},"AE18"]
[16,"報告書","報告書","報告者氏名2",null,"AE19",{"$nulls":4},"AE19"]
[17,"報告書","報告書","検査者氏名","AE22","AE22"]
[18,"報告書","報告書","所有者名","N32","N32","カナ含む"]
[19,"報告書","報告書","所有者フリガナ","N31","N31","式"]
[20,"報告書","報告書","所有者名2","AE32","AE32","カナ含む"]
[21,"報告書","報告書","所有者フリガナ2","AE31","AE31","式"]
[22,"報告書","報告書","所有者郵便番号","N33","N33"]
[23,"報告書","報告書","所有者住所","N34","N34"]
[24,"報告書","報告書","所有者住所2","AE34","AE34"]
[25,"報告書","報告書","所有者電話番号","N35","N35"]
[26,"報告書","報告書","管理者名","N43","N43","カナ含む"]
[27,"報告書","報告書","管理者フリガナ","N42","N42","式"]
[28,"報告書","報告書","管理者名2","AE43","AE43","カナ含む"]
[29,"報告書","報告書","管理者フリガナ2","AE42","AE42","式"]
[30,"報告書","報告書","管理者郵便番号","N44","N44"]
[31,"報告書","報告書","管理者住所","N45","N45"]
[32,"報告書","報告書","管理者住所2","AE45","AE45"]
[33,"報告書","報告書","管理者電話番号","N46","N46"]
[34,"報告書","報告書","建物所在地（都道府県）","N53","N53"]
[35,"報告書","報告書","建物所在地（区市）","Q53","Q53"]
[36,"報告書","報告書","建物所在地（町名）","W53","W53"]
[37,"報告書","報告書","建物所在地（丁目等）","AC53","AC53"]
[38,"報告書","報告書","建物名称","N55","N55","カナ含む"]
[39,"報告書","報告書","建物フリガナ","N54","N54","式"]
[40,"報告書","報告書","建物用途","N56","N56"]
[41,"報告書","報告書","建物用途2","T56","T56"]
[42,"報告書","報告書","建物用途3","Z56","Z56"]
[43,"報告書","報告書","建物用途4","AF56","AF56"]
[44,"報告書","報告書","建物用途5","AL56","AL56"]
[45,"報告書","報告書","全体要是正あり",null,"N63",{"$nulls":4},"N63"]
[46,"報告書","報告書","全体既存不適格",null,"X63",{"$nulls":4},"X63"]
[47,"報告書","報告書","全体指摘なし",null,"AG63",{"$nulls":4},"AG63"]
[48,"報告書","報告書","指摘の概要1",null,"N64",{"$nulls":4},"N64"]
[49,"報告書","報告書","指摘の概要2",null,"N65",{"$nulls":4},"N65"]
[50,"報告書","報告書","指摘の概要3",null,"N66",{"$nulls":4},"N66"]
[51,"報告書","報告書","指摘の概要4",null,"N67",{"$nulls":4},"N67"]
[52,"報告書","報告書","指摘の概要5",null,"N68",{"$nulls":4},"N68"]
[53,"報告書","報告書","改善予定あり",null,"N69",{"$nulls":4},"N69"]
[54,"報告書","報告書","改善予定元号",null,"R69","右詰文字",{"$nulls":3},"R69"]
[55,"報告書","報告書","改善予定年",null,"S69",{"$nulls":4},"S69"]
[56,"報告書","報告書","改善予定月",null,"V69",{"$nulls":4},"V69"]
[57,"報告書","報告書","改善予定なし",null,"AG69",{"$nulls":4},"AG69"]
[58,"報告書","報告書","その他特記事項1",null,"N70",{"$nulls":4},"N70"]
[59,"報告書","報告書","その他特記事項2",null,"N71",{"$nulls":4},"N71"]
[60,"報告書","報告書","その他特記事項3",null,"N72",{"$nulls":4},"N72"]
[61,"報告書","報告書","その他特記事項4",null,"N73",{"$nulls":4},"N73"]
[62,"報告書","報告書","その他特記事項5",null,"N74",{"$nulls":4},"N74"]
[63,"報告書","報告書","整理番号","AN79","AN79"]
[64,"報告書","報告書","副本返送先名称",null,"C91",{"$nulls":4},"C91"]
[65,"報告書","報告書","副本返送先郵便番号",null,"C92",{"$nulls":4},"C92"]
[66,"報告書","報告書","副本返送先住所",null,"C93",{"$nulls":4},"C93"]
[67,"報告書","報告書","副本返送先電話番号",null,"C94",{"$nulls":4},"C94"]
[68,"報告書","報告書","連絡先名称",null,"Z91",{"$nulls":4},"Z91"]
[69,"報告書","報告書","連絡先郵便番号",null,"Z92",{"$nulls":4},"Z92"]
[70,"報告書","報告書","連絡先住所",null,"Z93",{"$nulls":4},"Z93"]
[71,"報告書","報告書","連絡先電話番号",null,"Z94",{"$nulls":4},"Z94"]
[72,"報告書","報告書","第一面備考",null,"C95",{"$nulls":4},"C95"]
[73,"報告書","報告書","地上階数","P101","P101"]
[74,"報告書","報告書","地下階数","X101","X101"]
[75,"報告書","報告書","建築面積","M102","M102"]
[76,"報告書","報告書","延べ面積","M103","M103"]
[77,"報告書","報告書","報告対象床面積","X103","X103"]
[78,"報告書","報告書","検査対象換気",null,"O104",{"$nulls":4},"O104"]
[79,"報告書","報告書","検査対象排煙",null,"V104",{"$nulls":4},"V104"]
[80,"報告書","報告書","検査対象非常用照明装置",null,"AC104",{"$nulls":4},"AC104"]
[81,"報告書","報告書","検査対象給排水",null,"O105",{"$nulls":4},"O105"]
[82,"報告書","報告書","確認済証交付元号","T112","T112"]
[83,"報告書","報告書","確認済証交付年","V112","V112"]
[84,"報告書","報告書","確認済証交付月","Y112","Y112"]
[85,"報告書","報告書","確認済証交付日","AB112","AB112"]
[86,"報告書","報告書","確認済証番号","AG112","AG112"]
[87,"報告書","報告書","確認済証交付者建築主事","Q113","Q113"]
[88,"報告書","報告書","確認済証交付者指定確認検査機関","W113","W113"]
[89,"報告書","報告書","確認済証交付者指定確認検査機関名（入力）","BA113","BA113"]
[90,"報告書","報告書","確認済証交付者指定確認検査機関名","AG113","AG113"]
[91,"報告書","報告書","検査済証交付元号","T114","T114"]
[92,"報告書","報告書","検査済証交付年","V114","V114"]
[93,"報告書","報告書","検査済証交付月","Y114","Y114"]
[94,"報告書","報告書","検査済証交付日","AB114","AB114"]
[95,"報告書","報告書","検査済証番号","AG114","AG114"]
[96,"報告書","報告書","検査済証交付者建築主事","Q115","Q115"]
[97,"報告書","報告書","検査済証交付者指定確認検査機関","W115","W115"]
[98,"報告書","報告書","検査済証交付者指定確認検査機関名","AG115","AG115"]
[99,"報告書","報告書","今回検査日元号",null,null,"右詰文字"]
[100,"報告書","報告書","今回検査日年",null,"R122",{"$nulls":4},"R122"]
[101,"報告書","報告書","今回検査日月",null,"U122",{"$nulls":4},"U122"]
[102,"報告書","報告書","今回検査日日",null,"X122",{"$nulls":4},"X122"]
[103,"報告書","報告書","前回検査実施","L123","L123"]
[104,"報告書","報告書","前回検査日元号","P123","AJ16","右詰文字"]
[105,"報告書","報告書","前回検査日年","R123","AL16"]
[106,"報告書","報告書","前回検査日月","U123","AO16"]
[107,"報告書","報告書","前回検査日日","X123","AR16"]
[108,"報告書","報告書","前回検査未実施","AE123","AE123"]
[109,"報告書","報告書","前回検査書類の写し有","U124","U124"]
[110,"報告書","報告書","前回検査書類の写し無","X124","X124"]
[111,"報告書","報告書","換気代表検査者資格建築士","K132","K132"]
[112,"報告書","報告書","換気代表検査者資格建築士登録","X132","X132"]
[113,"報告書","報告書","換気代表検査者資格建築士番号","AH132","AH132"]
[114,"報告書","報告書","換気代表検査者資格建築設備検査員番号","AH133","AH133"]
[115,"報告書","報告書","換気代表検査者氏名","N136","N136","カナ含む"]
[116,"報告書","報告書","換気代表検査者フリガナ","N135","N135","式"]
[117,"報告書","報告書","換気代表検査者勤務先","N137","N137"]
[118,"報告書","報告書","換気代表検査者勤務先資格","K138","K138"]
[119,"報告書","報告書","換気代表検査者勤務先資格登録","X138","X138"]
[120,"報告書","報告書","換気代表検査者勤務先資格番号","AH138","AH138"]
[121,"報告書","報告書","換気代表検査者郵便番号","N139","N139"]
[122,"報告書","報告書","換気代表検査者所在地","N140","N140"]
[123,"報告書","報告書","換気代表検査者所在地2","AE140","AE140"]
[124,"報告書","報告書","換気代表検査者電話番号","N141","N141"]
[125,"報告書","報告書","換気他1検査者資格建築士","K143","K143"]
[126,"報告書","報告書","換気他1検査者資格建築士登録","X143","X143"]
[127,"報告書","報告書","換気他1検査者資格建築士番号","AH143","AH143"]
[128,"報告書","報告書","換気他1検査者資格建築設備検査員番号","AH144","AH144"]
[129,"報告書","報告書","換気他1検査者氏名","N147","N147","カナ含む"]
[130,"報告書","報告書","換気他1検査者フリガナ","N146","N146","式"]
[131,"報告書","報告書","換気他1検査者勤務先","N148","N148"]
[132,"報告書","報告書","換気他1検査者勤務先資格","K149","K149"]
[133,"報告書","報告書","換気他1検査者勤務先資格登録","X149","X149"]
[134,"報告書","報告書","換気他1検査者勤務先資格番号","AH149","AH149"]
[135,"報告書","報告書","換気他1検査者郵便番号","N150","N150"]
[136,"報告書","報告書","換気他1検査者所在地","N151","N151"]
[137,"報告書","報告書","換気他1検査者所在地2","AE151","AE151"]
[138,"報告書","報告書","換気他1検査者電話番号","N152","N152"]
[139,"報告書","報告書","換気他2検査者資格建築士","K154","K154"]
[140,"報告書","報告書","換気他2検査者資格建築士登録","X154","X154"]
[141,"報告書","報告書","換気他2検査者資格建築士番号","AH154","AH154"]
[142,"報告書","報告書","換気他2検査者資格建築設備検査員番号","AH155","AH155"]
[143,"報告書","報告書","換気他2検査者氏名","N158","N158","カナ含む"]
[144,"報告書","報告書","換気他2検査者フリガナ","N157","N157","式"]
[145,"報告書","報告書","換気他2検査者勤務先","N159","N159"]
[146,"報告書","報告書","換気他2検査者勤務先資格","K160","K160"]
[147,"報告書","報告書","換気他2検査者勤務先資格登録","X160","X160"]
[148,"報告書","報告書","換気他2検査者勤務先資格番号","AH160","AH160"]
[149,"報告書","報告書","換気他2検査者郵便番号","N161","N161"]
[150,"報告書","報告書","換気他2検査者所在地","N162","N162"]
[151,"報告書","報告書","換気他2検査者所在地2","AE162","AE162"]
[152,"報告書","報告書","換気他2検査者電話番号","N163","N163"]
[153,"報告書","報告書","換気無窓居室自然換気","L170","L170"]
[154,"報告書","報告書","換気無窓居室機械換気","AC170","AC170"]
[155,"報告書","報告書","換気無窓居室機械換気系統","AK170","AK170"]
[156,"報告書","報告書","換気無窓居室機械換気室","AO170","AO170"]
[157,"報告書","報告書","換気無窓居室中央管理","L171","L171"]
[158,"報告書","報告書","換気無窓居室中央管理系統","AA171","AA171"]
[159,"報告書","報告書","換気無窓居室中央管理室","AE171","AE171"]
[160,"報告書","報告書","換気無窓居室その他","L172","L172"]
[161,"報告書","報告書","換気無窓居室その他系統","Q172","Q172"]
[162,"報告書","報告書","換気無窓居室その他室","U172","U172"]
[163,"報告書","報告書","換気無窓居室無","AC172","AC172"]
[164,"報告書","報告書","換気火気使用室自然換気","L173","L173"]
[165,"報告書","報告書","換気火気使用室機械換気","AC173","AC173"]
[166,"報告書","報告書","換気火気使用室機械換気系統","AK173","AK173"]
[167,"報告書","報告書","換気火気使用室機械換気室","AO173","AO173"]
[168,"報告書","報告書","換気火気使用室その他","L174","L174"]
[169,"報告書","報告書","換気火気使用室その他系統","Q174","Q174"]
[170,"報告書","報告書","換気火気使用室その他室","U174","U174"]
[171,"報告書","報告書","換気火気使用室無","AC174","AC174"]
[172,"報告書","報告書","換気居室等自然換気","L175","L175"]
[173,"報告書","報告書","換気居室等機械換気","AC175","AC175"]
[174,"報告書","報告書","換気居室等機械換気系統","AK175","AK175"]
[175,"報告書","報告書","換気居室等機械換気室","AO175","AO175"]
[176,"報告書","報告書","換気居室等中央管理室","L176","L176"]
[177,"報告書","報告書","換気居室等中央管理室系統","AA176","AA176"]
[178,"報告書","報告書","換気居室等中央管理室室","AE176","AE176"]
[179,"報告書","報告書","換気居室等その他","L177","L177"]
[180,"報告書","報告書","換気居室等その他系統","Q177","Q177"]
[181,"報告書","報告書","換気居室等その他室","U177","U177"]
[182,"報告書","報告書","換気居室等無","AC177","AC177"]
[183,"報告書","報告書","換気防火ダンパー有","S180","S180"]
[184,"報告書","報告書","換気防火ダンパー無","V180","V180"]
[185,"報告書","報告書","換気要是正あり",null,"N186",{"$nulls":4},"N186"]
[186,"報告書","報告書","換気既存不適格",null,"X186",{"$nulls":4},"X186"]
[187,"報告書","報告書","換気指摘なし",null,"AG186",{"$nulls":4},"AG186"]
[188,"報告書","報告書","換気指摘の概要1",null,"N187",{"$nulls":4},"N187"]
[189,"報告書","報告書","換気指摘の概要2",null,"N188",{"$nulls":4},"N188"]
[190,"報告書","報告書","換気指摘の概要3",null,"N189",{"$nulls":4},"N189"]
[191,"報告書","報告書","換気指摘の概要4",null,"N190",{"$nulls":4},"N190"]
[192,"報告書","報告書","換気指摘の概要5",null,"N191",{"$nulls":4},"N191"]
[193,"報告書","報告書","換気改善予定あり",null,"N192",{"$nulls":4},"N192"]
[194,"報告書","報告書","換気改善予定元号",null,null,"右詰文字",{"$nulls":3},"R192"]
[195,"報告書","報告書","換気改善予定年",null,"S192",{"$nulls":4},"S192"]
[196,"報告書","報告書","換気改善予定月",null,"V192",{"$nulls":4},"V192"]
[197,"報告書","報告書","換気改善予定なし",null,"AG192",{"$nulls":4},"AG192"]
[198,"報告書","報告書","換気不具合あり",null,"L199",{"$nulls":4},"L199"]
[199,"報告書","報告書","換気不具合なし",null,"O199",{"$nulls":4},"O199"]
[200,"報告書","報告書","換気不具合記録あり",null,"L200",{"$nulls":4},"L200"]
[201,"報告書","報告書","換気不具合記録なし",null,"O200",{"$nulls":4},"O200"]
[202,"報告書","報告書","換気不具合改善実施済",null,"L201",{"$nulls":4},"L201"]
[203,"報告書","報告書","換気不具合改善予定あり",null,"Q201",{"$nulls":4},"Q201"]
[204,"報告書","報告書","換気不具合改善予定元号",null,null,"右詰文字",{"$nulls":3},"X201"]
[205,"報告書","報告書","換気不具合改善予定年",null,"Y201",{"$nulls":4},"Y201"]
[206,"報告書","報告書","換気不具合改善予定月",null,"AB201",{"$nulls":4},"AB201"]
[207,"報告書","報告書","換気不具合改善予定なし",null,"AL201",{"$nulls":4},"AL201"]
[208,"報告書","報告書","排煙代表検査者資格建築士","K214","K214"]
[209,"報告書","報告書","排煙代表検査者資格建築士登録","X214","X214"]
[210,"報告書","報告書","排煙代表検査者資格建築士番号","AH214","AH214"]
[211,"報告書","報告書","排煙代表検査者資格建築設備検査員番号","AH215","AH215"]
[212,"報告書","報告書","排煙代表検査者氏名","N218","N218","カナ含む"]
[213,"報告書","報告書","排煙代表検査者フリガナ","N217","N217","式"]
[214,"報告書","報告書","排煙代表検査者勤務先","N219","N219"]
[215,"報告書","報告書","排煙代表検査者勤務先資格","K220","K220"]
[216,"報告書","報告書","排煙代表検査者勤務先資格登録","X220","X220"]
[217,"報告書","報告書","排煙代表検査者勤務先資格番号","AH220","AH220"]
[218,"報告書","報告書","排煙代表検査者郵便番号","N221","N221"]
[219,"報告書","報告書","排煙代表検査者所在地","N222","N222"]
[220,"報告書","報告書","排煙代表検査者所在地2","AE222","AE222"]
[221,"報告書","報告書","排煙代表検査者電話番号","N223","N223"]
[222,"報告書","報告書","排煙他1検査者資格建築士","K225","K225"]
[223,"報告書","報告書","排煙他1検査者資格建築士登録","X225","X225"]
[224,"報告書","報告書","排煙他1検査者資格建築士番号","AH225","AH225"]
[225,"報告書","報告書","排煙他1検査者資格建築設備検査員番号","AH226","AH226"]
[226,"報告書","報告書","排煙他1検査者氏名","N229","N229","カナ含む"]
[227,"報告書","報告書","排煙他1検査者フリガナ","N228","N228","式"]
[228,"報告書","報告書","排煙他1検査者勤務先","N230","N230"]
[229,"報告書","報告書","排煙他1検査者勤務先資格","K231","K231"]
[230,"報告書","報告書","排煙他1検査者勤務先資格登録","X231","X231"]
[231,"報告書","報告書","排煙他1検査者勤務先資格番号","AH231","AH231"]
[232,"報告書","報告書","排煙他1検査者郵便番号","N232","N232"]
[233,"報告書","報告書","排煙他1検査者所在地","N233","N233"]
[234,"報告書","報告書","排煙他1検査者所在地2","AE233","AE233"]
[235,"報告書","報告書","排煙他1検査者電話番号","N234","N234"]
[236,"報告書","報告書","排煙他2検査者資格建築士","K236","K236"]
[237,"報告書","報告書","排煙他2検査者資格建築士登録","X236","X236"]
[238,"報告書","報告書","排煙他2検査者資格建築士番号","AH236","AH236"]
[239,"報告書","報告書","排煙他2検査者資格建築設備検査員番号","AH237","AH237"]
[240,"報告書","報告書","排煙他2検査者氏名","N240","N240","カナ含む"]
[241,"報告書","報告書","排煙他2検査者フリガナ","N239","N239","式"]
[242,"報告書","報告書","排煙他2検査者勤務先","N241","N241"]
[243,"報告書","報告書","排煙他2検査者勤務先資格","K242","K242"]
[244,"報告書","報告書","排煙他2検査者勤務先資格登録","X242","X242"]
[245,"報告書","報告書","排煙他2検査者勤務先資格番号","AH242","AH242"]
[246,"報告書","報告書","排煙他2検査者郵便番号","N243","N243"]
[247,"報告書","報告書","排煙他2検査者所在地","N244","N244"]
[248,"報告書","報告書","排煙他2検査者所在地2","AE244","AE244"]
[249,"報告書","報告書","排煙他2検査者電話番号","N245","N245"]
[250,"報告書","報告書","排煙避難安全区画避難安全検証法","R250","R250"]
[251,"報告書","報告書","排煙避難安全区画避難安全検証法階","AC250","AC250"]
[252,"報告書","報告書","排煙避難安全階避難安全検証法","AG250","AG250"]
[253,"報告書","報告書","排煙避難安全階避難安全検証法階","AQ250","AQ250"]
[254,"報告書","報告書","排煙避難安全全館避難安全検証法","K251","K251"]
[255,"報告書","報告書","排煙避難安全その他","V251","V251"]
[256,"報告書","報告書","排煙避難安全その他内容","AA251","AA251"]
[257,"報告書","報告書","排煙特避階段吸引式","K253","K253"]
[258,"報告書","報告書","排煙特避階段吸引式区画","P253","P253"]
[259,"報告書","報告書","排煙特避階段給気式","V253","V253"]
[260,"報告書","報告書","排煙特避階段給気式区画","AA253","AA253"]
[261,"報告書","報告書","排煙特避階段加圧式","AG253","AG253"]
[262,"報告書","報告書","排煙特避階段加圧式区画","AL253","AL253"]
[263,"報告書","報告書","排煙特避階段無","AR253","AR253"]
[264,"報告書","報告書","排煙非常エレ吸引式","K255","K255"]
[265,"報告書","報告書","排煙非常エレ吸引式区画","P255","P255"]
[266,"報告書","報告書","排煙非常エレ給気式","V255","V255"]
[267,"報告書","報告書","排煙非常エレ給気式区画","AA255","AA255"]
[268,"報告書","報告書","排煙非常エレ加圧式","AG255","AG255"]
[269,"報告書","報告書","排煙非常エレ加圧式区画","AL255","AL255"]
[270,"報告書","報告書","排煙非常エレ無","AR255","AR255"]
[271,"報告書","報告書","排煙エレ付室吸引式","K257","K257"]
[272,"報告書","報告書","排煙エレ付室吸引式区画","P257","P257"]
[273,"報告書","報告書","排煙エレ付室給気式","V257","V257"]
[274,"報告書","報告書","排煙エレ付室給気式区画","AA257","AA257"]
[275,"報告書","報告書","排煙エレ付室加圧式","AG257","AG257"]
[276,"報告書","報告書","排煙エレ付室加圧式区画","AL257","AL257"]
[277,"報告書","報告書","排煙エレ付室無","AR257","AR257"]
[278,"報告書","報告書","排煙居室等吸引式","K258","K258"]
[279,"報告書","報告書","排煙居室等吸引式区画","P258","P258"]
[280,"報告書","報告書","排煙居室等給気式","V258","V258"]
[281,"報告書","報告書","排煙居室等給気式区画","AA258","AA258"]
[282,"報告書","報告書","排煙居室等無","AR258","AR258"]
[283,"報告書","報告書","排煙予備電源蓄電池","K259","K259"]
[284,"報告書","報告書","排煙予備電源自家用発電","P259","P259"]
[285,"報告書","報告書","排煙予備電源直結エンジン","Y259","Y259"]
[286,"報告書","報告書","排煙予備電源その他","AG259","AG259"]
[287,"報告書","報告書","排煙予備電源その他内容","AL259","AL259"]
[288,"報告書","報告書","排煙要是正あり",null,"N263",{"$nulls":4},"N263"]
[289,"報告書","報告書","排煙既存不適格",null,"X263",{"$nulls":4},"X263"]
[290,"報告書","報告書","排煙指摘なし",null,"AG263",{"$nulls":4},"AG263"]
[291,"報告書","報告書","排煙指摘の概要1",null,"N264",{"$nulls":4},"N264"]
[292,"報告書","報告書","排煙指摘の概要2",null,"N265",{"$nulls":4},"N265"]
[293,"報告書","報告書","排煙指摘の概要3",null,"N266",{"$nulls":4},"N266"]
[294,"報告書","報告書","排煙指摘の概要4",null,"N267",{"$nulls":4},"N267"]
[295,"報告書","報告書","排煙指摘の概要5",null,"N268",{"$nulls":4},"N268"]
[296,"報告書","報告書","排煙改善予定あり",null,"N269",{"$nulls":4},"N269"]
[297,"報告書","報告書","排煙改善予定元号",null,null,"右詰文字",{"$nulls":3},"R269"]
[298,"報告書","報告書","排煙改善予定年",null,"S269",{"$nulls":4},"S269"]
[299,"報告書","報告書","排煙改善予定月",null,"V269",{"$nulls":4},"V269"]
[300,"報告書","報告書","排煙改善予定なし",null,"AG269",{"$nulls":4},"AG269"]
[301,"報告書","報告書","排煙不具合あり",null,"L276",{"$nulls":4},"L276"]
[302,"報告書","報告書","排煙不具合なし",null,"O276",{"$nulls":4},"O276"]
[303,"報告書","報告書","排煙不具合記録あり",null,"L277",{"$nulls":4},"L277"]
[304,"報告書","報告書","排煙不具合記録なし",null,"O277",{"$nulls":4},"O277"]
[305,"報告書","報告書","排煙不具合改善実施済",null,"L278",{"$nulls":4},"L278"]
[306,"報告書","報告書","排煙不具合改善予定あり",null,"Q278",{"$nulls":4},"Q278"]
[307,"報告書","報告書","排煙不具合改善予定元号",null,null,"右詰文字",{"$nulls":3},"X278"]
[308,"報告書","報告書","排煙不具合改善予定年",null,"Y278",{"$nulls":4},"Y278"]
[309,"報告書","報告書","排煙不具合改善予定月",null,"AB278",{"$nulls":4},"AB278"]
[310,"報告書","報告書","排煙不具合改善予定なし",null,"AL278",{"$nulls":4},"AL278"]
[311,"報告書","報告書","非照代表検査者資格建築士","K291","K291"]
[312,"報告書","報告書","非照代表検査者資格建築士登録","X291","X291"]
[313,"報告書","報告書","非照代表検査者資格建築士番号","AH291","AH291"]
[314,"報告書","報告書","非照代表検査者資格建築設備検査員番号","AH292","AH292"]
[315,"報告書","報告書","非照代表検査者氏名","N295","N295","カナ含む"]
[316,"報告書","報告書","非照代表検査者フリガナ","N294","N294","式"]
[317,"報告書","報告書","非照代表検査者勤務先","N296","N296"]
[318,"報告書","報告書","非照代表検査者勤務先資格","K297","K297"]
[319,"報告書","報告書","非照代表検査者勤務先資格登録","X297","X297"]
[320,"報告書","報告書","非照代表検査者勤務先資格番号","AH297","AH297"]
[321,"報告書","報告書","非照代表検査者郵便番号","N298","N298"]
[322,"報告書","報告書","非照代表検査者所在地","N299","N299"]
[323,"報告書","報告書","非照代表検査者所在地2","AE299","AE299"]
[324,"報告書","報告書","非照代表検査者電話番号","N300","N300"]
[325,"報告書","報告書","非照他1検査者資格建築士","K302","K302"]
[326,"報告書","報告書","非照他1検査者資格建築士登録","X302","X302"]
[327,"報告書","報告書","非照他1検査者資格建築士番号","AH302","AH302"]
[328,"報告書","報告書","非照他1検査者資格建築設備検査員番号","AH303","AH303"]
[329,"報告書","報告書","非照他1検査者氏名","N306","N306","カナ含む"]
[330,"報告書","報告書","非照他1検査者フリガナ","N305","N305","式"]
[331,"報告書","報告書","非照他1検査者勤務先","N307","N307"]
[332,"報告書","報告書","非照他1検査者勤務先資格","K308","K308"]
[333,"報告書","報告書","非照他1検査者勤務先資格登録","X308","X308"]
[334,"報告書","報告書","非照他1検査者勤務先資格番号","AH308","AH308"]
[335,"報告書","報告書","非照他1検査者郵便番号","N309","N309"]
[336,"報告書","報告書","非照他1検査者所在地","N310","N310"]
[337,"報告書","報告書","非照他1検査者所在地2","AE310","AE310"]
[338,"報告書","報告書","非照他1検査者電話番号","N311","N311"]
[339,"報告書","報告書","非照他2検査者資格建築士","K313","K313"]
[340,"報告書","報告書","非照他2検査者資格建築士登録","X313","X313"]
[341,"報告書","報告書","非照他2検査者資格建築士番号","AH313","AH313"]
[342,"報告書","報告書","非照他2検査者資格建築設備検査員番号","AH314","AH314"]
[343,"報告書","報告書","非照他2検査者氏名","N317","N317","カナ含む"]
[344,"報告書","報告書","非照他2検査者フリガナ","N316","N316","式"]
[345,"報告書","報告書","非照他2検査者勤務先","N318","N318"]
[346,"報告書","報告書","非照他2検査者勤務先資格","K319","K319"]
[347,"報告書","報告書","非照他2検査者勤務先資格登録","X319","X319"]
[348,"報告書","報告書","非照他2検査者勤務先資格番号","AH319","AH319"]
[349,"報告書","報告書","非照他2検査者郵便番号","N320","N320"]
[350,"報告書","報告書","非照他2検査者所在地","N321","N321"]
[351,"報告書","報告書","非照他2検査者所在地2","AE321","AE321"]
[352,"報告書","報告書","非照他2検査者電話番号","N322","N322"]
[353,"報告書","報告書","非照照明器具白熱灯","K329","K329"]
[354,"報告書","報告書","非照照明器具白熱灯灯数","P329","P329"]
[355,"報告書","報告書","非照照明器具蛍光灯","U329","U329"]
[356,"報告書","報告書","非照照明器具蛍光灯灯数","Z329","Z329"]
[357,"報告書","報告書","非照照明器具LEDランプ","AE329","AE329"]
[358,"報告書","報告書","非照照明器具LEDランプ灯数","AL329","AL329"]
[359,"報告書","報告書","非照照明器具その他","K330","K330"]
[360,"報告書","報告書","非照照明器具その他灯数","P330","P330"]
[361,"報告書","報告書","非照予備電源蓄電池内蔵","K333","K333"]
[362,"報告書","報告書","非照予備電源蓄電池内蔵居室灯数","W333","W333"]
[363,"報告書","報告書","非照予備電源蓄電池内蔵廊下灯数","AC333","AC333"]
[364,"報告書","報告書","非照予備電源蓄電池内蔵階段灯数","AI333","AI333"]
[365,"報告書","報告書","非照予備電源蓄電池別置","K334","K334"]
[366,"報告書","報告書","非照予備電源蓄電池別置居室灯数","W334","W334"]
[367,"報告書","報告書","非照予備電源蓄電池別置廊下灯数","AC334","AC334"]
[368,"報告書","報告書","非照予備電源蓄電池別置階段灯数","AI334","AI334"]
[369,"報告書","報告書","非照予備電源蓄電池自家用発電","K335","K335"]
[370,"報告書","報告書","非照予備電源蓄電池自家用発電居室灯数","W335","W335"]
[371,"報告書","報告書","非照予備電源蓄電池自家用発電廊下灯数","AC335","AC335"]
[372,"報告書","報告書","非照予備電源蓄電池自家用発電階段灯数","AI335","AI335"]
[373,"報告書","報告書","非照予備電源蓄電池併用","K336","K336"]
[374,"報告書","報告書","非照予備電源蓄電池併用居室灯数","AF336","AF336"]
[375,"報告書","報告書","非照予備電源蓄電池併用廊下灯数","AL336","AL336"]
[376,"報告書","報告書","非照予備電源蓄電池併用階段灯数","AR336","AR336"]
[377,"報告書","報告書","非照予備電源蓄電池その他","K337","K337"]
[378,"報告書","報告書","非照予備電源蓄電池その他内容","P337","P337"]
[379,"報告書","報告書","非照要是正あり",null,"N344",{"$nulls":4},"N344"]
[380,"報告書","報告書","非照既存不適格",null,"X344",{"$nulls":4},"X344"]
[381,"報告書","報告書","非照指摘なし",null,"AG344",{"$nulls":4},"AG344"]
[382,"報告書","報告書","非照指摘の概要1",null,"N345",{"$nulls":4},"N345"]
[383,"報告書","報告書","非照指摘の概要2",null,"N346",{"$nulls":4},"N346"]
[384,"報告書","報告書","非照指摘の概要3",null,"N347",{"$nulls":4},"N347"]
[385,"報告書","報告書","非照指摘の概要4",null,"N348",{"$nulls":4},"N348"]
[386,"報告書","報告書","非照指摘の概要5",null,"N349",{"$nulls":4},"N349"]
[387,"報告書","報告書","非照改善予定あり",null,"N350",{"$nulls":4},"N350"]
[388,"報告書","報告書","非照改善予定元号",null,null,"右詰文字",{"$nulls":3},"R350"]
[389,"報告書","報告書","非照改善予定年",null,"S350",{"$nulls":4},"S350"]
[390,"報告書","報告書","非照改善予定月",null,"V350",{"$nulls":4},"V350"]
[391,"報告書","報告書","非照改善予定なし",null,"AG350",{"$nulls":4},"AG350"]
[392,"報告書","報告書","非照不具合あり",null,"L357",{"$nulls":4},"L357"]
[393,"報告書","報告書","非照不具合なし",null,"O357",{"$nulls":4},"O357"]
[394,"報告書","報告書","非照不具合記録あり",null,"L358",{"$nulls":4},"L358"]
[395,"報告書","報告書","非照不具合記録なし",null,"O358",{"$nulls":4},"O358"]
[396,"報告書","報告書","非照不具合改善実施済",null,"L359",{"$nulls":4},"L359"]
[397,"報告書","報告書","非照不具合改善予定あり",null,"Q359",{"$nulls":4},"Q359"]
[398,"報告書","報告書","非照不具合改善予定元号",null,null,"右詰文字",{"$nulls":3},"X359"]
[399,"報告書","報告書","非照不具合改善予定年",null,"Y359",{"$nulls":4},"Y359"]
[400,"報告書","報告書","非照不具合改善予定月",null,"AB359",{"$nulls":4},"AB359"]
[401,"報告書","報告書","非照不具合改善予定なし",null,"AL359",{"$nulls":4},"AL359"]
[402,"報告書","報告書","水代表検査者資格建築士","K372","K372"]
[403,"報告書","報告書","水代表検査者資格建築士登録","X372","X372"]
[404,"報告書","報告書","水代表検査者資格建築士番号","AH372","AH372"]
[405,"報告書","報告書","水代表検査者資格建築設備検査員番号","AH373","AH373"]
[406,"報告書","報告書","水代表検査者氏名","N376","N376","カナ含む"]
[407,"報告書","報告書","水代表検査者フリガナ","N375","N375","式"]
[408,"報告書","報告書","水代表検査者勤務先","N377","N377"]
[409,"報告書","報告書","水代表検査者勤務先資格","K378","K378"]
[410,"報告書","報告書","水代表検査者勤務先資格登録","X378","X378"]
[411,"報告書","報告書","水代表検査者勤務先資格番号","AH378","AH378"]
[412,"報告書","報告書","水代表検査者郵便番号","N379","N379"]
[413,"報告書","報告書","水代表検査者所在地","N380","N380"]
[414,"報告書","報告書","水代表検査者所在地2","AE380","AE380"]
[415,"報告書","報告書","水代表検査者電話番号","N381","N381"]
[416,"報告書","報告書","水他1検査者資格建築士","K383","K383"]
[417,"報告書","報告書","水他1検査者資格建築士登録","X383","X383"]
[418,"報告書","報告書","水他1検査者資格建築士番号","AH383","AH383"]
[419,"報告書","報告書","水他1検査者資格建築設備検査員番号","AH384","AH384"]
[420,"報告書","報告書","水他1検査者氏名","N387","N387","カナ含む"]
[421,"報告書","報告書","水他1検査者フリガナ","N386","N386","式"]
[422,"報告書","報告書","水他1検査者勤務先","N388","N388"]
[423,"報告書","報告書","水他1検査者勤務先資格","K389","K389"]
[424,"報告書","報告書","水他1検査者勤務先資格登録","X389","X389"]
[425,"報告書","報告書","水他1検査者勤務先資格番号","AH389","AH389"]
[426,"報告書","報告書","水他1検査者郵便番号","N390","N390"]
[427,"報告書","報告書","水他1検査者所在地","N391","N391"]
[428,"報告書","報告書","水他1検査者所在地2","AE391","AE391"]
[429,"報告書","報告書","水他1検査者電話番号","N392","N392"]
[430,"報告書","報告書","水他2検査者資格建築士","K394","K394"]
[431,"報告書","報告書","水他2検査者資格建築士登録","X394","X394"]
[432,"報告書","報告書","水他2検査者資格建築士番号","AH394","AH394"]
[433,"報告書","報告書","水他2検査者資格建築設備検査員番号","AH395","AH395"]
[434,"報告書","報告書","水他2検査者氏名","N398","N398","カナ含む"]
[435,"報告書","報告書","水他2検査者フリガナ","N397","N397","式"]
[436,"報告書","報告書","水他2検査者勤務先","N399","N399"]
[437,"報告書","報告書","水他2検査者勤務先資格","K400","K400"]
[438,"報告書","報告書","水他2検査者勤務先資格登録","X400","X400"]
[439,"報告書","報告書","水他2検査者勤務先資格番号","AH400","AH400"]
[440,"報告書","報告書","水他2検査者郵便番号","N401","N401"]
[441,"報告書","報告書","水他2検査者所在地","N402","N402"]
[442,"報告書","報告書","水他2検査者所在地2","AE402","AE402"]
[443,"報告書","報告書","水他2検査者電話番号","N403","N403"]
[444,"報告書","報告書","水飲料水給水タンク","O410","O410"]
[445,"報告書","報告書","水飲料水給水タンク基数","V410","V410"]
[446,"報告書","報告書","水飲料水給水タンク容量","Y410","Y410"]
[447,"報告書","報告書","水飲料水貯水タンク","AE410","AE410"]
[448,"報告書","報告書","水飲料水貯水タンク基数","AL410","AL410"]
[449,"報告書","報告書","水飲料水貯水タンク容量","AO410","AO410"]
[450,"報告書","報告書","水飲料水その他","O411","O411"]
[451,"報告書","報告書","水飲料水その他内容","T411","T411"]
[452,"報告書","報告書","水排水設備排水槽","O412","O412"]
[453,"報告書","報告書","水排水設備排水槽汚水槽","T412","T412"]
[454,"報告書","報告書","水排水設備排水槽雑排水槽","Y412","Y412"]
[455,"報告書","報告書","水排水設備排水槽合併槽","AE412","AE412"]
[456,"報告書","報告書","水排水設備排水槽雨水湧水槽","AJ412","AJ412"]
[457,"報告書","報告書","水排水設備排水槽排水再利用","O413","O413"]
[458,"報告書","報告書","水排水設備排水槽その他","AA413","AA413"]
[459,"報告書","報告書","水排水設備排水槽その他内容","AF413","AF413"]
[460,"報告書","報告書","水圧力タンクあり","O414","O414"]
[461,"報告書","報告書","水圧力タンクなし","S414","S414"]
[462,"報告書","報告書","水給湯方式局所式","L415","L415"]
[463,"報告書","報告書","水給湯方式中央式","R415","R415"]
[464,"報告書","報告書","水湯沸器開放式燃焼器","L416","L416"]
[465,"報告書","報告書","水湯沸器半密閉式燃焼器","U416","U416"]
[466,"報告書","報告書","水湯沸器密閉式燃焼器","AE416","AE416"]
[467,"報告書","報告書","水湯沸器その他内容（入力）","BA417","BA417"]
[468,"報告書","報告書","水湯沸器その他","L417","L417"]
[469,"報告書","報告書","水湯沸器その他内容","Q417","Q417"]
[470,"報告書","報告書","水要是正あり",null,"N424",{"$nulls":4},"N424"]
[471,"報告書","報告書","水既存不適格",null,"X424",{"$nulls":4},"X424"]
[472,"報告書","報告書","水指摘なし",null,"AG424",{"$nulls":4},"AG424"]
[473,"報告書","報告書","水指摘の概要1",null,"N425",{"$nulls":4},"N425"]
[474,"報告書","報告書","水指摘の概要2",null,"N426",{"$nulls":4},"N426"]
[475,"報告書","報告書","水指摘の概要3",null,"N427",{"$nulls":4},"N427"]
[476,"報告書","報告書","水指摘の概要4",null,"N428",{"$nulls":4},"N428"]
[477,"報告書","報告書","水指摘の概要5",null,"N429",{"$nulls":4},"N429"]
[478,"報告書","報告書","水改善予定あり",null,"N430",{"$nulls":4},"N430"]
[479,"報告書","報告書","水改善予定元号",null,null,"右詰文字",{"$nulls":3},"R430"]
[480,"報告書","報告書","水改善予定年",null,"S430",{"$nulls":4},"S430"]
[481,"報告書","報告書","水改善予定月",null,"V430",{"$nulls":4},"V430"]
[482,"報告書","報告書","水改善予定なし",null,"AG430",{"$nulls":4},"AG430"]
[483,"報告書","報告書","水不具合あり",null,"L437",{"$nulls":4},"L437"]
[484,"報告書","報告書","水不具合なし",null,"O437",{"$nulls":4},"O437"]
[485,"報告書","報告書","水不具合記録あり",null,"L438",{"$nulls":4},"L438"]
[486,"報告書","報告書","水不具合記録なし",null,"O438",{"$nulls":4},"O438"]
[487,"報告書","報告書","水不具合改善実施済",null,"L439",{"$nulls":4},"L439"]
[488,"報告書","報告書","水不具合改善予定あり",null,"Q439",{"$nulls":4},"Q439"]
[489,"報告書","報告書","水不具合改善予定元号",null,null,"右詰文字",{"$nulls":3},"X439"]
[490,"報告書","報告書","水不具合改善予定年",null,"Y439",{"$nulls":4},"Y439"]
[491,"報告書","報告書","水不具合改善予定月",null,"AB439",{"$nulls":4},"AB439"]
[492,"報告書","報告書","水不具合改善予定なし",null,"AL439",{"$nulls":4},"AL439"]
[493,"報告書","報告書","備考大臣項目あり",null,"W451",{"$nulls":4},"W451"]
[494,"報告書","報告書","備考大臣項目あり換気",null,"Z451",{"$nulls":4},"Z451"]
[495,"報告書","報告書","備考大臣項目あり排煙",null,"AC451",{"$nulls":4},"AC451"]
[496,"報告書","報告書","備考大臣項目あり給排水",null,"AF451",{"$nulls":4},"AF451"]
[497,"報告書","報告書","備考大臣項目なし",null,"AL451",{"$nulls":4},"AL451"]
[498,"報告書","報告書","備考1","C452","C452"]
[499,"報告書","報告書","備考2",null,"C453",{"$nulls":4},"C453"]
[500,"報告書","報告書","備考3",null,"C454",{"$nulls":4},"C454"]
[501,"報告書","報告書","備考4",null,"C455",{"$nulls":4},"C455"]
[502,"報告書","報告書","備考5",null,"C456",{"$nulls":4},"C456"]
[503,"報告書","報告書","備考6",null,"C457",{"$nulls":4},"C457"]
[504,"報告書","報告書","備考7",null,"C458",{"$nulls":4},"C458"]
[505,"報告書","報告書","備考8",null,"C459",{"$nulls":4},"C459"]
[506,"報告書","報告書","備考9",null,"C460",{"$nulls":4},"C460"]
[507,"報告書","報告書","備考10",null,"C461",{"$nulls":4},"C461"]
[508,"報告書","報告書","備考11",null,"C462",{"$nulls":4},"C462"]
[509,"報告書","報告書","備考12",null,"C463",{"$nulls":4},"C463"]
[510,"報告書","報告書","備考13",null,"C464",{"$nulls":4},"C464"]
[511,"報告書","報告書","備考14",null,"C465",{"$nulls":4},"C465"]
[512,"報告書","報告書","備考15",null,"C466",{"$nulls":4},"C466"]
[513,"報告書","報告書","備考16",null,"C467",{"$nulls":4},"C467"]
[514,"報告書","報告書","備考17",null,"C468",{"$nulls":4},"C468"]
[515,"報告書","報告書","備考18",null,"C469",{"$nulls":4},"C469"]
[516,"報告書","報告書","備考19",null,"C470",{"$nulls":4},"C470"]

{"sheet":"移行ツール設定v15","index":17,"n_rows":520,"n_cols":11,"rows_kept":520,"hidden":true}
["移行ツール設定 V15"]
["対象バージョンに該当するセル位置を記載する。基本は上から順番になっているが、フリガナを含む項目はフリガナ項目より先に行っている。"]
[]
["№","現ワークシート名","旧ワークシート名","フィールド名（自身の識別用）","現セル位置","旧セル位置","特殊条件"]
[1,"報告書","報告書","建築物基本番号_都区市コード","AD1","AD1"]
[2,"報告書","報告書","建築物基本番号_地区コード1","AF1","AF1"]
[3,"報告書","報告書","建築物基本番号_地区コード2","AG1","AG1"]
[4,"報告書","報告書","建築物基本番号_町名コード1","AI1","AI1"]
[5,"報告書","報告書","建築物基本番号_町名コード2","AJ1","AJ1"]
[6,"報告書","報告書","建築物基本番号_丁目コード1","AL1","AL1"]
[7,"報告書","報告書","建築物基本番号_丁目コード2","AM1","AM1"]
[8,"報告書","報告書","建築物基本番号_建築物固有番号1","AO1","AO1"]
[9,"報告書","報告書","建築物基本番号_建築物固有番号2","AP1","AP1"]
[10,"報告書","報告書","建築物基本番号_建築物固有番号3","AQ1","AQ1"]
[11,"報告書","報告書","建築物基本番号_建築物固有番号4","AR1","AR1"]
[12,"報告書","報告書","建築物基本番号_予備","AT1","AT1"]
[13,"報告書","報告書","センター受付番号",null,"AL2",{"$nulls":4},"AL2"]
[14,"報告書","報告書","特定行政庁名","C14","C14"]
[15,"報告書","報告書","報告者氏名1",null,"AE18",{"$nulls":4},"AE18"]
[16,"報告書","報告書","報告者氏名2",null,"AE19",{"$nulls":4},"AE19"]
[17,"報告書","報告書","検査者氏名","AE22","AE22"]
[18,"報告書","報告書","所有者名","N32","N32","カナ含む"]
[19,"報告書","報告書","所有者フリガナ","N31","N31","式"]
[20,"報告書","報告書","所有者名2","AE32","AE32","カナ含む"]
[21,"報告書","報告書","所有者フリガナ2","AE31","AE31","式"]
[22,"報告書","報告書","所有者郵便番号","N33","N33"]
[23,"報告書","報告書","所有者住所","N34","N34"]
[24,"報告書","報告書","所有者住所2","AE34","AE34"]
[25,"報告書","報告書","所有者電話番号","N35","N35"]
[26,"報告書","報告書","管理者名","N43","N43","カナ含む"]
[27,"報告書","報告書","管理者フリガナ","N42","N42","式"]
[28,"報告書","報告書","管理者名2","AE43","AE43","カナ含む"]
[29,"報告書","報告書","管理者フリガナ2","AE42","AE42","式"]
[30,"報告書","報告書","管理者郵便番号","N44","N44"]
[31,"報告書","報告書","管理者住所","N45","N45"]
[32,"報告書","報告書","管理者住所2","AE45","AE45"]
[33,"報告書","報告書","管理者電話番号","N46","N46"]
[34,"報告書","報告書","建物所在地（都道府県）","N53","N53"]
[35,"報告書","報告書","建物所在地（区市）","Q53","Q53"]
[36,"報告書","報告書","建物所在地（町名）","W53","W53"]
[37,"報告書","報告書","建物所在地（丁目等）","AC53","AC53"]
[38,"報告書","報告書","建物名称","N55","N55","カナ含む"]
[39,"報告書","報告書","建物フリガナ","N54","N54","式"]
[40,"報告書","報告書","建物用途","N56","N56"]
[41,"報告書","報告書","建物用途2","T56","T56"]
[42,"報告書","報告書","建物用途3","Z56","Z56"]
[43,"報告書","報告書","建物用途4","AF56","AF56"]
[44,"報告書","報告書","建物用途5","AL56","AL56"]
[45,"報告書","報告書","全体要是正あり",null,"N63",{"$nulls":4},"N63"]
[46,"報告書","報告書","全体既存不適格",null,"X63",{"$nulls":4},"X63"]
[47,"報告書","報告書","全体指摘なし",null,"AG63",{"$nulls":4},"AG63"]
[48,"報告書","報告書","指摘の概要1",null,"N64",{"$nulls":4},"N64"]
[49,"報告書","報告書","指摘の概要2",null,"N65",{"$nulls":4},"N65"]
[50,"報告書","報告書","指摘の概要3",null,"N66",{"$nulls":4},"N66"]
[51,"報告書","報告書","指摘の概要4",null,"N67",{"$nulls":4},"N67"]
[52,"報告書","報告書","指摘の概要5",null,"N68",{"$nulls":4},"N68"]
[53,"報告書","報告書","改善予定あり",null,"N69",{"$nulls":4},"N69"]
[54,"報告書","報告書","改善予定元号",null,"R69","右詰文字",{"$nulls":3},"R69"]
[55,"報告書","報告書","改善予定年",null,"S69",{"$nulls":4},"S69"]
[56,"報告書","報告書","改善予定月",null,"V69",{"$nulls":4},"V69"]
[57,"報告書","報告書","改善予定なし",null,"AG69",{"$nulls":4},"AG69"]
[58,"報告書","報告書","その他特記事項1",null,"N70",{"$nulls":4},"N70"]
[59,"報告書","報告書","その他特記事項2",null,"N71",{"$nulls":4},"N71"]
[60,"報告書","報告書","その他特記事項3",null,"N72",{"$nulls":4},"N72"]
[61,"報告書","報告書","その他特記事項4",null,"N73",{"$nulls":4},"N73"]
[62,"報告書","報告書","その他特記事項5",null,"N74",{"$nulls":4},"N74"]
[63,"報告書","報告書","整理番号","AN79","AN80"]
[64,"報告書","報告書","副本返送先名称",null,"C91",{"$nulls":4},"C91"]
[65,"報告書","報告書","副本返送先郵便番号",null,"C92",{"$nulls":4},"C92"]
[66,"報告書","報告書","副本返送先住所",null,"C93",{"$nulls":4},"C93"]
[67,"報告書","報告書","副本返送先電話番号",null,"C94",{"$nulls":4},"C94"]
[68,"報告書","報告書","連絡先名称",null,"Z91",{"$nulls":4},"Z91"]
[69,"報告書","報告書","連絡先郵便番号",null,"Z92",{"$nulls":4},"Z92"]
[70,"報告書","報告書","連絡先住所",null,"Z93",{"$nulls":4},"Z93"]
[71,"報告書","報告書","連絡先電話番号",null,"Z94",{"$nulls":4},"Z94"]
[72,"報告書","報告書","第一面備考",null,"C95",{"$nulls":4},"C95"]
[73,"報告書","報告書","地上階数","P101","P101"]
[74,"報告書","報告書","地下階数","X101","X101"]
[75,"報告書","報告書","建築面積","M102","M102"]
[76,"報告書","報告書","延べ面積","M103","M103"]
[77,"報告書","報告書","報告対象床面積","X103","X103"]
[78,"報告書","報告書","検査対象換気",null,"O104",{"$nulls":4},"O104"]
[79,"報告書","報告書","検査対象排煙",null,"V104",{"$nulls":4},"V104"]
[80,"報告書","報告書","検査対象非常用照明装置",null,"AC104",{"$nulls":4},"AC104"]
[81,"報告書","報告書","検査対象給排水",null,"O105",{"$nulls":4},"O105"]
[82,"報告書","報告書","確認済証交付元号","T112","T112"]
[83,"報告書","報告書","確認済証交付年","V112","V112"]
[84,"報告書","報告書","確認済証交付月","Y112","Y112"]
[85,"報告書","報告書","確認済証交付日","AB112","AB112"]
[86,"報告書","報告書","確認済証番号","AG112","AG112"]
[87,"報告書","報告書","確認済証交付者建築主事","Q113","Q113"]
[88,"報告書","報告書","確認済証交付者指定確認検査機関","W113","W113"]
[89,"報告書","報告書","確認済証交付者指定確認検査機関名（入力）","BA113","BA113"]
[90,"報告書","報告書","確認済証交付者指定確認検査機関名","AG113","AG113"]
[91,"報告書","報告書","検査済証交付元号","T114","T114"]
[92,"報告書","報告書","検査済証交付年","V114","V114"]
[93,"報告書","報告書","検査済証交付月","Y114","Y114"]
[94,"報告書","報告書","検査済証交付日","AB114","AB114"]
[95,"報告書","報告書","検査済証番号","AG114","AG114"]
[96,"報告書","報告書","検査済証交付者建築主事","Q115","Q115"]
[97,"報告書","報告書","検査済証交付者指定確認検査機関","W115","W115"]
[98,"報告書","報告書","検査済証交付者指定確認検査機関名","AG115","AG115"]
[99,"報告書","報告書","今回検査日元号",null,null,"右詰文字"]
[100,"報告書","報告書","今回検査日年",null,"R122",{"$nulls":4},"R122"]
[101,"報告書","報告書","今回検査日月",null,"U122",{"$nulls":4},"U122"]
[102,"報告書","報告書","今回検査日日",null,"X122",{"$nulls":4},"X122"]
[103,"報告書","報告書","前回検査実施","L123","L123"]
[104,"報告書","報告書","前回検査日元号","P123","AJ16","右詰文字"]
[105,"報告書","報告書","前回検査日年","R123","AL16"]
[106,"報告書","報告書","前回検査日月","U123","AO16"]
[107,"報告書","報告書","前回検査日日","X123","AR16"]
[108,"報告書","報告書","前回検査未実施","AE123","AE123"]
[109,"報告書","報告書","前回検査書類の写し有","U124","U124"]
[110,"報告書","報告書","前回検査書類の写し無","X124","X124"]
[111,"報告書","報告書","換気代表検査者資格建築士","K132","K132"]
[112,"報告書","報告書","換気代表検査者資格建築士登録","X132","X132"]
[113,"報告書","報告書","換気代表検査者資格建築士番号","AH132","AH132"]
[114,"報告書","報告書","換気代表検査者資格建築設備検査員番号","AH133","AH133"]
[115,"報告書","報告書","換気代表検査者氏名","N136","N136","カナ含む"]
[116,"報告書","報告書","換気代表検査者フリガナ","N135","N135","式"]
[117,"報告書","報告書","換気代表検査者勤務先","N137","N137"]
[118,"報告書","報告書","換気代表検査者勤務先資格","K138","K138"]
[119,"報告書","報告書","換気代表検査者勤務先資格登録","X138","X138"]
[120,"報告書","報告書","換気代表検査者勤務先資格番号","AH138","AH138"]
[121,"報告書","報告書","換気代表検査者郵便番号","N139","N139"]
[122,"報告書","報告書","換気代表検査者所在地","N140","N140"]
[123,"報告書","報告書","換気代表検査者所在地2","AE140","AE140"]
[124,"報告書","報告書","換気代表検査者電話番号","N141","N141"]
[125,"報告書","報告書","換気他1検査者資格建築士","K143","K143"]
[126,"報告書","報告書","換気他1検査者資格建築士登録","X143","X143"]
[127,"報告書","報告書","換気他1検査者資格建築士番号","AH143","AH143"]
[128,"報告書","報告書","換気他1検査者資格建築設備検査員番号","AH144","AH144"]
[129,"報告書","報告書","換気他1検査者氏名","N147","N147","カナ含む"]
[130,"報告書","報告書","換気他1検査者フリガナ","N146","N146","式"]
[131,"報告書","報告書","換気他1検査者勤務先","N148","N148"]
[132,"報告書","報告書","換気他1検査者勤務先資格","K149","K149"]
[133,"報告書","報告書","換気他1検査者勤務先資格登録","X149","X149"]
[134,"報告書","報告書","換気他1検査者勤務先資格番号","AH149","AH149"]
[135,"報告書","報告書","換気他1検査者郵便番号","N150","N150"]
[136,"報告書","報告書","換気他1検査者所在地","N151","N151"]
[137,"報告書","報告書","換気他1検査者所在地2","AE151","AE151"]
[138,"報告書","報告書","換気他1検査者電話番号","N152","N152"]
[139,"報告書","報告書","換気他2検査者資格建築士","K154","K154"]
[140,"報告書","報告書","換気他2検査者資格建築士登録","X154","X154"]
[141,"報告書","報告書","換気他2検査者資格建築士番号","AH154","AH154"]
[142,"報告書","報告書","換気他2検査者資格建築設備検査員番号","AH155","AH155"]
[143,"報告書","報告書","換気他2検査者氏名","N158","N158","カナ含む"]
[144,"報告書","報告書","換気他2検査者フリガナ","N157","N157","式"]
[145,"報告書","報告書","換気他2検査者勤務先","N159","N159"]
[146,"報告書","報告書","換気他2検査者勤務先資格","K160","K160"]
[147,"報告書","報告書","換気他2検査者勤務先資格登録","X160","X160"]
[148,"報告書","報告書","換気他2検査者勤務先資格番号","AH160","AH160"]
[149,"報告書","報告書","換気他2検査者郵便番号","N161","N161"]
[150,"報告書","報告書","換気他2検査者所在地","N162","N162"]
[151,"報告書","報告書","換気他2検査者所在地2","AE162","AE162"]
[152,"報告書","報告書","換気他2検査者電話番号","N163","N163"]
[153,"報告書","報告書","換気無窓居室自然換気","L170","L170"]
[154,"報告書","報告書","換気無窓居室機械換気","AC170","AC170"]
[155,"報告書","報告書","換気無窓居室機械換気系統","AK170","AK170"]
[156,"報告書","報告書","換気無窓居室機械換気室","AO170","AO170"]
[157,"報告書","報告書","換気無窓居室中央管理","L171","L171"]
[158,"報告書","報告書","換気無窓居室中央管理系統","AA171","AA171"]
[159,"報告書","報告書","換気無窓居室中央管理室","AE171","AE171"]
[160,"報告書","報告書","換気無窓居室その他","L172","L172"]
[161,"報告書","報告書","換気無窓居室その他系統","Q172","Q172"]
[162,"報告書","報告書","換気無窓居室その他室","U172","U172"]
[163,"報告書","報告書","換気無窓居室無","AC172","AC172"]
[164,"報告書","報告書","換気火気使用室自然換気","L173","L173"]
[165,"報告書","報告書","換気火気使用室機械換気","AC173","AC173"]
[166,"報告書","報告書","換気火気使用室機械換気系統","AK173","AK173"]
[167,"報告書","報告書","換気火気使用室機械換気室","AO173","AO173"]
[168,"報告書","報告書","換気火気使用室その他","L174","L174"]
[169,"報告書","報告書","換気火気使用室その他系統","Q174","Q174"]
[170,"報告書","報告書","換気火気使用室その他室","U174","U174"]
[171,"報告書","報告書","換気火気使用室無","AC174","AC174"]
[172,"報告書","報告書","換気居室等自然換気","L175","L175"]
[173,"報告書","報告書","換気居室等機械換気","AC175","AC175"]
[174,"報告書","報告書","換気居室等機械換気系統","AK175","AK175"]
[175,"報告書","報告書","換気居室等機械換気室","AO175","AO175"]
[176,"報告書","報告書","換気居室等中央管理室","L176","L176"]
[177,"報告書","報告書","換気居室等中央管理室系統","AA176","AA176"]
[178,"報告書","報告書","換気居室等中央管理室室","AE176","AE176"]
[179,"報告書","報告書","換気居室等その他","L177","L177"]
[180,"報告書","報告書","換気居室等その他系統","Q177","Q177"]
[181,"報告書","報告書","換気居室等その他室","U177","U177"]
[182,"報告書","報告書","換気居室等無","AC177","AC177"]
[183,"報告書","報告書","換気防火ダンパー有","S180","S180"]
[184,"報告書","報告書","換気防火ダンパー無","V180","V180"]
[185,"報告書","報告書","換気要是正あり",null,"N186",{"$nulls":4},"N186"]
[186,"報告書","報告書","換気既存不適格",null,"X186",{"$nulls":4},"X186"]
[187,"報告書","報告書","換気指摘なし",null,"AG186",{"$nulls":4},"AG186"]
[188,"報告書","報告書","換気指摘の概要1",null,"N187",{"$nulls":4},"N187"]
[189,"報告書","報告書","換気指摘の概要2",null,"N188",{"$nulls":4},"N188"]
[190,"報告書","報告書","換気指摘の概要3",null,"N189",{"$nulls":4},"N189"]
[191,"報告書","報告書","換気指摘の概要4",null,"N190",{"$nulls":4},"N190"]
[192,"報告書","報告書","換気指摘の概要5",null,"N191",{"$nulls":4},"N191"]
[193,"報告書","報告書","換気改善予定あり",null,"N192",{"$nulls":4},"N192"]
[194,"報告書","報告書","換気改善予定元号",null,null,"右詰文字",{"$nulls":3},"R192"]
[195,"報告書","報告書","換気改善予定年",null,"S192",{"$nulls":4},"S192"]
[196,"報告書","報告書","換気改善予定月",null,"V192",{"$nulls":4},"V192"]
[197,"報告書","報告書","換気改善予定なし",null,"AG192",{"$nulls":4},"AG192"]
[198,"報告書","報告書","換気不具合あり",null,"L199",{"$nulls":4},"L199"]
[199,"報告書","報告書","換気不具合なし",null,"O199",{"$nulls":4},"O199"]
[200,"報告書","報告書","換気不具合記録あり",null,"L200",{"$nulls":4},"L200"]
[201,"報告書","報告書","換気不具合記録なし",null,"O200",{"$nulls":4},"O200"]
[202,"報告書","報告書","換気不具合改善実施済",null,"L201",{"$nulls":4},"L201"]
[203,"報告書","報告書","換気不具合改善予定あり",null,"Q201",{"$nulls":4},"Q201"]
[204,"報告書","報告書","換気不具合改善予定元号",null,null,"右詰文字",{"$nulls":3},"X201"]
[205,"報告書","報告書","換気不具合改善予定年",null,"Y201",{"$nulls":4},"Y201"]
[206,"報告書","報告書","換気不具合改善予定月",null,"AB201",{"$nulls":4},"AB201"]
[207,"報告書","報告書","換気不具合改善予定なし",null,"AL201",{"$nulls":4},"AL201"]
[208,"報告書","報告書","排煙代表検査者資格建築士","K214","K214"]
[209,"報告書","報告書","排煙代表検査者資格建築士登録","X214","X214"]
[210,"報告書","報告書","排煙代表検査者資格建築士番号","AH214","AH214"]
[211,"報告書","報告書","排煙代表検査者資格建築設備検査員番号","AH215","AH215"]
[212,"報告書","報告書","排煙代表検査者氏名","N218","N218","カナ含む"]
[213,"報告書","報告書","排煙代表検査者フリガナ","N217","N217","式"]
[214,"報告書","報告書","排煙代表検査者勤務先","N219","N219"]
[215,"報告書","報告書","排煙代表検査者勤務先資格","K220","K220"]
[216,"報告書","報告書","排煙代表検査者勤務先資格登録","X220","X220"]
[217,"報告書","報告書","排煙代表検査者勤務先資格番号","AH220","AH220"]
[218,"報告書","報告書","排煙代表検査者郵便番号","N221","N221"]
[219,"報告書","報告書","排煙代表検査者所在地","N222","N222"]
[220,"報告書","報告書","排煙代表検査者所在地2","AE222","AE222"]
[221,"報告書","報告書","排煙代表検査者電話番号","N223","N223"]
[222,"報告書","報告書","排煙他1検査者資格建築士","K225","K225"]
[223,"報告書","報告書","排煙他1検査者資格建築士登録","X225","X225"]
[224,"報告書","報告書","排煙他1検査者資格建築士番号","AH225","AH225"]
[225,"報告書","報告書","排煙他1検査者資格建築設備検査員番号","AH226","AH226"]
[226,"報告書","報告書","排煙他1検査者氏名","N229","N229","カナ含む"]
[227,"報告書","報告書","排煙他1検査者フリガナ","N228","N228","式"]
[228,"報告書","報告書","排煙他1検査者勤務先","N230","N230"]
[229,"報告書","報告書","排煙他1検査者勤務先資格","K231","K231"]
[230,"報告書","報告書","排煙他1検査者勤務先資格登録","X231","X231"]
[231,"報告書","報告書","排煙他1検査者勤務先資格番号","AH231","AH231"]
[232,"報告書","報告書","排煙他1検査者郵便番号","N232","N232"]
[233,"報告書","報告書","排煙他1検査者所在地","N233","N233"]
[234,"報告書","報告書","排煙他1検査者所在地2","AE233","AE233"]
[235,"報告書","報告書","排煙他1検査者電話番号","N234","N234"]
[236,"報告書","報告書","排煙他2検査者資格建築士","K236","K236"]
[237,"報告書","報告書","排煙他2検査者資格建築士登録","X236","X236"]
[238,"報告書","報告書","排煙他2検査者資格建築士番号","AH236","AH236"]
[239,"報告書","報告書","排煙他2検査者資格建築設備検査員番号","AH237","AH237"]
[240,"報告書","報告書","排煙他2検査者氏名","N240","N240","カナ含む"]
[241,"報告書","報告書","排煙他2検査者フリガナ","N239","N239","式"]
[242,"報告書","報告書","排煙他2検査者勤務先","N241","N241"]
[243,"報告書","報告書","排煙他2検査者勤務先資格","K242","K242"]
[244,"報告書","報告書","排煙他2検査者勤務先資格登録","X242","X242"]
[245,"報告書","報告書","排煙他2検査者勤務先資格番号","AH242","AH242"]
[246,"報告書","報告書","排煙他2検査者郵便番号","N243","N243"]
[247,"報告書","報告書","排煙他2検査者所在地","N244","N244"]
[248,"報告書","報告書","排煙他2検査者所在地2","AE244","AE244"]
[249,"報告書","報告書","排煙他2検査者電話番号","N245","N245"]
[250,"報告書","報告書","排煙避難安全区画避難安全検証法","R250","R250"]
[251,"報告書","報告書","排煙避難安全区画避難安全検証法階","AC250","AC250"]
[252,"報告書","報告書","排煙避難安全階避難安全検証法","AG250","AG250"]
[253,"報告書","報告書","排煙避難安全階避難安全検証法階","AQ250","AQ250"]
[254,"報告書","報告書","排煙避難安全全館避難安全検証法","K251","K251"]
[255,"報告書","報告書","排煙避難安全その他","V251","V251"]
[256,"報告書","報告書","排煙避難安全その他内容","AA251","AA251"]
[257,"報告書","報告書","排煙特避階段吸引式","K253","K253"]
[258,"報告書","報告書","排煙特避階段吸引式区画","P253","P253"]
[259,"報告書","報告書","排煙特避階段給気式","V253","V253"]
[260,"報告書","報告書","排煙特避階段給気式区画","AA253","AA253"]
[261,"報告書","報告書","排煙特避階段加圧式","AG253","AG253"]
[262,"報告書","報告書","排煙特避階段加圧式区画","AL253","AL253"]
[263,"報告書","報告書","排煙特避階段無","AR253","AR253"]
[264,"報告書","報告書","排煙非常エレ吸引式","K255","K255"]
[265,"報告書","報告書","排煙非常エレ吸引式区画","P255","P255"]
[266,"報告書","報告書","排煙非常エレ給気式","V255","V255"]
[267,"報告書","報告書","排煙非常エレ給気式区画","AA255","AA255"]
[268,"報告書","報告書","排煙非常エレ加圧式","AG255","AG255"]
[269,"報告書","報告書","排煙非常エレ加圧式区画","AL255","AL255"]
[270,"報告書","報告書","排煙非常エレ無","AR255","AR255"]
[271,"報告書","報告書","排煙エレ付室吸引式","K257","K257"]
[272,"報告書","報告書","排煙エレ付室吸引式区画","P257","P257"]
[273,"報告書","報告書","排煙エレ付室給気式","V257","V257"]
[274,"報告書","報告書","排煙エレ付室給気式区画","AA257","AA257"]
[275,"報告書","報告書","排煙エレ付室加圧式","AG257","AG257"]
[276,"報告書","報告書","排煙エレ付室加圧式区画","AL257","AL257"]
[277,"報告書","報告書","排煙エレ付室無","AR257","AR257"]
[278,"報告書","報告書","排煙居室等吸引式","K258","K258"]
[279,"報告書","報告書","排煙居室等吸引式区画","P258","P258"]
[280,"報告書","報告書","排煙居室等給気式","V258","V258"]
[281,"報告書","報告書","排煙居室等給気式区画","AA258","AA258"]
[282,"報告書","報告書","排煙居室等無","AR258","AR258"]
[283,"報告書","報告書","排煙予備電源蓄電池","K259","K259"]
[284,"報告書","報告書","排煙予備電源自家用発電","P259","P259"]
[285,"報告書","報告書","排煙予備電源直結エンジン","Y259","Y259"]
[286,"報告書","報告書","排煙予備電源その他","AG259","AG259"]
[287,"報告書","報告書","排煙予備電源その他内容","AL259","AL259"]
[288,"報告書","報告書","排煙要是正あり",null,"N263",{"$nulls":4},"N263"]
[289,"報告書","報告書","排煙既存不適格",null,"X263",{"$nulls":4},"X263"]
[290,"報告書","報告書","排煙指摘なし",null,"AG263",{"$nulls":4},"AG263"]
[291,"報告書","報告書","排煙指摘の概要1",null,"N264",{"$nulls":4},"N264"]
[292,"報告書","報告書","排煙指摘の概要2",null,"N265",{"$nulls":4},"N265"]
[293,"報告書","報告書","排煙指摘の概要3",null,"N266",{"$nulls":4},"N266"]
[294,"報告書","報告書","排煙指摘の概要4",null,"N267",{"$nulls":4},"N267"]
[295,"報告書","報告書","排煙指摘の概要5",null,"N268",{"$nulls":4},"N268"]
[296,"報告書","報告書","排煙改善予定あり",null,"N269",{"$nulls":4},"N269"]
[297,"報告書","報告書","排煙改善予定元号",null,null,"右詰文字",{"$nulls":3},"R269"]
[298,"報告書","報告書","排煙改善予定年",null,"S269",{"$nulls":4},"S269"]
[299,"報告書","報告書","排煙改善予定月",null,"V269",{"$nulls":4},"V269"]
[300,"報告書","報告書","排煙改善予定なし",null,"AG269",{"$nulls":4},"AG269"]
[301,"報告書","報告書","排煙不具合あり",null,"L276",{"$nulls":4},"L276"]
[302,"報告書","報告書","排煙不具合なし",null,"O276",{"$nulls":4},"O276"]
[303,"報告書","報告書","排煙不具合記録あり",null,"L277",{"$nulls":4},"L277"]
[304,"報告書","報告書","排煙不具合記録なし",null,"O277",{"$nulls":4},"O277"]
[305,"報告書","報告書","排煙不具合改善実施済",null,"L278",{"$nulls":4},"L278"]
[306,"報告書","報告書","排煙不具合改善予定あり",null,"Q278",{"$nulls":4},"Q278"]
[307,"報告書","報告書","排煙不具合改善予定元号",null,null,"右詰文字",{"$nulls":3},"X278"]
[308,"報告書","報告書","排煙不具合改善予定年",null,"Y278",{"$nulls":4},"Y278"]
[309,"報告書","報告書","排煙不具合改善予定月",null,"AB278",{"$nulls":4},"AB278"]
[310,"報告書","報告書","排煙不具合改善予定なし",null,"AL278",{"$nulls":4},"AL278"]
[311,"報告書","報告書","非照代表検査者資格建築士","K291","K291"]
[312,"報告書","報告書","非照代表検査者資格建築士登録","X291","X291"]
[313,"報告書","報告書","非照代表検査者資格建築士番号","AH291","AH291"]
[314,"報告書","報告書","非照代表検査者資格建築設備検査員番号","AH292","AH292"]
[315,"報告書","報告書","非照代表検査者氏名","N295","N295","カナ含む"]
[316,"報告書","報告書","非照代表検査者フリガナ","N294","N294","式"]
[317,"報告書","報告書","非照代表検査者勤務先","N296","N296"]
[318,"報告書","報告書","非照代表検査者勤務先資格","K297","K297"]
[319,"報告書","報告書","非照代表検査者勤務先資格登録","X297","X297"]
[320,"報告書","報告書","非照代表検査者勤務先資格番号","AH297","AH297"]
[321,"報告書","報告書","非照代表検査者郵便番号","N298","N298"]
[322,"報告書","報告書","非照代表検査者所在地","N299","N299"]
[323,"報告書","報告書","非照代表検査者所在地2","AE299","AE299"]
[324,"報告書","報告書","非照代表検査者電話番号","N300","N300"]
[325,"報告書","報告書","非照他1検査者資格建築士","K302","K302"]
[326,"報告書","報告書","非照他1検査者資格建築士登録","X302","X302"]
[327,"報告書","報告書","非照他1検査者資格建築士番号","AH302","AH302"]
[328,"報告書","報告書","非照他1検査者資格建築設備検査員番号","AH303","AH303"]
[329,"報告書","報告書","非照他1検査者氏名","N306","N306","カナ含む"]
[330,"報告書","報告書","非照他1検査者フリガナ","N305","N305","式"]
[331,"報告書","報告書","非照他1検査者勤務先","N307","N307"]
[332,"報告書","報告書","非照他1検査者勤務先資格","K308","K308"]
[333,"報告書","報告書","非照他1検査者勤務先資格登録","X308","X308"]
[334,"報告書","報告書","非照他1検査者勤務先資格番号","AH308","AH308"]
[335,"報告書","報告書","非照他1検査者郵便番号","N309","N309"]
[336,"報告書","報告書","非照他1検査者所在地","N310","N310"]
[337,"報告書","報告書","非照他1検査者所在地2","AE310","AE310"]
[338,"報告書","報告書","非照他1検査者電話番号","N311","N311"]
[339,"報告書","報告書","非照他2検査者資格建築士","K313","K313"]
[340,"報告書","報告書","非照他2検査者資格建築士登録","X313","X313"]
[341,"報告書","報告書","非照他2検査者資格建築士番号","AH313","AH313"]
[342,"報告書","報告書","非照他2検査者資格建築設備検査員番号","AH314","AH314"]
[343,"報告書","報告書","非照他2検査者氏名","N317","N317","カナ含む"]
[344,"報告書","報告書","非照他2検査者フリガナ","N316","N316","式"]
[345,"報告書","報告書","非照他2検査者勤務先","N318","N318"]
[346,"報告書","報告書","非照他2検査者勤務先資格","K319","K319"]
[347,"報告書","報告書","非照他2検査者勤務先資格登録","X319","X319"]
[348,"報告書","報告書","非照他2検査者勤務先資格番号","AH319","AH319"]
[349,"報告書","報告書","非照他2検査者郵便番号","N320","N320"]
[350,"報告書","報告書","非照他2検査者所在地","N321","N321"]
[351,"報告書","報告書","非照他2検査者所在地2","AE321","AE321"]
[352,"報告書","報告書","非照他2検査者電話番号","N322","N322"]
[353,"報告書","報告書","非照照明器具白熱灯","K329","K329"]
[354,"報告書","報告書","非照照明器具白熱灯灯数","P329","P329"]
[355,"報告書","報告書","非照照明器具蛍光灯","U329","U329"]
[356,"報告書","報告書","非照照明器具蛍光灯灯数","Z329","Z329"]
[357,"報告書","報告書","非照照明器具LEDランプ","AE329","AE329"]
[358,"報告書","報告書","非照照明器具LEDランプ灯数","AL329","AL329"]
[359,"報告書","報告書","非照照明器具その他","K330","K330"]
[360,"報告書","報告書","非照照明器具その他灯数","P330","P330"]
[361,"報告書","報告書","非照予備電源蓄電池内蔵","K333","K333"]
[362,"報告書","報告書","非照予備電源蓄電池内蔵居室灯数","W333","W333"]
[363,"報告書","報告書","非照予備電源蓄電池内蔵廊下灯数","AC333","AC333"]
[364,"報告書","報告書","非照予備電源蓄電池内蔵階段灯数","AI333","AI333"]
[365,"報告書","報告書","非照予備電源蓄電池別置","K334","K334"]
[366,"報告書","報告書","非照予備電源蓄電池別置居室灯数","W334","W334"]
[367,"報告書","報告書","非照予備電源蓄電池別置廊下灯数","AC334","AC334"]
[368,"報告書","報告書","非照予備電源蓄電池別置階段灯数","AI334","AI334"]
[369,"報告書","報告書","非照予備電源蓄電池自家用発電","K335","K335"]
[370,"報告書","報告書","非照予備電源蓄電池自家用発電居室灯数","W335","W335"]
[371,"報告書","報告書","非照予備電源蓄電池自家用発電廊下灯数","AC335","AC335"]
[372,"報告書","報告書","非照予備電源蓄電池自家用発電階段灯数","AI335","AI335"]
[373,"報告書","報告書","非照予備電源蓄電池併用","K336","K336"]
[374,"報告書","報告書","非照予備電源蓄電池併用居室灯数","AF336","AF336"]
[375,"報告書","報告書","非照予備電源蓄電池併用廊下灯数","AL336","AL336"]
[376,"報告書","報告書","非照予備電源蓄電池併用階段灯数","AR336","AR336"]
[377,"報告書","報告書","非照予備電源蓄電池その他","K337","K337"]
[378,"報告書","報告書","非照予備電源蓄電池その他内容","P337","P337"]
[379,"報告書","報告書","非照要是正あり",null,"N344",{"$nulls":4},"N344"]
[380,"報告書","報告書","非照既存不適格",null,"X344",{"$nulls":4},"X344"]
[381,"報告書","報告書","非照指摘なし",null,"AG344",{"$nulls":4},"AG344"]
[382,"報告書","報告書","非照指摘の概要1",null,"N345",{"$nulls":4},"N345"]
[383,"報告書","報告書","非照指摘の概要2",null,"N346",{"$nulls":4},"N346"]
[384,"報告書","報告書","非照指摘の概要3",null,"N347",{"$nulls":4},"N347"]
[385,"報告書","報告書","非照指摘の概要4",null,"N348",{"$nulls":4},"N348"]
[386,"報告書","報告書","非照指摘の概要5",null,"N349",{"$nulls":4},"N349"]
[387,"報告書","報告書","非照改善予定あり",null,"N350",{"$nulls":4},"N350"]
[388,"報告書","報告書","非照改善予定元号",null,null,"右詰文字",{"$nulls":3},"R350"]
[389,"報告書","報告書","非照改善予定年",null,"S350",{"$nulls":4},"S350"]
[390,"報告書","報告書","非照改善予定月",null,"V350",{"$nulls":4},"V350"]
[391,"報告書","報告書","非照改善予定なし",null,"AG350",{"$nulls":4},"AG350"]
[392,"報告書","報告書","非照不具合あり",null,"L357",{"$nulls":4},"L357"]
[393,"報告書","報告書","非照不具合なし",null,"O357",{"$nulls":4},"O357"]
[394,"報告書","報告書","非照不具合記録あり",null,"L358",{"$nulls":4},"L358"]
[395,"報告書","報告書","非照不具合記録なし",null,"O358",{"$nulls":4},"O358"]
[396,"報告書","報告書","非照不具合改善実施済",null,"L359",{"$nulls":4},"L359"]
[397,"報告書","報告書","非照不具合改善予定あり",null,"Q359",{"$nulls":4},"Q359"]
[398,"報告書","報告書","非照不具合改善予定元号",null,null,"右詰文字",{"$nulls":3},"X359"]
[399,"報告書","報告書","非照不具合改善予定年",null,"Y359",{"$nulls":4},"Y359"]
[400,"報告書","報告書","非照不具合改善予定月",null,"AB359",{"$nulls":4},"AB359"]
[401,"報告書","報告書","非照不具合改善予定なし",null,"AL359",{"$nulls":4},"AL359"]
[402,"報告書","報告書","水代表検査者資格建築士","K372","K372"]
[403,"報告書","報告書","水代表検査者資格建築士登録","X372","X372"]
[404,"報告書","報告書","水代表検査者資格建築士番号","AH372","AH372"]
[405,"報告書","報告書","水代表検査者資格建築設備検査員番号","AH373","AH373"]
[406,"報告書","報告書","水代表検査者氏名","N376","N376","カナ含む"]
[407,"報告書","報告書","水代表検査者フリガナ","N375","N375","式"]
[408,"報告書","報告書","水代表検査者勤務先","N377","N377"]
[409,"報告書","報告書","水代表検査者勤務先資格","K378","K378"]
[410,"報告書","報告書","水代表検査者勤務先資格登録","X378","X378"]
[411,"報告書","報告書","水代表検査者勤務先資格番号","AH378","AH378"]
[412,"報告書","報告書","水代表検査者郵便番号","N379","N379"]
[413,"報告書","報告書","水代表検査者所在地","N380","N380"]
[414,"報告書","報告書","水代表検査者所在地2","AE380","AE380"]
[415,"報告書","報告書","水代表検査者電話番号","N381","N381"]
[416,"報告書","報告書","水他1検査者資格建築士","K383","K383"]
[417,"報告書","報告書","水他1検査者資格建築士登録","X383","X383"]
[418,"報告書","報告書","水他1検査者資格建築士番号","AH383","AH383"]
[419,"報告書","報告書","水他1検査者資格建築設備検査員番号","AH384","AH384"]
[420,"報告書","報告書","水他1検査者氏名","N387","N387","カナ含む"]
[421,"報告書","報告書","水他1検査者フリガナ","N386","N386","式"]
[422,"報告書","報告書","水他1検査者勤務先","N388","N388"]
[423,"報告書","報告書","水他1検査者勤務先資格","K389","K389"]
[424,"報告書","報告書","水他1検査者勤務先資格登録","X389","X389"]
[425,"報告書","報告書","水他1検査者勤務先資格番号","AH389","AH389"]
[426,"報告書","報告書","水他1検査者郵便番号","N390","N390"]
[427,"報告書","報告書","水他1検査者所在地","N391","N391"]
[428,"報告書","報告書","水他1検査者所在地2","AE391","AE391"]
[429,"報告書","報告書","水他1検査者電話番号","N392","N392"]
[430,"報告書","報告書","水他2検査者資格建築士","K394","K394"]
[431,"報告書","報告書","水他2検査者資格建築士登録","X394","X394"]
[432,"報告書","報告書","水他2検査者資格建築士番号","AH394","AH394"]
[433,"報告書","報告書","水他2検査者資格建築設備検査員番号","AH395","AH395"]
[434,"報告書","報告書","水他2検査者氏名","N398","N398","カナ含む"]
[435,"報告書","報告書","水他2検査者フリガナ","N397","N397","式"]
[436,"報告書","報告書","水他2検査者勤務先","N399","N399"]
[437,"報告書","報告書","水他2検査者勤務先資格","K400","K400"]
[438,"報告書","報告書","水他2検査者勤務先資格登録","X400","X400"]
[439,"報告書","報告書","水他2検査者勤務先資格番号","AH400","AH400"]
[440,"報告書","報告書","水他2検査者郵便番号","N401","N401"]
[441,"報告書","報告書","水他2検査者所在地","N402","N402"]
[442,"報告書","報告書","水他2検査者所在地2","AE402","AE402"]
[443,"報告書","報告書","水他2検査者電話番号","N403","N403"]
[444,"報告書","報告書","水飲料水給水タンク","O410","O410"]
[445,"報告書","報告書","水飲料水給水タンク基数","V410","V410"]
[446,"報告書","報告書","水飲料水給水タンク容量","Y410","Y410"]
[447,"報告書","報告書","水飲料水貯水タンク","AE410","AE410"]
[448,"報告書","報告書","水飲料水貯水タンク基数","AL410","AL410"]
[449,"報告書","報告書","水飲料水貯水タンク容量","AO410","AO410"]
[450,"報告書","報告書","水飲料水その他","O411","O411"]
[451,"報告書","報告書","水飲料水その他内容","T411","T411"]
[452,"報告書","報告書","水排水設備排水槽","O412","O412"]
[453,"報告書","報告書","水排水設備排水槽汚水槽","T412","T412"]
[454,"報告書","報告書","水排水設備排水槽雑排水槽","Y412","Y412"]
[455,"報告書","報告書","水排水設備排水槽合併槽","AE412","AE412"]
[456,"報告書","報告書","水排水設備排水槽雨水湧水槽","AJ412","AJ412"]
[457,"報告書","報告書","水排水設備排水槽排水再利用","O413","O413"]
[458,"報告書","報告書","水排水設備排水槽その他","AA413","AA413"]
[459,"報告書","報告書","水排水設備排水槽その他内容","AF413","AF413"]
[460,"報告書","報告書","水圧力タンクあり","O414","O414"]
[461,"報告書","報告書","水圧力タンクなし","S414","S414"]
[462,"報告書","報告書","水給湯方式局所式","L415","L415"]
[463,"報告書","報告書","水給湯方式中央式","R415","R415"]
[464,"報告書","報告書","水湯沸器開放式燃焼器","L416","L416"]
[465,"報告書","報告書","水湯沸器半密閉式燃焼器","U416","U416"]
[466,"報告書","報告書","水湯沸器密閉式燃焼器","AE416","AE416"]
[467,"報告書","報告書","水湯沸器その他内容（入力）","BA417","BA417"]
[468,"報告書","報告書","水湯沸器その他","L417","L417"]
[469,"報告書","報告書","水湯沸器その他内容","Q417","Q417"]
[470,"報告書","報告書","水要是正あり",null,"N424",{"$nulls":4},"N424"]
[471,"報告書","報告書","水既存不適格",null,"X424",{"$nulls":4},"X424"]
[472,"報告書","報告書","水指摘なし",null,"AG424",{"$nulls":4},"AG424"]
[473,"報告書","報告書","水指摘の概要1",null,"N425",{"$nulls":4},"N425"]
[474,"報告書","報告書","水指摘の概要2",null,"N426",{"$nulls":4},"N426"]
[475,"報告書","報告書","水指摘の概要3",null,"N427",{"$nulls":4},"N427"]
[476,"報告書","報告書","水指摘の概要4",null,"N428",{"$nulls":4},"N428"]
[477,"報告書","報告書","水指摘の概要5",null,"N429",{"$nulls":4},"N429"]
[478,"報告書","報告書","水改善予定あり",null,"N430",{"$nulls":4},"N430"]
[479,"報告書","報告書","水改善予定元号",null,null,"右詰文字",{"$nulls":3},"R430"]
[480,"報告書","報告書","水改善予定年",null,"S430",{"$nulls":4},"S430"]
[481,"報告書","報告書","水改善予定月",null,"V430",{"$nulls":4},"V430"]
[482,"報告書","報告書","水改善予定なし",null,"AG430",{"$nulls":4},"AG430"]
[483,"報告書","報告書","水不具合あり",null,"L437",{"$nulls":4},"L437"]
[484,"報告書","報告書","水不具合なし",null,"O437",{"$nulls":4},"O437"]
[485,"報告書","報告書","水不具合記録あり",null,"L438",{"$nulls":4},"L438"]
[486,"報告書","報告書","水不具合記録なし",null,"O438",{"$nulls":4},"O438"]
[487,"報告書","報告書","水不具合改善実施済",null,"L439",{"$nulls":4},"L439"]
[488,"報告書","報告書","水不具合改善予定あり",null,"Q439",{"$nulls":4},"Q439"]
[489,"報告書","報告書","水不具合改善予定元号",null,null,"右詰文字",{"$nulls":3},"X439"]
[490,"報告書","報告書","水不具合改善予定年",null,"Y439",{"$nulls":4},"Y439"]
[491,"報告書","報告書","水不具合改善予定月",null,"AB439",{"$nulls":4},"AB439"]
[492,"報告書","報告書","水不具合改善予定なし",null,"AL439",{"$nulls":4},"AL439"]
[493,"報告書","報告書","備考大臣項目あり",null,"W451",{"$nulls":4},"W451"]
[494,"報告書","報告書","備考大臣項目あり換気",null,"Z451",{"$nulls":4},"Z451"]
[495,"報告書","報告書","備考大臣項目あり排煙",null,"AC451",{"$nulls":4},"AC451"]
[496,"報告書","報告書","備考大臣項目あり給排水",null,"AF451",{"$nulls":4},"AF451"]
[497,"報告書","報告書","備考大臣項目なし",null,"AL451",{"$nulls":4},"AL451"]
[498,"報告書","報告書","備考1","C452","C452"]
[499,"報告書","報告書","備考2",null,"C453",{"$nulls":4},"C453"]
[500,"報告書","報告書","備考3",null,"C454",{"$nulls":4},"C454"]
[501,"報告書","報告書","備考4",null,"C455",{"$nulls":4},"C455"]
[502,"報告書","報告書","備考5",null,"C456",{"$nulls":4},"C456"]
[503,"報告書","報告書","備考6",null,"C457",{"$nulls":4},"C457"]
[504,"報告書","報告書","備考7",null,"C458",{"$nulls":4},"C458"]
[505,"報告書","報告書","備考8",null,"C459",{"$nulls":4},"C459"]
[506,"報告書","報告書","備考9",null,"C460",{"$nulls":4},"C460"]
[507,"報告書","報告書","備考10",null,"C461",{"$nulls":4},"C461"]
[508,"報告書","報告書","備考11",null,"C462",{"$nulls":4},"C462"]
[509,"報告書","報告書","備考12",null,"C463",{"$nulls":4},"C463"]
[510,"報告書","報告書","備考13",null,"C464",{"$nulls":4},"C464"]
[511,"報告書","報告書","備考14",null,"C465",{"$nulls":4},"C465"]
[512,"報告書","報告書","備考15",null,"C466",{"$nulls":4},"C466"]
[513,"報告書","報告書","備考16",null,"C467",{"$nulls":4},"C467"]
[514,"報告書","報告書","備考17",null,"C468",{"$nulls":4},"C468"]
[515,"報告書","報告書","備考18",null,"C469",{"$nulls":4},"C469"]
[516,"報告書","報告書","備考19",null,"C470",{"$nulls":4},"C470"]

{"sheet":"プルダウンリスト","index":18,"n_rows":644,"n_cols":3,"rows_kept":644,"hidden":true}
["検査結果表プルダウンリスト（各検査結果表の特記事項欄と関係写真のプルダウンにて使用）"]
["罫線で囲っている範囲が定義名の範囲となる。行を追加する場合は、表の間に挿入すれば範囲が自動で更新されるが、"]
["末端に追加した場合は、定義の変更が必要となる。"]
["換気設備"]
[]
[" 1(1)",{"$f":"換気検査結果表!H24","v":"給気機の外気取入口並びに直接外気に開放された給気口及び排気口への雨水の浸入等の防止措置の状況"}]
[" 1(2)",{"$f":"換気検査結果表!H25","v":"給気機の外気取入口及び排気機の排気口の取付けの状況"}]
[" 1(3)",{"$f":"換気検査結果表!H26","v":"各居室の給気口及び排気口の設置位置"}]
[" 1(4)",{"$f":"換気検査結果表!H27","v":"各居室の給気口及び排気口の取付けの状況"}]
[" 1(5)",{"$f":"換気検査結果表!H28","v":"風道の取付けの状況"}]
[" 1(6)",{"$f":"換気検査結果表!H29","v":"風道の材質"}]
[" 1(7)",{"$f":"換気検査結果表!H30","v":"給気機又は排気機の設置の状況"}]
[" 1(8)",{"$f":"換気検査結果表!H31","v":"換気扇による換気の状況"}]
[" 1(9)",{"$f":"換気検査結果表!H32","v":"各居室の給気口及び排気口における物品の放置の状況"}]
["1(10)",{"$f":"換気検査結果表!H33","v":"各居室の換気量"}]
["1(11)",{"$f":"換気検査結果表!H34","v":"中央管理室における制御及び作動状態の監視の状況"}]
["1(12)",{"$f":"換気検査結果表!H35","v":"空気調和設備の設置の状況"}]
["1(13)",{"$f":"換気検査結果表!H36","v":"空気調和設備及び配管の劣化及び損傷の状況"}]
["1(14)",{"$f":"換気検査結果表!H37","v":"空気調和設備の運転の状況"}]
["1(15)",{"$f":"換気検査結果表!H38","v":"空気ろ過器の点検口"}]
["1(16)",{"$f":"換気検査結果表!H39","v":"冷却塔と建築物の他の部分との離隔距離"}]
["1(17)",{"$f":"換気検査結果表!H40","v":"各居室の温度"}]
["1(18)",{"$f":"換気検査結果表!H41","v":"各居室の相対湿度"}]
["1(19)",{"$f":"換気検査結果表!H42","v":"各居室の浮遊粉じん量"}]
["1(20)",{"$f":"換気検査結果表!H43","v":"各居室の一酸化炭素含有率"}]
["1(21)",{"$f":"換気検査結果表!H44","v":"各居室の二酸化炭素含有率"}]
["1(22)",{"$f":"換気検査結果表!H45","v":"各居室の気流"}]
[]
[" 2(1)",{"$f":"換気検査結果表!G64","v":"排気筒、排気フード及び煙突の材質"}]
[" 2(2)",{"$f":"換気検査結果表!G65","v":"排気筒、排気フード及び煙突の取付けの状況"}]
[" 2(3)",{"$f":"換気検査結果表!G66","v":"給気口、給気筒、排気口、排気筒、排気フード及び煙突の大きさ"}]
[" 2(4)",{"$f":"換気検査結果表!G67","v":"給気口、排気口及び排気フードの位置"}]
[" 2(5)",{"$f":"換気検査結果表!G68","v":"給気口、給気筒、排気口、排気筒、排気フード及び煙突の設置の状況"}]
[" 2(6)",{"$f":"換気検査結果表!G69","v":"排気筒及び煙突の断熱の状況"}]
[" 2(7)",{"$f":"換気検査結果表!G70","v":"排気筒及び煙突と可燃物、電線等との離隔距離"}]
[" 2(8)",{"$f":"換気検査結果表!G71","v":"煙突等への防火ダンパー、風道等の設置の状況"}]
[" 2(9)",{"$f":"換気検査結果表!G72","v":"各居室の給気口及び排気口における物品の放置の状況"}]
["2(11)",{"$f":"換気検査結果表!G74","v":"煙突に連結した排気筒及び半密閉式瞬間湯沸器等の設置の状況"}]
["2(12)",{"$f":"換気検査結果表!G75","v":"換気扇による換気の状況"}]
["2(13)",{"$f":"換気検査結果表!G76","v":"給気機又は排気機の設置の状況"}]
["2(14)",{"$f":"換気検査結果表!G77","v":"機械換気設備の換気量"}]
[]
[" 3(1)",{"$f":"換気検査結果表!G82","v":"防火ダンパーの設置の状況"}]
[" 3(2)",{"$f":"換気検査結果表!G83","v":"防火ダンパーの取付けの状況"}]
[" 3(3)",{"$f":"換気検査結果表!G84","v":"防火ダンパーの作動の状況"}]
[" 3(4)",{"$f":"換気検査結果表!G85","v":"防火ダンパーの劣化及び損傷の状況"}]
[" 3(5)",{"$f":"換気検査結果表!G86","v":"防火ダンパーの点検口の有無及び大きさ並びに検査口の有無"}]
[" 3(6)",{"$f":"換気検査結果表!G87","v":"防火ダンパーの温度ヒューズ"}]
[" 3(7)",{"$f":"換気検査結果表!G88","v":"壁及び床の防火区画貫通部の措置の状況"}]
[" 3(8)",{"$f":"換気検査結果表!G89","v":"連動型防火ダンパーの煙感知器、熱煙複合式感知器及び熱感知器の位置"}]
[" 3(9)",{"$f":"換気検査結果表!G90","v":"連動型防火ダンパーの煙感知器、熱煙複合式感知器及び熱感知器との連動の状況"}]
[]
[{"$f":"IF(換気検査結果表!C97=\"\",\"\",\" 4\" & 換気検査結果表!C97)","v":""},{"$f":"IF(換気検査結果表!C97=\"\",\"\", 換気検査結果表!D97)","v":""}]
[{"$f":"IF(換気検査結果表!C98=\"\",\"\",\" 4\" & 換気検査結果表!C98)","v":""},{"$f":"IF(換気検査結果表!C98=\"\",\"\", 換気検査結果表!D98)","v":""}]
[{"$f":"IF(換気検査結果表!C99=\"\",\"\",\" 4\" & 換気検査結果表!C99)","v":""},{"$f":"IF(換気検査結果表!C99=\"\",\"\", 換気検査結果表!D99)","v":""}]
[{"$f":"IF(換気検査結果表!C100=\"\",\"\",\" 4\" & 換気検査結果表!C100)","v":""},{"$f":"IF(換気検査結果表!C100=\"\",\"\", 換気検査結果表!D100)","v":""}]
[{"$f":"IF(換気検査結果表!C101=\"\",\"\",\" 4\" & 換気検査結果表!C101)","v":""},{"$f":"IF(換気検査結果表!C101=\"\",\"\", 換気検査結果表!D101)","v":""}]
[{"$f":"IF(換気検査結果表!C102=\"\",\"\",\" 4\" & 換気検査結果表!C102)","v":""},{"$f":"IF(換気検査結果表!C102=\"\",\"\", 換気検査結果表!D102)","v":""}]
[{"$f":"IF(換気検査結果表!C103=\"\",\"\",\" 4\" & 換気検査結果表!C103)","v":""},{"$f":"IF(換気検査結果表!C103=\"\",\"\", 換気検査結果表!D103)","v":""}]
[{"$f":"IF(換気検査結果表!C104=\"\",\"\",\" 4\" & 換気検査結果表!C104)","v":""},{"$f":"IF(換気検査結果表!C104=\"\",\"\", 換気検査結果表!D104)","v":""}]
[{"$f":"IF(換気検査結果表!C105=\"\",\"\",\" 4\" & 換気検査結果表!C105)","v":""},{"$f":"IF(換気検査結果表!C105=\"\",\"\", 換気検査結果表!D105)","v":""}]
[{"$f":"IF(換気検査結果表!C106=\"\",\"\",\"4\" & 換気検査結果表!C106)","v":""},{"$f":"IF(換気検査結果表!C106=\"\",\"\", 換気検査結果表!D106)","v":""}]
[]
["排煙設備"]
[]
[" 1(1)",{"$f":"排煙検査結果表!H25","v":"排煙機の設置の状況"}]
[" 1(2)",{"$f":"排煙検査結果表!H26","v":"排煙風道との接続の状況"}]
[" 1(3)",{"$f":"排煙検査結果表!H27","v":"煙排出口の設置の状況"}]
[" 1(4)",{"$f":"排煙検査結果表!H28","v":"煙排出口の周囲の状況"}]
[" 1(5)",{"$f":"排煙検査結果表!H29","v":"屋外に設置された煙排出口への雨水等の防止措置の状況"}]
[" 1(6)",{"$f":"排煙検査結果表!H30","v":"排煙口の開放と連動起動の状況"}]
[" 1(7)",{"$f":"排煙検査結果表!H31","v":"作動の状況"}]
[" 1(8)",{"$f":"排煙検査結果表!H32","v":"電源を必要とする排煙機の予備電源による作動の状況"}]
[" 1(9)",{"$f":"排煙検査結果表!H33","v":"排煙機の排煙風量"}]
["1(10)",{"$f":"排煙検査結果表!H34","v":"中央管理室における制御及び作動状態の監視の状況"}]
["1(11)",{"$f":"排煙検査結果表!H35","v":"排煙口の位置"}]
["1(12)",{"$f":"排煙検査結果表!H36","v":"排煙口の周囲の状況"}]
["1(13)",{"$f":"排煙検査結果表!H37","v":"排煙口の取付けの状況"}]
["1(14)",{"$f":"排煙検査結果表!H38","v":"手動開放装置の周囲の状況"}]
["1(15)",{"$f":"排煙検査結果表!H39","v":"手動開放装置の操作方法の表示の状況"}]
["1(16)",{"$f":"排煙検査結果表!H40","v":"手動開放装置による開放の状況"}]
["1(17)",{"$f":"排煙検査結果表!H41","v":"排煙口の開放の状況"}]
["1(18)",{"$f":"排煙検査結果表!H42","v":"排煙口の排煙風量"}]
["1(19)",{"$f":"排煙検査結果表!H43","v":"中央管理室における制御及び作動状態の監視の状況"}]
["1(20)",{"$f":"排煙検査結果表!H44","v":"煙感知器による作動の状況"}]
["1(21)",{"$f":"排煙検査結果表!H45","v":"排煙風道の劣化及び損傷の状況"}]
["1(22)",{"$f":"排煙検査結果表!H46","v":"排煙風道の取付けの状況"}]
["1(23)",{"$f":"排煙検査結果表!H47","v":"排煙風道の材質"}]
["1(24)",{"$f":"排煙検査結果表!H48","v":"防煙壁の貫通措置の状況"}]
["1(25)",{"$f":"排煙検査結果表!H49","v":"排煙風道と可燃物、電線等との離隔距離及び断熱の状況"}]
["1(26)",{"$f":"排煙検査結果表!H50","v":"防火ダンパーの取付けの状況"}]
["1(27)",{"$f":"排煙検査結果表!H51","v":"防火ダンパーの作動の状況"}]
["1(28)",{"$f":"排煙検査結果表!H52","v":"防火ダンパーの劣化及び損傷の状況"}]
["1(29)",{"$f":"排煙検査結果表!H53","v":"防火ダンパーの点検口の有無及び大きさ並びに検査口の有無"}]
["1(30)",{"$f":"排煙検査結果表!H54","v":"防火ダンパーの温度ヒューズ"}]
["1(31)",{"$f":"排煙検査結果表!H55","v":"壁及び床の防火区画貫通部の措置の状況"}]
["1(32)",{"$f":"排煙検査結果表!H56","v":"排煙口及び給気口の大きさ及び位置"}]
["1(33)",{"$f":"排煙検査結果表!H57","v":"排煙口及び給気口の周囲の状況"}]
["1(34)",{"$f":"排煙検査結果表!H58","v":"排煙口及び給気口の取付けの状況"}]
["1(35)",{"$f":"排煙検査結果表!H59","v":"手動開放装置の周囲の状況"}]
["1(36)",{"$f":"排煙検査結果表!H60","v":"手動開放装置の操作方法の表示の状況"}]
["1(37)",{"$f":"排煙検査結果表!H61","v":"排煙口の排煙風量"}]
["1(38)",{"$f":"排煙検査結果表!H62","v":"中央管理室における制御及び作動状態の監視の状況"}]
["1(39)",{"$f":"排煙検査結果表!H63","v":"煙感知器による作動の状況"}]
["1(40)",{"$f":"排煙検査結果表!H64","v":"給気風道の劣化及び損傷の状況"}]
["1(41)",{"$f":"排煙検査結果表!H65","v":"給気風道の材質"}]
["1(42)",{"$f":"排煙検査結果表!H66","v":"給気風道の取付けの状況"}]
["1(43)",{"$f":"排煙検査結果表!H67","v":"防煙壁の貫通措置の状況"}]
["1(44)",{"$f":"排煙検査結果表!H68","v":"給気送風機の設置の状況"}]
["1(45)",{"$f":"排煙検査結果表!H69","v":"給気風道との接続の状況"}]
["1(46)",{"$f":"排煙検査結果表!H70","v":"排煙口の開放と連動起動の状況"}]
["1(47)",{"$f":"排煙検査結果表!H71","v":"作動の状況"}]
["1(48)",{"$f":"排煙検査結果表!H72","v":"電源を必要とする給気送風機の予備電源による作動の状況"}]
["1(49)",{"$f":"排煙検査結果表!H73","v":"給気送風機の給気風量"}]
["1(50)",{"$f":"排煙検査結果表!H74","v":"中央管理室における制御及び作動状態の監視の状況"}]
["1(51)",{"$f":"排煙検査結果表!H75","v":"吸込口の設置位置"}]
["1(52)",{"$f":"排煙検査結果表!H76","v":"吸込口の周囲の状況"}]
["1(53)",{"$f":"排煙検査結果表!H77","v":"屋外に設置された吸込口への雨水等の防止措置の状況"}]
[]
[" 2(1)",{"$f":"排煙検査結果表!H86","v":"排煙機、排煙口及び給気口の作動の状況"}]
[" 2(2)",{"$f":"排煙検査結果表!H87","v":"給気口の周囲の状況"}]
[" 2(3)",{"$f":"排煙検査結果表!H88","v":"排煙風道の劣化及び損傷の状況"}]
[" 2(4)",{"$f":"排煙検査結果表!H89","v":"排煙風道の取付けの状況"}]
[" 2(5)",{"$f":"排煙検査結果表!H90","v":"排煙風道の材質"}]
[" 2(6)",{"$f":"排煙検査結果表!H91","v":"給気口の周囲の状況"}]
[" 2(7)",{"$f":"排煙検査結果表!H92","v":"給気口の取付けの状況"}]
[" 2(8)",{"$f":"排煙検査結果表!H93","v":"給気口の手動開放装置の周囲の状況"}]
[" 2(9)",{"$f":"排煙検査結果表!H94","v":"給気口の手動開放装置の操作方法の表示の状況"}]
["2(10)",{"$f":"排煙検査結果表!H95","v":"給気口の手動開放装置による開放の状況"}]
["2(11)",{"$f":"排煙検査結果表!H96","v":"給気口の開放の状況"}]
["2(12)",{"$f":"排煙検査結果表!H97","v":"給気風道の劣化及び損傷の状況"}]
["2(13)",{"$f":"排煙検査結果表!H98","v":"給気風道の取付けの状況"}]
["2(14)",{"$f":"排煙検査結果表!H99","v":"給気風道の材質"}]
["2(15)",{"$f":"排煙検査結果表!H100","v":"給気送風機の設置の状況"}]
["2(16)",{"$f":"排煙検査結果表!H101","v":"給気風道との接続の状況"}]
["2(17)",{"$f":"排煙検査結果表!H102","v":"給気口の開放と連動起動の状況"}]
["2(18)",{"$f":"排煙検査結果表!H103","v":"給気送風機の作動の状況"}]
["2(19)",{"$f":"排煙検査結果表!H104","v":"電源を必要とする給気送風機の予備電源による作動の状況"}]
["2(20)",{"$f":"排煙検査結果表!H105","v":"中央管理室における制御及び作動状態の監視の状況"}]
["2(21)",{"$f":"排煙検査結果表!H106","v":"吸込口の設置位置"}]
["2(22)",{"$f":"排煙検査結果表!H107","v":"吸込口の周囲の状況"}]
["2(23)",{"$f":"排煙検査結果表!H108","v":"屋外に設置された吸込口への雨水等の防止措置の状況"}]
["2(24)",{"$f":"排煙検査結果表!H109","v":"遮煙開口部の排出風速"}]
["2(25)",{"$f":"排煙検査結果表!H110","v":"空気逃し口の大きさ及び位置"}]
["2(26)",{"$f":"排煙検査結果表!H111","v":"空気逃し口の周囲の状況"}]
["2(27)",{"$f":"排煙検査結果表!H112","v":"空気逃し口の取付けの状況"}]
["2(28)",{"$f":"排煙検査結果表!H113","v":"空気逃し口の作動の状況"}]
["2(29)",{"$f":"排煙検査結果表!H114","v":"圧力調整装置の大きさ及び位置"}]
["2(30)",{"$f":"排煙検査結果表!H115","v":"圧力調整装置の周囲の状況"}]
["2(31)",{"$f":"排煙検査結果表!H116","v":"圧力調整装置の取付けの状況"}]
["2(32)",{"$f":"排煙検査結果表!H117","v":"圧力調整装置の作動の状況"}]
[]
[" 3(1)",{"$f":"排煙検査結果表!H127","v":"手動降下装置の作動の状況"}]
[" 3(2)",{"$f":"排煙検査結果表!H128","v":"手動降下装置による連動の状況"}]
[" 3(3)",{"$f":"排煙検査結果表!H129","v":"煙感知器による連動の状況"}]
[" 3(4)",{"$f":"排煙検査結果表!H130","v":"可動防煙壁の材質"}]
[" 3(5)",{"$f":"排煙検査結果表!H131","v":"可動防煙壁の防煙区画"}]
[" 3(6)",{"$f":"排煙検査結果表!H132","v":"中央管理室における制御及び作動状態の監視の状況"}]
[]
[" 4(1)",{"$f":"排煙検査結果表!H139","v":"自家用発電機室の防火区画等の貫通措置の状況"}]
[" 4(2)",{"$f":"排煙検査結果表!H140","v":"発電機の発電容量"}]
[" 4(3)",{"$f":"排煙検査結果表!H141","v":"発電機及び原動機の状況"}]
[" 4(4)",{"$f":"排煙検査結果表!H142","v":"燃料油、潤滑油及び冷却水の状況"}]
[" 4(5)",{"$f":"排煙検査結果表!H143","v":"始動用の空気槽の圧力"}]
[" 4(6)",{"$f":"排煙検査結果表!H144","v":"セル始動用蓄電池及び電気ケーブルの接続の状況"}]
[" 4(7)",{"$f":"排煙検査結果表!H145","v":"燃料及び冷却水の漏洩の状況"}]
[" 4(8)",{"$f":"排煙検査結果表!H146","v":"計器類及びランプ類の指示及び点灯の状況"}]
[" 4(9)",{"$f":"排煙検査結果表!H147","v":"自家用発電装置の取付けの状況"}]
["4(10)",{"$f":"排煙検査結果表!H148","v":"自家用発電機室の給排気の状況（屋内に設置されている場合に限る。）"}]
["4(11)",{"$f":"排煙検査結果表!H149","v":"接地線の接続の状況"}]
["4(12)",{"$f":"排煙検査結果表!H150","v":"絶縁抵抗"}]
["4(13)",{"$f":"排煙検査結果表!H151","v":"電源の切替えの状況"}]
["4(14)",{"$f":"排煙検査結果表!H152","v":"始動の状況"}]
["4(15)",{"$f":"排煙検査結果表!H153","v":"運転の状況"}]
["4(16)",{"$f":"排煙検査結果表!H154","v":"排気の状況"}]
["4(17)",{"$f":"排煙検査結果表!H155","v":"コンプレッサー、燃料ポンプ、冷却水ポンプ等の補機類の作動の状況"}]
["4(18)",{"$f":"排煙検査結果表!H156","v":"直結エンジンの設置の状況"}]
["4(19)",{"$f":"排煙検査結果表!H157","v":"燃料油、潤滑油及び冷却水の状況"}]
["4(20)",{"$f":"排煙検査結果表!H158","v":"セル始動用蓄電池及び電気ケーブルの接続の状況"}]
["4(21)",{"$f":"排煙検査結果表!H159","v":"計器類及びランプ類の指示及び点灯の状況"}]
["4(22)",{"$f":"排煙検査結果表!H160","v":"給気部及び排気管の取付けの状況"}]
["4(23)",{"$f":"排煙検査結果表!H161","v":"Ｖベルト"}]
["4(24)",{"$f":"排煙検査結果表!H162","v":"接地線の接続の状況"}]
["4(25)",{"$f":"排煙検査結果表!H163","v":"絶縁抵抗"}]
["4(26)",{"$f":"排煙検査結果表!H164","v":"始動及び停止並びに運転の状況"}]
[]
[{"$f":"IF(排煙検査結果表!C172=\"\",\"\",\" 5\" & 排煙検査結果表!C172)","v":""},{"$f":"IF(排煙検査結果表!C172=\"\",\"\",排煙検査結果表!D172)","v":""}]
[{"$f":"IF(排煙検査結果表!C173=\"\",\"\",\" 5\" & 排煙検査結果表!C173)","v":""},{"$f":"IF(排煙検査結果表!C173=\"\",\"\",排煙検査結果表!D173)","v":""}]
[{"$f":"IF(排煙検査結果表!C174=\"\",\"\",\" 5\" & 排煙検査結果表!C174)","v":""},{"$f":"IF(排煙検査結果表!C174=\"\",\"\",排煙検査結果表!D174)","v":""}]
[{"$f":"IF(排煙検査結果表!C175=\"\",\"\",\" 5\" & 排煙検査結果表!C175)","v":""},{"$f":"IF(排煙検査結果表!C175=\"\",\"\",排煙検査結果表!D175)","v":""}]
[{"$f":"IF(排煙検査結果表!C176=\"\",\"\",\" 5\" & 排煙検査結果表!C176)","v":""},{"$f":"IF(排煙検査結果表!C176=\"\",\"\",排煙検査結果表!D176)","v":""}]
[{"$f":"IF(排煙検査結果表!C177=\"\",\"\",\" 5\" & 排煙検査結果表!C177)","v":""},{"$f":"IF(排煙検査結果表!C177=\"\",\"\",排煙検査結果表!D177)","v":""}]
[{"$f":"IF(排煙検査結果表!C178=\"\",\"\",\" 5\" & 排煙検査結果表!C178)","v":""},{"$f":"IF(排煙検査結果表!C178=\"\",\"\",排煙検査結果表!D178)","v":""}]
[{"$f":"IF(排煙検査結果表!C179=\"\",\"\",\" 5\" & 排煙検査結果表!C179)","v":""},{"$f":"IF(排煙検査結果表!C179=\"\",\"\",排煙検査結果表!D179)","v":""}]
[{"$f":"IF(排煙検査結果表!C180=\"\",\"\",\" 5\" & 排煙検査結果表!C180)","v":""},{"$f":"IF(排煙検査結果表!C180=\"\",\"\",排煙検査結果表!D180)","v":""}]
[{"$f":"IF(排煙検査結果表!C181=\"\",\"\",\"5\" & 排煙検査結果表!C181)","v":""},{"$f":"IF(排煙検査結果表!C181=\"\",\"\",排煙検査結果表!D181)","v":""}]
[]
["非常用照明装置"]
[]
[" 1(1)",{"$f":"非照検査結果表!G25","v":"使用電球、ランプ等 "}]
[" 1(2)",{"$f":"非照検査結果表!G26","v":"照明器具の取付けの状況"}]
[]
[" 2(1)",{"$f":"非照検査結果表!G32","v":"予備電源への切替え及び器具の点灯の状況並びに予備電源の性能"}]
[" 2(2)",{"$f":"非照検査結果表!G33","v":"照度の状況"}]
[" 2(3)",{"$f":"非照検査結果表!G34","v":"照明の妨げとなる物品の放置の状況"}]
[" 2(4)",{"$f":"非照検査結果表!G35","v":"非常用電源分岐回路の表示の状況"}]
[" 2(5)",{"$f":"非照検査結果表!G36","v":"配電管等の防火区画の貫通措置の状況（隠蔽部分及び埋設部分を除く。）"}]
[]
[" 3(1)",{"$f":"非照検査結果表!G43","v":"照明器具の取付けの状況及び配線の接続の状況（隠蔽部分及び埋設部分を除く。）"}]
[" 3(2)",{"$f":"非照検査結果表!G44","v":"電気回路の接続の状況"}]
[" 3(3)",{"$f":"非照検査結果表!G45","v":"接続部（幹線分岐及びボックス内に限る。）の耐熱処理の状況"}]
[" 3(4)",{"$f":"非照検査結果表!G46","v":"予備電源から非常用の照明器具間の配線の耐熱処理の状況（隠蔽部分及び埋設部分を除く。）"}]
[" 3(5)",{"$f":"非照検査結果表!G47","v":"常用の電源から蓄電池設備への切替えの状況"}]
[" 3(6)",{"$f":"非照検査結果表!G48","v":"蓄電池設備と自家用発電装置併用の場合の切替えの状況"}]
[]
[" 4(1)",{"$f":"非照検査結果表!G55","v":"充電ランプの点灯の状況"}]
[" 4(2)",{"$f":"非照検査結果表!G56","v":"誘導灯及び非常用照明兼用器具の専用回路の確保の状況"}]
[]
[" 5(1)",{"$f":"非照検査結果表!H63","v":"蓄電池室の防火区画等の貫通措置の状況"}]
[" 5(2)",{"$f":"非照検査結果表!H64","v":"蓄電池室の換気の状況"}]
[" 5(3)",{"$f":"非照検査結果表!H65","v":"蓄電池の設置の状況"}]
[" 5(4)",{"$f":"非照検査結果表!H66","v":"電圧 "}]
[" 5(5)",{"$f":"非照検査結果表!H67","v":"電解液比重 "}]
[" 5(6)",{"$f":"非照検査結果表!H68","v":"電解液の温度"}]
[" 5(7)",{"$f":"非照検査結果表!H69","v":"充電器室の防火区画等の貫通措置の状況"}]
[" 5(8)",{"$f":"非照検査結果表!H70","v":"キュービクルの取付けの状況"}]
[]
[" 6(1)",{"$f":"非照検査結果表!H77","v":"自家用発電機室の防火区画等の貫通措置の状況"}]
[" 6(2)",{"$f":"非照検査結果表!H78","v":"発電機の発電容量"}]
[" 6(3)",{"$f":"非照検査結果表!H79","v":"発電機及び原動機の状況"}]
[" 6(4)",{"$f":"非照検査結果表!H80","v":"燃料油、潤滑油及び冷却水の状況"}]
[" 6(5)",{"$f":"非照検査結果表!H81","v":"始動用の空気槽の圧力"}]
[" 6(6)",{"$f":"非照検査結果表!H82","v":"セル始動用蓄電池及び電気ケーブルの接続の状況"}]
[" 6(7)",{"$f":"非照検査結果表!H83","v":"燃料及び冷却水の漏洩の状況"}]
[" 6(8)",{"$f":"非照検査結果表!H84","v":"計器類及びランプ類の指示及び点灯の状況"}]
[" 6(9)",{"$f":"非照検査結果表!H85","v":"自家用発電装置の取付けの状況"}]
["6(10)",{"$f":"非照検査結果表!H86","v":"自家用発電機室の給排気の状況（屋内に設置されている場合に限る。）"}]
["6(11)",{"$f":"非照検査結果表!H87","v":"接地線の接続の状況"}]
["6(12)",{"$f":"非照検査結果表!H88","v":"絶縁抵抗"}]
["6(13)",{"$f":"非照検査結果表!H89","v":"電源の切替えの状況"}]
["6(14)",{"$f":"非照検査結果表!H90","v":"始動の状況"}]
["6(15)",{"$f":"非照検査結果表!H91","v":"運転の状況"}]
["6(16)",{"$f":"非照検査結果表!H92","v":"排気の状況"}]
["6(17)",{"$f":"非照検査結果表!H93","v":"コンプレッサー、燃料ポンプ、冷却水ポンプ等の補機類の作動の状況"}]
[]
[{"$f":"IF(非照検査結果表!C100=\"\",\"\",\" 7\" & 非照検査結果表!C100)","v":""},{"$f":"IF(非照検査結果表!C100=\"\",\"\", 非照検査結果表!D100)","v":""}]
[{"$f":"IF(非照検査結果表!C101=\"\",\"\",\" 7\" & 非照検査結果表!C101)","v":""},{"$f":"IF(非照検査結果表!C101=\"\",\"\", 非照検査結果表!D101)","v":""}]
[{"$f":"IF(非照検査結果表!C102=\"\",\"\",\" 7\" & 非照検査結果表!C102)","v":""},{"$f":"IF(非照検査結果表!C102=\"\",\"\", 非照検査結果表!D102)","v":""}]
[{"$f":"IF(非照検査結果表!C103=\"\",\"\",\" 7\" & 非照検査結果表!C103)","v":""},{"$f":"IF(非照検査結果表!C103=\"\",\"\", 非照検査結果表!D103)","v":""}]
[{"$f":"IF(非照検査結果表!C104=\"\",\"\",\" 7\" & 非照検査結果表!C104)","v":""},{"$f":"IF(非照検査結果表!C104=\"\",\"\", 非照検査結果表!D104)","v":""}]
[{"$f":"IF(非照検査結果表!C105=\"\",\"\",\" 7\" & 非照検査結果表!C105)","v":""},{"$f":"IF(非照検査結果表!C105=\"\",\"\", 非照検査結果表!D105)","v":""}]
[{"$f":"IF(非照検査結果表!C106=\"\",\"\",\" 7\" & 非照検査結果表!C106)","v":""},{"$f":"IF(非照検査結果表!C106=\"\",\"\", 非照検査結果表!D106)","v":""}]
[{"$f":"IF(非照検査結果表!C107=\"\",\"\",\" 7\" & 非照検査結果表!C107)","v":""},{"$f":"IF(非照検査結果表!C107=\"\",\"\", 非照検査結果表!D107)","v":""}]
[{"$f":"IF(非照検査結果表!C108=\"\",\"\",\" 7\" & 非照検査結果表!C108)","v":""},{"$f":"IF(非照検査結果表!C108=\"\",\"\", 非照検査結果表!D108)","v":""}]
[{"$f":"IF(非照検査結果表!C109=\"\",\"\",\"7\" & 非照検査結果表!C109)","v":""},{"$f":"IF(非照検査結果表!C109=\"\",\"\", 非照検査結果表!D109)","v":""}]
[]
["給排水設備"]
[]
[" 1(1)",{"$f":"水検査結果表!H25","v":"配管の取付けの状況"}]
[" 1(2)",{"$f":"水検査結果表!H26","v":"配管の腐食及び漏水の状況"}]
[" 1(3)",{"$f":"水検査結果表!H27","v":"配管が貫通する箇所の損傷防止措置の状況"}]
[" 1(4)",{"$f":"水検査結果表!H28","v":"継手類の取付けの状況"}]
[" 1(5)",{"$f":"水検査結果表!H29","v":"保温措置の状況"}]
[" 1(6)",{"$f":"水検査結果表!H30","v":"防火区画等の貫通措置の状況"}]
[" 1(7)",{"$f":"水検査結果表!H31","v":"配管の支持金物"}]
[" 1(8)",{"$f":"水検査結果表!H32","v":"飲料水系統配管の汚染防止措置の状況"}]
[" 1(9)",{"$f":"水検査結果表!H33","v":"止水弁の設置の状況"}]
["1(10)",{"$f":"水検査結果表!H34","v":"ウォーターハンマーの防止措置の状況"}]
["1(11)",{"$f":"水検査結果表!H35","v":"給湯管及び膨張管の設置の状況"}]
[]
[" 2(1)",{"$f":"水検査結果表!H42","v":"給水タンク等の設置の状況"}]
[" 2(2)",{"$f":"水検査結果表!H43","v":"給水タンク等の通気管、水抜き管、オーバーフロー管等の設置の状況"}]
[" 2(3)",{"$f":"水検査結果表!H44","v":"給水タンク等の腐食及び漏水の状況"}]
[" 2(4)",{"$f":"水検査結果表!H45","v":"給水用圧力タンクの安全装置の状況"}]
[" 2(5)",{"$f":"水検査結果表!H46","v":"給水ポンプの運転の状況"}]
[" 2(6)",{"$f":"水検査結果表!H47","v":"給水タンク及びポンプ等の取付けの状況"}]
[" 2(7)",{"$f":"水検査結果表!H48","v":"給水タンク等の内部の状況"}]
[" 2(8)",{"$f":"水検査結果表!H49","v":"給湯設備（ガス湯沸器を除く。）の取付けの状況"}]
[" 2(9)",{"$f":"水検査結果表!H50","v":"ガス湯沸器の取付けの状況"}]
["2(10)",{"$f":"水検査結果表!H51","v":"給湯設備の腐食及び漏水の状況"}]
[]
[" 3(1)",{"$f":"水検査結果表!H58","v":"排水槽のマンホールの大きさ"}]
[" 3(2)",{"$f":"水検査結果表!H59","v":"排水槽の通気の状況"}]
[" 3(3)",{"$f":"水検査結果表!H60","v":"排水漏れの状況"}]
[" 3(4)",{"$f":"水検査結果表!H61","v":"排水ポンプの設置の状況"}]
[" 3(5)",{"$f":"水検査結果表!H62","v":"排水ポンプの運転の状況"}]
[" 3(6)",{"$f":"水検査結果表!H63","v":"地下街の非常用の排水設備の処理能力及び予備電源の状況"}]
[" 3(7)",{"$f":"水検査結果表!H64","v":"雑用水の用途"}]
[" 3(8)",{"$f":"水検査結果表!H65","v":"雑用水給水栓の表示の状況"}]
[" 3(9)",{"$f":"水検査結果表!H66","v":"配管の標識等"}]
["3(10)",{"$f":"水検査結果表!H67","v":"雑用水タンク、ポンプ等の設置の状況"}]
["3(11)",{"$f":"水検査結果表!H68","v":"消毒装置"}]
["3(12)",{"$f":"水検査結果表!H69","v":"衛生器具の取付けの状況"}]
["3(13)",{"$f":"水検査結果表!H70","v":"排水トラップの取付けの状況"}]
["3(14)",{"$f":"水検査結果表!H71","v":"阻集器の構造、機能及び設置の状況"}]
["3(15)",{"$f":"水検査結果表!H72","v":"公共下水道等への接続の状況"}]
["3(16)",{"$f":"水検査結果表!H73","v":"雨水排水立て管の接続の状況"}]
["3(17)",{"$f":"水検査結果表!H74","v":"排水の状況"}]
["3(18)",{"$f":"水検査結果表!H75","v":"掃除口の取付けの状況"}]
["3(19)",{"$f":"水検査結果表!H76","v":"雨水系統との接続の状況"}]
["3(20)",{"$f":"水検査結果表!H77","v":"間接排水の状況"}]
["3(21)",{"$f":"水検査結果表!H78","v":"通気開口部の状況"}]
["3(22)",{"$f":"水検査結果表!H79","v":"通気管の状況"}]
[]
[{"$f":"IF(水検査結果表!C84=\"\",\"\",\" 4\" & 水検査結果表!C84)","v":""},{"$f":"IF(水検査結果表!C84=\"\",\"\", 水検査結果表!D84)","v":""}]
[{"$f":"IF(水検査結果表!C85=\"\",\"\",\" 4\" & 水検査結果表!C85)","v":""},{"$f":"IF(水検査結果表!C85=\"\",\"\", 水検査結果表!D85)","v":""}]
[{"$f":"IF(水検査結果表!C86=\"\",\"\",\" 4\" & 水検査結果表!C86)","v":""},{"$f":"IF(水検査結果表!C86=\"\",\"\", 水検査結果表!D86)","v":""}]
[{"$f":"IF(水検査結果表!C87=\"\",\"\",\" 4\" & 水検査結果表!C87)","v":""},{"$f":"IF(水検査結果表!C87=\"\",\"\", 水検査結果表!D87)","v":""}]
[{"$f":"IF(水検査結果表!C88=\"\",\"\",\" 4\" & 水検査結果表!C88)","v":""},{"$f":"IF(水検査結果表!C88=\"\",\"\", 水検査結果表!D88)","v":""}]
[{"$f":"IF(水検査結果表!C89=\"\",\"\",\" 4\" & 水検査結果表!C89)","v":""},{"$f":"IF(水検査結果表!C89=\"\",\"\", 水検査結果表!D89)","v":""}]
[{"$f":"IF(水検査結果表!C90=\"\",\"\",\" 4\" & 水検査結果表!C90)","v":""},{"$f":"IF(水検査結果表!C90=\"\",\"\", 水検査結果表!D90)","v":""}]
[{"$f":"IF(水検査結果表!C91=\"\",\"\",\" 4\" & 水検査結果表!C91)","v":""},{"$f":"IF(水検査結果表!C91=\"\",\"\", 水検査結果表!D91)","v":""}]
[{"$f":"IF(水検査結果表!C92=\"\",\"\",\" 4\" & 水検査結果表!C92)","v":""},{"$f":"IF(水検査結果表!C92=\"\",\"\", 水検査結果表!D92)","v":""}]
[{"$f":"IF(水検査結果表!C93=\"\",\"\",\"4\" & 水検査結果表!C93)","v":""},{"$f":"IF(水検査結果表!C93=\"\",\"\", 水検査結果表!D93)","v":""}]
[]
["報告書－第三面－不具合把握年月（現在の月～10年前＋不明）"]
[]
[0,{"$f":"IF(OR(YEAR(EDATE(NOW(),$A318))>2019,AND(YEAR(EDATE(NOW(),$A318))=2019,MONTH(EDATE(NOW(),$A318))>4)),\"令和\" & YEAR(EDATE(NOW(),$A318))-2018 & \"年\" & MONTH(EDATE(NOW(),$A318)) & \"月\",\"平成\" & YEAR(EDATE(NOW(),$A318))-1988 & \"年\" & MONTH(EDATE(NOW(),$A318)) & \"月\")","v":"令和8年1月"}]
[-1,{"$f":"IF(OR(YEAR(EDATE(NOW(),$A319))>2019,AND(YEAR(EDATE(NOW(),$A319))=2019,MONTH(EDATE(NOW(),$A319))>4)),\"令和\" & YEAR(EDATE(NOW(),$A319))-2018 & \"年\" & MONTH(EDATE(NOW(),$A319)) & \"月\",\"平成\" & YEAR(EDATE(NOW(),$A319))-1988 & \"年\" & MONTH(EDATE(NOW(),$A319)) & \"月\")","v":"令和7年12月"}]
[-2,"令和7年11月"]
[-3,"令和7年10月"]
[-4,"令和7年9月"]
[-5,"令和7年8月"]
[-6,"令和7年7月"]
[-7,"令和7年6月"]
[-8,"令和7年5月"]
[-9,"令和7年4月"]
[-10,"令和7年3月"]
[-11,"令和7年2月"]
[-12,"令和7年1月"]
[-13,"令和6年12月"]
[-14,"令和6年11月"]
[-15,"令和6年10月"]
[-16,"令和6年9月"]
[-17,"令和6年8月"]
[-18,"令和6年7月"]
[-19,"令和6年6月"]
[-20,"令和6年5月"]
[-21,"令和6年4月"]
[-22,"令和6年3月"]
[-23,"令和6年2月"]
[-24,"令和6年1月"]
[-25,"令和5年12月"]
[-26,"令和5年11月"]
[-27,"令和5年10月"]
[-28,"令和5年9月"]
[-29,"令和5年8月"]
[-30,"令和5年7月"]
[-31,"令和5年6月"]
[-32,"令和5年5月"]
[-33,"令和5年4月"]
[-34,"令和5年3月"]
[-35,"令和5年2月"]
[-36,"令和5年1月"]
[-37,"令和4年12月"]
[-38,"令和4年11月"]
[-39,"令和4年10月"]
[-40,"令和4年9月"]
[-41,"令和4年8月"]
[-42,"令和4年7月"]
[-43,"令和4年6月"]
[-44,"令和4年5月"]
[-45,"令和4年4月"]
[-46,"令和4年3月"]
[-47,"令和4年2月"]
[-48,"令和4年1月"]
[-49,"令和3年12月"]
[-50,"令和3年11月"]
[-51,"令和3年10月"]
[-52,"令和3年9月"]
[-53,"令和3年8月"]
[-54,"令和3年7月"]
[-55,"令和3年6月"]
[-56,"令和3年5月"]
[-57,"令和3年4月"]
[-58,"令和3年3月"]
[-59,"令和3年2月"]
[-60,"令和3年1月"]
[-61,"令和2年12月"]
[-62,"令和2年11月"]
[-63,"令和2年10月"]
[-64,"令和2年9月"]
[-65,{"$f":"IF(OR(YEAR(EDATE(NOW(),$A383))>2019,AND(YEAR(EDATE(NOW(),$A383))=2019,MONTH(EDATE(NOW(),$A383))>4)),\"令和\" & YEAR(EDATE(NOW(),$A383))-2018 & \"年\" & MONTH(EDATE(NOW(),$A383)) & \"月\",\"平成\" & YEAR(EDATE(NOW(),$A383))-1988 & \"年\" & MONTH(EDATE(NOW(),$A383)) & \"月\")","v":"令和2年8月"}]
[-66,"令和2年7月"]
[-67,"令和2年6月"]
[-68,"令和2年5月"]
[-69,"令和2年4月"]
[-70,"令和2年3月"]
[-71,"令和2年2月"]
[-72,"令和2年1月"]
[-73,"令和1年12月"]
[-74,"令和1年11月"]
[-75,"令和1年10月"]
[-76,"令和1年9月"]
[-77,"令和1年8月"]
[-78,"令和1年7月"]
[-79,"令和1年6月"]
[-80,"令和1年5月"]
[-81,"平成31年4月"]
[-82,"平成31年3月"]
[-83,"平成31年2月"]
[-84,"平成31年1月"]
[-85,"平成30年12月"]
[-86,"平成30年11月"]
[-87,"平成30年10月"]
[-88,"平成30年9月"]
[-89,"平成30年8月"]
[-90,"平成30年7月"]
[-91,"平成30年6月"]
[-92,"平成30年5月"]
[-93,"平成30年4月"]
[-94,"平成30年3月"]
[-95,"平成30年2月"]
[-96,"平成30年1月"]
[-97,"平成29年12月"]
[-98,"平成29年11月"]
[-99,"平成29年10月"]
[-100,"平成29年9月"]
[-101,"平成29年8月"]
[-102,"平成29年7月"]
[-103,"平成29年6月"]
[-104,"平成29年5月"]
[-105,"平成29年4月"]
[-106,"平成29年3月"]
[-107,"平成29年2月"]
[-108,"平成29年1月"]
[-109,"平成28年12月"]
[-110,"平成28年11月"]
[-111,"平成28年10月"]
[-112,"平成28年9月"]
[-113,"平成28年8月"]
[-114,"平成28年7月"]
[-115,"平成28年6月"]
[-116,"平成28年5月"]
[-117,"平成28年4月"]
[-118,"平成28年3月"]
[-119,"平成28年2月"]
[-120,"平成28年1月"]
[null,"不明"]
[]
[]
[]
[]
[]
["改善予定年月（-3年(現在未使用)、+5年をシステム日付から取得。）",null,"報告書第三面用"]
[]
[0,null,"－"]
[0,"予定なし","未定"]
[0,"未定","不明(改善済)"]
[-24,{"$f":"IF(OR(YEAR(EDATE(NOW(),$A450))>2019,AND(YEAR(EDATE(NOW(),$A450))=2019,MONTH(EDATE(NOW(),$A450))>4)),YEAR(EDATE(NOW(),$A450))-2018 & \"年\" & MONTH(EDATE(NOW(),$A450)) & \"月\", YEAR(EDATE(NOW(),$A450))-1988 & \"年\" & MONTH(EDATE(NOW(),$A450)) & \"月\")","v":"6年1月"},{"$f":"IF(OR(YEAR(EDATE(NOW(),$A450))>2019,AND(YEAR(EDATE(NOW(),$A450))=2019,MONTH(EDATE(NOW(),$A450))>4)),\"令和\" & YEAR(EDATE(NOW(),$A450))-2018 & \"年\" & MONTH(EDATE(NOW(),$A450)) & \"月(改善済)\",\"平成\" & YEAR(EDATE(NOW(),$A450))-1988 & \"年\" & MONTH(EDATE(NOW(),$A450)) & \"月(改善済)\")","v":"令和6年1月(改善済)"}]
[-23,{"$f":"IF(OR(YEAR(EDATE(NOW(),$A451))>2019,AND(YEAR(EDATE(NOW(),$A451))=2019,MONTH(EDATE(NOW(),$A451))>4)),YEAR(EDATE(NOW(),$A451))-2018 & \"年\" & MONTH(EDATE(NOW(),$A451)) & \"月\", YEAR(EDATE(NOW(),$A451))-1988 & \"年\" & MONTH(EDATE(NOW(),$A451)) & \"月\")","v":"6年2月"},{"$f":"IF(OR(YEAR(EDATE(NOW(),$A451))>2019,AND(YEAR(EDATE(NOW(),$A451))=2019,MONTH(EDATE(NOW(),$A451))>4)),\"令和\" & YEAR(EDATE(NOW(),$A451))-2018 & \"年\" & MONTH(EDATE(NOW(),$A451)) & \"月(改善済)\",\"平成\" & YEAR(EDATE(NOW(),$A451))-1988 & \"年\" & MONTH(EDATE(NOW(),$A451)) & \"月(改善済)\")","v":"令和6年2月(改善済)"}]
[-22,"6年3月","令和6年3月(改善済)"]
[-21,"6年4月","令和6年4月(改善済)"]
[-20,"6年5月","令和6年5月(改善済)"]
[-19,"6年6月","令和6年6月(改善済)"]
[-18,"6年7月","令和6年7月(改善済)"]
[-17,"6年8月","令和6年8月(改善済)"]
[-16,"6年9月","令和6年9月(改善済)"]
[-15,"6年10月","令和6年10月(改善済)"]
[-14,"6年11月","令和6年11月(改善済)"]
[-13,"6年12月","令和6年12月(改善済)"]
[-12,"7年1月","令和7年1月(改善済)"]
[-11,"7年2月","令和7年2月(改善済)"]
[-10,"7年3月","令和7年3月(改善済)"]
[-9,"7年4月","令和7年4月(改善済)"]
[-8,"7年5月","令和7年5月(改善済)"]
[-7,"7年6月","令和7年6月(改善済)"]
[-6,"7年7月","令和7年7月(改善済)"]
[-5,"7年8月","令和7年8月(改善済)"]
[-4,"7年9月","令和7年9月(改善済)"]
[-3,"7年10月","令和7年10月(改善済)"]
[-2,"7年11月","令和7年11月(改善済)"]
[-1,"7年12月","令和7年12月(改善済)"]
[0,"8年1月","令和8年1月(改善済)"]
[0,{"$f":"IF(OR(YEAR(EDATE(NOW(),$A475))>2019,AND(YEAR(EDATE(NOW(),$A475))=2019,MONTH(EDATE(NOW(),$A475))>4)),\"(\" & YEAR(EDATE(NOW(),$A475))-2018 & \"年\" & MONTH(EDATE(NOW(),$A475)) & \"月)\",\"(\" & YEAR(EDATE(NOW(),$A475))-1988 & \"年\" & MONTH(EDATE(NOW(),$A475)) & \"月)\")","v":"(8年1月)"},{"$f":"IF(OR(YEAR(EDATE(NOW(),$A475))>2019,AND(YEAR(EDATE(NOW(),$A475))=2019,MONTH(EDATE(NOW(),$A475))>4)),\"令和\" & YEAR(EDATE(NOW(),$A475))-2018 & \"年\" & MONTH(EDATE(NOW(),$A475)) & \"月\",\"平成\" & YEAR(EDATE(NOW(),$A475))-1988 & \"年\" & MONTH(EDATE(NOW(),$A475)) & \"月\")","v":"令和8年1月"}]
[1,{"$f":"IF(OR(YEAR(EDATE(NOW(),$A476))>2019,AND(YEAR(EDATE(NOW(),$A476))=2019,MONTH(EDATE(NOW(),$A476))>4)),\"(\" & YEAR(EDATE(NOW(),$A476))-2018 & \"年\" & MONTH(EDATE(NOW(),$A476)) & \"月)\",\"(\" & YEAR(EDATE(NOW(),$A476))-1988 & \"年\" & MONTH(EDATE(NOW(),$A476)) & \"月)\")","v":"(8年2月)"},{"$f":"IF(OR(YEAR(EDATE(NOW(),$A476))>2019,AND(YEAR(EDATE(NOW(),$A476))=2019,MONTH(EDATE(NOW(),$A476))>4)),\"令和\" & YEAR(EDATE(NOW(),$A476))-2018 & \"年\" & MONTH(EDATE(NOW(),$A476)) & \"月\",\"平成\" & YEAR(EDATE(NOW(),$A476))-1988 & \"年\" & MONTH(EDATE(NOW(),$A476)) & \"月\")","v":"令和8年2月"}]
[2,"(8年3月)",{"$f":"IF(OR(YEAR(EDATE(NOW(),$A477))>2019,AND(YEAR(EDATE(NOW(),$A477))=2019,MONTH(EDATE(NOW(),$A477))>4)),\"令和\" & YEAR(EDATE(NOW(),$A477))-2018 & \"年\" & MONTH(EDATE(NOW(),$A477)) & \"月\",\"平成\" & YEAR(EDATE(NOW(),$A477))-1988 & \"年\" & MONTH(EDATE(NOW(),$A477)) & \"月\")","v":"令和8年3月"}]
[3,"(8年4月)","令和8年4月"]
[4,"(8年5月)","令和8年5月"]
[5,"(8年6月)","令和8年6月"]
[6,"(8年7月)","令和8年7月"]
[7,"(8年8月)","令和8年8月"]
[8,"(8年9月)","令和8年9月"]
[9,"(8年10月)","令和8年10月"]
[10,"(8年11月)","令和8年11月"]
[11,"(8年12月)","令和8年12月"]
[12,"(9年1月)","令和9年1月"]
[13,"(9年2月)","令和9年2月"]
[14,"(9年3月)","令和9年3月"]
[15,"(9年4月)","令和9年4月"]
[16,"(9年5月)","令和9年5月"]
[17,"(9年6月)","令和9年6月"]
[18,"(9年7月)","令和9年7月"]
[19,"(9年8月)","令和9年8月"]
[20,"(9年9月)","令和9年9月"]
[21,"(9年10月)","令和9年10月"]
[22,"(9年11月)","令和9年11月"]
[23,"(9年12月)","令和9年12月"]
[24,"(10年1月)","令和10年1月"]
[25,"(10年2月)","令和10年2月"]
[26,"(10年3月)","令和10年3月"]
[27,"(10年4月)","令和10年4月"]
[28,"(10年5月)","令和10年5月"]
[29,"(10年6月)","令和10年6月"]
[30,"(10年7月)","令和10年7月"]
[31,"(10年8月)","令和10年8月"]
[32,"(10年9月)","令和10年9月"]
[33,"(10年10月)","令和10年10月"]
[34,"(10年11月)","令和10年11月"]
[35,"(10年12月)","令和10年12月"]
[36,"(11年1月)","令和11年1月"]
[37,"(11年2月)","令和11年2月"]
[38,"(11年3月)","令和11年3月"]
[39,"(11年4月)","令和11年4月"]
[40,"(11年5月)","令和11年5月"]
[41,"(11年6月)","令和11年6月"]
[42,"(11年7月)","令和11年7月"]
[43,"(11年8月)","令和11年8月"]
[44,"(11年9月)","令和11年9月"]
[45,"(11年10月)","令和11年10月"]
[46,"(11年11月)","令和11年11月"]
[47,"(11年12月)","令和11年12月"]
[48,"(12年1月)","令和12年1月"]
[49,"(12年2月)","令和12年2月"]
[50,"(12年3月)","令和12年3月"]
[51,"(12年4月)","令和12年4月"]
[52,"(12年5月)","令和12年5月"]
[53,"(12年6月)","令和12年6月"]
[54,"(12年7月)","令和12年7月"]
[55,"(12年8月)","令和12年8月"]
[56,"(12年9月)","令和12年9月"]
[57,"(12年10月)","令和12年10月"]
[58,"(12年11月)","令和12年11月"]
[59,"(12年12月)","令和12年12月"]
[60,"(13年1月)","令和13年1月"]
{"$rows_empty":12}
["国土交通大臣"]
["建設大臣"]
["東京都知事"]
["神奈川県知事"]
["千葉県知事"]
["埼玉県知事"]
["群馬県知事"]
["栃木県知事"]
["茨城県知事"]
["北海道知事"]
["青森県知事"]
["岩手県知事"]
["宮城県知事"]
["秋田県知事"]
["山形県知事"]
["福島県知事"]
["新潟県知事"]
["富山県知事"]
["石川県知事"]
["福井県知事"]
["山梨県知事"]
["長野県知事"]
["岐阜県知事"]
["静岡県知事"]
["愛知県知事"]
["三重県知事"]
["滋賀県知事"]
["京都府知事"]
["大阪府知事"]
["兵庫県知事"]
["奈良県知事"]
["和歌山県知事"]
["鳥取県知事"]
["島根県知事"]
["岡山県知事"]
["広島県知事"]
["山口県知事"]
["徳島県知事"]
["香川県知事"]
["愛媛県知事"]
["高知県知事"]
["福岡県知事"]
["佐賀県知事"]
["長崎県知事"]
["熊本県知事"]
["大分県知事"]
["宮崎県知事"]
["鹿児島県知事"]
["沖縄県知事"]
[]
["東京都"]
["神奈川県"]
["千葉県"]
["埼玉県"]
["群馬県"]
["栃木県"]
["茨城県"]
["北海道"]
["青森県"]
["岩手県"]
["宮城県"]
["秋田県"]
["山形県"]
["福島県"]
["新潟県"]
["富山県"]
["石川県"]
["福井県"]
["山梨県"]
["長野県"]
["岐阜県"]
["静岡県"]
["愛知県"]
["三重県"]
["滋賀県"]
["京都府"]
["大阪府"]
["兵庫県"]
["奈良県"]
["和歌山県"]
["鳥取県"]
["島根県"]
["岡山県"]
["広島県"]
["山口県"]
["徳島県"]
["香川県"]
["愛媛県"]
["高知県"]
["福岡県"]
["佐賀県"]
["長崎県"]
["熊本県"]
["大分県"]
["宮崎県"]
["鹿児島県"]
["沖縄県"]

{"sheet":"郵便番号","index":19,"n_rows":1678,"n_cols":5,"rows_kept":1678,"hidden":true}
["郵便番号","都道府県市区町村","都道府県","市区町村","番地"]
[1020072,"東京都千代田区飯田橋","東京都","千代田区","飯田橋"]
[1020082,"東京都千代田区一番町","東京都","千代田区","一番町"]
[1010032,"東京都千代田区岩本町","東京都","千代田区","岩本町"]
[1010047,"東京都千代田区内神田","東京都","千代田区","内神田"]
[1000011,"東京都千代田区内幸町","東京都","千代田区","内幸町"]
[1000004,"東京都千代田区大手町","東京都","千代田区","大手町"]
[1010044,"東京都千代田区鍛冶町","東京都","千代田区","鍛冶町"]
[1000013,"東京都千代田区霞が関","東京都","千代田区","霞が関"]
[1010029,"東京都千代田区神田相生町","東京都","千代田区","神田相生町"]
[1010063,"東京都千代田区神田淡路町","東京都","千代田区","神田淡路町"]
[1010024,"東京都千代田区神田和泉町","東京都","千代田区","神田和泉町"]
[1010033,"東京都千代田区神田岩本町","東京都","千代田区","神田岩本町"]
[1010052,"東京都千代田区神田小川町","東京都","千代田区","神田小川町"]
[1010045,"東京都千代田区神田鍛冶町","東京都","千代田区","神田鍛冶町"]
[1010036,"東京都千代田区神田北乗物町","東京都","千代田区","神田北乗物町"]
[1010035,"東京都千代田区神田紺屋町","東京都","千代田区","神田紺屋町"]
[1010026,"東京都千代田区神田佐久間河岸","東京都","千代田区","神田佐久間河岸"]
[1010025,"東京都千代田区神田佐久間町","東京都","千代田区","神田佐久間町"]
[1010064,"東京都千代田区神田猿楽町","東京都","千代田区","神田猿楽町"]
[1010051,"東京都千代田区神田神保町","東京都","千代田区","神田神保町"]
[1010041,"東京都千代田区神田須田町","東京都","千代田区","神田須田町"]
[1010062,"東京都千代田区神田駿河台","東京都","千代田区","神田駿河台"]
[1010046,"東京都千代田区神田多町","東京都","千代田区","神田多町"]
[1010048,"東京都千代田区神田司町","東京都","千代田区","神田司町"]
[1010043,"東京都千代田区神田富山町","東京都","千代田区","神田富山町"]
[1010054,"東京都千代田区神田錦町","東京都","千代田区","神田錦町"]
[1010037,"東京都千代田区神田西福田町","東京都","千代田区","神田西福田町"]
[1010022,"東京都千代田区神田練塀町","東京都","千代田区","神田練塀町"]
[1010028,"東京都千代田区神田花岡町","東京都","千代田区","神田花岡町"]
[1010034,"東京都千代田区神田東紺屋町","東京都","千代田区","神田東紺屋町"]
[1010042,"東京都千代田区神田東松下町","東京都","千代田区","神田東松下町"]
[1010027,"東京都千代田区神田平河町","東京都","千代田区","神田平河町"]
[1010023,"東京都千代田区神田松永町","東京都","千代田区","神田松永町"]
[1010038,"東京都千代田区神田美倉町","東京都","千代田区","神田美倉町"]
[1010061,"東京都千代田区神田三崎町","東京都","千代田区","神田三崎町"]
[1010053,"東京都千代田区神田美土代町","東京都","千代田区","神田美土代町"]
[1020094,"東京都千代田区紀尾井町","東京都","千代田区","紀尾井町"]
[1020091,"東京都千代田区北の丸公園","東京都","千代田区","北の丸公園"]
[1020074,"東京都千代田区九段南","東京都","千代田区","九段南"]
[1020073,"東京都千代田区九段北","東京都","千代田区","九段北"]
[1000002,"東京都千代田区皇居外苑","東京都","千代田区","皇居外苑"]
[1020083,"東京都千代田区麹町","東京都","千代田区","麹町"]
[1020076,"東京都千代田区五番町","東京都","千代田区","五番町"]
[1020075,"東京都千代田区三番町","東京都","千代田区","三番町"]
[1010021,"東京都千代田区外神田","東京都","千代田区","外神田"]
[1000001,"東京都千代田区千代田","東京都","千代田区","千代田"]
[1000014,"東京都千代田区永田町","東京都","千代田区","永田町"]
[1010065,"東京都千代田区西神田","東京都","千代田区","西神田"]
[1020084,"東京都千代田区二番町","東京都","千代田区","二番町"]
[1020092,"東京都千代田区隼町","東京都","千代田区","隼町"]
[1010031,"東京都千代田区東神田","東京都","千代田区","東神田"]
[1000003,"東京都千代田区一ツ橋","東京都","千代田区","一ツ橋"]
[1000012,"東京都千代田区日比谷公園","東京都","千代田区","日比谷公園"]
[1020093,"東京都千代田区平河町","東京都","千代田区","平河町"]
[1020071,"東京都千代田区富士見","東京都","千代田区","富士見"]
[1000005,"東京都千代田区丸の内","東京都","千代田区","丸の内"]
[1000006,"東京都千代田区有楽町","東京都","千代田区","有楽町"]
[1020081,"東京都千代田区四番町","東京都","千代田区","四番町"]
[1020085,"東京都千代田区六番町","東京都","千代田区","六番町"]
[1040044,"東京都中央区明石町","東京都","中央区","明石町"]
[1040042,"東京都中央区入船","東京都","中央区","入船"]
[1040054,"東京都中央区勝どき","東京都","中央区","勝どき"]
[1040031,"東京都中央区京橋","東京都","中央区","京橋"]
[1040061,"東京都中央区銀座","東京都","中央区","銀座"]
[1040033,"東京都中央区新川","東京都","中央区","新川"]
[1040041,"東京都中央区新富","東京都","中央区","新富"]
[1040052,"東京都中央区月島","東京都","中央区","月島"]
[1040045,"東京都中央区築地","東京都","中央区","築地"]
[1040051,"東京都中央区佃","東京都","中央区","佃"]
[1040055,"東京都中央区豊海町","東京都","中央区","豊海町"]
[1030027,"東京都中央区日本橋","東京都","中央区","日本橋"]
[1030011,"東京都中央区日本橋大伝馬町","東京都","中央区","日本橋大伝馬町"]
[1030014,"東京都中央区日本橋蛎殻町","東京都","中央区","日本橋蛎殻町"]
[1030026,"東京都中央区日本橋兜町","東京都","中央区","日本橋兜町"]
[1030025,"東京都中央区日本橋茅場町","東京都","中央区","日本橋茅場町"]
[1030016,"東京都中央区日本橋小網町","東京都","中央区","日本橋小網町"]
[1030001,"東京都中央区日本橋小伝馬町","東京都","中央区","日本橋小伝馬町"]
[1030024,"東京都中央区日本橋小舟町","東京都","中央区","日本橋小舟町"]
[1030006,"東京都中央区日本橋富沢町","東京都","中央区","日本橋富沢町"]
[1030008,"東京都中央区日本橋中洲","東京都","中央区","日本橋中洲"]
[1030013,"東京都中央区日本橋人形町","東京都","中央区","日本橋人形町"]
[1030015,"東京都中央区日本橋箱崎町","東京都","中央区","日本橋箱崎町"]
[1030007,"東京都中央区日本橋浜町","東京都","中央区","日本橋浜町"]
[1030002,"東京都中央区日本橋馬喰町","東京都","中央区","日本橋馬喰町"]
[1030005,"東京都中央区日本橋久松町","東京都","中央区","日本橋久松町"]
[1030012,"東京都中央区日本橋堀留町","東京都","中央区","日本橋堀留町"]
[1030021,"東京都中央区日本橋本石町","東京都","中央区","日本橋本石町"]
[1030023,"東京都中央区日本橋本町","東京都","中央区","日本橋本町"]
[1030022,"東京都中央区日本橋室町","東京都","中央区","日本橋室町"]
[1030003,"東京都中央区日本橋横山町","東京都","中央区","日本橋横山町"]
[1040032,"東京都中央区八丁堀","東京都","中央区","八丁堀"]
[1040046,"東京都中央区浜離宮庭園","東京都","中央区","浜離宮庭園"]
[1040053,"東京都中央区晴海","東京都","中央区","晴海"]
[1030004,"東京都中央区東日本橋","東京都","中央区","東日本橋"]
[1040043,"東京都中央区湊","東京都","中央区","湊"]
[1030028,"東京都中央区八重洲","東京都","中央区","八重洲"]
[1070052,"東京都港区赤坂","東京都","港区","赤坂"]
[1060045,"東京都港区麻布十番","東京都","港区","麻布十番"]
[1060041,"東京都港区麻布台","東京都","港区","麻布台"]
[1060043,"東京都港区麻布永坂町","東京都","港区","麻布永坂町"]
[1060042,"東京都港区麻布狸穴町","東京都","港区","麻布狸穴町"]
[1050002,"東京都港区愛宕","東京都","港区","愛宕"]
[1050022,"東京都港区海岸","東京都","港区","海岸"]
[1070061,"東京都港区北青山","東京都","港区","北青山"]
[1080075,"東京都港区港南","東京都","港区","港南"]
[1050014,"東京都港区芝","東京都","港区","芝"]
[1050023,"東京都港区芝浦","東京都","港区","芝浦"]
[1050011,"東京都港区芝公園","東京都","港区","芝公園"]
[1050012,"東京都港区芝大門","東京都","港区","芝大門"]
[1080072,"東京都港区白金","東京都","港区","白金"]
[1080071,"東京都港区白金台","東京都","港区","白金台"]
[1050004,"東京都港区新橋","東京都","港区","新橋"]
[1350091,"東京都港区台場","東京都","港区","台場"]
[1080074,"東京都港区高輪","東京都","港区","高輪"]
[1050001,"東京都港区虎ノ門","東京都","港区","虎ノ門"]
[1060031,"東京都港区西麻布","東京都","港区","西麻布"]
[1050003,"東京都港区西新橋","東京都","港区","西新橋"]
[1050013,"東京都港区浜松町","東京都","港区","浜松町"]
[1060044,"東京都港区東麻布","東京都","港区","東麻布"]
[1050021,"東京都港区東新橋","東京都","港区","東新橋"]
[1080073,"東京都港区三田","東京都","港区","三田"]
[1070062,"東京都港区南青山","東京都","港区","南青山"]
[1060047,"東京都港区南麻布","東京都","港区","南麻布"]
[1070051,"東京都港区元赤坂","東京都","港区","元赤坂"]
[1060046,"東京都港区元麻布","東京都","港区","元麻布"]
[1060032,"東京都港区六本木","東京都","港区","六本木"]
[1600005,"東京都新宿区愛住町","東京都","新宿区","愛住町"]
[1620803,"東京都新宿区赤城下町","東京都","新宿区","赤城下町"]
[1620817,"東京都新宿区赤城元町","東京都","新宿区","赤城元町"]
[1620824,"東京都新宿区揚場町","東京都","新宿区","揚場町"]
[1600007,"東京都新宿区荒木町","東京都","新宿区","荒木町"]
[1620062,"東京都新宿区市谷加賀町","東京都","新宿区","市谷加賀町"]
[1620856,"東京都新宿区市谷甲良町","東京都","新宿区","市谷甲良町"]
[1620842,"東京都新宿区市谷砂土原町","東京都","新宿区","市谷砂土原町"]
[1620846,"東京都新宿区市谷左内町","東京都","新宿区","市谷左内町"]
[1620848,"東京都新宿区市谷鷹匠町","東京都","新宿区","市谷鷹匠町"]
[1620843,"東京都新宿区市谷田町","東京都","新宿区","市谷田町"]
[1620066,"東京都新宿区市谷台町","東京都","新宿区","市谷台町"]
[1620847,"東京都新宿区市谷長延寺町","東京都","新宿区","市谷長延寺町"]
[1620064,"東京都新宿区市谷仲之町","東京都","新宿区","市谷仲之町"]
[1620844,"東京都新宿区市谷八幡町","東京都","新宿区","市谷八幡町"]
[1620826,"東京都新宿区市谷船河原町","東京都","新宿区","市谷船河原町"]
[1620845,"東京都新宿区市谷本村町","東京都","新宿区","市谷本村町"]
[1620063,"東京都新宿区市谷薬王寺町","東京都","新宿区","市谷薬王寺町"]
[1620061,"東京都新宿区市谷柳町","東京都","新宿区","市谷柳町"]
[1620857,"東京都新宿区市谷山伏町","東京都","新宿区","市谷山伏町"]
[1620832,"東京都新宿区岩戸町","東京都","新宿区","岩戸町"]
[1620806,"東京都新宿区榎町","東京都","新宿区","榎町"]
[1690072,"東京都新宿区大久保","東京都","新宿区","大久保"]
[1620802,"東京都新宿区改代町","東京都","新宿区","改代町"]
[1620823,"東京都新宿区神楽河岸","東京都","新宿区","神楽河岸"]
[1620825,"東京都新宿区神楽坂","東京都","新宿区","神楽坂"]
[1600013,"東京都新宿区霞ケ丘町","東京都","新宿区","霞ケ丘町"]
[1600001,"東京都新宿区片町","東京都","新宿区","片町"]
[1600021,"東京都新宿区歌舞伎町","東京都","新宿区","歌舞伎町"]
[1610034,"東京都新宿区上落合","東京都","新宿区","上落合"]
[1620054,"東京都新宿区河田町","東京都","新宿区","河田町"]
[1620044,"東京都新宿区喜久井町","東京都","新宿区","喜久井町"]
[1690074,"東京都新宿区北新宿","東京都","新宿区","北新宿"]
[1620834,"東京都新宿区北町","東京都","新宿区","北町"]
[1620853,"東京都新宿区北山伏町","東京都","新宿区","北山伏町"]
[1620838,"東京都新宿区細工町","東京都","新宿区","細工町"]
[1600017,"東京都新宿区左門町","東京都","新宿区","左門町"]
[1600008,"東京都新宿区三栄町","東京都","新宿区","三栄町"]
[1600016,"東京都新宿区信濃町","東京都","新宿区","信濃町"]
[1610033,"東京都新宿区下落合","東京都","新宿区","下落合"]
[1620822,"東京都新宿区下宮比町","東京都","新宿区","下宮比町"]
[1620816,"東京都新宿区白銀町","東京都","新宿区","白銀町"]
[1620814,"東京都新宿区新小川町","東京都","新宿区","新小川町"]
[1600022,"東京都新宿区新宿","東京都","新宿区","新宿"]
[1620811,"東京都新宿区水道町","東京都","新宿区","水道町"]
[1600018,"東京都新宿区須賀町","東京都","新宿区","須賀町"]
[1620065,"東京都新宿区住吉町","東京都","新宿区","住吉町"]
[1600015,"東京都新宿区大京町","東京都","新宿区","大京町"]
[1690075,"東京都新宿区高田馬場","東京都","新宿区","高田馬場"]
[1620833,"東京都新宿区箪笥町","東京都","新宿区","箪笥町"]
[1620818,"東京都新宿区築地町","東京都","新宿区","築地町"]
[1620821,"東京都新宿区津久戸町","東京都","新宿区","津久戸町"]
[1620815,"東京都新宿区筑土八幡町","東京都","新宿区","筑土八幡町"]
[1620808,"東京都新宿区天神町","東京都","新宿区","天神町"]
[1690071,"東京都新宿区戸塚町","東京都","新宿区","戸塚町"]
[1620067,"東京都新宿区富久町","東京都","新宿区","富久町"]
[1690052,"東京都新宿区戸山","東京都","新宿区","戸山"]
[1600014,"東京都新宿区内藤町","東京都","新宿区","内藤町"]
[1610035,"東京都新宿区中井","東京都","新宿区","中井"]
[1610032,"東京都新宿区中落合","東京都","新宿区","中落合"]
[1620804,"東京都新宿区中里町","東京都","新宿区","中里町"]
[1620835,"東京都新宿区中町","東京都","新宿区","中町"]
[1620837,"東京都新宿区納戸町","東京都","新宿区","納戸町"]
[1610031,"東京都新宿区西落合","東京都","新宿区","西落合"]
[1620812,"東京都新宿区西五軒町","東京都","新宿区","西五軒町"]
[1600023,"東京都新宿区西新宿","東京都","新宿区","西新宿"]
[1620855,"東京都新宿区二十騎町","東京都","新宿区","二十騎町"]
[1620051,"東京都新宿区西早稲田","東京都","新宿区","西早稲田"]
[1620045,"東京都新宿区馬場下町","東京都","新宿区","馬場下町"]
[1620841,"東京都新宿区払方町","東京都","新宿区","払方町"]
[1620053,"東京都新宿区原町","東京都","新宿区","原町"]
[1620807,"東京都新宿区東榎町","東京都","新宿区","東榎町"]
[1620813,"東京都新宿区東五軒町","東京都","新宿区","東五軒町"]
[1690073,"東京都新宿区百人町","東京都","新宿区","百人町"]
[1620828,"東京都新宿区袋町","東京都","新宿区","袋町"]
[1600006,"東京都新宿区舟町","東京都","新宿区","舟町"]
[1620851,"東京都新宿区弁天町","東京都","新宿区","弁天町"]
[1620852,"東京都新宿区南榎町","東京都","新宿区","南榎町"]
[1620836,"東京都新宿区南町","東京都","新宿区","南町"]
[1600012,"東京都新宿区南元町","東京都","新宿区","南元町"]
[1620854,"東京都新宿区南山伏町","東京都","新宿区","南山伏町"]
[1620801,"東京都新宿区山吹町","東京都","新宿区","山吹町"]
[1620805,"東京都新宿区矢来町","東京都","新宿区","矢来町"]
[1620831,"東京都新宿区横寺町","東京都","新宿区","横寺町"]
[1620055,"東京都新宿区余丁町","東京都","新宿区","余丁町"]
[1600004,"東京都新宿区四谷","東京都","新宿区","四谷"]
[1600002,"東京都新宿区四谷坂町","東京都","新宿区","四谷坂町"]
[1600008,"東京都新宿区四谷三栄町","東京都","新宿区","四谷三栄町"]
[1600003,"東京都新宿区四谷本塩町","東京都","新宿区","四谷本塩町"]
[1600011,"東京都新宿区若葉","東京都","新宿区","若葉"]
[1620056,"東京都新宿区若松町","東京都","新宿区","若松町"]
[1620827,"東京都新宿区若宮町","東京都","新宿区","若宮町"]
[1620041,"東京都新宿区早稲田鶴巻町","東京都","新宿区","早稲田鶴巻町"]
[1620043,"東京都新宿区早稲田南町","東京都","新宿区","早稲田南町"]
[1620042,"東京都新宿区早稲田町","東京都","新宿区","早稲田町"]
[1120012,"東京都文京区大塚","東京都","文京区","大塚"]
[1120013,"東京都文京区音羽","東京都","文京区","音羽"]
[1120003,"東京都文京区春日","東京都","文京区","春日"]
[1120002,"東京都文京区小石川","東京都","文京区","小石川"]
[1120004,"東京都文京区後楽","東京都","文京区","後楽"]
[1120006,"東京都文京区小日向","東京都","文京区","小日向"]
[1120005,"東京都文京区水道","東京都","文京区","水道"]
[1120014,"東京都文京区関口","東京都","文京区","関口"]
[1120011,"東京都文京区千石","東京都","文京区","千石"]
[1130022,"東京都文京区千駄木","東京都","文京区","千駄木"]
[1130024,"東京都文京区西片","東京都","文京区","西片"]
[1130031,"東京都文京区根津","東京都","文京区","根津"]
[1130001,"東京都文京区白山","東京都","文京区","白山"]
[1130021,"東京都文京区本駒込","東京都","文京区","本駒込"]
[1130033,"東京都文京区本郷","東京都","文京区","本郷"]
[1130023,"東京都文京区向丘","東京都","文京区","向丘"]
[1120015,"東京都文京区目白台","東京都","文京区","目白台"]
[1130032,"東京都文京区弥生","東京都","文京区","弥生"]
[1130034,"東京都文京区湯島","東京都","文京区","湯島"]
[1100006,"東京都台東区秋葉原","東京都","台東区","秋葉原"]
[1110032,"東京都台東区浅草","東京都","台東区","浅草"]
[1110053,"東京都台東区浅草橋","東京都","台東区","浅草橋"]
[1100008,"東京都台東区池之端","東京都","台東区","池之端"]
[1110024,"東京都台東区今戸","東京都","台東区","今戸"]
[1100013,"東京都台東区入谷","東京都","台東区","入谷"]
[1100005,"東京都台東区上野","東京都","台東区","上野"]
[1100007,"東京都台東区上野公園","東京都","台東区","上野公園"]
[1100002,"東京都台東区上野桜木","東京都","台東区","上野桜木"]
[1110034,"東京都台東区雷門","東京都","台東区","雷門"]
[1100014,"東京都台東区北上野","東京都","台東区","北上野"]
[1110022,"東京都台東区清川","東京都","台東区","清川"]
[1110051,"東京都台東区蔵前","東京都","台東区","蔵前"]
[1110056,"東京都台東区小島","東京都","台東区","小島"]
[1110042,"東京都台東区寿","東京都","台東区","寿"]
[1110043,"東京都台東区駒形","東京都","台東区","駒形"]
[1100004,"東京都台東区下谷","東京都","台東区","下谷"]
[1110031,"東京都台東区千束","東京都","台東区","千束"]
[1100016,"東京都台東区台東","東京都","台東区","台東"]
[1110054,"東京都台東区鳥越","東京都","台東区","鳥越"]
[1110035,"東京都台東区西浅草","東京都","台東区","西浅草"]
[1110021,"東京都台東区日本堤","東京都","台東区","日本堤"]
[1100003,"東京都台東区根岸","東京都","台東区","根岸"]
[1110023,"東京都台東区橋場","東京都","台東区","橋場"]
[1110033,"東京都台東区花川戸","東京都","台東区","花川戸"]
[1110025,"東京都台東区東浅草","東京都","台東区","東浅草"]
[1100015,"東京都台東区東上野","東京都","台東区","東上野"]
[1110036,"東京都台東区松が谷","東京都","台東区","松が谷"]
[1110055,"東京都台東区三筋","東京都","台東区","三筋"]
[1100011,"東京都台東区三ノ輪","東京都","台東区","三ノ輪"]
[1110041,"東京都台東区元浅草","東京都","台東区","元浅草"]
[1100001,"東京都台東区谷中","東京都","台東区","谷中"]
[1110052,"東京都台東区柳橋","東京都","台東区","柳橋"]
[1100012,"東京都台東区竜泉","東京都","台東区","竜泉"]
[1300001,"東京都墨田区吾妻橋","東京都","墨田区","吾妻橋"]
[1300011,"東京都墨田区石原","東京都","墨田区","石原"]
[1310045,"東京都墨田区押上","東京都","墨田区","押上"]
[1300014,"東京都墨田区亀沢","東京都","墨田区","亀沢"]
[1300024,"東京都墨田区菊川","東京都","墨田区","菊川"]
[1310046,"東京都墨田区京島","東京都","墨田区","京島"]
[1300013,"東京都墨田区錦糸","東京都","墨田区","錦糸"]
[1300022,"東京都墨田区江東橋","東京都","墨田区","江東橋"]
[1310031,"東京都墨田区墨田","東京都","墨田区","墨田"]
[1300012,"東京都墨田区太平","東京都","墨田区","太平"]
[1310043,"東京都墨田区立花","東京都","墨田区","立花"]
[1300023,"東京都墨田区立川","東京都","墨田区","立川"]
[1300025,"東京都墨田区千歳","東京都","墨田区","千歳"]
[1310034,"東京都墨田区堤通","東京都","墨田区","堤通"]
[1300002,"東京都墨田区業平","東京都","墨田区","業平"]
[1300005,"東京都墨田区東駒形","東京都","墨田区","東駒形"]
[1310042,"東京都墨田区東墨田","東京都","墨田区","東墨田"]
[1310032,"東京都墨田区東向島","東京都","墨田区","東向島"]
[1310044,"東京都墨田区文花","東京都","墨田区","文花"]
[1300004,"東京都墨田区本所","東京都","墨田区","本所"]
[1300021,"東京都墨田区緑","東京都","墨田区","緑"]
[1310033,"東京都墨田区向島","東京都","墨田区","向島"]
[1310041,"東京都墨田区八広","東京都","墨田区","八広"]
[1300015,"東京都墨田区横網","東京都","墨田区","横網"]
[1300003,"東京都墨田区横川","東京都","墨田区","横川"]
[1300026,"東京都墨田区両国","東京都","墨田区","両国"]
[1350064,"東京都江東区青海","東京都","江東区","青海"]
[1350063,"東京都江東区有明","東京都","江東区","有明"]
[1350014,"東京都江東区石島","東京都","江東区","石島"]
[1350066,"東京都江東区海の森","東京都","江東区","海の森"]
[1350012,"東京都江東区海辺","東京都","江東区","海辺"]
[1350034,"東京都江東区永代","東京都","江東区","永代"]
[1350051,"東京都江東区枝川","東京都","江東区","枝川"]
[1350044,"東京都江東区越中島","東京都","江東区","越中島"]
[1350011,"東京都江東区扇橋","東京都","江東区","扇橋"]
[1360072,"東京都江東区大島","東京都","江東区","大島"]
[1360071,"東京都江東区亀戸","東京都","江東区","亀戸"]
[1360073,"東京都江東区北砂","東京都","江東区","北砂"]
[1350042,"東京都江東区木場","東京都","江東区","木場"]
[1350024,"東京都江東区清澄","東京都","江東区","清澄"]
[1350031,"東京都江東区佐賀","東京都","江東区","佐賀"]
[1350003,"東京都江東区猿江","東京都","江東区","猿江"]
[1350043,"東京都江東区塩浜","東京都","江東区","塩浜"]
[1350052,"東京都江東区潮見","東京都","江東区","潮見"]
[1350062,"東京都江東区東雲","東京都","江東区","東雲"]
[1350021,"東京都江東区白河","東京都","江東区","白河"]
[1350007,"東京都江東区新大橋","東京都","江東区","新大橋"]
[1360082,"東京都江東区新木場","東京都","江東区","新木場"]
[1360075,"東京都江東区新砂","東京都","江東区","新砂"]
[1350002,"東京都江東区住吉","東京都","江東区","住吉"]
[1350015,"東京都江東区千石","東京都","江東区","千石"]
[1350013,"東京都江東区千田","東京都","江東区","千田"]
[1350005,"東京都江東区高橋","東京都","江東区","高橋"]
[1350053,"東京都江東区辰巳","東京都","江東区","辰巳"]
[1350065,"東京都江東区中央防波堤","東京都","江東区","中央防波堤"]
[1350016,"東京都江東区東陽","東京都","江東区","東陽"]
[1350006,"東京都江東区常盤","東京都","江東区","常盤"]
[1350047,"東京都江東区富岡","東京都","江東区","富岡"]
[1350061,"東京都江東区豊洲","東京都","江東区","豊洲"]
[1360074,"東京都江東区東砂","東京都","江東区","東砂"]
[1350023,"東京都江東区平野","東京都","江東区","平野"]
[1350033,"東京都江東区深川","東京都","江東区","深川"]
[1350032,"東京都江東区福住","東京都","江東区","福住"]
[1350041,"東京都江東区冬木","東京都","江東区","冬木"]
[1350045,"東京都江東区古石場","東京都","江東区","古石場"]
[1350046,"東京都江東区牡丹","東京都","江東区","牡丹"]
[1360076,"東京都江東区南砂","東京都","江東区","南砂"]
[1350022,"東京都江東区三好","東京都","江東区","三好"]
[1350001,"東京都江東区毛利","東京都","江東区","毛利"]
[1350004,"東京都江東区森下","東京都","江東区","森下"]
[1350048,"東京都江東区門前仲町","東京都","江東区","門前仲町"]
[1360081,"東京都江東区夢の島","東京都","江東区","夢の島"]
[1360083,"東京都江東区若洲","東京都","江東区","若洲"]
[1420063,"東京都品川区荏原","東京都","品川区","荏原"]
[1400014,"東京都品川区大井","東京都","品川区","大井"]
[1410032,"東京都品川区大崎","東京都","品川区","大崎"]
[1400012,"東京都品川区勝島","東京都","品川区","勝島"]
[1410021,"東京都品川区上大崎","東京都","品川区","上大崎"]
[1400001,"東京都品川区北品川","東京都","品川区","北品川"]
[1420062,"東京都品川区小山","東京都","品川区","小山"]
[1420061,"東京都品川区小山台","東京都","品川区","小山台"]
[1420041,"東京都品川区戸越","東京都","品川区","戸越"]
[1420053,"東京都品川区中延","東京都","品川区","中延"]
[1400015,"東京都品川区西大井","東京都","品川区","西大井"]
[1410031,"東京都品川区西五反田","東京都","品川区","西五反田"]
[1410033,"東京都品川区西品川","東京都","品川区","西品川"]
[1420054,"東京都品川区西中延","東京都","品川区","西中延"]
[1420064,"東京都品川区旗の台","東京都","品川区","旗の台"]
[1400011,"東京都品川区東大井","東京都","品川区","東大井"]
[1410022,"東京都品川区東五反田","東京都","品川区","東五反田"]
[1400002,"東京都品川区東品川","東京都","品川区","東品川"]
[1420052,"東京都品川区東中延","東京都","品川区","東中延"]
[1350092,"東京都品川区東八潮","東京都","品川区","東八潮"]
[1420051,"東京都品川区平塚","東京都","品川区","平塚"]
[1400005,"東京都品川区広町","東京都","品川区","広町"]
[1420043,"東京都品川区二葉","東京都","品川区","二葉"]
[1400013,"東京都品川区南大井","東京都","品川区","南大井"]
[1400004,"東京都品川区南品川","東京都","品川区","南品川"]
[1400003,"東京都品川区八潮","東京都","品川区","八潮"]
[1420042,"東京都品川区豊町","東京都","品川区","豊町"]
[1530042,"東京都目黒区青葉台","東京都","目黒区","青葉台"]
[1520033,"東京都目黒区大岡山","東京都","目黒区","大岡山"]
[1530044,"東京都目黒区大橋","東京都","目黒区","大橋"]
[1520022,"東京都目黒区柿の木坂","東京都","目黒区","柿の木坂"]
[1530051,"東京都目黒区上目黒","東京都","目黒区","上目黒"]
[1530053,"東京都目黒区五本木","東京都","目黒区","五本木"]
[1530041,"東京都目黒区駒場","東京都","目黒区","駒場"]
[1530064,"東京都目黒区下目黒","東京都","目黒区","下目黒"]
[1520035,"東京都目黒区自由が丘","東京都","目黒区","自由が丘"]
[1520012,"東京都目黒区洗足","東京都","目黒区","洗足"]
[1520032,"東京都目黒区平町","東京都","目黒区","平町"]
[1520004,"東京都目黒区鷹番","東京都","目黒区","鷹番"]
[1520001,"東京都目黒区中央町","東京都","目黒区","中央町"]
[1530065,"東京都目黒区中町","東京都","目黒区","中町"]
[1520031,"東京都目黒区中根","東京都","目黒区","中根"]
[1530061,"東京都目黒区中目黒","東京都","目黒区","中目黒"]
[1520011,"東京都目黒区原町","東京都","目黒区","原町"]
[1520021,"東京都目黒区東が丘","東京都","目黒区","東が丘"]
[1530043,"東京都目黒区東山","東京都","目黒区","東山"]
[1520003,"東京都目黒区碑文谷","東京都","目黒区","碑文谷"]
[1530062,"東京都目黒区三田","東京都","目黒区","三田"]
[1520034,"東京都目黒区緑が丘","東京都","目黒区","緑が丘"]
[1520013,"東京都目黒区南","東京都","目黒区","南"]
[1530063,"東京都目黒区目黒","東京都","目黒区","目黒"]
[1520002,"東京都目黒区目黒本町","東京都","目黒区","目黒本町"]
[1520023,"東京都目黒区八雲","東京都","目黒区","八雲"]
[1530052,"東京都目黒区祐天寺","東京都","目黒区","祐天寺"]
[1460082,"東京都大田区池上","東京都","大田区","池上"]
[1450061,"東京都大田区石川町","東京都","大田区","石川町"]
[1460091,"東京都大田区鵜の木","東京都","大田区","鵜の木"]
[1430014,"東京都大田区大森中","東京都","大田区","大森中"]
[1430011,"東京都大田区大森本町","東京都","大田区","大森本町"]
[1430012,"東京都大田区大森東","東京都","大田区","大森東"]
[1430015,"東京都大田区大森西","東京都","大田区","大森西"]
[1430013,"東京都大田区大森南","東京都","大田区","大森南"]
[1430016,"東京都大田区大森北","東京都","大田区","大森北"]
[1440052,"東京都大田区蒲田","東京都","大田区","蒲田"]
[1440053,"東京都大田区蒲田本町","東京都","大田区","蒲田本町"]
[1450064,"東京都大田区上池台","東京都","大田区","上池台"]
[1440032,"東京都大田区北糀谷","東京都","大田区","北糀谷"]
[1450062,"東京都大田区北千束","東京都","大田区","北千束"]
[1430021,"東京都大田区北馬込","東京都","大田区","北馬込"]
[1450073,"東京都大田区北嶺町","東京都","大田区","北嶺町"]
[1460085,"東京都大田区久が原","東京都","大田区","久が原"]
[1430003,"東京都大田区京浜島","東京都","大田区","京浜島"]
[1430023,"東京都大田区山王","東京都","大田区","山王"]
[1460092,"東京都大田区下丸子","東京都","大田区","下丸子"]
[1430002,"東京都大田区城南島","東京都","大田区","城南島"]
[1430004,"東京都大田区昭和島","東京都","大田区","昭和島"]
[1440054,"東京都大田区新蒲田","東京都","大田区","新蒲田"]
[1460095,"東京都大田区多摩川","東京都","大田区","多摩川"]
[1460083,"東京都大田区千鳥","東京都","大田区","千鳥"]
[1430024,"東京都大田区中央","東京都","大田区","中央"]
[1450071,"東京都大田区田園調布","東京都","大田区","田園調布"]
[1450072,"東京都大田区田園調布本町","東京都","大田区","田園調布本町"]
[1450076,"東京都大田区田園調布南","東京都","大田区","田園調布南"]
[1430001,"東京都大田区東海","東京都","大田区","東海"]
[1460081,"東京都大田区仲池上","東京都","大田区","仲池上"]
[1430027,"東京都大田区中馬込","東京都","大田区","中馬込"]
[1440055,"東京都大田区仲六郷","東京都","大田区","仲六郷"]
[1440051,"東京都大田区西蒲田","東京都","大田区","西蒲田"]
[1440034,"東京都大田区西糀谷","東京都","大田区","西糀谷"]
[1430026,"東京都大田区西馬込","東京都","大田区","西馬込"]
[1450075,"東京都大田区西嶺町","東京都","大田区","西嶺町"]
[1440056,"東京都大田区西六郷","東京都","大田区","西六郷"]
[1440047,"東京都大田区萩中","東京都","大田区","萩中"]
[1440043,"東京都大田区羽田","東京都","大田区","羽田"]
[1440042,"東京都大田区羽田旭町","東京都","大田区","羽田旭町"]
[1440041,"東京都大田区羽田空港","東京都","大田区","羽田空港"]
[1440031,"東京都大田区東蒲田","東京都","大田区","東蒲田"]
[1440033,"東京都大田区東糀谷","東京都","大田区","東糀谷"]
[1430022,"東京都大田区東馬込","東京都","大田区","東馬込"]
[1450074,"東京都大田区東嶺町","東京都","大田区","東嶺町"]
[1460094,"東京都大田区東矢口","東京都","大田区","東矢口"]
[1450065,"東京都大田区東雪谷","東京都","大田区","東雪谷"]
[1440046,"東京都大田区東六郷","東京都","大田区","東六郷"]
[1430007,"東京都大田区ふるさとの浜辺公園","東京都","大田区","ふるさとの浜辺公園"]
[1430006,"東京都大田区平和島","東京都","大田区","平和島"]
[1430005,"東京都大田区平和の森公園","東京都","大田区","平和の森公園"]
[1440044,"東京都大田区本羽田","東京都","大田区","本羽田"]
[1440035,"東京都大田区南蒲田","東京都","大田区","南蒲田"]
[1460084,"東京都大田区南久が原","東京都","大田区","南久が原"]
[1450063,"東京都大田区南千束","東京都","大田区","南千束"]
[1430025,"東京都大田区南馬込","東京都","大田区","南馬込"]
[1450066,"東京都大田区南雪谷","東京都","大田区","南雪谷"]
[1440045,"東京都大田区南六郷","東京都","大田区","南六郷"]
[1460093,"東京都大田区矢口","東京都","大田区","矢口"]
[1450067,"東京都大田区雪谷大塚町","東京都","大田区","雪谷大塚町"]
[1350093,"東京都大田区令和島","東京都","大田区","令和島"]
[1560044,"東京都世田谷区赤堤","東京都","世田谷区","赤堤"]
[1540001,"東京都世田谷区池尻","東京都","世田谷区","池尻"]
[1570068,"東京都世田谷区宇奈根","東京都","世田谷区","宇奈根"]
[1540022,"東京都世田谷区梅丘","東京都","世田谷区","梅丘"]
[1570074,"東京都世田谷区大蔵","東京都","世田谷区","大蔵"]
[1560041,"東京都世田谷区大原","東京都","世田谷区","大原"]
[1570076,"東京都世田谷区岡本","東京都","世田谷区","岡本"]
[1580083,"東京都世田谷区奥沢","東京都","世田谷区","奥沢"]
[1580086,"東京都世田谷区尾山台","東京都","世田谷区","尾山台"]
[1570063,"東京都世田谷区粕谷","東京都","世田谷区","粕谷"]
[1570077,"東京都世田谷区鎌田","東京都","世田谷区","鎌田"]
[1540011,"東京都世田谷区上馬","東京都","世田谷区","上馬"]
[1560057,"東京都世田谷区上北沢","東京都","世田谷区","上北沢"]
[1570065,"東京都世田谷区上祖師谷","東京都","世田谷区","上祖師谷"]
[1580093,"東京都世田谷区上野毛","東京都","世田谷区","上野毛"]
[1580098,"東京都世田谷区上用賀","東京都","世田谷区","上用賀"]
[1570061,"東京都世田谷区北烏山","東京都","世田谷区","北烏山"]
[1550031,"東京都世田谷区北沢","東京都","世田谷区","北沢"]
[1570067,"東京都世田谷区喜多見","東京都","世田谷区","喜多見"]
[1570073,"東京都世田谷区砧","東京都","世田谷区","砧"]
[1570075,"東京都世田谷区砧公園","東京都","世田谷区","砧公園"]
[1570064,"東京都世田谷区給田","東京都","世田谷区","給田"]
[1560052,"東京都世田谷区経堂","東京都","世田谷区","経堂"]
[1540021,"東京都世田谷区豪徳寺","東京都","世田谷区","豪徳寺"]
[1540012,"東京都世田谷区駒沢","東京都","世田谷区","駒沢"]
[1540013,"東京都世田谷区駒沢公園","東京都","世田谷区","駒沢公園"]
[1560053,"東京都世田谷区桜","東京都","世田谷区","桜"]
[1560054,"東京都世田谷区桜丘","東京都","世田谷区","桜丘"]
[1540015,"東京都世田谷区桜新町","東京都","世田谷区","桜新町"]
[1560045,"東京都世田谷区桜上水","東京都","世田谷区","桜上水"]
[1540024,"東京都世田谷区三軒茶屋","東京都","世田谷区","三軒茶屋"]
[1540002,"東京都世田谷区下馬","東京都","世田谷区","下馬"]
[1540014,"東京都世田谷区新町","東京都","世田谷区","新町"]
[1570066,"東京都世田谷区成城","東京都","世田谷区","成城"]
[1580095,"東京都世田谷区瀬田","東京都","世田谷区","瀬田"]
[1540017,"東京都世田谷区世田谷","東京都","世田谷区","世田谷"]
[1570072,"東京都世田谷区祖師谷","東京都","世田谷区","祖師谷"]
[1540004,"東京都世田谷区太子堂","東京都","世田谷区","太子堂"]
[1550032,"東京都世田谷区代沢","東京都","世田谷区","代沢"]
[1550033,"東京都世田谷区代田","東京都","世田谷区","代田"]
[1580094,"東京都世田谷区玉川","東京都","世田谷区","玉川"]
[1580096,"東京都世田谷区玉川台","東京都","世田谷区","玉川台"]
[1580085,"東京都世田谷区玉川田園調布","東京都","世田谷区","玉川田園調布"]
[1580087,"東京都世田谷区玉堤","東京都","世田谷区","玉堤"]
[1570071,"東京都世田谷区千歳台","東京都","世田谷区","千歳台"]
[1540016,"東京都世田谷区弦巻","東京都","世田谷区","弦巻"]
[1580082,"東京都世田谷区等々力","東京都","世田谷区","等々力"]
[1580091,"東京都世田谷区中町","東京都","世田谷区","中町"]
[1580092,"東京都世田谷区野毛","東京都","世田谷区","野毛"]
[1540003,"東京都世田谷区野沢","東京都","世田谷区","野沢"]
[1560056,"東京都世田谷区八幡山","東京都","世田谷区","八幡山"]
[1560042,"東京都世田谷区羽根木","東京都","世田谷区","羽根木"]
[1580084,"東京都世田谷区東玉川","東京都","世田谷区","東玉川"]
[1580081,"東京都世田谷区深沢","東京都","世田谷区","深沢"]
[1560055,"東京都世田谷区船橋","東京都","世田谷区","船橋"]
[1560043,"東京都世田谷区松原","東京都","世田谷区","松原"]
[1540005,"東京都世田谷区三宿","東京都","世田谷区","三宿"]
[1570062,"東京都世田谷区南烏山","東京都","世田谷区","南烏山"]
[1560051,"東京都世田谷区宮坂","東京都","世田谷区","宮坂"]
[1580097,"東京都世田谷区用賀","東京都","世田谷区","用賀"]
[1540023,"東京都世田谷区若林","東京都","世田谷区","若林"]
[1510064,"東京都渋谷区上原","東京都","渋谷区","上原"]
[1500032,"東京都渋谷区鶯谷町","東京都","渋谷区","鶯谷町"]
[1500042,"東京都渋谷区宇田川町","東京都","渋谷区","宇田川町"]
[1500013,"東京都渋谷区恵比寿","東京都","渋谷区","恵比寿"]
[1500021,"東京都渋谷区恵比寿西","東京都","渋谷区","恵比寿西"]
[1500022,"東京都渋谷区恵比寿南","東京都","渋谷区","恵比寿南"]
[1510065,"東京都渋谷区大山町","東京都","渋谷区","大山町"]
[1500047,"東京都渋谷区神山町","東京都","渋谷区","神山町"]
[1500031,"東京都渋谷区桜丘町","東京都","渋谷区","桜丘町"]
[1510073,"東京都渋谷区笹塚","東京都","渋谷区","笹塚"]
[1500033,"東京都渋谷区猿楽町","東京都","渋谷区","猿楽町"]
[1500002,"東京都渋谷区渋谷","東京都","渋谷区","渋谷"]
[1500046,"東京都渋谷区松濤","東京都","渋谷区","松濤"]
[1500001,"東京都渋谷区神宮前","東京都","渋谷区","神宮前"]
[1500045,"東京都渋谷区神泉町","東京都","渋谷区","神泉町"]
[1500041,"東京都渋谷区神南","東京都","渋谷区","神南"]
[1510051,"東京都渋谷区千駄ヶ谷","東京都","渋谷区","千駄ヶ谷"]
[1500034,"東京都渋谷区代官山町","東京都","渋谷区","代官山町"]
[1500043,"東京都渋谷区道玄坂","東京都","渋谷区","道玄坂"]
[1510063,"東京都渋谷区富ヶ谷","東京都","渋谷区","富ヶ谷"]
[1500036,"東京都渋谷区南平台町","東京都","渋谷区","南平台町"]
[1510066,"東京都渋谷区西原","東京都","渋谷区","西原"]
[1510072,"東京都渋谷区幡ヶ谷","東京都","渋谷区","幡ヶ谷"]
[1500035,"東京都渋谷区鉢山町","東京都","渋谷区","鉢山町"]
[1510061,"東京都渋谷区初台","東京都","渋谷区","初台"]
[1500011,"東京都渋谷区東","東京都","渋谷区","東"]
[1500012,"東京都渋谷区広尾","東京都","渋谷区","広尾"]
[1510071,"東京都渋谷区本町","東京都","渋谷区","本町"]
[1500044,"東京都渋谷区円山町","東京都","渋谷区","円山町"]
[1510062,"東京都渋谷区元代々木町","東京都","渋谷区","元代々木町"]
[1510053,"東京都渋谷区代々木","東京都","渋谷区","代々木"]
[1510052,"東京都渋谷区代々木神園町","東京都","渋谷区","代々木神園町"]
[1650026,"東京都中野区新井","東京都","中野区","新井"]
[1650022,"東京都中野区江古田","東京都","中野区","江古田"]
[1650023,"東京都中野区江原町","東京都","中野区","江原町"]
[1650031,"東京都中野区上鷺宮","東京都","中野区","上鷺宮"]
[1640002,"東京都中野区上高田","東京都","中野区","上高田"]
[1650032,"東京都中野区鷺宮","東京都","中野区","鷺宮"]
[1650035,"東京都中野区白鷺","東京都","中野区","白鷺"]
[1640011,"東京都中野区中央","東京都","中野区","中央"]
[1640001,"東京都中野区中野","東京都","中野区","中野"]
[1650025,"東京都中野区沼袋","東京都","中野区","沼袋"]
[1650027,"東京都中野区野方","東京都","中野区","野方"]
[1640003,"東京都中野区東中野","東京都","中野区","東中野"]
[1640012,"東京都中野区本町","東京都","中野区","本町"]
[1650024,"東京都中野区松が丘","東京都","中野区","松が丘"]
[1650021,"東京都中野区丸山","東京都","中野区","丸山"]
[1640014,"東京都中野区南台","東京都","中野区","南台"]
[1650034,"東京都中野区大和町","東京都","中野区","大和町"]
[1640013,"東京都中野区弥生町","東京都","中野区","弥生町"]
[1650033,"東京都中野区若宮","東京都","中野区","若宮"]
[1660004,"東京都杉並区阿佐谷南","東京都","杉並区","阿佐谷南"]
[1660001,"東京都杉並区阿佐谷北","東京都","杉並区","阿佐谷北"]
[1670032,"東京都杉並区天沼","東京都","杉並区","天沼"]
[1670021,"東京都杉並区井草","東京都","杉並区","井草"]
[1680063,"東京都杉並区和泉","東京都","杉並区","和泉"]
[1670035,"東京都杉並区今川","東京都","杉並区","今川"]
[1660011,"東京都杉並区梅里","東京都","杉並区","梅里"]
[1680064,"東京都杉並区永福","東京都","杉並区","永福"]
[1680061,"東京都杉並区大宮","東京都","杉並区","大宮"]
[1670051,"東京都杉並区荻窪","東京都","杉並区","荻窪"]
[1670023,"東京都杉並区上井草","東京都","杉並区","上井草"]
[1670043,"東京都杉並区上荻","東京都","杉並区","上荻"]
[1680074,"東京都杉並区上高井戸","東京都","杉並区","上高井戸"]
[1680082,"東京都杉並区久我山","東京都","杉並区","久我山"]
[1660003,"東京都杉並区高円寺南","東京都","杉並区","高円寺南"]
[1660002,"東京都杉並区高円寺北","東京都","杉並区","高円寺北"]
[1670033,"東京都杉並区清水","東京都","杉並区","清水"]
[1670022,"東京都杉並区下井草","東京都","杉並区","下井草"]
[1680073,"東京都杉並区下高井戸","東京都","杉並区","下高井戸"]
[1670054,"東京都杉並区松庵","東京都","杉並区","松庵"]
[1670041,"東京都杉並区善福寺","東京都","杉並区","善福寺"]
[1680072,"東京都杉並区高井戸東","東京都","杉並区","高井戸東"]
[1680071,"東京都杉並区高井戸西","東京都","杉並区","高井戸西"]
[1660015,"東京都杉並区成田東","東京都","杉並区","成田東"]
[1660016,"東京都杉並区成田西","東京都","杉並区","成田西"]
[1670053,"東京都杉並区西荻南","東京都","杉並区","西荻南"]
[1670042,"東京都杉並区西荻北","東京都","杉並区","西荻北"]
[1680065,"東京都杉並区浜田山","東京都","杉並区","浜田山"]
[1680062,"東京都杉並区方南","東京都","杉並区","方南"]
[1660013,"東京都杉並区堀ノ内","東京都","杉並区","堀ノ内"]
[1670031,"東京都杉並区本天沼","東京都","杉並区","本天沼"]
[1660014,"東京都杉並区松ノ木","東京都","杉並区","松ノ木"]
[1670052,"東京都杉並区南荻窪","東京都","杉並区","南荻窪"]
[1680081,"東京都杉並区宮前","東京都","杉並区","宮前"]
[1670034,"東京都杉並区桃井","東京都","杉並区","桃井"]
[1660012,"東京都杉並区和田","東京都","杉並区","和田"]
[1700014,"東京都豊島区池袋","東京都","豊島区","池袋"]
[1700011,"東京都豊島区池袋本町","東京都","豊島区","池袋本町"]
[1710043,"東京都豊島区要町","東京都","豊島区","要町"]
[1700012,"東京都豊島区上池袋","東京都","豊島区","上池袋"]
[1700004,"東京都豊島区北大塚","東京都","豊島区","北大塚"]
[1700003,"東京都豊島区駒込","東京都","豊島区","駒込"]
[1700002,"東京都豊島区巣鴨","東京都","豊島区","巣鴨"]
[1710041,"東京都豊島区千川","東京都","豊島区","千川"]
[1710032,"東京都豊島区雑司が谷","東京都","豊島区","雑司が谷"]
[1710033,"東京都豊島区高田","東京都","豊島区","高田"]
[1710042,"東京都豊島区高松","東京都","豊島区","高松"]
[1710044,"東京都豊島区千早","東京都","豊島区","千早"]
[1710051,"東京都豊島区長崎","東京都","豊島区","長崎"]
[1710021,"東京都豊島区西池袋","東京都","豊島区","西池袋"]
[1700001,"東京都豊島区西巣鴨","東京都","豊島区","西巣鴨"]
[1700013,"東京都豊島区東池袋","東京都","豊島区","東池袋"]
[1710022,"東京都豊島区南池袋","東京都","豊島区","南池袋"]
[1700005,"東京都豊島区南大塚","東京都","豊島区","南大塚"]
[1710052,"東京都豊島区南長崎","東京都","豊島区","南長崎"]
[1710031,"東京都豊島区目白","東京都","豊島区","目白"]
[1150045,"東京都北区赤羽","東京都","北区","赤羽"]
[1150053,"東京都北区赤羽台","東京都","北区","赤羽台"]
[1150055,"東京都北区赤羽西","東京都","北区","赤羽西"]
[1150044,"東京都北区赤羽南","東京都","北区","赤羽南"]
[1150052,"東京都北区赤羽北","東京都","北区","赤羽北"]
[1150041,"東京都北区岩淵町","東京都","北区","岩淵町"]
[1150051,"東京都北区浮間","東京都","北区","浮間"]
[1140002,"東京都北区王子","東京都","北区","王子"]
[1140022,"東京都北区王子本町","東京都","北区","王子本町"]
[1140034,"東京都北区上十条","東京都","北区","上十条"]
[1140016,"東京都北区上中里","東京都","北区","上中里"]
[1150043,"東京都北区神谷","東京都","北区","神谷"]
[1140021,"東京都北区岸町","東京都","北区","岸町"]
[1150054,"東京都北区桐ケ丘","東京都","北区","桐ケ丘"]
[1140005,"東京都北区栄町","東京都","北区","栄町"]
[1150042,"東京都北区志茂","東京都","北区","志茂"]
[1140033,"東京都北区十条台","東京都","北区","十条台"]
[1140031,"東京都北区十条仲原","東京都","北区","十条仲原"]
[1140011,"東京都北区昭和町","東京都","北区","昭和町"]
[1140023,"東京都北区滝野川","東京都","北区","滝野川"]
[1140014,"東京都北区田端","東京都","北区","田端"]
[1140012,"東京都北区田端新町","東京都","北区","田端新町"]
[1140003,"東京都北区豊島","東京都","北区","豊島"]
[1140015,"東京都北区中里","東京都","北区","中里"]
[1140032,"東京都北区中十条","東京都","北区","中十条"]
[1150056,"東京都北区西が丘","東京都","北区","西が丘"]
[1140024,"東京都北区西ケ原","東京都","北区","西ケ原"]
[1140001,"東京都北区東十条","東京都","北区","東十条"]
[1140013,"東京都北区東田端","東京都","北区","東田端"]
[1140004,"東京都北区堀船","東京都","北区","堀船"]
[1160002,"東京都荒川区荒川","東京都","荒川区","荒川"]
[1160011,"東京都荒川区西尾久","東京都","荒川区","西尾久"]
[1160013,"東京都荒川区西日暮里","東京都","荒川区","西日暮里"]
[1160012,"東京都荒川区東尾久","東京都","荒川区","東尾久"]
[1160014,"東京都荒川区東日暮里","東京都","荒川区","東日暮里"]
[1160001,"東京都荒川区町屋","東京都","荒川区","町屋"]
[1160003,"東京都荒川区南千住","東京都","荒川区","南千住"]
[1740044,"東京都板橋区相生町","東京都","板橋区","相生町"]
[1750092,"東京都板橋区赤塚","東京都","板橋区","赤塚"]
[1750093,"東京都板橋区赤塚新町","東京都","板橋区","赤塚新町"]
[1740051,"東京都板橋区小豆沢","東京都","板橋区","小豆沢"]
[1740055,"東京都板橋区泉町","東京都","板橋区","泉町"]
[1730004,"東京都板橋区板橋","東京都","板橋区","板橋"]
[1730002,"東京都板橋区稲荷台","東京都","板橋区","稲荷台"]
[1740061,"東京都板橋区大原町","東京都","板橋区","大原町"]
[1730035,"東京都板橋区大谷口","東京都","板橋区","大谷口"]
[1730032,"東京都板橋区大谷口上町","東京都","板橋区","大谷口上町"]
[1730031,"東京都板橋区大谷口北町","東京都","板橋区","大谷口北町"]
[1730024,"東京都板橋区大山金井町","東京都","板橋区","大山金井町"]
[1730014,"東京都板橋区大山東町","東京都","板橋区","大山東町"]
[1730033,"東京都板橋区大山西町","東京都","板橋区","大山西町"]
[1730023,"東京都板橋区大山町","東京都","板橋区","大山町"]
[1730003,"東京都板橋区加賀","東京都","板橋区","加賀"]
[1740076,"東京都板橋区上板橋","東京都","板橋区","上板橋"]
[1730025,"東京都板橋区熊野町","東京都","板橋区","熊野町"]
[1730037,"東京都板橋区小茂根","東京都","板橋区","小茂根"]
[1730034,"東京都板橋区幸町","東京都","板橋区","幸町"]
[1730015,"東京都板橋区栄町","東京都","板橋区","栄町"]
[1740043,"東京都板橋区坂下","東京都","板橋区","坂下"]
[1740075,"東京都板橋区桜川","東京都","板橋区","桜川"]
[1740053,"東京都板橋区清水町","東京都","板橋区","清水町"]
[1740056,"東京都板橋区志村","東京都","板橋区","志村"]
[1750081,"東京都板橋区新河岸","東京都","板橋区","新河岸"]
[1750085,"東京都板橋区大門","東京都","板橋区","大門"]
[1750082,"東京都板橋区高島平","東京都","板橋区","高島平"]
[1740074,"東京都板橋区東新町","東京都","板橋区","東新町"]
[1740071,"東京都板橋区常盤台","東京都","板橋区","常盤台"]
[1750083,"東京都板橋区徳丸","東京都","板橋区","徳丸"]
[1730016,"東京都板橋区中板橋","東京都","板橋区","中板橋"]
[1730005,"東京都板橋区仲宿","東京都","板橋区","仲宿"]
[1740064,"東京都板橋区中台","東京都","板橋区","中台"]
[1730022,"東京都板橋区仲町","東京都","板橋区","仲町"]
[1730026,"東京都板橋区中丸町","東京都","板橋区","中丸町"]
[1750094,"東京都板橋区成増","東京都","板橋区","成増"]
[1740045,"東京都板橋区西台","東京都","板橋区","西台"]
[1740052,"東京都板橋区蓮沼町","東京都","板橋区","蓮沼町"]
[1740046,"東京都板橋区蓮根","東京都","板橋区","蓮根"]
[1730013,"東京都板橋区氷川町","東京都","板橋区","氷川町"]
[1740042,"東京都板橋区東坂下","東京都","板橋区","東坂下"]
[1740073,"東京都板橋区東山町","東京都","板橋区","東山町"]
[1740062,"東京都板橋区富士見町","東京都","板橋区","富士見町"]
[1730011,"東京都板橋区双葉町","東京都","板橋区","双葉町"]
[1740041,"東京都板橋区舟渡","東京都","板橋区","舟渡"]
[1730001,"東京都板橋区本町","東京都","板橋区","本町"]
[1740063,"東京都板橋区前野町","東京都","板橋区","前野町"]
[1750091,"東京都板橋区三園","東京都","板橋区","三園"]
[1730027,"東京都板橋区南町","東京都","板橋区","南町"]
[1740072,"東京都板橋区南常盤台","東京都","板橋区","南常盤台"]
[1740054,"東京都板橋区宮本町","東京都","板橋区","宮本町"]
[1730036,"東京都板橋区向原","東京都","板橋区","向原"]
[1730012,"東京都板橋区大和町","東京都","板橋区","大和町"]
[1730021,"東京都板橋区弥生町","東京都","板橋区","弥生町"]
[1750084,"東京都板橋区四葉","東京都","板橋区","四葉"]
[1740065,"東京都板橋区若木","東京都","板橋区","若木"]
[1760005,"東京都練馬区旭丘","東京都","練馬区","旭丘"]
[1790071,"東京都練馬区旭町","東京都","練馬区","旭町"]
[1780061,"東京都練馬区大泉学園町","東京都","練馬区","大泉学園町"]
[1780062,"東京都練馬区大泉町","東京都","練馬区","大泉町"]
[1790074,"東京都練馬区春日町","東京都","練馬区","春日町"]
[1770044,"東京都練馬区上石神井","東京都","練馬区","上石神井"]
[1770043,"東京都練馬区上石神井南町","東京都","練馬区","上石神井南町"]
[1790081,"東京都練馬区北町","東京都","練馬区","北町"]
[1760022,"東京都練馬区向山","東京都","練馬区","向山"]
[1760004,"東京都練馬区小竹町","東京都","練馬区","小竹町"]
[1760006,"東京都練馬区栄町","東京都","練馬区","栄町"]
[1760002,"東京都練馬区桜台","東京都","練馬区","桜台"]
[1770042,"東京都練馬区下石神井","東京都","練馬区","下石神井"]
[1770045,"東京都練馬区石神井台","東京都","練馬区","石神井台"]
[1770041,"東京都練馬区石神井町","東京都","練馬区","石神井町"]
[1770052,"東京都練馬区関町東","東京都","練馬区","関町東"]
[1770053,"東京都練馬区関町南","東京都","練馬区","関町南"]
[1770051,"東京都練馬区関町北","東京都","練馬区","関町北"]
[1770033,"東京都練馬区高野台","東京都","練馬区","高野台"]
[1790075,"東京都練馬区高松","東京都","練馬区","高松"]
[1790073,"東京都練馬区田柄","東京都","練馬区","田柄"]
[1770054,"東京都練馬区立野町","東京都","練馬区","立野町"]
[1790076,"東京都練馬区土支田","東京都","練馬区","土支田"]
[1760011,"東京都練馬区豊玉上","東京都","練馬区","豊玉上"]
[1760013,"東京都練馬区豊玉中","東京都","練馬区","豊玉中"]
[1760014,"東京都練馬区豊玉南","東京都","練馬区","豊玉南"]
[1760012,"東京都練馬区豊玉北","東京都","練馬区","豊玉北"]
[1760024,"東京都練馬区中村","東京都","練馬区","中村"]
[1760025,"東京都練馬区中村南","東京都","練馬区","中村南"]
[1760023,"東京都練馬区中村北","東京都","練馬区","中村北"]
[1780065,"東京都練馬区西大泉","東京都","練馬区","西大泉"]
[1780066,"東京都練馬区西大泉町","東京都","練馬区","西大泉町"]
[1790082,"東京都練馬区錦","東京都","練馬区","錦"]
[1760021,"東京都練馬区貫井","東京都","練馬区","貫井"]
[1760001,"東京都練馬区練馬","東京都","練馬区","練馬"]
[1760003,"東京都練馬区羽沢","東京都","練馬区","羽沢"]
[1790085,"東京都練馬区早宮","東京都","練馬区","早宮"]
[1790072,"東京都練馬区光が丘","東京都","練馬区","光が丘"]
[1790084,"東京都練馬区氷川台","東京都","練馬区","氷川台"]
[1780063,"東京都練馬区東大泉","東京都","練馬区","東大泉"]
[1770034,"東京都練馬区富士見台","東京都","練馬区","富士見台"]
[1790083,"東京都練馬区平和台","東京都","練馬区","平和台"]
[1780064,"東京都練馬区南大泉","東京都","練馬区","南大泉"]
[1770035,"東京都練馬区南田中","東京都","練馬区","南田中"]
[1770031,"東京都練馬区三原台","東京都","練馬区","三原台"]
[1770032,"東京都練馬区谷原","東京都","練馬区","谷原"]
[1200012,"東京都足立区青井","東京都","足立区","青井"]
[1200015,"東京都足立区足立","東京都","足立区","足立"]
[1200005,"東京都足立区綾瀬","東京都","足立区","綾瀬"]
[1210823,"東京都足立区伊興","東京都","足立区","伊興"]
[1210807,"東京都足立区伊興本町","東京都","足立区","伊興本町"]
[1210836,"東京都足立区入谷","東京都","足立区","入谷"]
[1210834,"東京都足立区入谷町","東京都","足立区","入谷町"]
[1210816,"東京都足立区梅島","東京都","足立区","梅島"]
[1230851,"東京都足立区梅田","東京都","足立区","梅田"]
[1230873,"東京都足立区扇","東京都","足立区","扇"]
[1200001,"東京都足立区大谷田","東京都","足立区","大谷田"]
[1230844,"東京都足立区興野","東京都","足立区","興野"]
[1200046,"東京都足立区小台","東京都","足立区","小台"]
[1230861,"東京都足立区加賀","東京都","足立区","加賀"]
[1210055,"東京都足立区加平","東京都","足立区","加平"]
[1210056,"東京都足立区北加平町","東京都","足立区","北加平町"]
[1230842,"東京都足立区栗原","東京都","足立区","栗原"]
[1200013,"東京都足立区弘道","東京都","足立区","弘道"]
[1230872,"東京都足立区江北","東京都","足立区","江北"]
[1210833,"東京都足立区古千谷","東京都","足立区","古千谷"]
[1210832,"東京都足立区古千谷本町","東京都","足立区","古千谷本町"]
[1210053,"東京都足立区佐野","東京都","足立区","佐野"]
[1230862,"東京都足立区皿沼","東京都","足立区","皿沼"]
[1230864,"東京都足立区鹿浜","東京都","足立区","鹿浜"]
[1210815,"東京都足立区島根","東京都","足立区","島根"]
[1230865,"東京都足立区新田","東京都","足立区","新田"]
[1210051,"東京都足立区神明","東京都","足立区","神明"]
[1210057,"東京都足立区神明南","東京都","足立区","神明南"]
[1230852,"東京都足立区関原","東京都","足立区","関原"]
[1200034,"東京都足立区千住","東京都","足立区","千住"]
[1200023,"東京都足立区千住曙町","東京都","足立区","千住曙町"]
[1200026,"東京都足立区千住旭町","東京都","足立区","千住旭町"]
[1200025,"東京都足立区千住東","東京都","足立区","千住東"]
[1200031,"東京都足立区千住大川町","東京都","足立区","千住大川町"]
[1200037,"東京都足立区千住河原町","東京都","足立区","千住河原町"]
[1200033,"東京都足立区千住寿町","東京都","足立区","千住寿町"]
[1200045,"東京都足立区千住桜木","東京都","足立区","千住桜木"]
[1200024,"東京都足立区千住関屋町","東京都","足立区","千住関屋町"]
[1200042,"東京都足立区千住龍田町","東京都","足立区","千住龍田町"]
[1200035,"東京都足立区千住中居町","東京都","足立区","千住中居町"]
[1200036,"東京都足立区千住仲町","東京都","足立区","千住仲町"]
[1200038,"東京都足立区千住橋戸町","東京都","足立区","千住橋戸町"]
[1200044,"東京都足立区千住緑町","東京都","足立区","千住緑町"]
[1200043,"東京都足立区千住宮元町","東京都","足立区","千住宮元町"]
[1200041,"東京都足立区千住元町","東京都","足立区","千住元町"]
[1200032,"東京都足立区千住柳町","東京都","足立区","千住柳町"]
[1210813,"東京都足立区竹の塚","東京都","足立区","竹の塚"]
[1210054,"東京都足立区辰沼","東京都","足立区","辰沼"]
[1200011,"東京都足立区中央本町","東京都","足立区","中央本町"]
[1230871,"東京都足立区椿","東京都","足立区","椿"]
[1200003,"東京都足立区東和","東京都","足立区","東和"]
[1210831,"東京都足立区舎人","東京都","足立区","舎人"]
[1210837,"東京都足立区舎人公園","東京都","足立区","舎人公園"]
[1210835,"東京都足立区舎人町","東京都","足立区","舎人町"]
[1200002,"東京都足立区中川","東京都","足立区","中川"]
[1200014,"東京都足立区西綾瀬","東京都","足立区","西綾瀬"]
[1230841,"東京都足立区西新井","東京都","足立区","西新井"]
[1230843,"東京都足立区西新井栄町","東京都","足立区","西新井栄町"]
[1230845,"東京都足立区西新井本町","東京都","足立区","西新井本町"]
[1210824,"東京都足立区西伊興","東京都","足立区","西伊興"]
[1210825,"東京都足立区西伊興町","東京都","足立区","西伊興町"]
[1210074,"東京都足立区西加平","東京都","足立区","西加平"]
[1210822,"東京都足立区西竹の塚","東京都","足立区","西竹の塚"]
[1210812,"東京都足立区西保木間","東京都","足立区","西保木間"]
[1210061,"東京都足立区花畑","東京都","足立区","花畑"]
[1200004,"東京都足立区東綾瀬","東京都","足立区","東綾瀬"]
[1210801,"東京都足立区東伊興","東京都","足立区","東伊興"]
[1210063,"東京都足立区東保木間","東京都","足立区","東保木間"]
[1210071,"東京都足立区東六月町","東京都","足立区","東六月町"]
[1210075,"東京都足立区一ツ家","東京都","足立区","一ツ家"]
[1200021,"東京都足立区日ノ出町","東京都","足立区","日ノ出町"]
[1210076,"東京都足立区平野","東京都","足立区","平野"]
[1210064,"東京都足立区保木間","東京都","足立区","保木間"]
[1210072,"東京都足立区保塚町","東京都","足立区","保塚町"]
[1230874,"東京都足立区堀之内","東京都","足立区","堀之内"]
[1210062,"東京都足立区南花畑","東京都","足立区","南花畑"]
[1200047,"東京都足立区宮城","東京都","足立区","宮城"]
[1210052,"東京都足立区六木","東京都","足立区","六木"]
[1230853,"東京都足立区本木","東京都","足立区","本木"]
[1230854,"東京都足立区本木東町","東京都","足立区","本木東町"]
[1230856,"東京都足立区本木西町","東京都","足立区","本木西町"]
[1230855,"東京都足立区本木南町","東京都","足立区","本木南町"]
[1230857,"東京都足立区本木北町","東京都","足立区","本木北町"]
[1230863,"東京都足立区谷在家","東京都","足立区","谷在家"]
[1200006,"東京都足立区谷中","東京都","足立区","谷中"]
[1200022,"東京都足立区柳原","東京都","足立区","柳原"]
[1210814,"東京都足立区六月","東京都","足立区","六月"]
[1210073,"東京都足立区六町","東京都","足立区","六町"]
[1250062,"東京都葛飾区青戸","東京都","葛飾区","青戸"]
[1240022,"東京都葛飾区奥戸","東京都","葛飾区","奥戸"]
[1240003,"東京都葛飾区お花茶屋","東京都","葛飾区","お花茶屋"]
[1250042,"東京都葛飾区金町","東京都","葛飾区","金町"]
[1250043,"東京都葛飾区金町浄水場","東京都","葛飾区","金町浄水場"]
[1250053,"東京都葛飾区鎌倉","東京都","葛飾区","鎌倉"]
[1250061,"東京都葛飾区亀有","東京都","葛飾区","亀有"]
[1240001,"東京都葛飾区小菅","東京都","葛飾区","小菅"]
[1250052,"東京都葛飾区柴又","東京都","葛飾区","柴又"]
[1250063,"東京都葛飾区白鳥","東京都","葛飾区","白鳥"]
[1240024,"東京都葛飾区新小岩","東京都","葛飾区","新小岩"]
[1250054,"東京都葛飾区高砂","東京都","葛飾区","高砂"]
[1240005,"東京都葛飾区宝町","東京都","葛飾区","宝町"]
[1240012,"東京都葛飾区立石","東京都","葛飾区","立石"]
[1250051,"東京都葛飾区新宿","東京都","葛飾区","新宿"]
[1240002,"東京都葛飾区西亀有","東京都","葛飾区","西亀有"]
[1240025,"東京都葛飾区西新小岩","東京都","葛飾区","西新小岩"]
[1250031,"東京都葛飾区西水元","東京都","葛飾区","西水元"]
[1250041,"東京都葛飾区東金町","東京都","葛飾区","東金町"]
[1240023,"東京都葛飾区東新小岩","東京都","葛飾区","東新小岩"]
[1240013,"東京都葛飾区東立石","東京都","葛飾区","東立石"]
[1240004,"東京都葛飾区東堀切","東京都","葛飾区","東堀切"]
[1250033,"東京都葛飾区東水元","東京都","葛飾区","東水元"]
[1240014,"東京都葛飾区東四つ木","東京都","葛飾区","東四つ木"]
[1240021,"東京都葛飾区細田","東京都","葛飾区","細田"]
[1240006,"東京都葛飾区堀切","東京都","葛飾区","堀切"]
[1250032,"東京都葛飾区水元","東京都","葛飾区","水元"]
[1250034,"東京都葛飾区水元公園","東京都","葛飾区","水元公園"]
[1250035,"東京都葛飾区南水元","東京都","葛飾区","南水元"]
[1240011,"東京都葛飾区四つ木","東京都","葛飾区","四つ木"]
[1320024,"東京都江戸川区一之江","東京都","江戸川区","一之江"]
[1340092,"東京都江戸川区一之江町","東京都","江戸川区","一之江町"]
[1340082,"東京都江戸川区宇喜田町","東京都","江戸川区","宇喜田町"]
[1320013,"東京都江戸川区江戸川","東京都","江戸川区","江戸川"]
[1320022,"東京都江戸川区大杉","東京都","江戸川区","大杉"]
[1330042,"東京都江戸川区興宮町","東京都","江戸川区","興宮町"]
[1330041,"東京都江戸川区上一色","東京都","江戸川区","上一色"]
[1330054,"東京都江戸川区上篠崎","東京都","江戸川区","上篠崎"]
[1340081,"東京都江戸川区北葛西","東京都","江戸川区","北葛西"]
[1330051,"東京都江戸川区北小岩","東京都","江戸川区","北小岩"]
[1330053,"東京都江戸川区北篠崎","東京都","江戸川区","北篠崎"]
[1320034,"東京都江戸川区小松川","東京都","江戸川区","小松川"]
[1330073,"東京都江戸川区鹿骨","東京都","江戸川区","鹿骨"]
[1330072,"東京都江戸川区鹿骨町","東京都","江戸川区","鹿骨町"]
[1330061,"東京都江戸川区篠崎町","東京都","江戸川区","篠崎町"]
[1330064,"東京都江戸川区下篠崎町","東京都","江戸川区","下篠崎町"]
[1340087,"東京都江戸川区清新町","東京都","江戸川区","清新町"]
[1320021,"東京都江戸川区中央","東京都","江戸川区","中央"]
[1340083,"東京都江戸川区中葛西","東京都","江戸川区","中葛西"]
[1320001,"東京都江戸川区新堀","東京都","江戸川区","新堀"]
[1320023,"東京都江戸川区西一之江","東京都","江戸川区","西一之江"]
[1340088,"東京都江戸川区西葛西","東京都","江戸川区","西葛西"]
[1330057,"東京都江戸川区西小岩","東京都","江戸川区","西小岩"]
[1320032,"東京都江戸川区西小松川町","東京都","江戸川区","西小松川町"]
[1330055,"東京都江戸川区西篠崎","東京都","江戸川区","西篠崎"]
[1320015,"東京都江戸川区西瑞江","東京都","江戸川区","西瑞江"]
[1340093,"東京都江戸川区二之江町","東京都","江戸川区","二之江町"]
[1320003,"東京都江戸川区春江町","東京都","江戸川区","春江町"]
[1340084,"東京都江戸川区東葛西","東京都","江戸川区","東葛西"]
[1330052,"東京都江戸川区東小岩","東京都","江戸川区","東小岩"]
[1320033,"東京都江戸川区東小松川","東京都","江戸川区","東小松川"]
[1330063,"東京都江戸川区東篠崎","東京都","江戸川区","東篠崎"]
[1330062,"東京都江戸川区東篠崎町","東京都","江戸川区","東篠崎町"]
[1330071,"東京都江戸川区東松本","東京都","江戸川区","東松本"]
[1320014,"東京都江戸川区東瑞江","東京都","江戸川区","東瑞江"]
[1320035,"東京都江戸川区平井","東京都","江戸川区","平井"]
[1340091,"東京都江戸川区船堀","東京都","江戸川区","船堀"]
[1330044,"東京都江戸川区本一色","東京都","江戸川区","本一色"]
[1320025,"東京都江戸川区松江","東京都","江戸川区","松江"]
[1320031,"東京都江戸川区松島","東京都","江戸川区","松島"]
[1330043,"東京都江戸川区松本","東京都","江戸川区","松本"]
[1320011,"東京都江戸川区瑞江","東京都","江戸川区","瑞江"]
[1340085,"東京都江戸川区南葛西","東京都","江戸川区","南葛西"]
[1330056,"東京都江戸川区南小岩","東京都","江戸川区","南小岩"]
[1330065,"東京都江戸川区南篠崎町","東京都","江戸川区","南篠崎町"]
[1320002,"東京都江戸川区谷河内","東京都","江戸川区","谷河内"]
[1340086,"東京都江戸川区臨海町","東京都","江戸川区","臨海町"]
[1920043,"東京都八王子市暁町","東京都","八王子市","暁町"]
[1920083,"東京都八王子市旭町","東京都","八王子市","旭町"]
[1920082,"東京都八王子市東町","東京都","八王子市","東町"]
[1920032,"東京都八王子市石川町","東京都","八王子市","石川町"]
[1930814,"東京都八王子市泉町","東京都","八王子市","泉町"]
[1930802,"東京都八王子市犬目町","東京都","八王子市","犬目町"]
[1920902,"東京都八王子市上野町","東京都","八王子市","上野町"]
[1920911,"東京都八王子市打越町","東京都","八王子市","打越町"]
[1920024,"東京都八王子市宇津木町","東京都","八王子市","宇津木町"]
[1920915,"東京都八王子市宇津貫町","東京都","八王子市","宇津貫町"]
[1920013,"東京都八王子市梅坪町","東京都","八王子市","梅坪町"]
[1930841,"東京都八王子市裏高尾町","東京都","八王子市","裏高尾町"]
[1920056,"東京都八王子市追分町","東京都","八王子市","追分町"]
[1920352,"東京都八王子市大塚","東京都","八王子市","大塚"]
[1930935,"東京都八王子市大船町","東京都","八王子市","大船町"]
[1920034,"東京都八王子市大谷町","東京都","八王子市","大谷町"]
[1920062,"東京都八王子市大横町","東京都","八王子市","大横町"]
[1920045,"東京都八王子市大和田町","東京都","八王子市","大和田町"]
[1920054,"東京都八王子市小門町","東京都","八王子市","小門町"]
[1920025,"東京都八王子市尾崎町","東京都","八王子市","尾崎町"]
[1920155,"東京都八王子市小津町","東京都","八王子市","小津町"]
[1920353,"東京都八王子市鹿島","東京都","八王子市","鹿島"]
[1920004,"東京都八王子市加住町","東京都","八王子市","加住町"]
[1920914,"東京都八王子市片倉町","東京都","八王子市","片倉町"]
[1930815,"東京都八王子市叶谷町","東京都","八王子市","叶谷町"]
[1930811,"東京都八王子市上壱分方町","東京都","八王子市","上壱分方町"]
[1920156,"東京都八王子市上恩方町","東京都","八王子市","上恩方町"]
[1920151,"東京都八王子市上川町","東京都","八王子市","上川町"]
[1920373,"東京都八王子市上柚木","東京都","八王子市","上柚木"]
[1930801,"東京都八王子市川口町","東京都","八王子市","川口町"]
[1930821,"東京都八王子市川町","東京都","八王子市","川町"]
[1920913,"東京都八王子市北野台","東京都","八王子市","北野台"]
[1920906,"東京都八王子市北野町","東京都","八王子市","北野町"]
[1920912,"東京都八王子市絹ケ丘","東京都","八王子市","絹ケ丘"]
[1930804,"東京都八王子市清川町","東京都","八王子市","清川町"]
[1930942,"東京都八王子市椚田町","東京都","八王子市","椚田町"]
[1920023,"東京都八王子市久保山町","東京都","八王子市","久保山町"]
[1920361,"東京都八王子市越野","東京都","八王子市","越野"]
[1930934,"東京都八王子市小比企町","東京都","八王子市","小比企町"]
[1920031,"東京都八王子市小宮町","東京都","八王子市","小宮町"]
[1920904,"東京都八王子市子安町","東京都","八王子市","子安町"]
[1920012,"東京都八王子市左入町","東京都","八王子市","左入町"]
[1930832,"東京都八王子市散田町","東京都","八王子市","散田町"]
[1920154,"東京都八王子市下恩方町","東京都","八王子市","下恩方町"]
[1920372,"東京都八王子市下柚木","東京都","八王子市","下柚木"]
[1930825,"東京都八王子市城山手","東京都","八王子市","城山手"]
[1920065,"東京都八王子市新町","東京都","八王子市","新町"]
[1930812,"東京都八王子市諏訪町","東京都","八王子市","諏訪町"]
[1930835,"東京都八王子市千人町","東京都","八王子市","千人町"]
[1930931,"東京都八王子市台町","東京都","八王子市","台町"]
[1930816,"東京都八王子市大楽寺町","東京都","八王子市","大楽寺町"]
[1920022,"東京都八王子市平町","東京都","八王子市","平町"]
[1930844,"東京都八王子市高尾町","東京都","八王子市","高尾町"]
[1920033,"東京都八王子市高倉町","東京都","八王子市","高倉町"]
[1920002,"東京都八王子市高月町","東京都","八王子市","高月町"]
[1920011,"東京都八王子市滝山町","東京都","八王子市","滝山町"]
[1930944,"東京都八王子市館町","東京都","八王子市","館町"]
[1920064,"東京都八王子市田町","東京都","八王子市","田町"]
[1920003,"東京都八王子市丹木町","東京都","八王子市","丹木町"]
[1930943,"東京都八王子市寺田町","東京都","八王子市","寺田町"]
[1920073,"東京都八王子市寺町","東京都","八王子市","寺町"]
[1920074,"東京都八王子市天神町","東京都","八王子市","天神町"]
[1930843,"東京都八王子市廿里町","東京都","八王子市","廿里町"]
[1920001,"東京都八王子市戸吹町","東京都","八王子市","戸吹町"]
[1920085,"東京都八王子市中町","東京都","八王子市","中町"]
[1920041,"東京都八王子市中野上町","東京都","八王子市","中野上町"]
[1920042,"東京都八王子市中野山王","東京都","八王子市","中野山王"]
[1920015,"東京都八王子市中野町","東京都","八王子市","中野町"]
[1920374,"東京都八王子市中山","東京都","八王子市","中山"]
[1920907,"東京都八王子市長沼町","東京都","八王子市","長沼町"]
[1930824,"東京都八王子市長房町","東京都","八王子市","長房町"]
[1920919,"東京都八王子市七国","東京都","八王子市","七国"]
[1930831,"東京都八王子市並木町","東京都","八王子市","並木町"]
[1930803,"東京都八王子市楢原町","東京都","八王子市","楢原町"]
[1920371,"東京都八王子市南陽台","東京都","八王子市","南陽台"]
[1930842,"東京都八王子市西浅川町","東京都","八王子市","西浅川町"]
[1920917,"東京都八王子市西片倉","東京都","八王子市","西片倉"]
[1920153,"東京都八王子市西寺方町","東京都","八王子市","西寺方町"]
[1930822,"東京都八王子市弐分方町","東京都","八王子市","弐分方町"]
[1930941,"東京都八王子市狭間町","東京都","八王子市","狭間町"]
[1920053,"東京都八王子市八幡町","東京都","八王子市","八幡町"]
[1930845,"東京都八王子市初沢町","東京都","八王子市","初沢町"]
[1930834,"東京都八王子市東浅川町","東京都","八王子市","東浅川町"]
[1920351,"東京都八王子市東中野","東京都","八王子市","東中野"]
[1920918,"東京都八王子市兵衛","東京都","八王子市","兵衛"]
[1930836,"東京都八王子市日吉町","東京都","八王子市","日吉町"]
[1920061,"東京都八王子市平岡町","東京都","八王子市","平岡町"]
[1920044,"東京都八王子市富士見町","東京都","八王子市","富士見町"]
[1920363,"東京都八王子市別所","東京都","八王子市","別所"]
[1920355,"東京都八王子市堀之内","東京都","八王子市","堀之内"]
[1920052,"東京都八王子市本郷町","東京都","八王子市","本郷町"]
[1920066,"東京都八王子市本町","東京都","八王子市","本町"]
[1920354,"東京都八王子市松が谷","東京都","八王子市","松が谷"]
[1920362,"東京都八王子市松木","東京都","八王子市","松木"]
[1920021,"東京都八王子市丸山町","東京都","八王子市","丸山町"]
[1920084,"東京都八王子市三崎町","東京都","八王子市","三崎町"]
[1920014,"東京都八王子市みつい台","東京都","八王子市","みつい台"]
[1930932,"東京都八王子市緑町","東京都","八王子市","緑町"]
[1930846,"東京都八王子市南浅川町","東京都","八王子市","南浅川町"]
[1920364,"東京都八王子市南大沢","東京都","八王子市","南大沢"]
[1920075,"東京都八王子市南新町","東京都","八王子市","南新町"]
[1920072,"東京都八王子市南町","東京都","八王子市","南町"]
[1920916,"東京都八王子市みなみ野","東京都","八王子市","みなみ野"]
[1920005,"東京都八王子市宮下町","東京都","八王子市","宮下町"]
[1920152,"東京都八王子市美山町","東京都","八王子市","美山町"]
[1920046,"東京都八王子市明神町","東京都","八王子市","明神町"]
[1930833,"東京都八王子市めじろ台","東京都","八王子市","めじろ台"]
[1930826,"東京都八王子市元八王子町","東京都","八王子市","元八王子町"]
[1920051,"東京都八王子市元本郷町","東京都","八王子市","元本郷町"]
[1920063,"東京都八王子市元横山町","東京都","八王子市","元横山町"]
[1920055,"東京都八王子市八木町","東京都","八王子市","八木町"]
[1920016,"東京都八王子市谷野町","東京都","八王子市","谷野町"]
[1930933,"東京都八王子市山田町","東京都","八王子市","山田町"]
[1920375,"東京都八王子市鑓水","東京都","八王子市","鑓水"]
[1920071,"東京都八王子市八日町","東京都","八王子市","八日町"]
[1930823,"東京都八王子市横川町","東京都","八王子市","横川町"]
[1920081,"東京都八王子市横山町","東京都","八王子市","横山町"]
[1930813,"東京都八王子市四谷町","東京都","八王子市","四谷町"]
[1920903,"東京都八王子市万町","東京都","八王子市","万町"]
[1900012,"東京都立川市曙町","東京都","立川市","曙町"]
[1900015,"東京都立川市泉町","東京都","立川市","泉町"]
[1900033,"東京都立川市一番町","東京都","立川市","一番町"]
[1900004,"東京都立川市柏町","東京都","立川市","柏町"]
[1900032,"東京都立川市上砂町","東京都","立川市","上砂町"]
[1900002,"東京都立川市幸町","東京都","立川市","幸町"]
[1900003,"東京都立川市栄町","東京都","立川市","栄町"]
[1900023,"東京都立川市柴崎町","東京都","立川市","柴崎町"]
[1900031,"東京都立川市砂川町","東京都","立川市","砂川町"]
[1900011,"東京都立川市高松町","東京都","立川市","高松町"]
[1900022,"東京都立川市錦町","東京都","立川市","錦町"]
[1900034,"東京都立川市西砂町","東京都","立川市","西砂町"]
[1900021,"東京都立川市羽衣町","東京都","立川市","羽衣町"]
[1900013,"東京都立川市富士見町","東京都","立川市","富士見町"]
[1900014,"東京都立川市緑町","東京都","立川市","緑町"]
[1900001,"東京都立川市若葉町","東京都","立川市","若葉町"]
[1800004,"東京都武蔵野市吉祥寺本町","東京都","武蔵野市","吉祥寺本町"]
[1800002,"東京都武蔵野市吉祥寺東町","東京都","武蔵野市","吉祥寺東町"]
[1800003,"東京都武蔵野市吉祥寺南町","東京都","武蔵野市","吉祥寺南町"]
[1800001,"東京都武蔵野市吉祥寺北町","東京都","武蔵野市","吉祥寺北町"]
[1800023,"東京都武蔵野市境南町","東京都","武蔵野市","境南町"]
[1800005,"東京都武蔵野市御殿山","東京都","武蔵野市","御殿山"]
[1800022,"東京都武蔵野市境","東京都","武蔵野市","境"]
[1800021,"東京都武蔵野市桜堤","東京都","武蔵野市","桜堤"]
[1800014,"東京都武蔵野市関前","東京都","武蔵野市","関前"]
[1800006,"東京都武蔵野市中町","東京都","武蔵野市","中町"]
[1800013,"東京都武蔵野市西久保","東京都","武蔵野市","西久保"]
[1800012,"東京都武蔵野市緑町","東京都","武蔵野市","緑町"]
[1800011,"東京都武蔵野市八幡町","東京都","武蔵野市","八幡町"]
[1810011,"東京都三鷹市井口","東京都","三鷹市","井口"]
[1810001,"東京都三鷹市井の頭","東京都","三鷹市","井の頭"]
[1810015,"東京都三鷹市大沢","東京都","三鷹市","大沢"]
[1810012,"東京都三鷹市上連雀","東京都","三鷹市","上連雀"]
[1810003,"東京都三鷹市北野","東京都","三鷹市","北野"]
[1810013,"東京都三鷹市下連雀","東京都","三鷹市","下連雀"]
[1810004,"東京都三鷹市新川","東京都","三鷹市","新川"]
[1810016,"東京都三鷹市深大寺","東京都","三鷹市","深大寺"]
[1810005,"東京都三鷹市中原","東京都","三鷹市","中原"]
[1810014,"東京都三鷹市野崎","東京都","三鷹市","野崎"]
[1810002,"東京都三鷹市牟礼","東京都","三鷹市","牟礼"]
[1980087,"東京都青梅市天ケ瀬町","東京都","青梅市","天ケ瀬町"]
[1980023,"東京都青梅市今井","東京都","青梅市","今井"]
[1980021,"東京都青梅市今寺","東京都","青梅市","今寺"]
[1980088,"東京都青梅市裏宿町","東京都","青梅市","裏宿町"]
[1980086,"東京都青梅市大柳町","東京都","青梅市","大柳町"]
[1980003,"東京都青梅市小曾木","東京都","青梅市","小曾木"]
[1980041,"東京都青梅市勝沼","東京都","青梅市","勝沼"]
[1980036,"東京都青梅市河辺町","東京都","青梅市","河辺町"]
[1980081,"東京都青梅市上町","東京都","青梅市","上町"]
[1980013,"東京都青梅市木野下","東京都","青梅市","木野下"]
[1980005,"東京都青梅市黒沢","東京都","青梅市","黒沢"]
[1980053,"東京都青梅市駒木町","東京都","青梅市","駒木町"]
[1980172,"東京都青梅市沢井","東京都","青梅市","沢井"]
[1980011,"東京都青梅市塩船","東京都","青梅市","塩船"]
[1980024,"東京都青梅市新町","東京都","青梅市","新町"]
[1980025,"東京都青梅市末広町","東京都","青梅市","末広町"]
[1980084,"東京都青梅市住江町","東京都","青梅市","住江町"]
[1980014,"東京都青梅市大門","東京都","青梅市","大門"]
[1980085,"東京都青梅市滝ノ上町","東京都","青梅市","滝ノ上町"]
[1980043,"東京都青梅市千ケ瀬町","東京都","青梅市","千ケ瀬町"]
[1980002,"東京都青梅市富岡","東京都","青梅市","富岡"]
[1980051,"東京都青梅市友田町","東京都","青梅市","友田町"]
[1980082,"東京都青梅市仲町","東京都","青梅市","仲町"]
[1980052,"東京都青梅市長淵","東京都","青梅市","長淵"]
[1980001,"東京都青梅市成木","東京都","青梅市","成木"]
[1980044,"東京都青梅市西分町","東京都","青梅市","西分町"]
[1980004,"東京都青梅市根ケ布","東京都","青梅市","根ケ布"]
[1980032,"東京都青梅市野上町","東京都","青梅市","野上町"]
[1980063,"東京都青梅市梅郷","東京都","青梅市","梅郷"]
[1980061,"東京都青梅市畑中","東京都","青梅市","畑中"]
[1980042,"東京都青梅市東青梅","東京都","青梅市","東青梅"]
[1980046,"東京都青梅市日向和田","東京都","青梅市","日向和田"]
[1980015,"東京都青梅市吹上","東京都","青梅市","吹上"]
[1980022,"東京都青梅市藤橋","東京都","青梅市","藤橋"]
[1980171,"東京都青梅市二俣尾","東京都","青梅市","二俣尾"]
[1980083,"東京都青梅市本町","東京都","青梅市","本町"]
[1980174,"東京都青梅市御岳","東京都","青梅市","御岳"]
[1980175,"東京都青梅市御岳山","東京都","青梅市","御岳山"]
[1980173,"東京都青梅市御岳本町","東京都","青梅市","御岳本町"]
[1980089,"東京都青梅市森下町","東京都","青梅市","森下町"]
[1980031,"東京都青梅市師岡町","東京都","青梅市","師岡町"]
[1980012,"東京都青梅市谷野","東京都","青梅市","谷野"]
[1980064,"東京都青梅市柚木町","東京都","青梅市","柚木町"]
[1980062,"東京都青梅市和田町","東京都","青梅市","和田町"]
[1830003,"東京都府中市朝日町","東京都","府中市","朝日町"]
[1830012,"東京都府中市押立町","東京都","府中市","押立町"]
[1830021,"東京都府中市片町","東京都","府中市","片町"]
[1830041,"東京都府中市北山町","東京都","府中市","北山町"]
[1830056,"東京都府中市寿町","東京都","府中市","寿町"]
[1830013,"東京都府中市小柳町","東京都","府中市","小柳町"]
[1830014,"東京都府中市是政","東京都","府中市","是政"]
[1830054,"東京都府中市幸町","東京都","府中市","幸町"]
[1830051,"東京都府中市栄町","東京都","府中市","栄町"]
[1830015,"東京都府中市清水が丘","東京都","府中市","清水が丘"]
[1830011,"東京都府中市白糸台","東京都","府中市","白糸台"]
[1830052,"東京都府中市新町","東京都","府中市","新町"]
[1830034,"東京都府中市住吉町","東京都","府中市","住吉町"]
[1830001,"東京都府中市浅間町","東京都","府中市","浅間町"]
[1830002,"東京都府中市多磨町","東京都","府中市","多磨町"]
[1830053,"東京都府中市天神町","東京都","府中市","天神町"]
[1830043,"東京都府中市東芝町","東京都","府中市","東芝町"]
[1830046,"東京都府中市西原町","東京都","府中市","西原町"]
[1830031,"東京都府中市西府町","東京都","府中市","西府町"]
[1830044,"東京都府中市日鋼町","東京都","府中市","日鋼町"]
[1830036,"東京都府中市日新町","東京都","府中市","日新町"]
[1830016,"東京都府中市八幡町","東京都","府中市","八幡町"]
[1830057,"東京都府中市晴見町","東京都","府中市","晴見町"]
[1830024,"東京都府中市日吉町","東京都","府中市","日吉町"]
[1830055,"東京都府中市府中町","東京都","府中市","府中町"]
[1830033,"東京都府中市分梅町","東京都","府中市","分梅町"]
[1830032,"東京都府中市本宿町","東京都","府中市","本宿町"]
[1830027,"東京都府中市本町","東京都","府中市","本町"]
[1830006,"東京都府中市緑町","東京都","府中市","緑町"]
[1830026,"東京都府中市南町","東京都","府中市","南町"]
[1830022,"東京都府中市宮西町","東京都","府中市","宮西町"]
[1830023,"東京都府中市宮町","東京都","府中市","宮町"]
[1830045,"東京都府中市美好町","東京都","府中市","美好町"]
[1830042,"東京都府中市武蔵台","東京都","府中市","武蔵台"]
[1830004,"東京都府中市紅葉丘","東京都","府中市","紅葉丘"]
[1830025,"東京都府中市矢崎町","東京都","府中市","矢崎町"]
[1830035,"東京都府中市四谷","東京都","府中市","四谷"]
[1830005,"東京都府中市若松町","東京都","府中市","若松町"]
[1960025,"東京都昭島市朝日町","東京都","昭島市","朝日町"]
[1960033,"東京都昭島市東町","東京都","昭島市","東町"]
[1960013,"東京都昭島市大神町","東京都","昭島市","大神町"]
[1960032,"東京都昭島市郷地町","東京都","昭島市","郷地町"]
[1960011,"東京都昭島市上川原町","東京都","昭島市","上川原町"]
[1960015,"東京都昭島市昭和町","東京都","昭島市","昭和町"]
[1960014,"東京都昭島市田中町","東京都","昭島市","田中町"]
[1960034,"東京都昭島市玉川町","東京都","昭島市","玉川町"]
[1960005,"東京都昭島市代官山","東京都","昭島市","代官山"]
[1960023,"東京都昭島市築地町","東京都","昭島市","築地町"]
[1960012,"東京都昭島市つつじが丘","東京都","昭島市","つつじが丘"]
[1960022,"東京都昭島市中神町","東京都","昭島市","中神町"]
[1960002,"東京都昭島市拝島町","東京都","昭島市","拝島町"]
[1960031,"東京都昭島市福島町","東京都","昭島市","福島町"]
[1960003,"東京都昭島市松原町","東京都","昭島市","松原町"]
[1960004,"東京都昭島市緑町","東京都","昭島市","緑町"]
[1960001,"東京都昭島市美堀町","東京都","昭島市","美堀町"]
[1960024,"東京都昭島市宮沢町","東京都","昭島市","宮沢町"]
[1960021,"東京都昭島市武蔵野","東京都","昭島市","武蔵野"]
[1960035,"東京都昭島市もくせいの杜","東京都","昭島市","もくせいの杜"]
[1820004,"東京都調布市入間町","東京都","調布市","入間町"]
[1820035,"東京都調布市上石原","東京都","調布市","上石原"]
[1820007,"東京都調布市菊野台","東京都","調布市","菊野台"]
[1820022,"東京都調布市国領町","東京都","調布市","国領町"]
[1820026,"東京都調布市小島町","東京都","調布市","小島町"]
[1820016,"東京都調布市佐須町","東京都","調布市","佐須町"]
[1820014,"東京都調布市柴崎","東京都","調布市","柴崎"]
[1820034,"東京都調布市下石原","東京都","調布市","下石原"]
[1820012,"東京都調布市深大寺東町","東京都","調布市","深大寺東町"]
[1820013,"東京都調布市深大寺南町","東京都","調布市","深大寺南町"]
[1820011,"東京都調布市深大寺北町","東京都","調布市","深大寺北町"]
[1820017,"東京都調布市深大寺元町","東京都","調布市","深大寺元町"]
[1820002,"東京都調布市仙川町","東京都","調布市","仙川町"]
[1820023,"東京都調布市染地","東京都","調布市","染地"]
[1820025,"東京都調布市多摩川","東京都","調布市","多摩川"]
[1820021,"東京都調布市調布ケ丘","東京都","調布市","調布ケ丘"]
[1820036,"東京都調布市飛田給","東京都","調布市","飛田給"]
[1820006,"東京都調布市西つつじケ丘","東京都","調布市","西つつじケ丘"]
[1820032,"東京都調布市西町","東京都","調布市","西町"]
[1820031,"東京都調布市野水","東京都","調布市","野水"]
[1820005,"東京都調布市東つつじケ丘","東京都","調布市","東つつじケ丘"]
[1820033,"東京都調布市富士見町","東京都","調布市","富士見町"]
[1820024,"東京都調布市布田","東京都","調布市","布田"]
[1820001,"東京都調布市緑ケ丘","東京都","調布市","緑ケ丘"]
[1820015,"東京都調布市八雲台","東京都","調布市","八雲台"]
[1820003,"東京都調布市若葉町","東京都","調布市","若葉町"]
[1940211,"東京都町田市相原町","東京都","町田市","相原町"]
[1940023,"東京都町田市旭町","東京都","町田市","旭町"]
[1950062,"東京都町田市大蔵町","東京都","町田市","大蔵町"]
[1940003,"東京都町田市小川","東京都","町田市","小川"]
[1950064,"東京都町田市小野路町","東京都","町田市","小野路町"]
[1940215,"東京都町田市小山ヶ丘","東京都","町田市","小山ヶ丘"]
[1940204,"東京都町田市小山田桜台","東京都","町田市","小山田桜台"]
[1940212,"東京都町田市小山町","東京都","町田市","小山町"]
[1950072,"東京都町田市金井","東京都","町田市","金井"]
[1950076,"東京都町田市金井ヶ丘","東京都","町田市","金井ヶ丘"]
[1950071,"東京都町田市金井町","東京都","町田市","金井町"]
[1940012,"東京都町田市金森","東京都","町田市","金森"]
[1940015,"東京都町田市金森東","東京都","町田市","金森東"]
[1940201,"東京都町田市上小山田町","東京都","町田市","上小山田町"]
[1940037,"東京都町田市木曽西","東京都","町田市","木曽西"]
[1940036,"東京都町田市木曽東","東京都","町田市","木曽東"]
[1940033,"東京都町田市木曽町","東京都","町田市","木曽町"]
[1940014,"東京都町田市高ヶ坂","東京都","町田市","高ヶ坂"]
[1940202,"東京都町田市下小山田町","東京都","町田市","下小山田町"]
[1950057,"東京都町田市真光寺","東京都","町田市","真光寺"]
[1950051,"東京都町田市真光寺町","東京都","町田市","真光寺町"]
[1940203,"東京都町田市図師町","東京都","町田市","図師町"]
[1940035,"東京都町田市忠生","東京都","町田市","忠生"]
[1940041,"東京都町田市玉川学園","東京都","町田市","玉川学園"]
[1940001,"東京都町田市つくし野","東京都","町田市","つくし野"]
[1950061,"東京都町田市鶴川","東京都","町田市","鶴川"]
[1940004,"東京都町田市鶴間","東京都","町田市","鶴間"]
[1940213,"東京都町田市常盤町","東京都","町田市","常盤町"]
[1940021,"東京都町田市中町","東京都","町田市","中町"]
[1940044,"東京都町田市成瀬","東京都","町田市","成瀬"]
[1940011,"東京都町田市成瀬が丘","東京都","町田市","成瀬が丘"]
[1940043,"東京都町田市成瀬台","東京都","町田市","成瀬台"]
[1940046,"東京都町田市西成瀬","東京都","町田市","西成瀬"]
[1940038,"東京都町田市根岸","東京都","町田市","根岸"]
[1940034,"東京都町田市根岸町","東京都","町田市","根岸町"]
[1950053,"東京都町田市能ヶ谷","東京都","町田市","能ヶ谷"]
[1950063,"東京都町田市野津田町","東京都","町田市","野津田町"]
[1940013,"東京都町田市原町田","東京都","町田市","原町田"]
[1940042,"東京都町田市東玉川学園","東京都","町田市","東玉川学園"]
[1950056,"東京都町田市広袴","東京都","町田市","広袴"]
[1950052,"東京都町田市広袴町","東京都","町田市","広袴町"]
[1940039,"東京都町田市藤の台","東京都","町田市","藤の台"]
[1950039,"東京都町田市藤の台","東京都","町田市","藤の台"]
[1940032,"東京都町田市本町田","東京都","町田市","本町田"]
[1940031,"東京都町田市南大谷","東京都","町田市","南大谷"]
[1940002,"東京都町田市南つくし野","東京都","町田市","南つくし野"]
[1940045,"東京都町田市南成瀬","東京都","町田市","南成瀬"]
[1940005,"東京都町田市南町田","東京都","町田市","南町田"]
[1950054,"東京都町田市三輪町","東京都","町田市","三輪町"]
[1950055,"東京都町田市三輪緑山","東京都","町田市","三輪緑山"]
[1940022,"東京都町田市森野","東京都","町田市","森野"]
[1950073,"東京都町田市薬師台","東京都","町田市","薬師台"]
[1940214,"東京都町田市矢部町","東京都","町田市","矢部町"]
[1950075,"東京都町田市山崎","東京都","町田市","山崎"]
[1950074,"東京都町田市山崎町","東京都","町田市","山崎町"]
[1840002,"東京都小金井市梶野町","東京都","小金井市","梶野町"]
[1840005,"東京都小金井市桜町","東京都","小金井市","桜町"]
[1840001,"東京都小金井市関野町","東京都","小金井市","関野町"]
[1840012,"東京都小金井市中町","東京都","小金井市","中町"]
[1840014,"東京都小金井市貫井南町","東京都","小金井市","貫井南町"]
[1840015,"東京都小金井市貫井北町","東京都","小金井市","貫井北町"]
[1840011,"東京都小金井市東町","東京都","小金井市","東町"]
[1840004,"東京都小金井市本町","東京都","小金井市","本町"]
[1840013,"東京都小金井市前原町","東京都","小金井市","前原町"]
[1840003,"東京都小金井市緑町","東京都","小金井市","緑町"]
[1870001,"東京都小平市大沼町","東京都","小平市","大沼町"]
[1870031,"東京都小平市小川東町","東京都","小平市","小川東町"]
[1870035,"東京都小平市小川西町","東京都","小平市","小川西町"]
[1870032,"東京都小平市小川町","東京都","小平市","小川町"]
[1870043,"東京都小平市学園東町","東京都","小平市","学園東町"]
[1870045,"東京都小平市学園西町","東京都","小平市","学園西町"]
[1870044,"東京都小平市喜平町","東京都","小平市","喜平町"]
[1870034,"東京都小平市栄町","東京都","小平市","栄町"]
[1870023,"東京都小平市上水新町","東京都","小平市","上水新町"]
[1870022,"東京都小平市上水本町","東京都","小平市","上水本町"]
[1870021,"東京都小平市上水南町","東京都","小平市","上水南町"]
[1870011,"東京都小平市鈴木町","東京都","小平市","鈴木町"]
[1870024,"東京都小平市たかの台","東京都","小平市","たかの台"]
[1870025,"東京都小平市津田町","東京都","小平市","津田町"]
[1870004,"東京都小平市天神町","東京都","小平市","天神町"]
[1870033,"東京都小平市中島町","東京都","小平市","中島町"]
[1870042,"東京都小平市仲町","東京都","小平市","仲町"]
[1870002,"東京都小平市花小金井","東京都","小平市","花小金井"]
[1870003,"東京都小平市花小金井南町","東京都","小平市","花小金井南町"]
[1870041,"東京都小平市美園町","東京都","小平市","美園町"]
[1870012,"東京都小平市御幸町","東京都","小平市","御幸町"]
[1870013,"東京都小平市回田町","東京都","小平市","回田町"]
[1910065,"東京都日野市旭が丘","東京都","日野市","旭が丘"]
[1910022,"東京都日野市新井","東京都","日野市","新井"]
[1910021,"東京都日野市石田","東京都","日野市","石田"]
[1910061,"東京都日野市大坂上","東京都","日野市","大坂上"]
[1910034,"東京都日野市落川","東京都","日野市","落川"]
[1910014,"東京都日野市上田","東京都","日野市","上田"]
[1910015,"東京都日野市川辺堀之内","東京都","日野市","川辺堀之内"]
[1910001,"東京都日野市栄町","東京都","日野市","栄町"]
[1910063,"東京都日野市さくら町","東京都","日野市","さくら町"]
[1910023,"東京都日野市下田","東京都","日野市","下田"]
[1910002,"東京都日野市新町","東京都","日野市","新町"]
[1910016,"東京都日野市神明","東京都","日野市","神明"]
[1910031,"東京都日野市高幡","東京都","日野市","高幡"]
[1910062,"東京都日野市多摩平","東京都","日野市","多摩平"]
[1910053,"東京都日野市豊田","東京都","日野市","豊田"]
[1910055,"東京都日野市西平山","東京都","日野市","西平山"]
[1910052,"東京都日野市東豊田","東京都","日野市","東豊田"]
[1910054,"東京都日野市東平山","東京都","日野市","東平山"]
[1910012,"東京都日野市日野","東京都","日野市","日野"]
[1910003,"東京都日野市日野台","東京都","日野市","日野台"]
[1910011,"東京都日野市日野本町","東京都","日野市","日野本町"]
[1910043,"東京都日野市平山","東京都","日野市","平山"]
[1910064,"東京都日野市富士町","東京都","日野市","富士町"]
[1910042,"東京都日野市程久保","東京都","日野市","程久保"]
[1910024,"東京都日野市万願寺","東京都","日野市","万願寺"]
[1910032,"東京都日野市三沢","東京都","日野市","三沢"]
[1910041,"東京都日野市南平","東京都","日野市","南平"]
[1910013,"東京都日野市宮","東京都","日野市","宮"]
[1910033,"東京都日野市百草","東京都","日野市","百草"]
[1890002,"東京都東村山市青葉町","東京都","東村山市","青葉町"]
[1890001,"東京都東村山市秋津町","東京都","東村山市","秋津町"]
[1890011,"東京都東村山市恩多町","東京都","東村山市","恩多町"]
[1890003,"東京都東村山市久米川町","東京都","東村山市","久米川町"]
[1890013,"東京都東村山市栄町","東京都","東村山市","栄町"]
[1890021,"東京都東村山市諏訪町","東京都","東村山市","諏訪町"]
[1890026,"東京都東村山市多摩湖町","東京都","東村山市","多摩湖町"]
[1890022,"東京都東村山市野口町","東京都","東村山市","野口町"]
[1890012,"東京都東村山市萩山町","東京都","東村山市","萩山町"]
[1890024,"東京都東村山市富士見町","東京都","東村山市","富士見町"]
[1890014,"東京都東村山市本町","東京都","東村山市","本町"]
[1890023,"東京都東村山市美住町","東京都","東村山市","美住町"]
[1890025,"東京都東村山市廻田町","東京都","東村山市","廻田町"]
[1850024,"東京都国分寺市泉町","東京都","国分寺市","泉町"]
[1850001,"東京都国分寺市北町","東京都","国分寺市","北町"]
[1850004,"東京都国分寺市新町","東京都","国分寺市","新町"]
[1850036,"東京都国分寺市高木町","東京都","国分寺市","高木町"]
[1850003,"東京都国分寺市戸倉","東京都","国分寺市","戸倉"]
[1850033,"東京都国分寺市内藤","東京都","国分寺市","内藤"]
[1850005,"東京都国分寺市並木町","東京都","国分寺市","並木町"]
[1850013,"東京都国分寺市西恋ケ窪","東京都","国分寺市","西恋ケ窪"]
[1850035,"東京都国分寺市西町","東京都","国分寺市","西町"]
[1850023,"東京都国分寺市西元町","東京都","国分寺市","西元町"]
[1850034,"東京都国分寺市光町","東京都","国分寺市","光町"]
[1850014,"東京都国分寺市東恋ケ窪","東京都","国分寺市","東恋ケ窪"]
[1850002,"東京都国分寺市東戸倉","東京都","国分寺市","東戸倉"]
[1850022,"東京都国分寺市東元町","東京都","国分寺市","東元町"]
[1850032,"東京都国分寺市日吉町","東京都","国分寺市","日吉町"]
[1850031,"東京都国分寺市富士本","東京都","国分寺市","富士本"]
[1850011,"東京都国分寺市本多","東京都","国分寺市","本多"]
[1850012,"東京都国分寺市本町","東京都","国分寺市","本町"]
[1850021,"東京都国分寺市南町","東京都","国分寺市","南町"]
[1860013,"東京都国立市青柳","東京都","国立市","青柳"]
[1860014,"東京都国立市石田","東京都","国立市","石田"]
[1860012,"東京都国立市泉","東京都","国立市","泉"]
[1860001,"東京都国立市北","東京都","国立市","北"]
[1860004,"東京都国立市中","東京都","国立市","中"]
[1860005,"東京都国立市西","東京都","国立市","西"]
[1860002,"東京都国立市東","東京都","国立市","東"]
[1860003,"東京都国立市富士見台","東京都","国立市","富士見台"]
[1860015,"東京都国立市矢川","東京都","国立市","矢川"]
[1860011,"東京都国立市谷保","東京都","国立市","谷保"]
[1970024,"東京都福生市牛浜","東京都","福生市","牛浜"]
[1970012,"東京都福生市加美平","東京都","福生市","加美平"]
[1970005,"東京都福生市北田園","東京都","福生市","北田園"]
[1970003,"東京都福生市熊川","東京都","福生市","熊川"]
[1970002,"東京都福生市熊川二宮","東京都","福生市","熊川二宮"]
[1970023,"東京都福生市志茂","東京都","福生市","志茂"]
[1970021,"東京都福生市東町","東京都","福生市","東町"]
[1970011,"東京都福生市福生","東京都","福生市","福生"]
[1970014,"東京都福生市福生二宮","東京都","福生市","福生二宮"]
[1970022,"東京都福生市本町","東京都","福生市","本町"]
[1970004,"東京都福生市南田園","東京都","福生市","南田園"]
[1970013,"東京都福生市武蔵野台","東京都","福生市","武蔵野台"]
[1970001,"東京都福生市横田基地内","東京都","福生市","横田基地内"]
[2010003,"東京都狛江市和泉本町","東京都","狛江市","和泉本町"]
[2010015,"東京都狛江市猪方","東京都","狛江市","猪方"]
[2010005,"東京都狛江市岩戸南","東京都","狛江市","岩戸南"]
[2010004,"東京都狛江市岩戸北","東京都","狛江市","岩戸北"]
[2010016,"東京都狛江市駒井町","東京都","狛江市","駒井町"]
[2010012,"東京都狛江市中和泉","東京都","狛江市","中和泉"]
[2010011,"東京都狛江市西和泉","東京都","狛江市","西和泉"]
[2010001,"東京都狛江市西野川","東京都","狛江市","西野川"]
[2010014,"東京都狛江市東和泉","東京都","狛江市","東和泉"]
[2010002,"東京都狛江市東野川","東京都","狛江市","東野川"]
[2010013,"東京都狛江市元和泉","東京都","狛江市","元和泉"]
[2070033,"東京都東大和市芋窪","東京都","東大和市","芋窪"]
[2070023,"東京都東大和市上北台","東京都","東大和市","上北台"]
[2070011,"東京都東大和市清原","東京都","東大和市","清原"]
[2070002,"東京都東大和市湖畔","東京都","東大和市","湖畔"]
[2070022,"東京都東大和市桜が丘","東京都","東大和市","桜が丘"]
[2070003,"東京都東大和市狭山","東京都","東大和市","狭山"]
[2070004,"東京都東大和市清水","東京都","東大和市","清水"]
[2070012,"東京都東大和市新堀","東京都","東大和市","新堀"]
[2070032,"東京都東大和市蔵敷","東京都","東大和市","蔵敷"]
[2070005,"東京都東大和市高木","東京都","東大和市","高木"]
[2070021,"東京都東大和市立野","東京都","東大和市","立野"]
[2070001,"東京都東大和市多摩湖","東京都","東大和市","多摩湖"]
[2070015,"東京都東大和市中央","東京都","東大和市","中央"]
[2070016,"東京都東大和市仲原","東京都","東大和市","仲原"]
[2070031,"東京都東大和市奈良橋","東京都","東大和市","奈良橋"]
[2070014,"東京都東大和市南街","東京都","東大和市","南街"]
[2070013,"東京都東大和市向原","東京都","東大和市","向原"]
[2040002,"東京都清瀬市旭が丘","東京都","清瀬市","旭が丘"]
[2040024,"東京都清瀬市梅園","東京都","清瀬市","梅園"]
[2040013,"東京都清瀬市上清戸","東京都","清瀬市","上清戸"]
[2040001,"東京都清瀬市下宿","東京都","清瀬市","下宿"]
[2040011,"東京都清瀬市下清戸","東京都","清瀬市","下清戸"]
[2040023,"東京都清瀬市竹丘","東京都","清瀬市","竹丘"]
[2040012,"東京都清瀬市中清戸","東京都","清瀬市","中清戸"]
[2040003,"東京都清瀬市中里","東京都","清瀬市","中里"]
[2040004,"東京都清瀬市野塩","東京都","清瀬市","野塩"]
[2040022,"東京都清瀬市松山","東京都","清瀬市","松山"]
[2040021,"東京都清瀬市元町","東京都","清瀬市","元町"]
[2030001,"東京都東久留米市上の原","東京都","東久留米市","上の原"]
[2030021,"東京都東久留米市学園町","東京都","東久留米市","学園町"]
[2030003,"東京都東久留米市金山町","東京都","東久留米市","金山町"]
[2030051,"東京都東久留米市小山","東京都","東久留米市","小山"]
[2030052,"東京都東久留米市幸町","東京都","東久留米市","幸町"]
[2030043,"東京都東久留米市下里","東京都","東久留米市","下里"]
[2030013,"東京都東久留米市新川町","東京都","東久留米市","新川町"]
[2030002,"東京都東久留米市神宝町","東京都","東久留米市","神宝町"]
[2030012,"東京都東久留米市浅間町","東京都","東久留米市","浅間町"]
[2030011,"東京都東久留米市大門町","東京都","東久留米市","大門町"]
[2030033,"東京都東久留米市滝山","東京都","東久留米市","滝山"]
[2030054,"東京都東久留米市中央町","東京都","東久留米市","中央町"]
[2030041,"東京都東久留米市野火止","東京都","東久留米市","野火止"]
[2030042,"東京都東久留米市八幡町","東京都","東久留米市","八幡町"]
[2030004,"東京都東久留米市氷川台","東京都","東久留米市","氷川台"]
[2030014,"東京都東久留米市東本町","東京都","東久留米市","東本町"]
[2030022,"東京都東久留米市ひばりが丘団地","東京都","東久留米市","ひばりが丘団地"]
[2030053,"東京都東久留米市本町","東京都","東久留米市","本町"]
[2030032,"東京都東久留米市前沢","東京都","東久留米市","前沢"]
[2030023,"東京都東久留米市南沢","東京都","東久留米市","南沢"]
[2030031,"東京都東久留米市南町","東京都","東久留米市","南町"]
[2030044,"東京都東久留米市柳窪","東京都","東久留米市","柳窪"]
[2030034,"東京都東久留米市弥生","東京都","東久留米市","弥生"]
[2080023,"東京都武蔵村山市伊奈平","東京都","武蔵村山市","伊奈平"]
[2080022,"東京都武蔵村山市榎","東京都","武蔵村山市","榎"]
[2080013,"東京都武蔵村山市大南","東京都","武蔵村山市","大南"]
[2080011,"東京都武蔵村山市学園","東京都","武蔵村山市","学園"]
[2080031,"東京都武蔵村山市岸","東京都","武蔵村山市","岸"]
[2080034,"東京都武蔵村山市残堀","東京都","武蔵村山市","残堀"]
[2080002,"東京都武蔵村山市神明","東京都","武蔵村山市","神明"]
[2080003,"東京都武蔵村山市中央","東京都","武蔵村山市","中央"]
[2080001,"東京都武蔵村山市中藤","東京都","武蔵村山市","中藤"]
[2080035,"東京都武蔵村山市中原","東京都","武蔵村山市","中原"]
[2080004,"東京都武蔵村山市本町","東京都","武蔵村山市","本町"]
[2080032,"東京都武蔵村山市三ツ木","東京都","武蔵村山市","三ツ木"]
[2080021,"東京都武蔵村山市三ツ藤","東京都","武蔵村山市","三ツ藤"]
[2080012,"東京都武蔵村山市緑が丘","東京都","武蔵村山市","緑が丘"]
[2060041,"東京都多摩市愛宕","東京都","多摩市","愛宕"]
[2060002,"東京都多摩市一ノ宮","東京都","多摩市","一ノ宮"]
[2060033,"東京都多摩市落合","東京都","多摩市","落合"]
[2060015,"東京都多摩市落川","東京都","多摩市","落川"]
[2060012,"東京都多摩市貝取","東京都","多摩市","貝取"]
[2060035,"東京都多摩市唐木田","東京都","多摩市","唐木田"]
[2060014,"東京都多摩市乞田","東京都","多摩市","乞田"]
[2060013,"東京都多摩市桜ヶ丘","東京都","多摩市","桜ヶ丘"]
[2060042,"東京都多摩市山王下","東京都","多摩市","山王下"]
[2060024,"東京都多摩市諏訪","東京都","多摩市","諏訪"]
[2060011,"東京都多摩市関戸","東京都","多摩市","関戸"]
[2060034,"東京都多摩市鶴牧","東京都","多摩市","鶴牧"]
[2060031,"東京都多摩市豊ヶ丘","東京都","多摩市","豊ヶ丘"]
[2060036,"東京都多摩市中沢","東京都","多摩市","中沢"]
[2060025,"東京都多摩市永山","東京都","多摩市","永山"]
[2060003,"東京都多摩市東寺方","東京都","多摩市","東寺方"]
[2060022,"東京都多摩市聖ヶ丘","東京都","多摩市","聖ヶ丘"]
[2060023,"東京都多摩市馬引沢","東京都","多摩市","馬引沢"]
[2060032,"東京都多摩市南野","東京都","多摩市","南野"]
[2060004,"東京都多摩市百草","東京都","多摩市","百草"]
[2060021,"東京都多摩市連光寺","東京都","多摩市","連光寺"]
[2060001,"東京都多摩市和田","東京都","多摩市","和田"]
[2060801,"東京都稲城市大丸","東京都","稲城市","大丸"]
[2060811,"東京都稲城市押立","東京都","稲城市","押立"]
[2060803,"東京都稲城市向陽台","東京都","稲城市","向陽台"]
[2060822,"東京都稲城市坂浜","東京都","稲城市","坂浜"]
[2060821,"東京都稲城市長峰","東京都","稲城市","長峰"]
[2060802,"東京都稲城市東長沼","東京都","稲城市","東長沼"]
[2060823,"東京都稲城市平尾","東京都","稲城市","平尾"]
[2060804,"東京都稲城市百村","東京都","稲城市","百村"]
[2060812,"東京都稲城市矢野口","東京都","稲城市","矢野口"]
[2060824,"東京都稲城市若葉台","東京都","稲城市","若葉台"]
[2050001,"東京都羽村市小作台","東京都","羽村市","小作台"]
[2050021,"東京都羽村市川崎","東京都","羽村市","川崎"]
[2050011,"東京都羽村市五ノ神","東京都","羽村市","五ノ神"]
[2050002,"東京都羽村市栄町","東京都","羽村市","栄町"]
[2050023,"東京都羽村市神明台","東京都","羽村市","神明台"]
[2050024,"東京都羽村市玉川","東京都","羽村市","玉川"]
[2050012,"東京都羽村市羽","東京都","羽村市","羽"]
[2050016,"東京都羽村市羽加美","東京都","羽村市","羽加美"]
[2050015,"東京都羽村市羽中","東京都","羽村市","羽中"]
[2050014,"東京都羽村市羽東","東京都","羽村市","羽東"]
[2050017,"東京都羽村市羽西","東京都","羽村市","羽西"]
[2050013,"東京都羽村市富士見平","東京都","羽村市","富士見平"]
[2050022,"東京都羽村市双葉町","東京都","羽村市","双葉町"]
[2050003,"東京都羽村市緑ケ丘","東京都","羽村市","緑ケ丘"]
[1970804,"東京都あきる野市秋川","東京都","あきる野市","秋川"]
[1970828,"東京都あきる野市秋留","東京都","あきる野市","秋留"]
[1900155,"東京都あきる野市網代","東京都","あきる野市","網代"]
[1970827,"東京都あきる野市油平","東京都","あきる野市","油平"]
[1970825,"東京都あきる野市雨間","東京都","あきる野市","雨間"]
[1900164,"東京都あきる野市五日市","東京都","あきる野市","五日市"]
[1900142,"東京都あきる野市伊奈","東京都","あきる野市","伊奈"]
[1900161,"東京都あきる野市入野","東京都","あきる野市","入野"]
[1900143,"東京都あきる野市上ノ台","東京都","あきる野市","上ノ台"]
[1970826,"東京都あきる野市牛沼","東京都","あきる野市","牛沼"]
[1970821,"東京都あきる野市小川","東京都","あきる野市","小川"]
[1970822,"東京都あきる野市小川東","東京都","あきる野市","小川東"]
[1900174,"東京都あきる野市乙津","東京都","あきる野市","乙津"]
[1970832,"東京都あきる野市上代継","東京都","あきる野市","上代継"]
[1970824,"東京都あきる野市切欠","東京都","あきる野市","切欠"]
[1970802,"東京都あきる野市草花","東京都","あきる野市","草花"]
[1900165,"東京都あきる野市小中野","東京都","あきる野市","小中野"]
[1900153,"東京都あきる野市小峰台","東京都","あきる野市","小峰台"]
[1900151,"東京都あきる野市小和田","東京都","あきる野市","小和田"]
[1900162,"東京都あきる野市三内","東京都","あきる野市","三内"]
[1970831,"東京都あきる野市下代継","東京都","あきる野市","下代継"]
[1970801,"東京都あきる野市菅生","東京都","あきる野市","菅生"]
[1970803,"東京都あきる野市瀬戸岡","東京都","あきる野市","瀬戸岡"]
[1900154,"東京都あきる野市高尾","東京都","あきる野市","高尾"]
[1900163,"東京都あきる野市舘谷","東京都","あきる野市","舘谷"]
[1900166,"東京都あきる野市舘谷台","東京都","あきる野市","舘谷台"]
[1900173,"東京都あきる野市戸倉","東京都","あきる野市","戸倉"]
[1900152,"東京都あきる野市留原","東京都","あきる野市","留原"]
[1970814,"東京都あきる野市二宮","東京都","あきる野市","二宮"]
[1970815,"東京都あきる野市二宮東","東京都","あきる野市","二宮東"]
[1970823,"東京都あきる野市野辺","東京都","あきる野市","野辺"]
[1970811,"東京都あきる野市原小宮","東京都","あきる野市","原小宮"]
[1970834,"東京都あきる野市引田","東京都","あきる野市","引田"]
[1970812,"東京都あきる野市平沢","東京都","あきる野市","平沢"]
[1970816,"東京都あきる野市平沢西","東京都","あきる野市","平沢西"]
[1970813,"東京都あきる野市平沢東","東京都","あきる野市","平沢東"]
[1900172,"東京都あきる野市深沢","東京都","あきる野市","深沢"]
[1970833,"東京都あきる野市渕上","東京都","あきる野市","渕上"]
[1900144,"東京都あきる野市山田","東京都","あきる野市","山田"]
[1900171,"東京都あきる野市養沢","東京都","あきる野市","養沢"]
[1900141,"東京都あきる野市横沢","東京都","あきる野市","横沢"]
[2020011,"東京都西東京市泉町","東京都","西東京市","泉町"]
[1880003,"東京都西東京市北原町","東京都","西東京市","北原町"]
[2020003,"東京都西東京市北町","東京都","西東京市","北町"]
[2020006,"東京都西東京市栄町","東京都","西東京市","栄町"]
[1880014,"東京都西東京市芝久保町","東京都","西東京市","芝久保町"]
[2020004,"東京都西東京市下保谷","東京都","西東京市","下保谷"]
[2020023,"東京都西東京市新町","東京都","西東京市","新町"]
[2020005,"東京都西東京市住吉町","東京都","西東京市","住吉町"]
[1880011,"東京都西東京市田無町","東京都","西東京市","田無町"]
[2020013,"東京都西東京市中町","東京都","西東京市","中町"]
[1880004,"東京都西東京市西原町","東京都","西東京市","西原町"]
[2020012,"東京都西東京市東町","東京都","西東京市","東町"]
[2020021,"東京都西東京市東伏見","東京都","西東京市","東伏見"]
[2020001,"東京都西東京市ひばりが丘","東京都","西東京市","ひばりが丘"]
[2020002,"東京都西東京市ひばりが丘北","東京都","西東京市","ひばりが丘北"]
[2020014,"東京都西東京市富士町","東京都","西東京市","富士町"]
[2020015,"東京都西東京市保谷町","東京都","西東京市","保谷町"]
[1880002,"東京都西東京市緑町","東京都","西東京市","緑町"]
[1880012,"東京都西東京市南町","東京都","西東京市","南町"]
[1880013,"東京都西東京市向台町","東京都","西東京市","向台町"]
[2020022,"東京都西東京市柳沢","東京都","西東京市","柳沢"]
[1880001,"東京都西東京市谷戸町","東京都","西東京市","谷戸町"]
[1901211,"東京都西多摩郡瑞穂町石畑","東京都","西多摩郡瑞穂町","石畑"]
[1901211,"東京都西多摩郡瑞穂町大字石畑","東京都","西多摩郡瑞穂町","大字石畑"]
[1901202,"東京都西多摩郡瑞穂町駒形富士山","東京都","西多摩郡瑞穂町","駒形富士山"]
[1901202,"東京都西多摩郡瑞穂町大字駒形富士山","東京都","西多摩郡瑞穂町","大字駒形富士山"]
[1901203,"東京都西多摩郡瑞穂町高根","東京都","西多摩郡瑞穂町","高根"]
[1901203,"東京都西多摩郡瑞穂町大字高根","東京都","西多摩郡瑞穂町","大字高根"]
[1901212,"東京都西多摩郡瑞穂町殿ケ谷","東京都","西多摩郡瑞穂町","殿ケ谷"]
[1901212,"東京都西多摩郡瑞穂町大字殿ケ谷","東京都","西多摩郡瑞穂町","大字殿ケ谷"]
[1901232,"東京都西多摩郡瑞穂町長岡","東京都","西多摩郡瑞穂町","長岡"]
[1901232,"東京都西多摩郡瑞穂町大字長岡","東京都","西多摩郡瑞穂町","大字長岡"]
[1901233,"東京都西多摩郡瑞穂町長岡下師岡","東京都","西多摩郡瑞穂町","長岡下師岡"]
[1901233,"東京都西多摩郡瑞穂町大字長岡下師岡","東京都","西多摩郡瑞穂町","大字長岡下師岡"]
[1901231,"東京都西多摩郡瑞穂町長岡長谷部","東京都","西多摩郡瑞穂町","長岡長谷部"]
[1901231,"東京都西多摩郡瑞穂町大字長岡長谷部","東京都","西多摩郡瑞穂町","大字長岡長谷部"]
[1901234,"東京都西多摩郡瑞穂町長岡藤橋","東京都","西多摩郡瑞穂町","長岡藤橋"]
[1901234,"東京都西多摩郡瑞穂町大字長岡藤橋","東京都","西多摩郡瑞穂町","大字長岡藤橋"]
[1901201,"東京都西多摩郡瑞穂町二本木","東京都","西多摩郡瑞穂町","二本木"]
[1901201,"東京都西多摩郡瑞穂町大字二本木","東京都","西多摩郡瑞穂町","大字二本木"]
[1901221,"東京都西多摩郡瑞穂町箱根ケ崎","東京都","西多摩郡瑞穂町","箱根ケ崎"]
[1901221,"東京都西多摩郡瑞穂町大字箱根ケ崎","東京都","西多摩郡瑞穂町","大字箱根ケ崎"]
[1901222,"東京都西多摩郡瑞穂町箱根ケ崎東松原","東京都","西多摩郡瑞穂町","箱根ケ崎東松原"]
[1901222,"東京都西多摩郡瑞穂町大字箱根ケ崎東松原","東京都","西多摩郡瑞穂町","大字箱根ケ崎東松原"]
[1901223,"東京都西多摩郡瑞穂町箱根ケ崎西松原","東京都","西多摩郡瑞穂町","箱根ケ崎西松原"]
[1901223,"東京都西多摩郡瑞穂町大字箱根ケ崎西松原","東京都","西多摩郡瑞穂町","大字箱根ケ崎西松原"]
[1901204,"東京都西多摩郡瑞穂町富士山栗原新田","東京都","西多摩郡瑞穂町","富士山栗原新田"]
[1901204,"東京都西多摩郡瑞穂町大字富士山栗原新田","東京都","西多摩郡瑞穂町","大字富士山栗原新田"]
[1901224,"東京都西多摩郡瑞穂町南平","東京都","西多摩郡瑞穂町","南平"]
[1901224,"東京都西多摩郡瑞穂町大字南平","東京都","西多摩郡瑞穂町","大字南平"]
[1901213,"東京都西多摩郡瑞穂町武蔵","東京都","西多摩郡瑞穂町","武蔵"]
[1901213,"東京都西多摩郡瑞穂町大字武蔵","東京都","西多摩郡瑞穂町","大字武蔵"]
[1901214,"東京都西多摩郡瑞穂町むさし野","東京都","西多摩郡瑞穂町","むさし野"]
[1901214,"東京都西多摩郡瑞穂町大字むさし野","東京都","西多摩郡瑞穂町","大字むさし野"]
[1900181,"東京都西多摩郡日の出町大久野","東京都","西多摩郡日の出町","大久野"]
[1900182,"東京都西多摩郡日の出町平井","東京都","西多摩郡日の出町","平井"]
[1900204,"東京都西多摩郡檜原村小沢","東京都","西多摩郡檜原村","小沢"]
[1900221,"東京都西多摩郡檜原村数馬","東京都","西多摩郡檜原村","数馬"]
[1900203,"東京都西多摩郡檜原村神戸","東京都","西多摩郡檜原村","神戸"]
[1900212,"東京都西多摩郡檜原村上元郷","東京都","西多摩郡檜原村","上元郷"]
[1900201,"東京都西多摩郡檜原村倉掛","東京都","西多摩郡檜原村","倉掛"]
[1900213,"東京都西多摩郡檜原村下元郷","東京都","西多摩郡檜原村","下元郷"]
[1900223,"東京都西多摩郡檜原村南郷","東京都","西多摩郡檜原村","南郷"]
[1900205,"東京都西多摩郡檜原村樋里","東京都","西多摩郡檜原村","樋里"]
[1900202,"東京都西多摩郡檜原村藤原","東京都","西多摩郡檜原村","藤原"]
[1900222,"東京都西多摩郡檜原村人里","東京都","西多摩郡檜原村","人里"]
[1900211,"東京都西多摩郡檜原村三都郷","東京都","西多摩郡檜原村","三都郷"]
[1900214,"東京都西多摩郡檜原村本宿","東京都","西多摩郡檜原村","本宿"]
[1980213,"東京都西多摩郡奥多摩町海沢","東京都","西多摩郡奥多摩町","海沢"]
[1980103,"東京都西多摩郡奥多摩町梅沢","東京都","西多摩郡奥多摩町","梅沢"]
[1980101,"東京都西多摩郡奥多摩町大丹波","東京都","西多摩郡奥多摩町","大丹波"]
[1980102,"東京都西多摩郡奥多摩町川井","東京都","西多摩郡奥多摩町","川井"]
[1980225,"東京都西多摩郡奥多摩町川野","東京都","西多摩郡奥多摩町","川野"]
[1980224,"東京都西多摩郡奥多摩町河内","東京都","西多摩郡奥多摩町","河内"]
[1980105,"東京都西多摩郡奥多摩町小丹波","東京都","西多摩郡奥多摩町","小丹波"]
[1980222,"東京都西多摩郡奥多摩町境","東京都","西多摩郡奥多摩町","境"]
[1980107,"東京都西多摩郡奥多摩町白丸","東京都","西多摩郡奥多摩町","白丸"]
[1980106,"東京都西多摩郡奥多摩町棚沢","東京都","西多摩郡奥多摩町","棚沢"]
[1980104,"東京都西多摩郡奥多摩町丹三郎","東京都","西多摩郡奥多摩町","丹三郎"]
[1980221,"東京都西多摩郡奥多摩町留浦","東京都","西多摩郡奥多摩町","留浦"]
[1980211,"東京都西多摩郡奥多摩町日原","東京都","西多摩郡奥多摩町","日原"]
[1980223,"東京都西多摩郡奥多摩町原","東京都","西多摩郡奥多摩町","原"]
[1980212,"東京都西多摩郡奥多摩町氷川","東京都","西多摩郡奥多摩町","氷川"]
[1000102,"東京都大島町岡田","東京都","大島町","岡田"]
[1000211,"東京都大島町差木地","東京都","大島町","差木地"]
[1000103,"東京都大島町泉津","東京都","大島町","泉津"]
[1000104,"東京都大島町野増","東京都","大島町","野増"]
[1000212,"東京都大島町波浮港","東京都","大島町","波浮港"]
[1000101,"東京都大島町元町","東京都","大島町","元町"]
[1000101,"東京都大島町元町字馬の背","東京都","大島町","元町字馬の背"]
[1000301,"東京都利島村","東京都","利島村"]
[1000511,"東京都新島村式根島","東京都","新島村","式根島"]
[1000402,"東京都新島村本村","東京都","新島村","本村"]
[1000401,"東京都新島村若郷","東京都","新島村","若郷"]
[1000601,"東京都神津島村","東京都","神津島村"]
[1000601,"東京都神津島村字錆崎","東京都","神津島村","字錆崎"]
[1000601,"東京都神津島村字沢尻","東京都","神津島村","字沢尻"]
[1000601,"東京都神津島村与種","東京都","神津島村","与種"]
[1001212,"東京都三宅島三宅村阿古","東京都","三宅島三宅村","阿古"]
[1001103,"東京都三宅島三宅村伊ケ谷","東京都","三宅島三宅村","伊ケ谷"]
[1001102,"東京都三宅島三宅村伊豆","東京都","三宅島三宅村","伊豆"]
[1001213,"東京都三宅島三宅村雄山","東京都","三宅島三宅村","雄山"]
[1001101,"東京都三宅島三宅村神着","東京都","三宅島三宅村","神着"]
[1001211,"東京都三宅島三宅村坪田","東京都","三宅島三宅村","坪田"]
[1001301,"東京都御蔵島村","東京都","御蔵島村"]
[1001401,"東京都八丈島八丈町大賀郷","東京都","八丈島八丈町","大賀郷"]
[1001621,"東京都八丈島八丈町樫立","東京都","八丈島八丈町","樫立"]
[1001622,"東京都八丈島八丈町末吉","東京都","八丈島八丈町","末吉"]
[1001623,"東京都八丈島八丈町中之郷","東京都","八丈島八丈町","中之郷"]
[1001511,"東京都八丈島八丈町三根","東京都","八丈島八丈町","三根"]
[1001701,"東京都青ヶ島村","東京都","青ヶ島村"]
[1001701,"東京都青ヶ島村池之沢","東京都","青ヶ島村","池之沢"]
[1001701,"東京都青ヶ島村西郷","東京都","青ヶ島村","西郷"]
[1001701,"東京都青ヶ島村休戸郷","東京都","青ヶ島村","休戸郷"]
[1002101,"東京都小笠原村父島","東京都","小笠原村","父島"]
[1002101,"東京都小笠原村父島字奥村","東京都","小笠原村","父島字奥村"]
[1002101,"東京都小笠原村父島字奥村地内","東京都","小笠原村","父島字奥村地内"]
[1002101,"東京都小笠原村父島字清瀬","東京都","小笠原村","父島字清瀬"]
[1002211,"東京都小笠原村母島","東京都","小笠原村","母島"]
[1002211,"東京都小笠原村母島字元地","東京都","小笠原村","母島字元地"]

{"sheet":"マスター","index":20,"n_rows":63,"n_cols":4,"rows_kept":63,"hidden":true}
["都道府県",null,"市区町村"]
["東京都",null,"千代田区",{"$f":"IF(報告書!$M$103>=10000,\"東京都知事\",\"千代田区長　\")","v":"千代田区長　"}]
[null,null,"中央区",{"$f":"IF(報告書!$M$103>=10000,\"東京都知事\",\"中央区長　\")","v":"中央区長　"}]
[null,null,"港区",{"$f":"IF(報告書!$M$103>=10000,\"東京都知事\",\"港区長　\")","v":"港区長　"}]
[null,null,"新宿区",{"$f":"IF(報告書!$M$103>=10000,\"東京都知事\",\"新宿区長　\")","v":"新宿区長　"}]
[null,null,"文京区",{"$f":"IF(報告書!$M$103>=10000,\"東京都知事\",\"文京区長　\")","v":"文京区長　"}]
[null,null,"台東区",{"$f":"IF(報告書!$M$103>=10000,\"東京都知事\",\"台東区長　\")","v":"台東区長　"}]
[null,null,"北区",{"$f":"IF(報告書!$M$103>=10000,\"東京都知事\",\"北区長　\")","v":"北区長　"}]
[null,null,"荒川区",{"$f":"IF(報告書!$M$103>=10000,\"東京都知事\",\"荒川区長　\")","v":"荒川区長　"}]
[null,null,"品川区",{"$f":"IF(報告書!$M$103>=10000,\"東京都知事\",\"品川区長　\")","v":"品川区長　"}]
[null,null,"目黒区",{"$f":"IF(報告書!$M$103>=10000,\"東京都知事\",\"目黒区長　\")","v":"目黒区長　"}]
[null,null,"大田区",{"$f":"IF(報告書!$M$103>=10000,\"東京都知事\",\"大田区長　\")","v":"大田区長　"}]
[null,null,"世田谷区",{"$f":"IF(報告書!$M$103>=10000,\"東京都知事\",\"世田谷区長　\")","v":"世田谷区長　"}]
[null,null,"渋谷区",{"$f":"IF(報告書!$M$103>=10000,\"東京都知事\",\"渋谷区長　\")","v":"渋谷区長　"}]
[null,null,"中野区",{"$f":"IF(報告書!$M$103>=10000,\"東京都知事\",\"中野区長　\")","v":"中野区長　"}]
[null,null,"杉並区",{"$f":"IF(報告書!$M$103>=10000,\"東京都知事\",\"杉並区長　\")","v":"杉並区長　"}]
[null,null,"豊島区",{"$f":"IF(報告書!$M$103>=10000,\"東京都知事\",\"豊島区長　\")","v":"豊島区長　"}]
[null,null,"板橋区",{"$f":"IF(報告書!$M$103>=10000,\"東京都知事\",\"板橋区長　\")","v":"板橋区長　"}]
[null,null,"練馬区",{"$f":"IF(報告書!$M$103>=10000,\"東京都知事\",\"練馬区長　\")","v":"練馬区長　"}]
[null,null,"墨田区",{"$f":"IF(報告書!$M$103>=10000,\"東京都知事\",\"墨田区長　\")","v":"墨田区長　"}]
[null,null,"江東区",{"$f":"IF(報告書!$M$103>=10000,\"東京都知事\",\"江東区長　\")","v":"江東区長　"}]
[null,null,"足立区",{"$f":"IF(報告書!$M$103>=10000,\"東京都知事\",\"足立区長　\")","v":"足立区長　"}]
[null,null,"葛飾区",{"$f":"IF(報告書!$M$103>=10000,\"東京都知事\",\"葛飾区長　\")","v":"葛飾区長　"}]
[null,null,"江戸川区",{"$f":"IF(報告書!$M$103>=10000,\"東京都知事\",\"江戸川区長　\")","v":"江戸川区長　"}]
[null,null,"八王子市","八王子市長　"]
[null,null,"町田市","町田市長　"]
[null,null,"府中市","府中市長　"]
[null,null,"調布市","調布市長　"]
[null,null,"武蔵野市","武蔵野市長　"]
[null,null,"三鷹市","三鷹市長　"]
[null,null,"日野市","日野市長　"]
[null,null,"立川市","立川市長　"]
[null,null,"国分寺市","国分寺市長　"]
[null,null,"西東京市","西東京市長　"]
[null,null,"小平市","小平市長　"]
[null,null,"青梅市","多摩建築指導事務所長　"]
[null,null,"昭島市","多摩建築指導事務所長　"]
[null,null,"小金井市","多摩建築指導事務所長　"]
[null,null,"東村山市","多摩建築指導事務所長　"]
[null,null,"国立市","多摩建築指導事務所長　"]
[null,null,"福生市","多摩建築指導事務所長　"]
[null,null,"狛江市","多摩建築指導事務所長　"]
[null,null,"東大和市","多摩建築指導事務所長　"]
[null,null,"清瀬市","多摩建築指導事務所長　"]
[null,null,"東久留米市","多摩建築指導事務所長　"]
[null,null,"武蔵村山市","多摩建築指導事務所長　"]
[null,null,"多摩市","多摩建築指導事務所長　"]
[null,null,"稲城市","多摩建築指導事務所長　"]
[null,null,"羽村市","多摩建築指導事務所長　"]
[null,null,"あきる野市","多摩建築指導事務所長　"]
[null,null,"西多摩郡瑞穂町","多摩建築指導事務所長　"]
[null,null,"西多摩郡日の出町","多摩建築指導事務所長　"]
[null,null,"西多摩郡檜原村","多摩建築指導事務所長　"]
[null,null,"西多摩郡奥多摩町","多摩建築指導事務所長　"]
[null,null,"大島町","東京都知事"]
[null,null,"利島村","東京都知事"]
[null,null,"新島村","東京都知事"]
[null,null,"神津島村","東京都知事"]
[null,null,"三宅島三宅村","東京都知事"]
[null,null,"御蔵島村","東京都知事"]
[null,null,"八丈島八丈町","東京都知事"]
[null,null,"青ヶ島村","東京都知事"]
[null,null,"小笠原村","東京都知事"]

{"sheet":"シート表示区分","index":21,"n_rows":38,"n_cols":32,"rows_kept":38,"hidden":true,"merged":[[0,5,0,6],[0,8,1,8],[0,9,1,9],[0,10,0,11],[0,17,1,17],[0,18,1,18],[0,19,0,22],[0,23,0,28],[0,29,1,29],[0,30,1,30],[0,31,1,31]]}
[{"$f":"IF(報告_1_03建築物_ハ_名称=\"\",\"\",VLOOKUP(E2,D3:P37,13,FALSE))","v":""},{"$f":"IF(M34=\"●\",VLOOKUP(E2,D34:P34,13,FALSE),\"\")","v":""},{"$f":"IF(報告書!AA253+報告書!AL253+報告書!AA255+報告書!AL255+報告書!AA257+報告書!AL257+報告書!AA258=0,\"\",VLOOKUP(E2,D35:P37,13,FALSE))","v":""},null,null,"換気",null,"排煙","非照","水","排煙",null,"水",null,{"$f":"IF(報告_1_03建築物_ハ_名称=\"\",\"\",VLOOKUP(E2,D3:P37,12,FALSE))&IF(報告書!AA253+報告書!AL253+報告書!AA255+報告書!AL255+報告書!AA257+報告書!AL257+報告書!AA258=0,\"\",VLOOKUP(E2,D35:P37,12,FALSE))","v":""},{"$f":"IF(報告_1_03建築物_ハ_名称=\"\",\"\",LEFT(O1,1))","v":""},null,"報告書","建築物\n概要書","検査結果表",{"$nulls":3},"評価表、測定表、記録表",{"$nulls":5},"実施\n状況表","報告\n概要書","関係\n写真"]
[{"$f":"IF(報告_1_03建築物_ハ_名称=\"\",\"\",VLOOKUP(E2,D3:Q37,14,FALSE))","v":""},{"$nulls":3},"○","無窓\n居室","火気","吸引",null,null,"給気","加圧","再利用",{"$nulls":6},"換気","排煙","非照","水","別表1","別表2","別表3","別表3-2","別表3-3","別表4"]
[1,"A","1A",{"$f":"IF(AND(F3=\"●\",G3=\"\",H3=\"\",I3=\"\",J3=\"\"),\"○\",\"\")","v":""},{"$f":"IF(F3=\"●\",\"○\",\"\")","v":""},{"$f":"IF(AND(報告_2_04換検査者代表_ハ_氏名<>\"\",報告書!$AO$170+報告書!$AE$171+報告書!$AO$175+報告書!$AE$176>0),\"●\",\"\")","v":""},{"$f":"IF(AND(報告_2_04換検査者代表_ハ_氏名<>\"\",報告書!$AO$173>0),\"●\",\"\")","v":""},{"$f":"IF(AND(報告_2_08排検査者代表_ハ_氏名<>\"\",報告書!$P$253+報告書!$P$255+報告書!$P$257+報告書!$P$258+報告書!$AA$253+報告書!$AA$255+報告書!$AA$257+報告書!$AA$258+報告書!$AL$253+報告書!$AL$255+報告書!$AL$257>0),\"●\",\"\")","v":""},{"$f":"IF(AND(報告_2_12非検査者代表_ハ_氏名<>\"\",報告書!$P$329+報告書!$Z$329+報告書!$AL$329+報告書!$P$330>0),\"●\",\"\")","v":""},{"$f":"IF(AND(報告_2_16給検査者代表_ハ_氏名<>\"\",報告_1_03建築物_ハ_名称<>\"\"),\"●\",\"\")","v":""},{"$nulls":3},1,"1A","『１A』",{"$f":"COUNTIF(R3:AE3,\"●\")+$Q$35+$Q$36+$Q$37+IF(AND(報告書_全体_要是正の指摘あり=\"レ\",報告書_全体_既存不適格=\"\"),1,0)","v":6},"●","●","●",{"$nulls":3},"●",{"$nulls":5},"●","●","▲"]
[1,"B","1B",{"$f":"IF(AND(F4=\"\",G4=\"●\",H4=\"\",I4=\"\",J4=\"\"),\"○\",\"\")","v":""},{"$f":"IF(G4=\"●\",\"○\",\"\")","v":""},{"$f":"IF(AND(報告_2_04換検査者代表_ハ_氏名<>\"\",報告書!$AO$170+報告書!$AE$171+報告書!$AO$175+報告書!$AE$176>0),\"●\",\"\")","v":""},{"$f":"IF(AND(報告_2_04換検査者代表_ハ_氏名<>\"\",報告書!$AO$173>0),\"●\",\"\")","v":""},{"$f":"IF(AND(報告_2_08排検査者代表_ハ_氏名<>\"\",報告書!$P$253+報告書!$P$255+報告書!$P$257+報告書!$P$258+報告書!$AA$253+報告書!$AA$255+報告書!$AA$257+報告書!$AA$258+報告書!$AL$253+報告書!$AL$255+報告書!$AL$257>0),\"●\",\"\")","v":""},{"$f":"IF(AND(報告_2_12非検査者代表_ハ_氏名<>\"\",報告書!$P$329+報告書!$Z$329+報告書!$AL$329+報告書!$P$330>0),\"●\",\"\")","v":""},"",{"$nulls":3},2,"1B","『１B』",{"$f":"COUNTIF(R4:AE4,\"●\")+$Q$35+$Q$36+$Q$37+IF(AND(報告書_全体_要是正の指摘あり=\"レ\",報告書_全体_既存不適格=\"\"),1,0)","v":5},"●","●","●",{"$nulls":4},"●",{"$nulls":5},"●","▲"]
[1,"C","1C",{"$f":"IF(AND(F5=\"●\",G5=\"●\",H5=\"\",I5=\"\",J5=\"\"),\"○\",\"\")","v":""},{"$f":"IF(AND(F5=\"●\",G5=\"●\"),\"○\",\"\")","v":""},{"$f":"IF(AND(報告_2_04換検査者代表_ハ_氏名<>\"\",報告書!$AO$170+報告書!$AE$171+報告書!$AO$175+報告書!$AE$176>0),\"●\",\"\")","v":""},{"$f":"IF(AND(報告_2_04換検査者代表_ハ_氏名<>\"\",報告書!$AO$173>0),\"●\",\"\")","v":""},{"$f":"IF(AND(報告_2_08排検査者代表_ハ_氏名<>\"\",報告書!$P$253+報告書!$P$255+報告書!$P$257+報告書!$P$258+報告書!$AA$253+報告書!$AA$255+報告書!$AA$257+報告書!$AA$258+報告書!$AL$253+報告書!$AL$255+報告書!$AL$257>0),\"●\",\"\")","v":""},{"$f":"IF(AND(報告_2_12非検査者代表_ハ_氏名<>\"\",報告書!$P$329+報告書!$Z$329+報告書!$AL$329+報告書!$P$330>0),\"●\",\"\")","v":""},"",{"$nulls":3},3,"1C","『１C』",{"$f":"COUNTIF(R5:AE5,\"●\")+$Q$35+$Q$36+$Q$37+IF(AND(報告書_全体_要是正の指摘あり=\"レ\",報告書_全体_既存不適格=\"\"),1,0)","v":7},"●","●","●",{"$nulls":3},"●","●",{"$nulls":4},"●","●","▲"]
[1,"D","1D",{"$f":"IF(AND(F6=\"\",G6=\"\",H6=\"●\",I6=\"\",J6=\"\"),\"○\",\"\")","v":""},{"$f":"IF(H6=\"●\",\"○\",\"\")","v":""},{"$f":"IF(AND(報告_2_04換検査者代表_ハ_氏名<>\"\",報告書!$AO$170+報告書!$AE$171+報告書!$AO$175+報告書!$AE$176>0),\"●\",\"\")","v":""},{"$f":"IF(AND(報告_2_04換検査者代表_ハ_氏名<>\"\",報告書!$AO$173>0),\"●\",\"\")","v":""},{"$f":"IF(AND(報告_2_08排検査者代表_ハ_氏名<>\"\",報告書!$P$253+報告書!$P$255+報告書!$P$257+報告書!$P$258+報告書!$AA$253+報告書!$AA$255+報告書!$AA$257+報告書!$AA$258+報告書!$AL$253+報告書!$AL$255+報告書!$AL$257>0),\"●\",\"\")","v":""},{"$f":"IF(AND(報告_2_12非検査者代表_ハ_氏名<>\"\",報告書!$P$329+報告書!$Z$329+報告書!$AL$329+報告書!$P$330>0),\"●\",\"\")","v":""},"",{"$nulls":3},4,"1D","『１D』",{"$f":"COUNTIF(R6:AE6,\"●\")+$Q$35+$Q$36+$Q$37+IF(AND(報告書_全体_要是正の指摘あり=\"レ\",報告書_全体_既存不適格=\"\"),1,0)","v":6},"●","●",null,"●",{"$nulls":4},"●",{"$nulls":3},"●","●","▲"]
[1,"E","1E",{"$f":"IF(AND(F7=\"\",G7=\"\",H7=\"\",I7=\"●\",J7=\"\"),\"○\",\"\")","v":""},{"$f":"IF(I7=\"●\",\"○\",\"\")","v":""},{"$f":"IF(AND(報告_2_04換検査者代表_ハ_氏名<>\"\",報告書!$AO$170+報告書!$AE$171+報告書!$AO$175+報告書!$AE$176>0),\"●\",\"\")","v":""},{"$f":"IF(AND(報告_2_04換検査者代表_ハ_氏名<>\"\",報告書!$AO$173>0),\"●\",\"\")","v":""},{"$f":"IF(AND(報告_2_08排検査者代表_ハ_氏名<>\"\",報告書!$P$253+報告書!$P$255+報告書!$P$257+報告書!$P$258+報告書!$AA$253+報告書!$AA$255+報告書!$AA$257+報告書!$AA$258+報告書!$AL$253+報告書!$AL$255+報告書!$AL$257>0),\"●\",\"\")","v":""},{"$f":"IF(AND(報告_2_12非検査者代表_ハ_氏名<>\"\",報告書!$P$329+報告書!$Z$329+報告書!$AL$329+報告書!$P$330>0),\"●\",\"\")","v":""},"",{"$nulls":3},5,"1E","『１E』",{"$f":"COUNTIF(R7:AE7,\"●\")+$Q$35+$Q$36+$Q$37+IF(AND(報告書_全体_要是正の指摘あり=\"レ\",報告書_全体_既存不適格=\"\"),1,0)","v":5},"●","●",null,null,"●",{"$nulls":6},"●",null,"●","▲"]
[1,"F","1F",{"$f":"IF(AND(F8=\"\",G8=\"\",H8=\"\",I8=\"\",J8=\"●\"),\"○\",\"\")","v":""},{"$f":"IF(J8=\"●\",\"○\",\"\")","v":""},{"$f":"IF(AND(報告_2_04換検査者代表_ハ_氏名<>\"\",報告書!$AO$170+報告書!$AE$171+報告書!$AO$175+報告書!$AE$176>0),\"●\",\"\")","v":""},{"$f":"IF(AND(報告_2_04換検査者代表_ハ_氏名<>\"\",報告書!$AO$173>0),\"●\",\"\")","v":""},{"$f":"IF(AND(報告_2_08排検査者代表_ハ_氏名<>\"\",報告書!$P$253+報告書!$P$255+報告書!$P$257+報告書!$P$258+報告書!$AA$253+報告書!$AA$255+報告書!$AA$257+報告書!$AA$258+報告書!$AL$253+報告書!$AL$255+報告書!$AL$257>0),\"●\",\"\")","v":""},{"$f":"IF(AND(報告_2_12非検査者代表_ハ_氏名<>\"\",報告書!$P$329+報告書!$Z$329+報告書!$AL$329+報告書!$P$330>0),\"●\",\"\")","v":""},"",{"$nulls":3},6,"1F","『１F』",{"$f":"COUNTIF(R8:AE8,\"●\")+$Q$35+$Q$36+$Q$37+Q34+IF(AND(報告書_全体_要是正の指摘あり=\"レ\",報告書_全体_既存不適格=\"\"),1,0)","v":4},"●","●",{"$nulls":3},"●",{"$nulls":7},"●","▲"]
[2,"A","2A",{"$f":"IF(AND(F9=\"●\",G9=\"\",H9=\"●\",I9=\"\",J9=\"\"),\"○\",\"\")","v":""},{"$f":"IF(AND(F9=\"●\",H9=\"●\"),\"○\",\"\")","v":""},{"$f":"IF(AND(報告_2_04換検査者代表_ハ_氏名<>\"\",報告書!$AO$170+報告書!$AE$171+報告書!$AO$175+報告書!$AE$176>0),\"●\",\"\")","v":""},{"$f":"IF(AND(報告_2_04換検査者代表_ハ_氏名<>\"\",報告書!$AO$173>0),\"●\",\"\")","v":""},{"$f":"IF(AND(報告_2_08排検査者代表_ハ_氏名<>\"\",報告書!$P$253+報告書!$P$255+報告書!$P$257+報告書!$P$258+報告書!$AA$253+報告書!$AA$255+報告書!$AA$257+報告書!$AA$258+報告書!$AL$253+報告書!$AL$255+報告書!$AL$257>0),\"●\",\"\")","v":""},{"$f":"IF(AND(報告_2_12非検査者代表_ハ_氏名<>\"\",報告書!$P$329+報告書!$Z$329+報告書!$AL$329+報告書!$P$330>0),\"●\",\"\")","v":""},"",{"$nulls":3},7,"2A","『２A』",{"$f":"COUNTIF(R9:AE9,\"●\")+$Q$35+$Q$36+$Q$37+IF(AND(報告書_全体_要是正の指摘あり=\"レ\",報告書_全体_既存不適格=\"\"),1,0)","v":8},"●","●","●","●",null,null,"●",null,"●",{"$nulls":3},"●","●","▲"]
[2,"B","2B",{"$f":"IF(AND(F10=\"\",G10=\"●\",H10=\"●\",I10=\"\",J10=\"\"),\"○\",\"\")","v":""},{"$f":"IF(AND(G10=\"●\",H10=\"●\"),\"○\",\"\")","v":""},{"$f":"IF(AND(報告_2_04換検査者代表_ハ_氏名<>\"\",報告書!$AO$170+報告書!$AE$171+報告書!$AO$175+報告書!$AE$176>0),\"●\",\"\")","v":""},{"$f":"IF(AND(報告_2_04換検査者代表_ハ_氏名<>\"\",報告書!$AO$173>0),\"●\",\"\")","v":""},{"$f":"IF(AND(報告_2_08排検査者代表_ハ_氏名<>\"\",報告書!$P$253+報告書!$P$255+報告書!$P$257+報告書!$P$258+報告書!$AA$253+報告書!$AA$255+報告書!$AA$257+報告書!$AA$258+報告書!$AL$253+報告書!$AL$255+報告書!$AL$257>0),\"●\",\"\")","v":""},{"$f":"IF(AND(報告_2_12非検査者代表_ハ_氏名<>\"\",報告書!$P$329+報告書!$Z$329+報告書!$AL$329+報告書!$P$330>0),\"●\",\"\")","v":""},"",{"$nulls":3},8,"2B","『２B』",8,"●","●","●","●",{"$nulls":3},"●","●",{"$nulls":3},"●","●","▲"]
[2,"C","2C",{"$f":"IF(AND(F11=\"●\",G11=\"●\",H11=\"●\",I11=\"\",J11=\"\"),\"○\",\"\")","v":""},{"$f":"IF(AND(F11=\"●\",G11=\"●\",H11=\"●\"),\"○\",\"\")","v":""},{"$f":"IF(AND(報告_2_04換検査者代表_ハ_氏名<>\"\",報告書!$AO$170+報告書!$AE$171+報告書!$AO$175+報告書!$AE$176>0),\"●\",\"\")","v":""},{"$f":"IF(AND(報告_2_04換検査者代表_ハ_氏名<>\"\",報告書!$AO$173>0),\"●\",\"\")","v":""},{"$f":"IF(AND(報告_2_08排検査者代表_ハ_氏名<>\"\",報告書!$P$253+報告書!$P$255+報告書!$P$257+報告書!$P$258+報告書!$AA$253+報告書!$AA$255+報告書!$AA$257+報告書!$AA$258+報告書!$AL$253+報告書!$AL$255+報告書!$AL$257>0),\"●\",\"\")","v":""},{"$f":"IF(AND(報告_2_12非検査者代表_ハ_氏名<>\"\",報告書!$P$329+報告書!$Z$329+報告書!$AL$329+報告書!$P$330>0),\"●\",\"\")","v":""},"",{"$nulls":3},9,"2C","『２C』",9,"●","●","●","●",null,null,"●","●","●",{"$nulls":3},"●","●","▲"]
[2,"D","2D",{"$f":"IF(AND(F12=\"●\",G12=\"\",H12=\"\",I12=\"●\",J12=\"\"),\"○\",\"\")","v":""},{"$f":"IF(AND(F12=\"●\",I12=\"●\"),\"○\",\"\")","v":""},{"$f":"IF(AND(報告_2_04換検査者代表_ハ_氏名<>\"\",報告書!$AO$170+報告書!$AE$171+報告書!$AO$175+報告書!$AE$176>0),\"●\",\"\")","v":""},{"$f":"IF(AND(報告_2_04換検査者代表_ハ_氏名<>\"\",報告書!$AO$173>0),\"●\",\"\")","v":""},{"$f":"IF(AND(報告_2_08排検査者代表_ハ_氏名<>\"\",報告書!$P$253+報告書!$P$255+報告書!$P$257+報告書!$P$258+報告書!$AA$253+報告書!$AA$255+報告書!$AA$257+報告書!$AA$258+報告書!$AL$253+報告書!$AL$255+報告書!$AL$257>0),\"●\",\"\")","v":""},{"$f":"IF(AND(報告_2_12非検査者代表_ハ_氏名<>\"\",報告書!$P$329+報告書!$Z$329+報告書!$AL$329+報告書!$P$330>0),\"●\",\"\")","v":""},"",{"$nulls":3},10,"2D","『２D』",8,"●","●","●",null,"●",null,"●",{"$nulls":4},"●","●","●","▲"]
[2,"E","2E",{"$f":"IF(AND(F13=\"\",G13=\"●\",H13=\"\",I13=\"●\",J13=\"\"),\"○\",\"\")","v":""},{"$f":"IF(AND(G13=\"●\",I13=\"●\"),\"○\",\"\")","v":""},{"$f":"IF(AND(報告_2_04換検査者代表_ハ_氏名<>\"\",報告書!$AO$170+報告書!$AE$171+報告書!$AO$175+報告書!$AE$176>0),\"●\",\"\")","v":""},{"$f":"IF(AND(報告_2_04換検査者代表_ハ_氏名<>\"\",報告書!$AO$173>0),\"●\",\"\")","v":""},{"$f":"IF(AND(報告_2_08排検査者代表_ハ_氏名<>\"\",報告書!$P$253+報告書!$P$255+報告書!$P$257+報告書!$P$258+報告書!$AA$253+報告書!$AA$255+報告書!$AA$257+報告書!$AA$258+報告書!$AL$253+報告書!$AL$255+報告書!$AL$257>0),\"●\",\"\")","v":""},{"$f":"IF(AND(報告_2_12非検査者代表_ハ_氏名<>\"\",報告書!$P$329+報告書!$Z$329+報告書!$AL$329+報告書!$P$330>0),\"●\",\"\")","v":""},"",{"$nulls":3},11,"2E","『２E』",7,"●","●","●",null,"●",null,null,"●",{"$nulls":3},"●",null,"●","▲"]
[2,"F","2F",{"$f":"IF(AND(F14=\"●\",G14=\"●\",H14=\"\",I14=\"●\",J14=\"\"),\"○\",\"\")","v":""},{"$f":"IF(AND(F14=\"●\",G14=\"●\",I14=\"●\"),\"○\",\"\")","v":""},{"$f":"IF(AND(報告_2_04換検査者代表_ハ_氏名<>\"\",報告書!$AO$170+報告書!$AE$171+報告書!$AO$175+報告書!$AE$176>0),\"●\",\"\")","v":""},{"$f":"IF(AND(報告_2_04換検査者代表_ハ_氏名<>\"\",報告書!$AO$173>0),\"●\",\"\")","v":""},{"$f":"IF(AND(報告_2_08排検査者代表_ハ_氏名<>\"\",報告書!$P$253+報告書!$P$255+報告書!$P$257+報告書!$P$258+報告書!$AA$253+報告書!$AA$255+報告書!$AA$257+報告書!$AA$258+報告書!$AL$253+報告書!$AL$255+報告書!$AL$257>0),\"●\",\"\")","v":""},{"$f":"IF(AND(報告_2_12非検査者代表_ハ_氏名<>\"\",報告書!$P$329+報告書!$Z$329+報告書!$AL$329+報告書!$P$330>0),\"●\",\"\")","v":""},"",{"$nulls":3},12,"2F","『２F』",9,"●","●","●",null,"●",null,"●","●",{"$nulls":3},"●","●","●","▲"]
[2,"G","2G",{"$f":"IF(AND(F15=\"●\",G15=\"\",H15=\"\",I15=\"\",J15=\"●\"),\"○\",\"\")","v":""},{"$f":"IF(AND(F15=\"●\",J15=\"●\"),\"○\",\"\")","v":""},{"$f":"IF(AND(報告_2_04換検査者代表_ハ_氏名<>\"\",報告書!$AO$170+報告書!$AE$171+報告書!$AO$175+報告書!$AE$176>0),\"●\",\"\")","v":""},{"$f":"IF(AND(報告_2_04換検査者代表_ハ_氏名<>\"\",報告書!$AO$173>0),\"●\",\"\")","v":""},{"$f":"IF(AND(報告_2_08排検査者代表_ハ_氏名<>\"\",報告書!$P$253+報告書!$P$255+報告書!$P$257+報告書!$P$258+報告書!$AA$253+報告書!$AA$255+報告書!$AA$257+報告書!$AA$258+報告書!$AL$253+報告書!$AL$255+報告書!$AL$257>0),\"●\",\"\")","v":""},{"$f":"IF(AND(報告_2_12非検査者代表_ハ_氏名<>\"\",報告書!$P$329+報告書!$Z$329+報告書!$AL$329+報告書!$P$330>0),\"●\",\"\")","v":""},"",{"$nulls":3},13,"2G","『２G』",7,"●","●","●",null,null,"●","●",{"$nulls":5},"●","●","▲"]
[2,"H","2H",{"$f":"IF(AND(F16=\"\",G16=\"●\",H16=\"\",I16=\"\",J16=\"●\"),\"○\",\"\")","v":""},{"$f":"IF(AND(G16=\"●\",J16=\"●\"),\"○\",\"\")","v":""},{"$f":"IF(AND(報告_2_04換検査者代表_ハ_氏名<>\"\",報告書!$AO$170+報告書!$AE$171+報告書!$AO$175+報告書!$AE$176>0),\"●\",\"\")","v":""},{"$f":"IF(AND(報告_2_04換検査者代表_ハ_氏名<>\"\",報告書!$AO$173>0),\"●\",\"\")","v":""},{"$f":"IF(AND(報告_2_08排検査者代表_ハ_氏名<>\"\",報告書!$P$253+報告書!$P$255+報告書!$P$257+報告書!$P$258+報告書!$AA$253+報告書!$AA$255+報告書!$AA$257+報告書!$AA$258+報告書!$AL$253+報告書!$AL$255+報告書!$AL$257>0),\"●\",\"\")","v":""},{"$f":"IF(AND(報告_2_12非検査者代表_ハ_氏名<>\"\",報告書!$P$329+報告書!$Z$329+報告書!$AL$329+報告書!$P$330>0),\"●\",\"\")","v":""},"",{"$nulls":3},14,"2H","『２H』",{"$f":"COUNTIF(R16:AE16,\"●\")+$Q$35+$Q$36+$Q$37+Q34+IF(AND(報告書_全体_要是正の指摘あり=\"レ\",報告書_全体_既存不適格=\"\"),1,0)","v":6},"●","●","●",null,null,"●",null,"●",{"$nulls":5},"●","▲"]
[2,"I","2I",{"$f":"IF(AND(F17=\"●\",G17=\"●\",H17=\"\",I17=\"\",J17=\"●\"),\"○\",\"\")","v":""},{"$f":"IF(AND(F17=\"●\",G17=\"●\",J17=\"●\"),\"○\",\"\")","v":""},{"$f":"IF(AND(報告_2_04換検査者代表_ハ_氏名<>\"\",報告書!$AO$170+報告書!$AE$171+報告書!$AO$175+報告書!$AE$176>0),\"●\",\"\")","v":""},{"$f":"IF(AND(報告_2_04換検査者代表_ハ_氏名<>\"\",報告書!$AO$173>0),\"●\",\"\")","v":""},{"$f":"IF(AND(報告_2_08排検査者代表_ハ_氏名<>\"\",報告書!$P$253+報告書!$P$255+報告書!$P$257+報告書!$P$258+報告書!$AA$253+報告書!$AA$255+報告書!$AA$257+報告書!$AA$258+報告書!$AL$253+報告書!$AL$255+報告書!$AL$257>0),\"●\",\"\")","v":""},{"$f":"IF(AND(報告_2_12非検査者代表_ハ_氏名<>\"\",報告書!$P$329+報告書!$Z$329+報告書!$AL$329+報告書!$P$330>0),\"●\",\"\")","v":""},"",{"$nulls":3},15,"2I","『２I』",{"$f":"COUNTIF(R17:AE17,\"●\")+$Q$35+$Q$36+$Q$37+IF(AND(報告書_全体_要是正の指摘あり=\"レ\",報告書_全体_既存不適格=\"\"),1,0)","v":8},"●","●","●",null,null,"●","●","●",{"$nulls":4},"●","●","▲"]
[2,"J","2J",{"$f":"IF(AND(F18=\"\",G18=\"\",H18=\"●\",I18=\"●\",J18=\"\"),\"○\",\"\")","v":""},{"$f":"IF(AND(H18=\"●\",I18=\"●\"),\"○\",\"\")","v":""},{"$f":"IF(AND(報告_2_04換検査者代表_ハ_氏名<>\"\",報告書!$AO$170+報告書!$AE$171+報告書!$AO$175+報告書!$AE$176>0),\"●\",\"\")","v":""},{"$f":"IF(AND(報告_2_04換検査者代表_ハ_氏名<>\"\",報告書!$AO$173>0),\"●\",\"\")","v":""},{"$f":"IF(AND(報告_2_08排検査者代表_ハ_氏名<>\"\",報告書!$P$253+報告書!$P$255+報告書!$P$257+報告書!$P$258+報告書!$AA$253+報告書!$AA$255+報告書!$AA$257+報告書!$AA$258+報告書!$AL$253+報告書!$AL$255+報告書!$AL$257>0),\"●\",\"\")","v":""},{"$f":"IF(AND(報告_2_12非検査者代表_ハ_氏名<>\"\",報告書!$P$329+報告書!$Z$329+報告書!$AL$329+報告書!$P$330>0),\"●\",\"\")","v":""},"",{"$nulls":3},16,"2J","『２J』",{"$f":"COUNTIF(R18:AE18,\"●\")+$Q$35+$Q$36+$Q$37+IF(AND(報告書_全体_要是正の指摘あり=\"レ\",報告書_全体_既存不適格=\"\"),1,0)","v":8},"●","●",null,"●","●",{"$nulls":3},"●",null,null,"●","●","●","▲"]
[2,"K","2K",{"$f":"IF(AND(F19=\"\",G19=\"\",H19=\"●\",I19=\"\",J19=\"●\"),\"○\",\"\")","v":""},{"$f":"IF(AND(H19=\"●\",J19=\"●\"),\"○\",\"\")","v":""},{"$f":"IF(AND(報告_2_04換検査者代表_ハ_氏名<>\"\",報告書!$AO$170+報告書!$AE$171+報告書!$AO$175+報告書!$AE$176>0),\"●\",\"\")","v":""},{"$f":"IF(AND(報告_2_04換検査者代表_ハ_氏名<>\"\",報告書!$AO$173>0),\"●\",\"\")","v":""},{"$f":"IF(AND(報告_2_08排検査者代表_ハ_氏名<>\"\",報告書!$P$253+報告書!$P$255+報告書!$P$257+報告書!$P$258+報告書!$AA$253+報告書!$AA$255+報告書!$AA$257+報告書!$AA$258+報告書!$AL$253+報告書!$AL$255+報告書!$AL$257>0),\"●\",\"\")","v":""},{"$f":"IF(AND(報告_2_12非検査者代表_ハ_氏名<>\"\",報告書!$P$329+報告書!$Z$329+報告書!$AL$329+報告書!$P$330>0),\"●\",\"\")","v":""},"",{"$nulls":3},17,"2K","『２K』",{"$f":"COUNTIF(R19:AE19,\"●\")+$Q$35+$Q$36+$Q$37+IF(AND(報告書_全体_要是正の指摘あり=\"レ\",報告書_全体_既存不適格=\"\"),1,0)","v":7},"●","●",null,"●",null,"●",null,null,"●",{"$nulls":3},"●","●","▲"]
[2,"L","2L",{"$f":"IF(AND(F20=\"\",G20=\"\",H20=\"\",I20=\"●\",J20=\"●\"),\"○\",\"\")","v":""},{"$f":"IF(AND(I20=\"●\",J20=\"●\"),\"○\",\"\")","v":""},{"$f":"IF(AND(報告_2_04換検査者代表_ハ_氏名<>\"\",報告書!$AO$170+報告書!$AE$171+報告書!$AO$175+報告書!$AE$176>0),\"●\",\"\")","v":""},{"$f":"IF(AND(報告_2_04換検査者代表_ハ_氏名<>\"\",報告書!$AO$173>0),\"●\",\"\")","v":""},{"$f":"IF(AND(報告_2_08排検査者代表_ハ_氏名<>\"\",報告書!$P$253+報告書!$P$255+報告書!$P$257+報告書!$P$258+報告書!$AA$253+報告書!$AA$255+報告書!$AA$257+報告書!$AA$258+報告書!$AL$253+報告書!$AL$255+報告書!$AL$257>0),\"●\",\"\")","v":""},{"$f":"IF(AND(報告_2_12非検査者代表_ハ_氏名<>\"\",報告書!$P$329+報告書!$Z$329+報告書!$AL$329+報告書!$P$330>0),\"●\",\"\")","v":""},"",{"$nulls":3},18,"2L","『２L』",{"$f":"COUNTIF(R20:AE20,\"●\")+$Q$34+$Q$35+$Q$36+$Q$37+IF(AND(報告書_全体_要是正の指摘あり=\"レ\",報告書_全体_既存不適格=\"\"),1,0)","v":6},"●","●",null,null,"●","●",{"$nulls":5},"●",null,"●","▲"]
[3,"A","3A",{"$f":"IF(AND(F21=\"●\",G21=\"\",H21=\"●\",I21=\"●\",J21=\"\"),\"○\",\"\")","v":""},{"$f":"IF(AND(F21=\"●\",H21=\"●\",I21=\"●\"),\"○\",\"\")","v":""},{"$f":"IF(AND(報告_2_04換検査者代表_ハ_氏名<>\"\",報告書!$AO$170+報告書!$AE$171+報告書!$AO$175+報告書!$AE$176>0),\"●\",\"\")","v":""},{"$f":"IF(AND(報告_2_04換検査者代表_ハ_氏名<>\"\",報告書!$AO$173>0),\"●\",\"\")","v":""},{"$f":"IF(AND(報告_2_08排検査者代表_ハ_氏名<>\"\",報告書!$P$253+報告書!$P$255+報告書!$P$257+報告書!$P$258+報告書!$AA$253+報告書!$AA$255+報告書!$AA$257+報告書!$AA$258+報告書!$AL$253+報告書!$AL$255+報告書!$AL$257>0),\"●\",\"\")","v":""},{"$f":"IF(AND(報告_2_12非検査者代表_ハ_氏名<>\"\",報告書!$P$329+報告書!$Z$329+報告書!$AL$329+報告書!$P$330>0),\"●\",\"\")","v":""},"",{"$nulls":3},19,"3A","『３A』",{"$f":"COUNTIF(R21:AE21,\"●\")+$Q$35+$Q$36+$Q$37+IF(AND(報告書_全体_要是正の指摘あり=\"レ\",報告書_全体_既存不適格=\"\"),1,0)","v":10},"●","●","●","●","●",null,"●",null,"●",null,null,"●","●","●","▲"]
[3,"B","3B",{"$f":"IF(AND(F22=\"\",G22=\"●\",H22=\"●\",I22=\"●\",J22=\"\"),\"○\",\"\")","v":""},{"$f":"IF(AND(G22=\"●\",H22=\"●\",I22=\"●\"),\"○\",\"\")","v":""},{"$f":"IF(AND(報告_2_04換検査者代表_ハ_氏名<>\"\",報告書!$AO$170+報告書!$AE$171+報告書!$AO$175+報告書!$AE$176>0),\"●\",\"\")","v":""},{"$f":"IF(AND(報告_2_04換検査者代表_ハ_氏名<>\"\",報告書!$AO$173>0),\"●\",\"\")","v":""},{"$f":"IF(AND(報告_2_08排検査者代表_ハ_氏名<>\"\",報告書!$P$253+報告書!$P$255+報告書!$P$257+報告書!$P$258+報告書!$AA$253+報告書!$AA$255+報告書!$AA$257+報告書!$AA$258+報告書!$AL$253+報告書!$AL$255+報告書!$AL$257>0),\"●\",\"\")","v":""},{"$f":"IF(AND(報告_2_12非検査者代表_ハ_氏名<>\"\",報告書!$P$329+報告書!$Z$329+報告書!$AL$329+報告書!$P$330>0),\"●\",\"\")","v":""},"",{"$nulls":3},20,"3B","『３B』",10,"●","●","●","●","●",null,null,"●","●",null,null,"●","●","●","▲"]
[3,"C","3C",{"$f":"IF(AND(F23=\"●\",G23=\"●\",H23=\"●\",I23=\"●\",J23=\"\"),\"○\",\"\")","v":""},{"$f":"IF(AND(F23=\"●\",G23=\"●\",H23=\"●\",I23=\"●\"),\"○\",\"\")","v":""},{"$f":"IF(AND(報告_2_04換検査者代表_ハ_氏名<>\"\",報告書!$AO$170+報告書!$AE$171+報告書!$AO$175+報告書!$AE$176>0),\"●\",\"\")","v":""},{"$f":"IF(AND(報告_2_04換検査者代表_ハ_氏名<>\"\",報告書!$AO$173>0),\"●\",\"\")","v":""},{"$f":"IF(AND(報告_2_08排検査者代表_ハ_氏名<>\"\",報告書!$P$253+報告書!$P$255+報告書!$P$257+報告書!$P$258+報告書!$AA$253+報告書!$AA$255+報告書!$AA$257+報告書!$AA$258+報告書!$AL$253+報告書!$AL$255+報告書!$AL$257>0),\"●\",\"\")","v":""},{"$f":"IF(AND(報告_2_12非検査者代表_ハ_氏名<>\"\",報告書!$P$329+報告書!$Z$329+報告書!$AL$329+報告書!$P$330>0),\"●\",\"\")","v":""},"",{"$nulls":3},21,"3C","『３C』",11,"●","●","●","●","●",null,"●","●","●",null,null,"●","●","●","▲"]
[3,"D","3D",{"$f":"IF(AND(F24=\"●\",G24=\"\",H24=\"●\",I24=\"\",J24=\"●\"),\"○\",\"\")","v":""},{"$f":"IF(AND(F24=\"●\",H24=\"●\",J24=\"●\"),\"○\",\"\")","v":""},{"$f":"IF(AND(報告_2_04換検査者代表_ハ_氏名<>\"\",報告書!$AO$170+報告書!$AE$171+報告書!$AO$175+報告書!$AE$176>0),\"●\",\"\")","v":""},{"$f":"IF(AND(報告_2_04換検査者代表_ハ_氏名<>\"\",報告書!$AO$173>0),\"●\",\"\")","v":""},{"$f":"IF(AND(報告_2_08排検査者代表_ハ_氏名<>\"\",報告書!$P$253+報告書!$P$255+報告書!$P$257+報告書!$P$258+報告書!$AA$253+報告書!$AA$255+報告書!$AA$257+報告書!$AA$258+報告書!$AL$253+報告書!$AL$255+報告書!$AL$257>0),\"●\",\"\")","v":""},{"$f":"IF(AND(報告_2_12非検査者代表_ハ_氏名<>\"\",報告書!$P$329+報告書!$Z$329+報告書!$AL$329+報告書!$P$330>0),\"●\",\"\")","v":""},{"$f":"IF(AND(報告_2_16給検査者代表_ハ_氏名<>\"\",報告_1_03建築物_ハ_名称<>\"\"),\"●\",\"\")","v":""},{"$nulls":3},22,"3D","『３D』",9,"●","●","●","●",null,"●","●",null,"●",{"$nulls":3},"●","●","▲"]
[3,"E","3E",{"$f":"IF(AND(F25=\"\",G25=\"●\",H25=\"●\",I25=\"\",J25=\"●\"),\"○\",\"\")","v":""},{"$f":"IF(AND(G25=\"●\",H25=\"●\",J25=\"●\"),\"○\",\"\")","v":""},{"$f":"IF(AND(報告_2_04換検査者代表_ハ_氏名<>\"\",報告書!$AO$170+報告書!$AE$171+報告書!$AO$175+報告書!$AE$176>0),\"●\",\"\")","v":""},{"$f":"IF(AND(報告_2_04換検査者代表_ハ_氏名<>\"\",報告書!$AO$173>0),\"●\",\"\")","v":""},{"$f":"IF(AND(報告_2_08排検査者代表_ハ_氏名<>\"\",報告書!$P$253+報告書!$P$255+報告書!$P$257+報告書!$P$258+報告書!$AA$253+報告書!$AA$255+報告書!$AA$257+報告書!$AA$258+報告書!$AL$253+報告書!$AL$255+報告書!$AL$257>0),\"●\",\"\")","v":""},{"$f":"IF(AND(報告_2_12非検査者代表_ハ_氏名<>\"\",報告書!$P$329+報告書!$Z$329+報告書!$AL$329+報告書!$P$330>0),\"●\",\"\")","v":""},"",{"$nulls":3},23,"3E","『３E』",9,"●","●","●","●",null,"●",null,"●","●",{"$nulls":3},"●","●","▲"]
[3,"F","3F",{"$f":"IF(AND(F26=\"●\",G26=\"●\",H26=\"●\",I26=\"\",J26=\"●\"),\"○\",\"\")","v":""},{"$f":"IF(AND(F26=\"●\",G26=\"●\",H26=\"●\",J26=\"●\"),\"○\",\"\")","v":""},{"$f":"IF(AND(報告_2_04換検査者代表_ハ_氏名<>\"\",報告書!$AO$170+報告書!$AE$171+報告書!$AO$175+報告書!$AE$176>0),\"●\",\"\")","v":""},{"$f":"IF(AND(報告_2_04換検査者代表_ハ_氏名<>\"\",報告書!$AO$173>0),\"●\",\"\")","v":""},{"$f":"IF(AND(報告_2_08排検査者代表_ハ_氏名<>\"\",報告書!$P$253+報告書!$P$255+報告書!$P$257+報告書!$P$258+報告書!$AA$253+報告書!$AA$255+報告書!$AA$257+報告書!$AA$258+報告書!$AL$253+報告書!$AL$255+報告書!$AL$257>0),\"●\",\"\")","v":""},{"$f":"IF(AND(報告_2_12非検査者代表_ハ_氏名<>\"\",報告書!$P$329+報告書!$Z$329+報告書!$AL$329+報告書!$P$330>0),\"●\",\"\")","v":""},"",{"$nulls":3},24,"3F","『３F』",10,"●","●","●","●",null,"●","●","●","●",{"$nulls":3},"●","●","▲"]
[3,"G","3G",{"$f":"IF(AND(F27=\"●\",G27=\"\",H27=\"\",I27=\"●\",J27=\"●\"),\"○\",\"\")","v":""},{"$f":"IF(AND(F27=\"●\",I27=\"●\",J27=\"●\"),\"○\",\"\")","v":""},{"$f":"IF(AND(報告_2_04換検査者代表_ハ_氏名<>\"\",報告書!$AO$170+報告書!$AE$171+報告書!$AO$175+報告書!$AE$176>0),\"●\",\"\")","v":""},{"$f":"IF(AND(報告_2_04換検査者代表_ハ_氏名<>\"\",報告書!$AO$173>0),\"●\",\"\")","v":""},{"$f":"IF(AND(報告_2_08排検査者代表_ハ_氏名<>\"\",報告書!$P$253+報告書!$P$255+報告書!$P$257+報告書!$P$258+報告書!$AA$253+報告書!$AA$255+報告書!$AA$257+報告書!$AA$258+報告書!$AL$253+報告書!$AL$255+報告書!$AL$257>0),\"●\",\"\")","v":""},{"$f":"IF(AND(報告_2_12非検査者代表_ハ_氏名<>\"\",報告書!$P$329+報告書!$Z$329+報告書!$AL$329+報告書!$P$330>0),\"●\",\"\")","v":""},"",{"$nulls":3},25,"3G","『３G』",9,"●","●","●",null,"●","●","●",{"$nulls":4},"●","●","●","▲"]
[3,"H","3H",{"$f":"IF(AND(F28=\"\",G28=\"●\",H28=\"\",I28=\"●\",J28=\"●\"),\"○\",\"\")","v":""},{"$f":"IF(AND(G28=\"●\",I28=\"●\",J28=\"●\"),\"○\",\"\")","v":""},{"$f":"IF(AND(報告_2_04換検査者代表_ハ_氏名<>\"\",報告書!$AO$170+報告書!$AE$171+報告書!$AO$175+報告書!$AE$176>0),\"●\",\"\")","v":""},{"$f":"IF(AND(報告_2_04換検査者代表_ハ_氏名<>\"\",報告書!$AO$173>0),\"●\",\"\")","v":""},{"$f":"IF(AND(報告_2_08排検査者代表_ハ_氏名<>\"\",報告書!$P$253+報告書!$P$255+報告書!$P$257+報告書!$P$258+報告書!$AA$253+報告書!$AA$255+報告書!$AA$257+報告書!$AA$258+報告書!$AL$253+報告書!$AL$255+報告書!$AL$257>0),\"●\",\"\")","v":""},{"$f":"IF(AND(報告_2_12非検査者代表_ハ_氏名<>\"\",報告書!$P$329+報告書!$Z$329+報告書!$AL$329+報告書!$P$330>0),\"●\",\"\")","v":""},"",{"$nulls":3},26,"3H","『３H』",{"$f":"COUNTIF(R28:AE28,\"●\")+$Q$34+$Q$35+$Q$36+$Q$37+IF(AND(報告書_全体_要是正の指摘あり=\"レ\",報告書_全体_既存不適格=\"\"),1,0)","v":8},"●","●","●",null,"●","●",null,"●",{"$nulls":3},"●",null,"●","▲"]
[3,"I","3I",{"$f":"IF(AND(F29=\"●\",G29=\"●\",H29=\"\",I29=\"●\",J29=\"●\"),\"○\",\"\")","v":""},{"$f":"IF(AND(F29=\"●\",G29=\"●\",I29=\"●\",J29=\"●\"),\"○\",\"\")","v":""},{"$f":"IF(AND(報告_2_04換検査者代表_ハ_氏名<>\"\",報告書!$AO$170+報告書!$AE$171+報告書!$AO$175+報告書!$AE$176>0),\"●\",\"\")","v":""},{"$f":"IF(AND(報告_2_04換検査者代表_ハ_氏名<>\"\",報告書!$AO$173>0),\"●\",\"\")","v":""},{"$f":"IF(AND(報告_2_08排検査者代表_ハ_氏名<>\"\",報告書!$P$253+報告書!$P$255+報告書!$P$257+報告書!$P$258+報告書!$AA$253+報告書!$AA$255+報告書!$AA$257+報告書!$AA$258+報告書!$AL$253+報告書!$AL$255+報告書!$AL$257>0),\"●\",\"\")","v":""},{"$f":"IF(AND(報告_2_12非検査者代表_ハ_氏名<>\"\",報告書!$P$329+報告書!$Z$329+報告書!$AL$329+報告書!$P$330>0),\"●\",\"\")","v":""},"",{"$nulls":3},27,"3I","『３I』",{"$f":"COUNTIF(R29:AE29,\"●\")+$Q$35+$Q$36+$Q$37+IF(AND(報告書_全体_要是正の指摘あり=\"レ\",報告書_全体_既存不適格=\"\"),1,0)","v":10},"●","●","●",null,"●","●","●","●",{"$nulls":3},"●","●","●","▲"]
[3,"J","3J",{"$f":"IF(AND(F30=\"\",G30=\"\",H30=\"●\",I30=\"●\",J30=\"●\"),\"○\",\"\")","v":""},{"$f":"IF(AND(H30=\"●\",I30=\"●\",J30=\"●\"),\"○\",\"\")","v":""},{"$f":"IF(AND(報告_2_04換検査者代表_ハ_氏名<>\"\",報告書!$AO$170+報告書!$AE$171+報告書!$AO$175+報告書!$AE$176>0),\"●\",\"\")","v":""},{"$f":"IF(AND(報告_2_04換検査者代表_ハ_氏名<>\"\",報告書!$AO$173>0),\"●\",\"\")","v":""},{"$f":"IF(AND(報告_2_08排検査者代表_ハ_氏名<>\"\",報告書!$P$253+報告書!$P$255+報告書!$P$257+報告書!$P$258+報告書!$AA$253+報告書!$AA$255+報告書!$AA$257+報告書!$AA$258+報告書!$AL$253+報告書!$AL$255+報告書!$AL$257>0),\"●\",\"\")","v":""},{"$f":"IF(AND(報告_2_12非検査者代表_ハ_氏名<>\"\",報告書!$P$329+報告書!$Z$329+報告書!$AL$329+報告書!$P$330>0),\"●\",\"\")","v":""},"",{"$nulls":3},28,"3J","『３J』",{"$f":"COUNTIF(R30:AE30,\"●\")+$Q$35+$Q$36+$Q$37+IF(AND(報告書_全体_要是正の指摘あり=\"レ\",報告書_全体_既存不適格=\"\"),1,0)","v":9},"●","●",null,"●","●","●",null,null,"●",null,null,"●","●","●","▲"]
[4,"A","4A",{"$f":"IF(AND(F31=\"●\",G31=\"\",H31=\"●\",I31=\"●\",J31=\"●\"),\"○\",\"\")","v":""},{"$f":"IF(AND(F31=\"●\",H31=\"●\",I31=\"●\",J31=\"●\"),\"○\",\"\")","v":""},{"$f":"IF(AND(報告_2_04換検査者代表_ハ_氏名<>\"\",報告書!$AO$170+報告書!$AE$171+報告書!$AO$175+報告書!$AE$176>0),\"●\",\"\")","v":""},{"$f":"IF(AND(報告_2_04換検査者代表_ハ_氏名<>\"\",報告書!$AO$173>0),\"●\",\"\")","v":""},{"$f":"IF(AND(報告_2_08排検査者代表_ハ_氏名<>\"\",報告書!$P$253+報告書!$P$255+報告書!$P$257+報告書!$P$258+報告書!$AA$253+報告書!$AA$255+報告書!$AA$257+報告書!$AA$258+報告書!$AL$253+報告書!$AL$255+報告書!$AL$257>0),\"●\",\"\")","v":""},{"$f":"IF(AND(報告_2_12非検査者代表_ハ_氏名<>\"\",報告書!$P$329+報告書!$Z$329+報告書!$AL$329+報告書!$P$330>0),\"●\",\"\")","v":""},{"$f":"IF(AND(報告_2_16給検査者代表_ハ_氏名<>\"\",報告_1_03建築物_ハ_名称<>\"\"),\"●\",\"\")","v":""},{"$nulls":3},29,"4A","『４A』",{"$f":"COUNTIF(R31:AE31,\"●\")+$Q$35+$Q$36+$Q$37+IF(AND(報告書_全体_要是正の指摘あり=\"レ\",報告書_全体_既存不適格=\"\"),1,0)","v":11},"●","●","●","●","●","●","●",null,"●",null,null,"●","●","●","▲"]
[4,"B","4B",{"$f":"IF(AND(F32=\"\",G32=\"●\",H32=\"●\",I32=\"●\",J32=\"●\"),\"○\",\"\")","v":""},{"$f":"IF(AND(G32=\"●\",H32=\"●\",I32=\"●\",J32=\"●\"),\"○\",\"\")","v":""},{"$f":"IF(AND(報告_2_04換検査者代表_ハ_氏名<>\"\",報告書!$AO$170+報告書!$AE$171+報告書!$AO$175+報告書!$AE$176>0),\"●\",\"\")","v":""},{"$f":"IF(AND(報告_2_04換検査者代表_ハ_氏名<>\"\",報告書!$AO$173>0),\"●\",\"\")","v":""},{"$f":"IF(AND(報告_2_08排検査者代表_ハ_氏名<>\"\",報告書!$P$253+報告書!$P$255+報告書!$P$257+報告書!$P$258+報告書!$AA$253+報告書!$AA$255+報告書!$AA$257+報告書!$AA$258+報告書!$AL$253+報告書!$AL$255+報告書!$AL$257>0),\"●\",\"\")","v":""},{"$f":"IF(AND(報告_2_12非検査者代表_ハ_氏名<>\"\",報告書!$P$329+報告書!$Z$329+報告書!$AL$329+報告書!$P$330>0),\"●\",\"\")","v":""},"",{"$nulls":3},30,"4B","『４B』",{"$f":"COUNTIF(R32:AE32,\"●\")+$Q$35+$Q$36+$Q$37+IF(AND(報告書_全体_要是正の指摘あり=\"レ\",報告書_全体_既存不適格=\"\"),1,0)","v":11},"●","●","●","●","●","●",null,"●","●",null,null,"●","●","●","▲"]
[4,"C","4C",{"$f":"IF(AND(F33=\"●\",G33=\"●\",H33=\"●\",I33=\"●\",J33=\"●\"),\"○\",\"\")","v":""},{"$f":"IF(AND(F33=\"●\",G33=\"●\",H33=\"●\",I33=\"●\",J33=\"●\"),\"○\",\"\")","v":""},{"$f":"IF(AND(報告_2_04換検査者代表_ハ_氏名<>\"\",報告書!$AO$170+報告書!$AE$171+報告書!$AO$175+報告書!$AE$176>0),\"●\",\"\")","v":""},{"$f":"IF(AND(報告_2_04換検査者代表_ハ_氏名<>\"\",報告書!$AO$173>0),\"●\",\"\")","v":""},{"$f":"IF(AND(報告_2_08排検査者代表_ハ_氏名<>\"\",報告書!$P$253+報告書!$P$255+報告書!$P$257+報告書!$P$258+報告書!$AA$253+報告書!$AA$255+報告書!$AA$257+報告書!$AA$258+報告書!$AL$253+報告書!$AL$255+報告書!$AL$257>0),\"●\",\"\")","v":""},{"$f":"IF(AND(報告_2_12非検査者代表_ハ_氏名<>\"\",報告書!$P$329+報告書!$Z$329+報告書!$AL$329+報告書!$P$330>0),\"●\",\"\")","v":""},"",{"$nulls":3},31,"4C","『４C』",{"$f":"COUNTIF(R33:AE33,\"●\")+$Q$35+$Q$36+$Q$37+IF(AND(報告書_全体_要是正の指摘あり=\"レ\",報告書_全体_既存不適格=\"\"),1,0)","v":12},"●","●","●","●","●","●","●","●","●",null,null,"●","●","●","▲"]
[null,"W","W",{"$f":"IF(M34=\"●\",\"○\",\"\")","v":""},{"$f":"IF(M34=\"●\",\"○\",\"\")","v":""},{"$nulls":7},{"$f":"IF(OR(D8=\"○\",D16=\"○\",D20=\"○\",D28=\"○\"),IF(報告書!O413=\"レ\",\"●\",\"\"),\"\")","v":""},32,"W","『W』",{"$f":"IF(D34=\"○\",COUNTIF(R34:AE34,\"●\"),0)","v":0},{"$nulls":12},"●"]
[null,"X","X",{"$f":"IF(AND(K35=\"●\",L35=\"\"),\"○\",\"\")","v":""},{"$f":"IF(K35=\"●\",\"○\",\"\")","v":""},null,null,{"$f":"IF(D35=\"○\",IF(AND(報告_2_08排検査者代表_ハ_氏名<>\"\",報告書!$P$253+報告書!$P$255+報告書!$P$257+報告書!$P$258=0,報告書!$AA$253+報告書!$AA$255+報告書!$AA$257+報告書!$AA$258>0),-1,0),0)","v":0},null,null,{"$f":"IF(AND(報告_2_08排検査者代表_ハ_氏名<>\"\",報告書!$AA$253+報告書!$AA$255+報告書!$AA$257+報告書!$AA$258>0),\"●\",\"\")","v":""},{"$f":"IF(AND(報告_2_08排検査者代表_ハ_氏名<>\"\",報告書!$AL$253+報告書!$AL$255+報告書!$AL$257>0),\"●\",\"\")","v":""},null,33,"X","『X』",{"$f":"IF(D35=\"○\",COUNTIF(R35:AE35,\"●\"),0)","v":0},{"$nulls":9},"●"]
[null,"Y","Y",{"$f":"IF(AND(K36=\"\",L36=\"●\"),\"○\",\"\")","v":""},{"$f":"IF(L36=\"●\",\"○\",\"\")","v":""},null,null,{"$f":"IF(D36=\"○\",IF(AND(報告_2_08排検査者代表_ハ_氏名<>\"\",報告書!$P$253+報告書!$P$255+報告書!$P$257+報告書!$P$258=0,報告書!$AL$253+報告書!$AL$255+報告書!$AL$257>0),-1,0),0)","v":0},null,null,{"$f":"IF(AND(報告_2_08排検査者代表_ハ_氏名<>\"\",報告書!$AA$253+報告書!$AA$255+報告書!$AA$257+報告書!$AA$258>0),\"●\",\"\")","v":""},{"$f":"IF(AND(報告_2_08排検査者代表_ハ_氏名<>\"\",報告書!$AL$253+報告書!$AL$255+報告書!$AL$257>0),\"●\",\"\")","v":""},null,34,"Y","『Y』",{"$f":"IF(D36=\"○\",COUNTIF(R36:AE36,\"●\"),0)","v":0},{"$nulls":10},"●"]
[null,"Z","Z",{"$f":"IF(AND(K37=\"●\",L37=\"●\"),\"○\",\"\")","v":""},{"$f":"IF(AND(K37=\"●\",L37=\"●\"),\"○\",\"\")","v":""},null,null,{"$f":"IF(D37=\"○\",IF(AND(報告_2_08排検査者代表_ハ_氏名<>\"\",報告書!$P$253+報告書!$P$255+報告書!$P$257+報告書!$P$258=0,報告書!$AA$253+報告書!$AA$255+報告書!$AA$257+報告書!$AA$258>0,報告書!$AL$253+報告書!$AL$255+報告書!$AL$257>0),-1,0),0)","v":0},null,null,{"$f":"IF(AND(報告_2_08排検査者代表_ハ_氏名<>\"\",報告書!$AA$253+報告書!$AA$255+報告書!$AA$257+報告書!$AA$258>0),\"●\",\"\")","v":""},{"$f":"IF(AND(報告_2_08排検査者代表_ハ_氏名<>\"\",報告書!$AL$253+報告書!$AL$255+報告書!$AL$257>0),\"●\",\"\")","v":""},null,35,"Z","『Z』",{"$f":"IF(D37=\"○\",COUNTIF(R37:AE37,\"●\"),0)","v":0},{"$nulls":9},"●","●"]
[{"$nulls":7},{"$f":"IF(報告_1_03建築物_ハ_名称=\"\",\"\",H35+H36+H37)","v":""}]

{"sheet":"CSV変換用","index":22,"n_rows":1,"n_cols":1535,"rows_kept":1,"hidden":true}
[{"$f":"IF(報告書!$C$14=\"\",\"\",報告書!$C$14)","v":""},{"$f":"IF(報告書!$AJ$16=\"\",\"\",報告書!$AJ$16)","v":"令和"},{"$f":"IF(報告書!$AL$16=\"\",\"\",報告書!$AL$16)","v":""},{"$f":"IF(報告書!$AO$16=\"\",\"\",報告書!$AO$16)","v":""},{"$f":"IF(報告書!$AR$16=\"\",\"\",報告書!$AR$16)","v":""},{"$f":"IF(報告書!$AE$18=\"\",\"\",報告書!$AE$18)","v":""},{"$f":"IF(報告書!$AE$19=\"\",\"\",報告書!$AE$19)","v":""},{"$f":"IF(報告書!$AE$22=\"\",\"\",報告書!$AE$22)","v":""},{"$f":"IF(報告書!$N$31=\"\",\"\",報告書!$N$31)","v":""},{"$f":"IF(報告書!$AE$31=\"\",\"\",報告書!$AE$31)","v":""},{"$f":"IF(報告書!$N$32=\"\",\"\",報告書!$N$32)","v":""},{"$f":"IF(報告書!$AE$32=\"\",\"\",報告書!$AE$32)","v":""},{"$f":"IF(報告書!$N$33=\"\",\"\",報告書!$N$33)","v":""},{"$f":"IF(報告書!$N$34=\"\",\"\",報告書!$N$34)","v":""},{"$f":"IF(報告書!$AE$34=\"\",\"\",報告書!$AE$34)","v":""},{"$f":"IF(報告書!$N$35=\"\",\"\",報告書!$N$35)","v":""},{"$f":"IF(報告書!$N$42=\"\",\"\",報告書!$N$42)","v":""},{"$f":"IF(報告書!$AE$42=\"\",\"\",報告書!$AE$42)","v":""},{"$f":"IF(報告書!$N$43=\"\",\"\",報告書!$N$43)","v":""},{"$f":"IF(報告書!$AE$43=\"\",\"\",報告書!$AE$43)","v":""},{"$f":"IF(報告書!$N$44=\"\",\"\",報告書!$N$44)","v":""},{"$f":"IF(報告書!$N$45=\"\",\"\",報告書!$N$45)","v":""},{"$f":"IF(報告書!$AE$45=\"\",\"\",報告書!$AE$45)","v":""},{"$f":"IF(報告書!$N$46=\"\",\"\",報告書!$N$46)","v":""},{"$f":"IF(報告書!$N$53=\"\",\"\",報告書!$N$53)","v":""},{"$f":"IF(報告書!$Q$53=\"\",\"\",報告書!$Q$53)","v":""},{"$f":"IF(報告書!$W$53=\"\",\"\",報告書!$W$53)","v":""},{"$f":"IF(報告書!$AC$53=\"\",\"\",報告書!$AC$53)","v":""},{"$f":"IF(報告書!$N$54=\"\",\"\",報告書!$N$54)","v":""},{"$f":"IF(報告書!$N$55=\"\",\"\",報告書!$N$55)","v":""},{"$f":"IF(報告書!$N$56=\"\",\"\",報告書!$N$56)","v":""},{"$f":"IF(報告書!$T$56=\"\",\"\",報告書!$T$56)","v":""},{"$f":"IF(報告書!$Z$56=\"\",\"\",報告書!$Z$56)","v":""},{"$f":"IF(報告書!$AF$56=\"\",\"\",報告書!$AF$56)","v":""},{"$f":"IF(報告書!$AL$56=\"\",\"\",報告書!$AL$56)","v":""},{"$f":"IF(報告書!$N$63=\"\",\"\",報告書!$N$63)","v":""},{"$f":"IF(報告書!$X$63=\"\",\"\",報告書!$X$63)","v":""},{"$f":"IF(報告書!$AG$63=\"\",\"\",報告書!$AG$63)","v":""},{"$f":"IF(報告書!$N$64=\"\",\"\",報告書!$N$64)","v":""},{"$f":"IF(報告書!$N$65=\"\",\"\",報告書!$N$65)","v":""},{"$f":"IF(報告書!$N$66=\"\",\"\",報告書!$N$66)","v":""},{"$f":"IF(報告書!$N$67=\"\",\"\",報告書!$N$67)","v":""},null,{"$f":"IF(報告書!$N$69=\"\",\"\",報告書!$N$69)","v":""},null,{"$f":"IF(報告書!$S$69=\"\",\"\",報告書!$S$69)","v":""},{"$f":"IF(報告書!$V$69=\"\",\"\",報告書!$V$69)","v":""},{"$f":"IF(報告書!$AG$69=\"\",\"\",報告書!$AG$69)","v":""},{"$f":"IF(報告書!$N$70=\"\",\"\",報告書!$N$70)","v":""},{"$f":"IF(報告書!$N$71=\"\",\"\",報告書!$N$71)","v":""},{"$f":"IF(報告書!$N$72=\"\",\"\",報告書!$N$72)","v":""},{"$f":"IF(報告書!$N$73=\"\",\"\",報告書!$N$73)","v":""},null,{"$f":"IF(報告書!$P$101=\"\",\"\",報告書!$P$101)","v":""},{"$f":"IF(報告書!$X$101=\"\",\"\",報告書!$X$101)","v":""},{"$f":"IF(報告書!$M$102=\"\",\"\",報告書!$M$102)","v":""},{"$f":"IF(報告書!$M$103=\"\",\"\",報告書!$M$103)","v":""},{"$f":"IF(報告書!$O$104=\"\",\"\",報告書!$O$104)","v":""},{"$f":"IF(報告書!$V$104=\"\",\"\",報告書!$V$104)","v":""},{"$f":"IF(報告書!$AC$104=\"\",\"\",報告書!$AC$104)","v":""},{"$f":"IF(報告書!$O$105=\"\",\"\",報告書!$O$105)","v":""},{"$f":"IF(報告書!$T$112=\"\",\"\",報告書!$T$112)","v":""},{"$f":"IF(報告書!$V$112=\"\",\"\",報告書!$V$112)","v":""},{"$f":"IF(報告書!$Y$112=\"\",\"\",報告書!$Y$112)","v":""},{"$f":"IF(報告書!$AB$112=\"\",\"\",報告書!$AB$112)","v":""},{"$f":"IF(報告書!$AG$112=\"\",\"\",報告書!$AG$112)","v":""},{"$f":"IF(報告書!$Q$113=\"\",\"\",報告書!$Q$113)","v":""},{"$f":"IF(報告書!$W$113=\"\",\"\",報告書!$W$113)","v":""},{"$f":"IF(報告書!$AG$113=\"\",\"\",報告書!$AG$113)","v":""},{"$f":"IF(報告書!$T$114=\"\",\"\",報告書!$T$114)","v":""},{"$f":"IF(報告書!$V$114=\"\",\"\",報告書!$V$114)","v":""},{"$f":"IF(報告書!$Y$114=\"\",\"\",報告書!$Y$114)","v":""},{"$f":"IF(報告書!$AB$114=\"\",\"\",報告書!$AB$114)","v":""},{"$f":"IF(報告書!$AG$114=\"\",\"\",報告書!$AG$114)","v":""},{"$f":"IF(報告書!$Q$115=\"\",\"\",報告書!$Q$115)","v":""},{"$f":"IF(報告書!$W$115=\"\",\"\",報告書!$W$115)","v":""},{"$f":"IF(報告書!$AG$115=\"\",\"\",報告書!$AG$115)","v":""},{"$f":"IF(報告書!$P$122=\"\",\"\",報告書!$P$122)","v":"令和"},{"$f":"IF(報告書!$R$122=\"\",\"\",報告書!$R$122)","v":""},{"$f":"IF(報告書!$U$122=\"\",\"\",報告書!$U$122)","v":""},{"$f":"IF(報告書!$X$122=\"\",\"\",報告書!$X$122)","v":""},{"$f":"IF(報告書!$L$123=\"\",\"\",報告書!$L$123)","v":""},{"$f":"IF(報告書!$P$123=\"\",\"\",報告書!$P$123)","v":""},{"$f":"IF(報告書!$R$123=\"\",\"\",報告書!$R$123)","v":""},{"$f":"IF(報告書!$U$123=\"\",\"\",報告書!$U$123)","v":""},{"$f":"IF(報告書!$X$123=\"\",\"\",報告書!$X$123)","v":""},{"$f":"IF(報告書!$AE$123=\"\",\"\",報告書!$AE$123)","v":""},{"$f":"IF(報告書!$U$124=\"\",\"\",報告書!$U$124)","v":""},{"$f":"IF(報告書!$X$124=\"\",\"\",報告書!$X$124)","v":""},{"$f":"IF(報告書!$K$132=\"\",\"\",報告書!$K$132)","v":""},{"$f":"IF(報告書!$X$132=\"\",\"\",報告書!$X$132)","v":""},{"$f":"IF(報告書!$AH$132=\"\",\"\",報告書!$AH$132)","v":""},{"$f":"IF(報告書!$AH$133=\"\",\"\",報告書!$AH$133)","v":""},{"$f":"IF(報告書!$N$135=\"\",\"\",報告書!$N$135)","v":""},{"$f":"IF(報告書!$N$136=\"\",\"\",報告書!$N$136)","v":""},{"$f":"IF(報告書!$N$137=\"\",\"\",報告書!$N$137)","v":""},{"$f":"IF(報告書!$K$138=\"\",\"\",報告書!$K$138)","v":""},{"$f":"IF(報告書!$X$138=\"\",\"\",報告書!$X$138)","v":""},{"$f":"IF(報告書!$AH$138=\"\",\"\",報告書!$AH$138)","v":""},{"$f":"IF(報告書!$N$139=\"\",\"\",報告書!$N$139)","v":""},{"$f":"IF(報告書!$N$140=\"\",\"\",報告書!$N$140)","v":""},{"$f":"IF(報告書!$AE$140=\"\",\"\",報告書!$AE$140)","v":""},{"$f":"IF(報告書!$N$141=\"\",\"\",報告書!$N$141)","v":""},{"$f":"IF(報告書!$K$143=\"\",\"\",報告書!$K$143)","v":""},{"$f":"IF(報告書!$X$143=\"\",\"\",報告書!$X$143)","v":""},{"$f":"IF(報告書!$AH$143=\"\",\"\",報告書!$AH$143)","v":""},{"$f":"IF(報告書!$AH$144=\"\",\"\",報告書!$AH$144)","v":""},{"$f":"IF(報告書!$N$146=\"\",\"\",報告書!$N$146)","v":""},{"$f":"IF(報告書!$N$147=\"\",\"\",報告書!$N$147)","v":""},{"$f":"IF(報告書!$N$148=\"\",\"\",報告書!$N$148)","v":""},{"$f":"IF(報告書!$K$149=\"\",\"\",報告書!$K$149)","v":""},{"$f":"IF(報告書!$X$149=\"\",\"\",報告書!$X$149)","v":""},{"$f":"IF(報告書!$AH$149=\"\",\"\",報告書!$AH$149)","v":""},{"$f":"IF(報告書!$N$150=\"\",\"\",報告書!$N$150)","v":""},{"$f":"IF(報告書!$N$151=\"\",\"\",報告書!$N$151)","v":""},{"$f":"IF(報告書!$AE$151=\"\",\"\",報告書!$AE$151)","v":""},{"$f":"IF(報告書!$N$152=\"\",\"\",報告書!$N$152)","v":""},{"$f":"IF(報告書!$K$154=\"\",\"\",報告書!$K$154)","v":""},{"$f":"IF(報告書!$X$154=\"\",\"\",報告書!$X$154)","v":""},{"$f":"IF(報告書!$AH$154=\"\",\"\",報告書!$AH$154)","v":""},{"$f":"IF(報告書!$AH$155=\"\",\"\",報告書!$AH$155)","v":""},{"$f":"IF(報告書!$N$157=\"\",\"\",報告書!$N$157)","v":""},{"$f":"IF(報告書!$N$158=\"\",\"\",報告書!$N$158)","v":""},{"$f":"IF(報告書!$N$159=\"\",\"\",報告書!$N$159)","v":""},{"$f":"IF(報告書!$K$160=\"\",\"\",報告書!$K$160)","v":""},{"$f":"IF(報告書!$X$160=\"\",\"\",報告書!$X$160)","v":""},{"$f":"IF(報告書!$AH$160=\"\",\"\",報告書!$AH$160)","v":""},{"$f":"IF(報告書!$N$161=\"\",\"\",報告書!$N$161)","v":""},{"$f":"IF(報告書!$N$162=\"\",\"\",報告書!$N$162)","v":""},{"$f":"IF(報告書!$AE$162=\"\",\"\",報告書!$AE$162)","v":""},{"$f":"IF(報告書!$N$163=\"\",\"\",報告書!$N$163)","v":""},{"$f":"IF(報告書!$L$170=\"\",\"\",報告書!$L$170)","v":""},{"$f":"IF(報告書!$T$170=\"\",\"\",報告書!$T$170)","v":"―"},{"$f":"IF(報告書!$X$170=\"\",\"\",報告書!$X$170)","v":"―"},{"$f":"IF(報告書!$AC$170=\"\",\"\",報告書!$AC$170)","v":""},{"$f":"IF(報告書!$AK$170=\"\",\"\",報告書!$AK$170)","v":""},{"$f":"IF(報告書!$AO$170=\"\",\"\",報告書!$AO$170)","v":""},{"$f":"IF(報告書!$L$171=\"\",\"\",報告書!$L$171)","v":""},{"$f":"IF(報告書!$AA$171=\"\",\"\",報告書!$AA$171)","v":""},{"$f":"IF(報告書!$AE$171=\"\",\"\",報告書!$AE$171)","v":""},{"$f":"IF(報告書!$L$172=\"\",\"\",報告書!$L$172)","v":""},{"$f":"IF(報告書!$Q$172=\"\",\"\",報告書!$Q$172)","v":""},{"$f":"IF(報告書!$U$172=\"\",\"\",報告書!$U$172)","v":""},{"$f":"IF(報告書!$AC$172=\"\",\"\",報告書!$AC$172)","v":""},{"$f":"IF(報告書!$L$173=\"\",\"\",報告書!$L$173)","v":""},{"$f":"IF(報告書!$T$173=\"\",\"\",報告書!$T$173)","v":"―"},{"$f":"IF(報告書!$X$173=\"\",\"\",報告書!$X$173)","v":"―"},{"$f":"IF(報告書!$AC$173=\"\",\"\",報告書!$AC$173)","v":""},{"$f":"IF(報告書!$AK$173=\"\",\"\",報告書!$AK$173)","v":""},{"$f":"IF(報告書!$AO$173=\"\",\"\",報告書!$AO$173)","v":""},{"$f":"IF(報告書!$L$174=\"\",\"\",報告書!$L$174)","v":""},{"$f":"IF(報告書!$Q$174=\"\",\"\",報告書!$Q$174)","v":""},{"$f":"IF(報告書!$U$174=\"\",\"\",報告書!$U$174)","v":""},{"$f":"IF(報告書!$AC$174=\"\",\"\",報告書!$AC$174)","v":""},{"$f":"IF(報告書!$L$175=\"\",\"\",報告書!$L$175)","v":""},{"$f":"IF(報告書!$T$175=\"\",\"\",報告書!$T$175)","v":"―"},{"$f":"IF(報告書!$X$175=\"\",\"\",報告書!$X$175)","v":"―"},{"$f":"IF(報告書!$AC$175=\"\",\"\",報告書!$AC$175)","v":""},{"$f":"IF(報告書!$AK$175=\"\",\"\",報告書!$AK$175)","v":""},{"$f":"IF(報告書!$AO$175=\"\",\"\",報告書!$AO$175)","v":""},{"$f":"IF(報告書!$L$176=\"\",\"\",報告書!$L$176)","v":""},{"$f":"IF(報告書!$AA$176=\"\",\"\",報告書!$AA$176)","v":""},{"$f":"IF(報告書!$AE$176=\"\",\"\",報告書!$AE$176)","v":""},{"$f":"IF(報告書!$L$177=\"\",\"\",報告書!$L$177)","v":""},{"$f":"IF(報告書!$Q$177=\"\",\"\",報告書!$Q$177)","v":""},{"$f":"IF(報告書!$U$177=\"\",\"\",報告書!$U$177)","v":""},{"$f":"IF(報告書!$AC$177=\"\",\"\",報告書!$AC$177)","v":""},{"$f":"IF(報告書!$S$180=\"\",\"\",報告書!$S$180)","v":""},{"$f":"IF(報告書!$V$180=\"\",\"\",報告書!$V$180)","v":""},{"$f":"IF(報告書!$N$186=\"\",\"\",報告書!$N$186)","v":""},{"$f":"IF(報告書!$X$186=\"\",\"\",報告書!$X$186)","v":""},{"$f":"IF(報告書!$AG$186=\"\",\"\",報告書!$AG$186)","v":""},{"$f":"IF(報告書!$N$187=\"\",\"\",報告書!$N$187)","v":""},{"$nulls":4},{"$f":"IF(報告書!$N$192=\"\",\"\",報告書!$N$192)","v":""},{"$f":"IF(報告書!$Q$192=\"\",\"\",報告書!$Q$192)","v":"令和"},{"$f":"IF(報告書!$S$192=\"\",\"\",報告書!$S$192)","v":""},{"$f":"IF(報告書!$V$192=\"\",\"\",報告書!$V$192)","v":""},{"$f":"IF(報告書!$AG$192=\"\",\"\",報告書!$AG$192)","v":""},{"$f":"IF(報告書!$L$199=\"\",\"\",報告書!$L$199)","v":""},{"$f":"IF(報告書!$O$199=\"\",\"\",報告書!$O$199)","v":""},{"$f":"IF(報告書!$L$200=\"\",\"\",報告書!$L$200)","v":""},{"$f":"IF(報告書!$O$277=\"\",\"\",報告書!$O$277)","v":""},{"$f":"IF(報告書!$L$201=\"\",\"\",報告書!$L$201)","v":""},{"$f":"IF(報告書!$Q$201=\"\",\"\",報告書!$Q$201)","v":""},{"$f":"IF(報告書!$W$201=\"\",\"\",報告書!$W$201)","v":"令和"},{"$f":"IF(報告書!$Y$201=\"\",\"\",報告書!$Y$201)","v":""},{"$f":"IF(報告書!$AB$201=\"\",\"\",報告書!$AB$201)","v":""},{"$f":"IF(報告書!$AL$201=\"\",\"\",報告書!$AL$201)","v":""},{"$f":"IF(報告書!$K$214=\"\",\"\",報告書!$K$214)","v":""},{"$f":"IF(報告書!$X$214=\"\",\"\",報告書!$X$214)","v":""},{"$f":"IF(報告書!$AH$214=\"\",\"\",報告書!$AH$214)","v":""},{"$f":"IF(報告書!$AH$215=\"\",\"\",報告書!$AH$215)","v":""},{"$f":"IF(報告書!$N$217=\"\",\"\",報告書!$N$217)","v":""},{"$f":"IF(報告書!$N$218=\"\",\"\",報告書!$N$218)","v":""},{"$f":"IF(報告書!$N$219=\"\",\"\",報告書!$N$219)","v":""},{"$f":"IF(報告書!$K$220=\"\",\"\",報告書!$K$220)","v":""},{"$f":"IF(報告書!$X$220=\"\",\"\",報告書!$X$220)","v":""},{"$f":"IF(報告書!$AH$220=\"\",\"\",報告書!$AH$220)","v":""},{"$f":"IF(報告書!$N$221=\"\",\"\",報告書!$N$221)","v":""},{"$f":"IF(報告書!$N$222=\"\",\"\",報告書!$N$222)","v":""},{"$f":"IF(報告書!$AE$222=\"\",\"\",報告書!$AE$222)","v":""},{"$f":"IF(報告書!$N$223=\"\",\"\",報告書!$N$223)","v":""},{"$f":"IF(報告書!$K$225=\"\",\"\",報告書!$K$225)","v":""},{"$f":"IF(報告書!$X$225=\"\",\"\",報告書!$X$225)","v":""},{"$f":"IF(報告書!$AH$225=\"\",\"\",報告書!$AH$225)","v":""},{"$f":"IF(報告書!$AH$226=\"\",\"\",報告書!$AH$226)","v":""},{"$f":"IF(報告書!$N$228=\"\",\"\",報告書!$N$228)","v":""},{"$f":"IF(報告書!$N$229=\"\",\"\",報告書!$N$229)","v":""},{"$f":"IF(報告書!$N$230=\"\",\"\",報告書!$N$230)","v":""},{"$f":"IF(報告書!$K$231=\"\",\"\",報告書!$K$231)","v":""},{"$f":"IF(報告書!$X$231=\"\",\"\",報告書!$X$231)","v":""},{"$f":"IF(報告書!$AH$231=\"\",\"\",報告書!$AH$231)","v":""},{"$f":"IF(報告書!$N$232=\"\",\"\",報告書!$N$232)","v":""},{"$f":"IF(報告書!$N$233=\"\",\"\",報告書!$N$233)","v":""},{"$f":"IF(報告書!$AE$233=\"\",\"\",報告書!$AE$233)","v":""},{"$f":"IF(報告書!$N$234=\"\",\"\",報告書!$N$234)","v":""},{"$f":"IF(報告書!$K$236=\"\",\"\",報告書!$K$236)","v":""},{"$f":"IF(報告書!$X$236=\"\",\"\",報告書!$X$236)","v":""},{"$f":"IF(報告書!$AH$236=\"\",\"\",報告書!$AH$236)","v":""},{"$f":"IF(報告書!$AH$237=\"\",\"\",報告書!$AH$237)","v":""},{"$f":"IF(報告書!$N$239=\"\",\"\",報告書!$N$239)","v":""},{"$f":"IF(報告書!$N$240=\"\",\"\",報告書!$N$240)","v":""},{"$f":"IF(報告書!$N$241=\"\",\"\",報告書!$N$241)","v":""},{"$f":"IF(報告書!$K$242=\"\",\"\",報告書!$K$242)","v":""},{"$f":"IF(報告書!$X$242=\"\",\"\",報告書!$X$242)","v":""},{"$f":"IF(報告書!$AH$242=\"\",\"\",報告書!$AH$242)","v":""},{"$f":"IF(報告書!$N$243=\"\",\"\",報告書!$N$243)","v":""},{"$f":"IF(報告書!$N$244=\"\",\"\",報告書!$N$244)","v":""},{"$f":"IF(報告書!$AE$244=\"\",\"\",報告書!$AE$244)","v":""},{"$f":"IF(報告書!$N$245=\"\",\"\",報告書!$N$245)","v":""},{"$f":"IF(報告書!$R$250=\"\",\"\",報告書!$R$250)","v":""},{"$f":"IF(報告書!$AC$250=\"\",\"\",報告書!$AC$250)","v":""},{"$f":"IF(報告書!$AG$250=\"\",\"\",報告書!$AG$250)","v":""},{"$f":"IF(報告書!$AQ$250=\"\",\"\",報告書!$AQ$250)","v":""},{"$f":"IF(報告書!$K$251=\"\",\"\",報告書!$K$251)","v":""},{"$f":"IF(報告書!$V$251=\"\",\"\",報告書!$V$251)","v":""},{"$f":"IF(報告書!$AA$251=\"\",\"\",報告書!$AA$251)","v":""},{"$f":"IF(報告書!$K$253=\"\",\"\",報告書!$K$253)","v":""},{"$f":"IF(報告書!$P$253=\"\",\"\",報告書!$P$253)","v":""},{"$f":"IF(報告書!$V$253=\"\",\"\",報告書!$V$253)","v":""},{"$f":"IF(報告書!$AA$253=\"\",\"\",報告書!$AA$253)","v":""},{"$f":"IF(報告書!$AG$253=\"\",\"\",報告書!$AG$253)","v":""},{"$f":"IF(報告書!$AL$253=\"\",\"\",報告書!$AL$253)","v":""},{"$f":"IF(報告書!$AR$253=\"\",\"\",報告書!$AR$253)","v":""},{"$f":"IF(報告書!$K$255=\"\",\"\",報告書!$K$255)","v":""},{"$f":"IF(報告書!$P$255=\"\",\"\",報告書!$P$255)","v":""},{"$f":"IF(報告書!$V$255=\"\",\"\",報告書!$V$255)","v":""},{"$f":"IF(報告書!$AA$255=\"\",\"\",報告書!$AA$255)","v":""},{"$f":"IF(報告書!$AG$255=\"\",\"\",報告書!$AG$255)","v":""},{"$f":"IF(報告書!$AL$255=\"\",\"\",報告書!$AL$255)","v":""},{"$f":"IF(報告書!$AR$255=\"\",\"\",報告書!$AR$255)","v":""},{"$f":"IF(報告書!$K$257=\"\",\"\",報告書!$K$257)","v":""},{"$f":"IF(報告書!$P$257=\"\",\"\",報告書!$P$257)","v":""},{"$f":"IF(報告書!$V$257=\"\",\"\",報告書!$V$257)","v":""},{"$f":"IF(報告書!$AA$257=\"\",\"\",報告書!$AA$257)","v":""},{"$f":"IF(報告書!$AG$257=\"\",\"\",報告書!$AG$257)","v":""},{"$f":"IF(報告書!$AL$257=\"\",\"\",報告書!$AL$257)","v":""},{"$f":"IF(報告書!$AR$257=\"\",\"\",報告書!$AR$257)","v":""},{"$f":"IF(報告書!$K$258=\"\",\"\",報告書!$K$258)","v":""},{"$f":"IF(報告書!$P$258=\"\",\"\",報告書!$P$258)","v":""},{"$f":"IF(報告書!$V$258=\"\",\"\",報告書!$V$258)","v":""},{"$f":"IF(報告書!$AA$258=\"\",\"\",報告書!$AA$258)","v":""},{"$f":"IF(報告書!$AR$258=\"\",\"\",報告書!$AR$258)","v":""},{"$f":"IF(報告書!$K$259=\"\",\"\",報告書!$K$259)","v":""},{"$f":"IF(報告書!$P$259=\"\",\"\",報告書!$P$259)","v":""},{"$f":"IF(報告書!$Y$259=\"\",\"\",報告書!$Y$259)","v":""},{"$f":"IF(報告書!$AG$259=\"\",\"\",報告書!$AG$259)","v":""},{"$f":"IF(報告書!$AL$259=\"\",\"\",報告書!$AL$259)","v":""},{"$f":"IF(報告書!$N$263=\"\",\"\",報告書!$N$263)","v":""},{"$f":"IF(報告書!$X$263=\"\",\"\",報告書!$X$263)","v":""},{"$f":"IF(報告書!$AG$263=\"\",\"\",報告書!$AG$263)","v":""},{"$f":"IF(報告書!$N$264=\"\",\"\",報告書!$N$264)","v":""},{"$nulls":4},{"$f":"IF(報告書!$N$269=\"\",\"\",報告書!$N$269)","v":""},{"$f":"IF(報告書!$Q$269=\"\",\"\",報告書!$Q$269)","v":"令和"},{"$f":"IF(報告書!$S$269=\"\",\"\",報告書!$S$269)","v":""},{"$f":"IF(報告書!$V$269=\"\",\"\",報告書!$V$269)","v":""},{"$f":"IF(報告書!$AG$269=\"\",\"\",報告書!$AG$269)","v":""},{"$f":"IF(報告書!$L$276=\"\",\"\",報告書!$L$276)","v":""},{"$f":"IF(報告書!$O$276=\"\",\"\",報告書!$O$276)","v":""},{"$f":"IF(報告書!$L$277=\"\",\"\",報告書!$L$277)","v":""},{"$f":"IF(報告書!$O$277=\"\",\"\",報告書!$O$277)","v":""},{"$f":"IF(報告書!$L$278=\"\",\"\",報告書!$L$278)","v":""},{"$f":"IF(報告書!$Q$278=\"\",\"\",報告書!$Q$278)","v":""},{"$f":"IF(報告書!$W$278=\"\",\"\",報告書!$W$278)","v":"令和"},{"$f":"IF(報告書!$Y$278=\"\",\"\",報告書!$Y$278)","v":""},{"$f":"IF(報告書!$AB$278=\"\",\"\",報告書!$AB$278)","v":""},{"$f":"IF(報告書!$AL$278=\"\",\"\",報告書!$AL$278)","v":""},{"$f":"IF(報告書!$K$291=\"\",\"\",報告書!$K$291)","v":""},{"$f":"IF(報告書!$X$291=\"\",\"\",報告書!$X$291)","v":""},{"$f":"IF(報告書!$AH$291=\"\",\"\",報告書!$AH$291)","v":""},{"$f":"IF(報告書!$AH$292=\"\",\"\",報告書!$AH$292)","v":""},{"$f":"IF(報告書!$N$294=\"\",\"\",報告書!$N$294)","v":""},{"$f":"IF(報告書!$N$295=\"\",\"\",報告書!$N$295)","v":""},{"$f":"IF(報告書!$N$296=\"\",\"\",報告書!$N$296)","v":""},{"$f":"IF(報告書!$K$297=\"\",\"\",報告書!$K$297)","v":""},{"$f":"IF(報告書!$X$297=\"\",\"\",報告書!$X$297)","v":""},{"$f":"IF(報告書!$AH$297=\"\",\"\",報告書!$AH$297)","v":""},{"$f":"IF(報告書!$N$298=\"\",\"\",報告書!$N$298)","v":""},{"$f":"IF(報告書!$N$299=\"\",\"\",報告書!$N$299)","v":""},{"$f":"IF(報告書!$AE$299=\"\",\"\",報告書!$AE$299)","v":""},{"$f":"IF(報告書!$N$300=\"\",\"\",報告書!$N$300)","v":""},{"$f":"IF(報告書!$K$302=\"\",\"\",報告書!$K$302)","v":""},{"$f":"IF(報告書!$X$302=\"\",\"\",報告書!$X$302)","v":""},{"$f":"IF(報告書!$AH$302=\"\",\"\",報告書!$AH$302)","v":""},{"$f":"IF(報告書!$AH$303=\"\",\"\",報告書!$AH$303)","v":""},{"$f":"IF(報告書!$N$305=\"\",\"\",報告書!$N$305)","v":""},{"$f":"IF(報告書!$N$306=\"\",\"\",報告書!$N$306)","v":""},{"$f":"IF(報告書!$N$307=\"\",\"\",報告書!$N$307)","v":""},{"$f":"IF(報告書!$K$308=\"\",\"\",報告書!$K$308)","v":""},{"$f":"IF(報告書!$X$308=\"\",\"\",報告書!$X$308)","v":""},{"$f":"IF(報告書!$AH$308=\"\",\"\",報告書!$AH$308)","v":""},{"$f":"IF(報告書!$N$309=\"\",\"\",報告書!$N$309)","v":""},{"$f":"IF(報告書!$N$310=\"\",\"\",報告書!$N$310)","v":""},{"$f":"IF(報告書!$AE$310=\"\",\"\",報告書!$AE$310)","v":""},{"$f":"IF(報告書!$N$311=\"\",\"\",報告書!$N$311)","v":""},{"$f":"IF(報告書!$K$313=\"\",\"\",報告書!$K$313)","v":""},{"$f":"IF(報告書!$X$313=\"\",\"\",報告書!$X$313)","v":""},{"$f":"IF(報告書!$AH$313=\"\",\"\",報告書!$AH$313)","v":""},{"$f":"IF(報告書!$AH$314=\"\",\"\",報告書!$AH$314)","v":""},{"$f":"IF(報告書!$N$316=\"\",\"\",報告書!$N$316)","v":""},{"$f":"IF(報告書!$N$317=\"\",\"\",報告書!$N$317)","v":""},{"$f":"IF(報告書!$N$318=\"\",\"\",報告書!$N$318)","v":""},{"$f":"IF(報告書!$K$319=\"\",\"\",報告書!$K$319)","v":""},{"$f":"IF(報告書!$X$319=\"\",\"\",報告書!$X$319)","v":""},{"$f":"IF(報告書!$AH$319=\"\",\"\",報告書!$AH$319)","v":""},{"$f":"IF(報告書!$N$320=\"\",\"\",報告書!$N$320)","v":""},{"$f":"IF(報告書!$N$321=\"\",\"\",報告書!$N$321)","v":""},{"$f":"IF(報告書!$AE$321=\"\",\"\",報告書!$AE$321)","v":""},{"$f":"IF(報告書!$N$322=\"\",\"\",報告書!$N$322)","v":""},{"$f":"IF(報告書!$K$329=\"\",\"\",報告書!$K$329)","v":""},{"$f":"IF(報告書!$P$329=\"\",\"\",報告書!$P$329)","v":""},{"$f":"IF(報告書!$U$329=\"\",\"\",報告書!$U$329)","v":""},{"$f":"IF(報告書!$Z$329=\"\",\"\",報告書!$Z$329)","v":""},{"$f":"IF(報告書!$AE$329=\"\",\"\",報告書!$AE$329)","v":""},{"$f":"IF(報告書!$AL$329=\"\",\"\",報告書!$AL$329)","v":""},{"$f":"IF(報告書!$K$330=\"\",\"\",報告書!$K$330)","v":""},{"$f":"IF(報告書!$P$330=\"\",\"\",報告書!$P$330)","v":""},{"$f":"IF(報告書!$K$333=\"\",\"\",報告書!$K$333)","v":""},{"$f":"IF(報告書!$W$333=\"\",\"\",報告書!$W$333)","v":""},{"$f":"IF(報告書!$AC$333=\"\",\"\",報告書!$AC$333)","v":""},{"$f":"IF(報告書!$AI$333=\"\",\"\",報告書!$AI$333)","v":""},{"$f":"IF(報告書!$K$334=\"\",\"\",報告書!$K$334)","v":""},{"$f":"IF(報告書!$W$334=\"\",\"\",報告書!$W$334)","v":""},{"$f":"IF(報告書!$AC$334=\"\",\"\",報告書!$AC$334)","v":""},{"$f":"IF(報告書!$AI$334=\"\",\"\",報告書!$AI$334)","v":""},{"$f":"IF(報告書!$K$335=\"\",\"\",報告書!$K$335)","v":""},{"$f":"IF(報告書!$W$335=\"\",\"\",報告書!$W$335)","v":""},{"$f":"IF(報告書!$AC$335=\"\",\"\",報告書!$AC$335)","v":""},{"$f":"IF(報告書!$AI$335=\"\",\"\",報告書!$AI$335)","v":""},{"$f":"IF(報告書!$K$336=\"\",\"\",報告書!$K$336)","v":""},{"$f":"IF(報告書!$AF$336=\"\",\"\",報告書!$AF$336)","v":""},{"$f":"IF(報告書!$AL$336=\"\",\"\",報告書!$AL$336)","v":""},{"$f":"IF(報告書!$AR$336=\"\",\"\",報告書!$AR$336)","v":""},{"$f":"IF(報告書!$K$337=\"\",\"\",報告書!$K$337)","v":""},{"$f":"IF(報告書!$P$337=\"\",\"\",報告書!$P$337)","v":""},{"$f":"IF(報告書!$N$344=\"\",\"\",報告書!$N$344)","v":""},{"$f":"IF(報告書!$X$344=\"\",\"\",報告書!$X$344)","v":""},{"$f":"IF(報告書!$AG$344=\"\",\"\",報告書!$AG$344)","v":""},{"$f":"IF(報告書!$N$345=\"\",\"\",報告書!$N$345)","v":""},{"$nulls":4},{"$f":"IF(報告書!$N$350=\"\",\"\",報告書!$N$350)","v":""},{"$f":"IF(報告書!$Q$350=\"\",\"\",報告書!$Q$350)","v":"令和"},{"$f":"IF(報告書!$S$350=\"\",\"\",報告書!$S$350)","v":""},{"$f":"IF(報告書!$V$350=\"\",\"\",報告書!$V$350)","v":""},{"$f":"IF(報告書!$AG$350=\"\",\"\",報告書!$AG$350)","v":""},{"$f":"IF(報告書!$L$357=\"\",\"\",報告書!$L$357)","v":""},{"$f":"IF(報告書!$O$357=\"\",\"\",報告書!$O$357)","v":""},{"$f":"IF(報告書!$L$358=\"\",\"\",報告書!$L$358)","v":""},{"$f":"IF(報告書!$O$358=\"\",\"\",報告書!$O$358)","v":""},{"$f":"IF(報告書!$L$359=\"\",\"\",報告書!$L$359)","v":""},{"$f":"IF(報告書!$Q$359=\"\",\"\",報告書!$Q$359)","v":""},{"$f":"IF(報告書!$W$359=\"\",\"\",報告書!$W$359)","v":"令和"},{"$f":"IF(報告書!$Y$359=\"\",\"\",報告書!$Y$359)","v":""},{"$f":"IF(報告書!$AB$359=\"\",\"\",報告書!$AB$359)","v":""},{"$f":"IF(報告書!$AL$359=\"\",\"\",報告書!$AL$359)","v":""},{"$f":"IF(報告書!$K$372=\"\",\"\",報告書!$K$372)","v":""},{"$f":"IF(報告書!$X$372=\"\",\"\",報告書!$X$372)","v":""},{"$f":"IF(報告書!$AH$372=\"\",\"\",報告書!$AH$372)","v":""},{"$f":"IF(報告書!$AH$373=\"\",\"\",報告書!$AH$373)","v":""},{"$f":"IF(報告書!$N$375=\"\",\"\",報告書!$N$375)","v":""},{"$f":"IF(報告書!$N$376=\"\",\"\",報告書!$N$376)","v":""},{"$f":"IF(報告書!$N$377=\"\",\"\",報告書!$N$377)","v":""},{"$f":"IF(報告書!$K$378=\"\",\"\",報告書!$K$378)","v":""},{"$f":"IF(報告書!$X$378=\"\",\"\",報告書!$X$378)","v":""},{"$f":"IF(報告書!$AH$378=\"\",\"\",報告書!$AH$378)","v":""},{"$f":"IF(報告書!$N$379=\"\",\"\",報告書!$N$379)","v":""},{"$f":"IF(報告書!$N$380=\"\",\"\",報告書!$N$380)","v":""},{"$f":"IF(報告書!$AE$380=\"\",\"\",報告書!$AE$380)","v":""},{"$f":"IF(報告書!$N$381=\"\",\"\",報告書!$N$381)","v":""},{"$f":"IF(報告書!$K$383=\"\",\"\",報告書!$K$383)","v":""},{"$f":"IF(報告書!$X$383=\"\",\"\",報告書!$X$383)","v":""},{"$f":"IF(報告書!$AH$383=\"\",\"\",報告書!$AH$383)","v":""},{"$f":"IF(報告書!$AH$384=\"\",\"\",報告書!$AH$384)","v":""},{"$f":"IF(報告書!$N$386=\"\",\"\",報告書!$N$386)","v":""},{"$f":"IF(報告書!$N$387=\"\",\"\",報告書!$N$387)","v":""},{"$f":"IF(報告書!$N$388=\"\",\"\",報告書!$N$388)","v":""},{"$f":"IF(報告書!$K$389=\"\",\"\",報告書!$K$389)","v":""},{"$f":"IF(報告書!$X$389=\"\",\"\",報告書!$X$389)","v":""},{"$f":"IF(報告書!$AH$389=\"\",\"\",報告書!$AH$389)","v":""},{"$f":"IF(報告書!$N$390=\"\",\"\",報告書!$N$390)","v":""},{"$f":"IF(報告書!$N$391=\"\",\"\",報告書!$N$391)","v":""},{"$f":"IF(報告書!$AE$391=\"\",\"\",報告書!$AE$391)","v":""},{"$f":"IF(報告書!$N$392=\"\",\"\",報告書!$N$392)","v":""},{"$f":"IF(報告書!$K$394=\"\",\"\",報告書!$K$394)","v":""},{"$f":"IF(報告書!$X$394=\"\",\"\",報告書!$X$394)","v":""},{"$f":"IF(報告書!$AH$394=\"\",\"\",報告書!$AH$394)","v":""},{"$f":"IF(報告書!$AH$395=\"\",\"\",報告書!$AH$395)","v":""},{"$f":"IF(報告書!$N$397=\"\",\"\",報告書!$N$397)","v":""},{"$f":"IF(報告書!$N$398=\"\",\"\",報告書!$N$398)","v":""},{"$f":"IF(報告書!$N$399=\"\",\"\",報告書!$N$399)","v":""},{"$f":"IF(報告書!$K$400=\"\",\"\",報告書!$K$400)","v":""},{"$f":"IF(報告書!$X$400=\"\",\"\",報告書!$X$400)","v":""},{"$f":"IF(報告書!$AH$400=\"\",\"\",報告書!$AH$400)","v":""},{"$f":"IF(報告書!$N$401=\"\",\"\",報告書!$N$401)","v":""},{"$f":"IF(報告書!$N$402=\"\",\"\",報告書!$N$402)","v":""},{"$f":"IF(報告書!$AE$402=\"\",\"\",報告書!$AE$402)","v":""},{"$f":"IF(報告書!$N$403=\"\",\"\",報告書!$N$403)","v":""},{"$f":"IF(報告書!$O$410=\"\",\"\",報告書!$O$410)","v":""},{"$f":"IF(報告書!$V$410=\"\",\"\",報告書!$V$410)","v":""},{"$f":"IF(報告書!$Y$410=\"\",\"\",報告書!$Y$410)","v":""},{"$f":"IF(報告書!$AE$410=\"\",\"\",報告書!$AE$410)","v":""},{"$f":"IF(報告書!$AL$410=\"\",\"\",報告書!$AL$410)","v":""},{"$f":"IF(報告書!$AO$410=\"\",\"\",報告書!$AO$410)","v":""},{"$f":"IF(報告書!$O$411=\"\",\"\",報告書!$O$411)","v":""},{"$f":"IF(報告書!$T$411=\"\",\"\",報告書!$T$411)","v":""},{"$f":"IF(報告書!$O$412=\"\",\"\",報告書!$O$412)","v":""},{"$f":"IF(報告書!$T$412=\"\",\"\",報告書!$T$412)","v":""},{"$f":"IF(報告書!$Y$412=\"\",\"\",報告書!$Y$412)","v":""},{"$f":"IF(報告書!$AE$412=\"\",\"\",報告書!$AE$412)","v":""},{"$f":"IF(報告書!$AJ$412=\"\",\"\",報告書!$AJ$412)","v":""},{"$f":"IF(報告書!$O$413=\"\",\"\",報告書!$O$413)","v":""},{"$f":"IF(報告書!$AA$413=\"\",\"\",報告書!$AA$413)","v":""},{"$f":"IF(報告書!$AF$413=\"\",\"\",報告書!$AF$413)","v":""},{"$f":"IF(報告書!$O$414=\"\",\"\",報告書!$O$414)","v":""},{"$f":"IF(報告書!$S$414=\"\",\"\",報告書!$S$414)","v":""},{"$f":"IF(報告書!$L$415=\"\",\"\",報告書!$L$415)","v":""},{"$f":"IF(報告書!$R$415=\"\",\"\",報告書!$R$415)","v":""},{"$f":"IF(報告書!$L$416=\"\",\"\",報告書!$L$416)","v":""},{"$f":"IF(報告書!$U$416=\"\",\"\",報告書!$U$416)","v":""},{"$f":"IF(報告書!$AE$416=\"\",\"\",報告書!$AE$416)","v":""},{"$f":"IF(報告書!$L$417=\"\",\"\",報告書!$L$417)","v":""},{"$f":"IF(報告書!$Q$417=\"\",\"\",報告書!$Q$417)","v":""},{"$f":"IF(報告書!$N$424=\"\",\"\",報告書!$N$424)","v":""},{"$f":"IF(報告書!$X$424=\"\",\"\",報告書!$X$424)","v":""},{"$f":"IF(報告書!$AG$424=\"\",\"\",報告書!$AG$424)","v":""},{"$f":"IF(報告書!$N$425=\"\",\"\",報告書!$N$425)","v":""},{"$nulls":4},{"$f":"IF(報告書!$N$430=\"\",\"\",報告書!$N$430)","v":""},{"$f":"IF(報告書!$Q$430=\"\",\"\",報告書!$Q$430)","v":"令和"},{"$f":"IF(報告書!$S$430=\"\",\"\",報告書!$S$430)","v":""},{"$f":"IF(報告書!$V$430=\"\",\"\",報告書!$V$430)","v":""},{"$f":"IF(報告書!$AG$430=\"\",\"\",報告書!$AG$430)","v":""},{"$f":"IF(報告書!$L$437=\"\",\"\",報告書!$L$437)","v":""},{"$f":"IF(報告書!$O$437=\"\",\"\",報告書!$O$437)","v":""},{"$f":"IF(報告書!$L$438=\"\",\"\",報告書!$L$438)","v":""},{"$f":"IF(報告書!$O$438=\"\",\"\",報告書!$O$438)","v":""},{"$f":"IF(報告書!$L$439=\"\",\"\",報告書!$L$439)","v":""},{"$f":"IF(報告書!$Q$439=\"\",\"\",報告書!$Q$439)","v":""},{"$f":"IF(報告書!$W$439=\"\",\"\",報告書!$W$439)","v":"令和"},{"$f":"IF(報告書!$Y$439=\"\",\"\",報告書!$Y$439)","v":""},{"$f":"IF(報告書!$AB$439=\"\",\"\",報告書!$AB$439)","v":""},{"$f":"IF(報告書!$AL$439=\"\",\"\",報告書!$AL$439)","v":""},{"$f":"IF(報告書!$C$451=\"\",\"\",報告書!$C$451)","v":"【国土交通大臣が定める検査項目の有無】"},{"$f":"IF(報告書!$C$452=\"\",\"\",報告書!$C$452)","v":""},{"$f":"IF(報告書!$C$453=\"\",\"\",報告書!$C$453)","v":""},{"$f":"IF(報告書!$C$454=\"\",\"\",報告書!$C$454)","v":""},{"$f":"IF(報告書!$C$455=\"\",\"\",報告書!$C$455)","v":""},{"$f":"IF(報告書!$C$456=\"\",\"\",報告書!$C$456)","v":""},{"$f":"IF(報告書!$C$457=\"\",\"\",報告書!$C$457)","v":""},{"$f":"IF(報告書!$C$458=\"\",\"\",報告書!$C$458)","v":""},{"$f":"IF(報告書!$C$459=\"\",\"\",報告書!$C$459)","v":""},{"$f":"IF(報告書!$C$460=\"\",\"\",報告書!$C$460)","v":""},{"$f":"IF(報告書!$C$461=\"\",\"\",報告書!$C$461)","v":""},{"$nulls":9},{"$f":"IF(報告書!$B$484=\"\",\"\",報告書!$B$484)","v":""},{"$f":"IF(報告書!$H$484=\"\",\"\",報告書!$H$484)","v":""},{"$f":"IF(報告書!$R$484=\"\",\"\",報告書!$R$484)","v":""},{"$f":"IF(報告書!$AB$484=\"\",\"\",報告書!$AB$484)","v":""},{"$f":"IF(報告書!$AH$484=\"\",\"\",報告書!$AH$484)","v":""},{"$f":"IF(報告書!$B$485=\"\",\"\",報告書!$B$485)","v":""},{"$f":"IF(報告書!$H$485=\"\",\"\",報告書!$H$485)","v":""},{"$f":"IF(報告書!$R$485=\"\",\"\",報告書!$R$485)","v":""},{"$f":"IF(報告書!$AB$485=\"\",\"\",報告書!$AB$485)","v":""},{"$f":"IF(報告書!$AH$485=\"\",\"\",報告書!$AH$485)","v":""},{"$f":"IF(報告書!$B$486=\"\",\"\",報告書!$B$486)","v":""},{"$f":"IF(報告書!$H$486=\"\",\"\",報告書!$H$486)","v":""},{"$f":"IF(報告書!$R$486=\"\",\"\",報告書!$R$486)","v":""},{"$f":"IF(報告書!$AB$486=\"\",\"\",報告書!$AB$486)","v":""},{"$f":"IF(報告書!$AH$486=\"\",\"\",報告書!$AH$486)","v":""},{"$nulls":10},{"$f":"IF(報告書!$B$499=\"\",\"\",報告書!$B$499)","v":""},{"$f":"IF(報告書!$H$499=\"\",\"\",報告書!$H$499)","v":""},{"$f":"IF(報告書!$R$499=\"\",\"\",報告書!$R$499)","v":""},{"$f":"IF(報告書!$AB$499=\"\",\"\",報告書!$AB$499)","v":""},{"$f":"IF(報告書!$AH$499=\"\",\"\",報告書!$AH$499)","v":""},{"$f":"IF(報告書!$B$500=\"\",\"\",報告書!$B$500)","v":""},{"$f":"IF(報告書!$H$500=\"\",\"\",報告書!$H$500)","v":""},{"$f":"IF(報告書!$R$500=\"\",\"\",報告書!$R$500)","v":""},{"$f":"IF(報告書!$AB$500=\"\",\"\",報告書!$AB$500)","v":""},{"$f":"IF(報告書!$AH$500=\"\",\"\",報告書!$AH$500)","v":""},{"$f":"IF(報告書!$B$501=\"\",\"\",報告書!$B$501)","v":""},{"$f":"IF(報告書!$H$501=\"\",\"\",報告書!$H$501)","v":""},{"$f":"IF(報告書!$R$501=\"\",\"\",報告書!$R$501)","v":""},{"$f":"IF(報告書!$AB$501=\"\",\"\",報告書!$AB$501)","v":""},{"$f":"IF(報告書!$AH$501=\"\",\"\",報告書!$AH$501)","v":""},{"$nulls":10},{"$f":"IF(報告書!$B$514=\"\",\"\",報告書!$B$514)","v":""},{"$f":"IF(報告書!$H$514=\"\",\"\",報告書!$H$514)","v":""},{"$f":"IF(報告書!$R$514=\"\",\"\",報告書!$R$514)","v":""},{"$f":"IF(報告書!$AB$514=\"\",\"\",報告書!$AB$514)","v":""},{"$f":"IF(報告書!$AH$514=\"\",\"\",報告書!$AH$514)","v":""},{"$f":"IF(報告書!$B$515=\"\",\"\",報告書!$B$515)","v":""},{"$f":"IF(報告書!$H$515=\"\",\"\",報告書!$H$515)","v":""},{"$f":"IF(報告書!$R$515=\"\",\"\",報告書!$R$515)","v":""},{"$f":"IF(報告書!$AB$515=\"\",\"\",報告書!$AB$515)","v":""},{"$f":"IF(報告書!$AH$515=\"\",\"\",報告書!$AH$515)","v":""},{"$f":"IF(報告書!$B$516=\"\",\"\",報告書!$B$516)","v":""},{"$f":"IF(報告書!$H$516=\"\",\"\",報告書!$H$516)","v":""},{"$f":"IF(報告書!$R$516=\"\",\"\",報告書!$R$516)","v":""},{"$f":"IF(報告書!$AB$516=\"\",\"\",報告書!$AB$516)","v":""},{"$f":"IF(報告書!$AH$516=\"\",\"\",報告書!$AH$516)","v":""},{"$nulls":10},{"$f":"IF(報告書!$B$529=\"\",\"\",報告書!$B$529)","v":""},{"$f":"IF(報告書!$H$529=\"\",\"\",報告書!$H$529)","v":""},{"$f":"IF(報告書!$R$529=\"\",\"\",報告書!$R$529)","v":""},{"$f":"IF(報告書!$AB$529=\"\",\"\",報告書!$AB$529)","v":""},{"$f":"IF(報告書!$AH$529=\"\",\"\",報告書!$AH$529)","v":""},{"$f":"IF(報告書!$B$530=\"\",\"\",報告書!$B$530)","v":""},{"$f":"IF(報告書!$H$530=\"\",\"\",報告書!$H$530)","v":""},{"$f":"IF(報告書!$R$530=\"\",\"\",報告書!$R$530)","v":""},{"$f":"IF(報告書!$AB$530=\"\",\"\",報告書!$AB$530)","v":""},{"$f":"IF(報告書!$AH$530=\"\",\"\",報告書!$AH$530)","v":""},{"$f":"IF(報告書!$B$531=\"\",\"\",報告書!$B$531)","v":""},{"$f":"IF(報告書!$H$531=\"\",\"\",報告書!$H$531)","v":""},{"$f":"IF(報告書!$R$531=\"\",\"\",報告書!$R$531)","v":""},{"$f":"IF(報告書!$AB$531=\"\",\"\",報告書!$AB$531)","v":""},{"$f":"IF(報告書!$AH$531=\"\",\"\",報告書!$AH$531)","v":""},{"$nulls":10},{"$f":"IF(報告書!$AD$1=\"\",\"\",報告書!$AD$1)","v":""},{"$f":"IF(報告書!$AF$1=\"\",\"\",報告書!$AF$1)","v":""},{"$f":"IF(報告書!$AG$1=\"\",\"\",報告書!$AG$1)","v":""},{"$f":"IF(報告書!$AI$1=\"\",\"\",報告書!$AI$1)","v":""},{"$f":"IF(報告書!$AJ$1=\"\",\"\",報告書!$AJ$1)","v":""},{"$f":"IF(報告書!$AL$1=\"\",\"\",報告書!$AL$1)","v":""},{"$f":"IF(報告書!$AM$1=\"\",\"\",報告書!$AM$1)","v":""},{"$f":"IF(報告書!$AO$1=\"\",\"\",報告書!$AO$1)","v":""},{"$f":"IF(報告書!$AP$1=\"\",\"\",報告書!$AP$1)","v":""},{"$f":"IF(報告書!$AQ$1=\"\",\"\",報告書!$AQ$1)","v":""},{"$f":"IF(報告書!$AR$1=\"\",\"\",報告書!$AR$1)","v":""},{"$f":"IF(報告書!$AT$1=\"\",\"\",報告書!$AT$1)","v":""},{"$f":"IF(報告書!$AL$2=\"\",\"\",報告書!$AL$2)","v":""},{"$f":"IF(報告書!$C$84=\"\",\"\",報告書!$C$84)","v":""},{"$f":"IF(報告書!$N$84=\"\",\"\",報告書!$N$84)","v":""},{"$f":"IF(報告書!$C$85=\"\",\"\",報告書!$C$85)","v":""},{"$f":"IF(報告書!$C$86=\"\",\"\",報告書!$C$86)","v":""},{"$f":"IF(報告書!$N$86=\"\",\"\",報告書!$N$86)","v":""},{"$f":"IF(報告書!$C$87=\"\",\"\",報告書!$C$87)","v":""},{"$f":"IF(報告書!$Z$84=\"\",\"\",報告書!$Z$84)","v":""},{"$f":"IF(報告書!$AK$84=\"\",\"\",報告書!$AK$84)","v":""},{"$f":"IF(報告書!$Z$85=\"\",\"\",報告書!$Z$85)","v":""},{"$f":"IF(報告書!$Z$86=\"\",\"\",報告書!$Z$86)","v":""},{"$f":"IF(報告書!$AK$86=\"\",\"\",報告書!$AK$86)","v":""},{"$f":"IF(報告書!$Z$87=\"\",\"\",報告書!$Z$87)","v":""},{"$f":"IF(報告書!$C$88=\"\",\"\",報告書!$C$88)","v":""},{"$f":"IF(報告書!$X$103=\"\",\"\",報告書!$X$103)","v":""},{"$f":"IF(報告書!$W$451=\"\",\"\",報告書!$W$451)","v":""},{"$f":"IF(報告書!$Z$451=\"\",\"\",報告書!$Z$451)","v":""},{"$f":"IF(報告書!$AC$451=\"\",\"\",報告書!$AC$451)","v":""},{"$f":"IF(報告書!$AF$451=\"\",\"\",報告書!$AF$451)","v":""},{"$f":"IF(報告書!$AL$451=\"\",\"\",報告書!$AL$451)","v":""},{"$f":"IF(報告書!BA113=\"\",\"\",報告書!BA113)","v":""},{"$f":"IF(報告書!BA417=\"\",\"\",報告書!BA417)","v":""},{"$f":"IF(報告書!$AN$79=\"\",\"\",報告書!$AN$79)","v":""},{"$nulls":19},{"$f":"報告_2_04換検査者代表_ハ_氏名","v":0},{"$f":"IF(換気検査結果表!$N$9=\"\",\"\",換気検査結果表!$N$9)","v":""},{"$f":"報告_2_04換検査者他1_ハ_氏名","v":0},{"$f":"IF(換気検査結果表!$N$10=\"\",\"\",換気検査結果表!$N$10)","v":""},{"$f":"報告_2_04換検査者他2_ハ_氏名","v":0},{"$f":"IF(換気検査結果表!$N$11=\"\",\"\",換気検査結果表!$N$11)","v":""},{"$f":"IF(換気検査結果表!$M$24=\"―\",\"該当なし\",IF(換気検査結果表!$L$24=\"○\",\"指摘なし\",IF(換気検査結果表!$N$24=\"○\",\"既存不適格\",IF(換気検査結果表!$M$24=\"○\",\"要是正\"))))","v":false},{"$f":"IF(換気検査結果表!$O$24=\"\",\"\",換気検査結果表!$O$24)","v":""},{"$f":"IF(換気検査結果表!$M$25=\"―\",\"該当なし\",IF(換気検査結果表!$L$25=\"○\",\"指摘なし\",IF(換気検査結果表!$N$25=\"○\",\"既存不適格\",IF(換気検査結果表!$M$25=\"○\",\"要是正\"))))","v":false},{"$f":"IF(換気検査結果表!$O$25=\"\",\"\",換気検査結果表!$O$25)","v":""},{"$f":"IF(換気検査結果表!$M$26=\"―\",\"該当なし\",IF(換気検査結果表!$L$26=\"○\",\"指摘なし\",IF(換気検査結果表!$N$26=\"○\",\"既存不適格\",IF(換気検査結果表!$M$26=\"○\",\"要是正\"))))","v":false},{"$f":"IF(換気検査結果表!$O$26=\"\",\"\",換気検査結果表!$O$26)","v":""},{"$f":"IF(換気検査結果表!$M$27=\"―\",\"該当なし\",IF(換気検査結果表!$L$27=\"○\",\"指摘なし\",IF(換気検査結果表!$N$27=\"○\",\"既存不適格\",IF(換気検査結果表!$M$27=\"○\",\"要是正\"))))","v":false},{"$f":"IF(換気検査結果表!$O$27=\"\",\"\",換気検査結果表!$O$27)","v":""},{"$f":"IF(換気検査結果表!$M$28=\"―\",\"該当なし\",IF(換気検査結果表!$L$28=\"○\",\"指摘なし\",IF(換気検査結果表!$N$28=\"○\",\"既存不適格\",IF(換気検査結果表!$M$28=\"○\",\"要是正\"))))","v":false},{"$f":"IF(換気検査結果表!$O$28=\"\",\"\",換気検査結果表!$O$28)","v":""},{"$f":"IF(換気検査結果表!$M$29=\"―\",\"該当なし\",IF(換気検査結果表!$L$29=\"○\",\"指摘なし\",IF(換気検査結果表!$N$29=\"○\",\"既存不適格\",IF(換気検査結果表!$M$29=\"○\",\"要是正\"))))","v":false},{"$f":"IF(換気検査結果表!$O$29=\"\",\"\",換気検査結果表!$O$29)","v":""},{"$f":"IF(換気検査結果表!$M$30=\"―\",\"該当なし\",IF(換気検査結果表!$L$30=\"○\",\"指摘なし\",IF(換気検査結果表!$N$30=\"○\",\"既存不適格\",IF(換気検査結果表!$M$30=\"○\",\"要是正\"))))","v":false},{"$f":"IF(換気検査結果表!$O$30=\"\",\"\",換気検査結果表!$O$30)","v":""},{"$f":"IF(換気検査結果表!$M$31=\"―\",\"該当なし\",IF(換気検査結果表!$L$31=\"○\",\"指摘なし\",IF(換気検査結果表!$N$31=\"○\",\"既存不適格\",IF(換気検査結果表!$M$31=\"○\",\"要是正\"))))","v":false},{"$f":"IF(換気検査結果表!$O$31=\"\",\"\",換気検査結果表!$O$31)","v":""},{"$f":"IF(換気検査結果表!$M$32=\"―\",\"該当なし\",IF(換気検査結果表!$L$32=\"○\",\"指摘なし\",IF(換気検査結果表!$N$32=\"○\",\"既存不適格\",IF(換気検査結果表!$M$32=\"○\",\"要是正\"))))","v":false},{"$f":"IF(換気検査結果表!$O$32=\"\",\"\",換気検査結果表!$O$32)","v":""},{"$f":"IF(換気検査結果表!$L$33=\"実施せず\",\"実施せず\",IF(換気検査結果表!$M$33=\"―\",\"該当なし\",IF(換気検査結果表!$L$33=\"○\",\"指摘なし\",IF(換気検査結果表!$N$33=\"○\",\"既存不適格\",IF(換気検査結果表!$M$33=\"○\",\"要是正\")))))","v":false},{"$f":"IF(換気検査結果表!$O$33=\"\",\"\",換気検査結果表!$O$33)","v":""},{"$f":"IF(換気検査結果表!$L$34=\"実施せず\",\"実施せず\",IF(換気検査結果表!$M$34=\"―\",\"該当なし\",IF(換気検査結果表!$L$34=\"○\",\"指摘なし\",IF(換気検査結果表!$N$34=\"○\",\"既存不適格\",IF(換気検査結果表!$M$34=\"○\",\"要是正\")))))","v":false},{"$f":"IF(換気検査結果表!$O$34=\"\",\"\",換気検査結果表!$O$34)","v":""},{"$f":"IF(換気検査結果表!$M$35=\"―\",\"該当なし\",IF(換気検査結果表!$L$35=\"○\",\"指摘なし\",IF(換気検査結果表!$N$35=\"○\",\"既存不適格\",IF(換気検査結果表!$M$35=\"○\",\"要是正\"))))","v":false},{"$f":"IF(換気検査結果表!$O$35=\"\",\"\",換気検査結果表!$O$35)","v":""},{"$f":"IF(換気検査結果表!$M$36=\"―\",\"該当なし\",IF(換気検査結果表!$L$36=\"○\",\"指摘なし\",IF(換気検査結果表!$N$36=\"○\",\"既存不適格\",IF(換気検査結果表!$M$36=\"○\",\"要是正\"))))","v":false},{"$f":"IF(換気検査結果表!$O$36=\"\",\"\",換気検査結果表!$O$36)","v":""},{"$f":"IF(換気検査結果表!$M$37=\"―\",\"該当なし\",IF(換気検査結果表!$L$37=\"○\",\"指摘なし\",IF(換気検査結果表!$N$37=\"○\",\"既存不適格\",IF(換気検査結果表!$M$37=\"○\",\"要是正\"))))","v":false},{"$f":"IF(換気検査結果表!$O$37=\"\",\"\",換気検査結果表!$O$37)","v":""},{"$f":"IF(換気検査結果表!$M$38=\"―\",\"該当なし\",IF(換気検査結果表!$L$38=\"○\",\"指摘なし\",IF(換気検査結果表!$N$38=\"○\",\"既存不適格\",IF(換気検査結果表!$M$38=\"○\",\"要是正\"))))","v":false},{"$f":"IF(換気検査結果表!$O$38=\"\",\"\",換気検査結果表!$O$38)","v":""},{"$f":"IF(換気検査結果表!$M$39=\"―\",\"該当なし\",IF(換気検査結果表!$L$39=\"○\",\"指摘なし\",IF(換気検査結果表!$N$39=\"○\",\"既存不適格\",IF(換気検査結果表!$M$39=\"○\",\"要是正\"))))","v":false},{"$f":"IF(換気検査結果表!$O$39=\"\",\"\",換気検査結果表!O42)","v":""},{"$f":"IF(換気検査結果表!$L$40=\"実施せず\",\"実施せず\",IF(換気検査結果表!$M$40=\"―\",\"該当なし\",IF(換気検査結果表!$L$40=\"○\",\"指摘なし\",IF(換気検査結果表!$N$40=\"○\",\"既存不適格\",IF(換気検査結果表!$M$40=\"○\",\"要是正\")))))","v":false},{"$f":"IF(換気検査結果表!O43=\"\",\"\",換気検査結果表!$O$40)","v":""},{"$f":"IF(換気検査結果表!$L$41=\"実施せず\",\"実施せず\",IF(換気検査結果表!$M$41=\"―\",\"該当なし\",IF(換気検査結果表!$L$41=\"○\",\"指摘なし\",IF(換気検査結果表!$N$41=\"○\",\"既存不適格\",IF(換気検査結果表!$M$41=\"○\",\"要是正\")))))","v":false},{"$f":"IF(換気検査結果表!$O$41=\"\",\"\",換気検査結果表!O44)","v":""},{"$f":"IF(換気検査結果表!$L$42=\"実施せず\",\"実施せず\",IF(換気検査結果表!$M$42=\"―\",\"該当なし\",IF(換気検査結果表!$L$42=\"○\",\"指摘なし\",IF(換気検査結果表!$N$42=\"○\",\"既存不適格\",IF(換気検査結果表!$M$42=\"○\",\"要是正\")))))","v":false},{"$f":"IF(換気検査結果表!O45=\"\",\"\",換気検査結果表!$O$42)","v":""},{"$f":"IF(換気検査結果表!$L$43=\"実施せず\",\"実施せず\",IF(換気検査結果表!$M$43=\"―\",\"該当なし\",IF(換気検査結果表!$L$43=\"○\",\"指摘なし\",IF(換気検査結果表!$N$43=\"○\",\"既存不適格\",IF(換気検査結果表!$M$43=\"○\",\"要是正\")))))","v":false},{"$f":"IF(換気検査結果表!$O$43=\"\",\"\",換気検査結果表!$O$43)","v":""},{"$f":"IF(換気検査結果表!$L$44=\"実施せず\",\"実施せず\",IF(換気検査結果表!$M$44=\"―\",\"該当なし\",IF(換気検査結果表!$L$44=\"○\",\"指摘なし\",IF(換気検査結果表!$N$44=\"○\",\"既存不適格\",IF(換気検査結果表!$M$44=\"○\",\"要是正\")))))","v":false},{"$f":"IF(換気検査結果表!$O$44=\"\",\"\",換気検査結果表!$O$44)","v":""},{"$f":"IF(換気検査結果表!$L$45=\"実施せず\",\"実施せず\",IF(換気検査結果表!$M$45=\"―\",\"該当なし\",IF(換気検査結果表!$L$45=\"○\",\"指摘なし\",IF(換気検査結果表!$N$45=\"○\",\"既存不適格\",IF(換気検査結果表!$M$45=\"○\",\"要是正\")))))","v":false},{"$f":"IF(換気検査結果表!$O$45=\"\",\"\",換気検査結果表!$O$45)","v":""},{"$f":"IF(換気検査結果表!$M$49=\"―\",\"該当なし\",IF(換気検査結果表!$L$49=\"○\",\"指摘なし\",IF(換気検査結果表!$N$49=\"○\",\"既存不適格\",IF(換気検査結果表!$M$49=\"○\",\"要是正\"))))","v":false},{"$f":"IF(換気検査結果表!$O$49=\"\",\"\",換気検査結果表!$O$49)","v":""},{"$f":"IF(換気検査結果表!$M$50=\"―\",\"該当なし\",IF(換気検査結果表!$L$50=\"○\",\"指摘なし\",IF(換気検査結果表!$N$50=\"○\",\"既存不適格\",IF(換気検査結果表!$M$50=\"○\",\"要是正\"))))","v":false},{"$f":"IF(換気検査結果表!$O$50=\"\",\"\",換気検査結果表!$O$50)","v":""},{"$f":"IF(換気検査結果表!$M$51=\"―\",\"該当なし\",IF(換気検査結果表!$L$51=\"○\",\"指摘なし\",IF(換気検査結果表!$N$51=\"○\",\"既存不適格\",IF(換気検査結果表!$M$51=\"○\",\"要是正\"))))","v":false},{"$f":"IF(換気検査結果表!$O$51=\"\",\"\",換気検査結果表!$O$51)","v":""},{"$f":"IF(換気検査結果表!$M$52=\"―\",\"該当なし\",IF(換気検査結果表!$L$52=\"○\",\"指摘なし\",IF(換気検査結果表!$N$52=\"○\",\"既存不適格\",IF(換気検査結果表!$M$52=\"○\",\"要是正\"))))","v":false},{"$f":"IF(換気検査結果表!$O$52=\"\",\"\",換気検査結果表!$O$52)","v":""},{"$f":"IF(換気検査結果表!$M$53=\"―\",\"該当なし\",IF(換気検査結果表!$L$53=\"○\",\"指摘なし\",IF(換気検査結果表!$N$53=\"○\",\"既存不適格\",IF(換気検査結果表!$M$53=\"○\",\"要是正\"))))","v":false},{"$f":"IF(換気検査結果表!$O$53=\"\",\"\",換気検査結果表!$O$53)","v":""},{"$f":"IF(換気検査結果表!$M$54=\"―\",\"該当なし\",IF(換気検査結果表!$L$54=\"○\",\"指摘なし\",IF(換気検査結果表!$N$54=\"○\",\"既存不適格\",IF(換気検査結果表!$M$54=\"○\",\"要是正\"))))","v":false},{"$f":"IF(換気検査結果表!$O$54=\"\",\"\",換気検査結果表!$O$54)","v":""},{"$f":"IF(換気検査結果表!$M$55=\"―\",\"該当なし\",IF(換気検査結果表!$L$55=\"○\",\"指摘なし\",IF(換気検査結果表!$N$55=\"○\",\"既存不適格\",IF(換気検査結果表!$M$55=\"○\",\"要是正\"))))","v":false},{"$f":"IF(換気検査結果表!$O$55=\"\",\"\",換気検査結果表!$O$55)","v":""},{"$f":"IF(換気検査結果表!$M$56=\"―\",\"該当なし\",IF(換気検査結果表!$L$56=\"○\",\"指摘なし\",IF(換気検査結果表!$N$56=\"○\",\"既存不適格\",IF(換気検査結果表!$M$56=\"○\",\"要是正\"))))","v":false},{"$f":"IF(換気検査結果表!$O$56=\"\",\"\",換気検査結果表!$O$56)","v":""},{"$f":"IF(換気検査結果表!$M$57=\"―\",\"該当なし\",IF(換気検査結果表!$L$57=\"○\",\"指摘なし\",IF(換気検査結果表!$N$57=\"○\",\"既存不適格\",IF(換気検査結果表!$M$57=\"○\",\"要是正\"))))","v":false},{"$f":"IF(換気検査結果表!$O$57=\"\",\"\",換気検査結果表!$O$57)","v":""},{"$f":"IF(換気検査結果表!$M$64=\"―\",\"該当なし\",IF(換気検査結果表!$L$64=\"○\",\"指摘なし\",IF(換気検査結果表!$N$64=\"○\",\"既存不適格\",IF(換気検査結果表!$M$64=\"○\",\"要是正\"))))","v":false},{"$f":"IF(換気検査結果表!$O$64=\"\",\"\",換気検査結果表!$O$64)","v":""},{"$f":"IF(換気検査結果表!$M$65=\"―\",\"該当なし\",IF(換気検査結果表!$L$65=\"○\",\"指摘なし\",IF(換気検査結果表!$N$65=\"○\",\"既存不適格\",IF(換気検査結果表!$M$65=\"○\",\"要是正\"))))","v":false},{"$f":"IF(換気検査結果表!$O$65=\"\",\"\",換気検査結果表!$O$65)","v":""},{"$f":"IF(換気検査結果表!$M$66=\"―\",\"該当なし\",IF(換気検査結果表!$L$66=\"○\",\"指摘なし\",IF(換気検査結果表!$N$66=\"○\",\"既存不適格\",IF(換気検査結果表!$M$66=\"○\",\"要是正\"))))","v":false},{"$f":"IF(換気検査結果表!$O$66=\"\",\"\",換気検査結果表!$O$66)","v":""},{"$f":"IF(換気検査結果表!$M$67=\"―\",\"該当なし\",IF(換気検査結果表!$L$67=\"○\",\"指摘なし\",IF(換気検査結果表!$N$67=\"○\",\"既存不適格\",IF(換気検査結果表!$M$67=\"○\",\"要是正\"))))","v":false},{"$f":"IF(換気検査結果表!$O$67=\"\",\"\",換気検査結果表!$O$67)","v":""},{"$f":"IF(換気検査結果表!$M$68=\"―\",\"該当なし\",IF(換気検査結果表!$L$68=\"○\",\"指摘なし\",IF(換気検査結果表!$N$68=\"○\",\"既存不適格\",IF(換気検査結果表!$M$68=\"○\",\"要是正\"))))","v":false},{"$f":"IF(換気検査結果表!$O$68=\"\",\"\",換気検査結果表!$O$68)","v":""},{"$f":"IF(換気検査結果表!$M$69=\"―\",\"該当なし\",IF(換気検査結果表!$L$69=\"○\",\"指摘なし\",IF(換気検査結果表!$N$69=\"○\",\"既存不適格\",IF(換気検査結果表!$M$69=\"○\",\"要是正\"))))","v":false},{"$f":"IF(換気検査結果表!$O$69=\"\",\"\",換気検査結果表!$O$69)","v":""},{"$f":"IF(換気検査結果表!$M$70=\"―\",\"該当なし\",IF(換気検査結果表!$L$70=\"○\",\"指摘なし\",IF(換気検査結果表!$N$70=\"○\",\"既存不適格\",IF(換気検査結果表!$M$70=\"○\",\"要是正\"))))","v":false},{"$f":"IF(換気検査結果表!$O$70=\"\",\"\",換気検査結果表!$O$70)","v":""},{"$f":"IF(換気検査結果表!$M$71=\"―\",\"該当なし\",IF(換気検査結果表!$L$71=\"○\",\"指摘なし\",IF(換気検査結果表!$N$71=\"○\",\"既存不適格\",IF(換気検査結果表!$M$71=\"○\",\"要是正\"))))","v":false},{"$f":"IF(換気検査結果表!$O$71=\"\",\"\",換気検査結果表!$O$71)","v":""},{"$f":"IF(換気検査結果表!$M$72=\"―\",\"該当なし\",IF(換気検査結果表!$L$72=\"○\",\"指摘なし\",IF(換気検査結果表!$N$72=\"○\",\"既存不適格\",IF(換気検査結果表!$M$72=\"○\",\"要是正\"))))","v":false},{"$f":"IF(換気検査結果表!$O$72=\"\",\"\",換気検査結果表!$O$72)","v":""},{"$f":"IF(換気検査結果表!$M$73=\"―\",\"該当なし\",IF(換気検査結果表!$L$73=\"○\",\"指摘なし\",IF(換気検査結果表!$N$73=\"○\",\"既存不適格\",IF(換気検査結果表!$M$73=\"○\",\"要是正\"))))","v":"該当なし"},null,{"$f":"IF(換気検査結果表!$M$74=\"―\",\"該当なし\",IF(換気検査結果表!$L$74=\"○\",\"指摘なし\",IF(換気検査結果表!$N$74=\"○\",\"既存不適格\",IF(換気検査結果表!$M$74=\"○\",\"要是正\"))))","v":false},{"$f":"IF(換気検査結果表!$O$74=\"\",\"\",換気検査結果表!$O$74)","v":""},{"$f":"IF(換気検査結果表!$M$75=\"―\",\"該当なし\",IF(換気検査結果表!$L$75=\"○\",\"指摘なし\",IF(換気検査結果表!$N$75=\"○\",\"既存不適格\",IF(換気検査結果表!$M$75=\"○\",\"要是正\"))))","v":false},{"$f":"IF(換気検査結果表!$O$75=\"\",\"\",換気検査結果表!$O$75)","v":""},{"$f":"IF(換気検査結果表!$M$76=\"―\",\"該当なし\",IF(換気検査結果表!$L$76=\"○\",\"指摘なし\",IF(換気検査結果表!$N$76=\"○\",\"既存不適格\",IF(換気検査結果表!$M$76=\"○\",\"要是正\"))))","v":false},{"$f":"IF(換気検査結果表!$O$76=\"\",\"\",換気検査結果表!$O$76)","v":""},{"$f":"IF(換気検査結果表!$L$77=\"測定できず\",\"測定できず\",IF(換気検査結果表!$M$77=\"―\",\"該当なし\",IF(換気検査結果表!$L$77=\"○\",\"指摘なし\",IF(換気検査結果表!$N$77=\"○\",\"既存不適格\",IF(換気検査結果表!$M$77=\"○\",\"要是正\")))))","v":false},{"$f":"IF(換気検査結果表!$O$77=\"\",\"\",換気検査結果表!$O$77)","v":""},{"$f":"IF(換気検査結果表!$M$82=\"―\",\"該当なし\",IF(換気検査結果表!$L$82=\"○\",\"指摘なし\",IF(換気検査結果表!$N$82=\"○\",\"既存不適格\",IF(換気検査結果表!$M$82=\"○\",\"要是正\"))))","v":false},{"$f":"IF(換気検査結果表!$O$82=\"\",\"\",換気検査結果表!$O$82)","v":""},{"$f":"IF(換気検査結果表!$M$83=\"―\",\"該当なし\",IF(換気検査結果表!$L$83=\"○\",\"指摘なし\",IF(換気検査結果表!$N$83=\"○\",\"既存不適格\",IF(換気検査結果表!$M$83=\"○\",\"要是正\"))))","v":false},{"$f":"IF(換気検査結果表!$O$83=\"\",\"\",換気検査結果表!$O$83)","v":""},{"$f":"IF(換気検査結果表!$M$84=\"―\",\"該当なし\",IF(換気検査結果表!$L$84=\"○\",\"指摘なし\",IF(換気検査結果表!$N$84=\"○\",\"既存不適格\",IF(換気検査結果表!$M$84=\"○\",\"要是正\"))))","v":false},{"$f":"IF(換気検査結果表!$O$84=\"\",\"\",換気検査結果表!$O$84)","v":""},{"$f":"IF(換気検査結果表!$M$85=\"―\",\"該当なし\",IF(換気検査結果表!$L$85=\"○\",\"指摘なし\",IF(換気検査結果表!$N$85=\"○\",\"既存不適格\",IF(換気検査結果表!$M$85=\"○\",\"要是正\"))))","v":false},{"$f":"IF(換気検査結果表!$O$85=\"\",\"\",換気検査結果表!$O$85)","v":""},{"$f":"IF(換気検査結果表!$M$86=\"―\",\"該当なし\",IF(換気検査結果表!$L$86=\"○\",\"指摘なし\",IF(換気検査結果表!$N$86=\"○\",\"既存不適格\",IF(換気検査結果表!$M$86=\"○\",\"要是正\"))))","v":false},{"$f":"IF(換気検査結果表!$O$86=\"\",\"\",換気検査結果表!$O$86)","v":""},{"$f":"IF(換気検査結果表!$M$87=\"―\",\"該当なし\",IF(換気検査結果表!$L$87=\"○\",\"指摘なし\",IF(換気検査結果表!$N$87=\"○\",\"既存不適格\",IF(換気検査結果表!$M$87=\"○\",\"要是正\"))))","v":false},{"$f":"IF(換気検査結果表!$O$87=\"\",\"\",換気検査結果表!$O$87)","v":""},{"$f":"IF(換気検査結果表!$M$88=\"―\",\"該当なし\",IF(換気検査結果表!$L$88=\"○\",\"指摘なし\",IF(換気検査結果表!$N$88=\"○\",\"既存不適格\",IF(換気検査結果表!$M$88=\"○\",\"要是正\"))))","v":false},{"$f":"IF(換気検査結果表!$O$88=\"\",\"\",換気検査結果表!$O$88)","v":""},{"$f":"IF(換気検査結果表!$M$89=\"―\",\"該当なし\",IF(換気検査結果表!$L$89=\"○\",\"指摘なし\",IF(換気検査結果表!$N$89=\"○\",\"既存不適格\",IF(換気検査結果表!$M$89=\"○\",\"要是正\"))))","v":false},{"$f":"IF(換気検査結果表!$O$89=\"\",\"\",換気検査結果表!$O$89)","v":""},{"$f":"IF(換気検査結果表!$M$90=\"―\",\"該当なし\",IF(換気検査結果表!$L$90=\"○\",\"指摘なし\",IF(換気検査結果表!$N$90=\"○\",\"既存不適格\",IF(換気検査結果表!$M$90=\"○\",\"要是正\"))))","v":false},{"$f":"IF(換気検査結果表!$O$90=\"\",\"\",換気検査結果表!$O$90)","v":""},{"$f":"IF(換気検査結果表!$D$97=\"\",\"\",換気検査結果表!$D$97)","v":""},{"$f":"IF(換気検査結果表!$L$97=\"○\",\"指摘なし\",IF(換気検査結果表!$N$97=\"○\",\"既存不適格\",IF(換気検査結果表!$M$97=\"○\",\"要是正\")))","v":false},{"$f":"IF(換気検査結果表!$O$97=\"\",\"\",換気検査結果表!$O$97)","v":""},{"$f":"IF(換気検査結果表!$D$98=\"\",\"\",換気検査結果表!$D$98)","v":""},{"$f":"IF(換気検査結果表!$L$98=\"○\",\"指摘なし\",IF(換気検査結果表!$N$98=\"○\",\"既存不適格\",IF(換気検査結果表!$M$98=\"○\",\"要是正\")))","v":false},{"$f":"IF(換気検査結果表!$O$98=\"\",\"\",換気検査結果表!$O$98)","v":""},{"$f":"IF(換気検査結果表!$D$99=\"\",\"\",換気検査結果表!$D$99)","v":""},{"$f":"IF(換気検査結果表!$L$99=\"○\",\"指摘なし\",IF(換気検査結果表!$N$99=\"○\",\"既存不適格\",IF(換気検査結果表!$M$99=\"○\",\"要是正\")))","v":false},{"$f":"IF(換気検査結果表!$O$99=\"\",\"\",換気検査結果表!$O$99)","v":""},{"$f":"IF(換気検査結果表!$D$100=\"\",\"\",換気検査結果表!$D$100)","v":""},{"$f":"IF(換気検査結果表!$L$100=\"○\",\"指摘なし\",IF(換気検査結果表!$N$100=\"○\",\"既存不適格\",IF(換気検査結果表!$M$100=\"○\",\"要是正\")))","v":false},{"$f":"IF(換気検査結果表!$O$100=\"\",\"\",換気検査結果表!$O$100)","v":""},{"$f":"IF(換気検査結果表!$D$101=\"\",\"\",換気検査結果表!$D$101)","v":""},{"$f":"IF(換気検査結果表!$L$101=\"○\",\"指摘なし\",IF(換気検査結果表!$N$101=\"○\",\"既存不適格\",IF(換気検査結果表!$M$101=\"○\",\"要是正\")))","v":false},{"$f":"IF(換気検査結果表!$O$101=\"\",\"\",換気検査結果表!$O$101)","v":""},{"$f":"IF(換気検査結果表!$D$102=\"\",\"\",換気検査結果表!$D$102)","v":""},{"$f":"IF(換気検査結果表!$L$102=\"○\",\"指摘なし\",IF(換気検査結果表!$N$102=\"○\",\"既存不適格\",IF(換気検査結果表!$M$102=\"○\",\"要是正\")))","v":false},{"$f":"IF(換気検査結果表!$O$102=\"\",\"\",換気検査結果表!$O$102)","v":""},{"$f":"IF(換気検査結果表!$D$103=\"\",\"\",換気検査結果表!$D$103)","v":""},{"$f":"IF(換気検査結果表!$L$103=\"○\",\"指摘なし\",IF(換気検査結果表!$N$103=\"○\",\"既存不適格\",IF(換気検査結果表!$M$103=\"○\",\"要是正\")))","v":false},{"$f":"IF(換気検査結果表!$O$103=\"\",\"\",換気検査結果表!$O$103)","v":""},{"$f":"IF(換気検査結果表!$D$104=\"\",\"\",換気検査結果表!$D$104)","v":""},{"$f":"IF(換気検査結果表!$L$104=\"○\",\"指摘なし\",IF(換気検査結果表!$N$104=\"○\",\"既存不適格\",IF(換気検査結果表!$M$104=\"○\",\"要是正\")))","v":false},{"$f":"IF(換気検査結果表!$O$104=\"\",\"\",換気検査結果表!$O$104)","v":""},{"$f":"IF(換気検査結果表!$D$105=\"\",\"\",換気検査結果表!$D$105)","v":""},{"$f":"IF(換気検査結果表!$L$105=\"○\",\"指摘なし\",IF(換気検査結果表!$N$105=\"○\",\"既存不適格\",IF(換気検査結果表!$M$105=\"○\",\"要是正\")))","v":false},{"$f":"IF(換気検査結果表!$O$105=\"\",\"\",換気検査結果表!$O$105)","v":""},{"$f":"IF(換気検査結果表!$D$106=\"\",\"\",換気検査結果表!$D$106)","v":""},{"$f":"IF(換気検査結果表!$L$106=\"○\",\"指摘なし\",IF(換気検査結果表!$N$106=\"○\",\"既存不適格\",IF(換気検査結果表!$M$106=\"○\",\"要是正\")))","v":false},{"$f":"IF(換気検査結果表!$O$106=\"\",\"\",換気検査結果表!$O$106)","v":""},{"$f":"IF(換気検査結果表!$C$109=\"\",\"\",換気検査結果表!$C$109)","v":""},{"$f":"IF(換気検査結果表!$H$109=\"\",\"\",換気検査結果表!$H$109)","v":""},{"$f":"IF(換気検査結果表!$I$109=\"\",\"\",換気検査結果表!$I$109)","v":""},{"$f":"IF(換気検査結果表!$O$109=\"\",\"\",換気検査結果表!$O$109)","v":""},{"$f":"IF(換気検査結果表!$C$110=\"\",\"\",換気検査結果表!$C$110)","v":""},{"$f":"IF(換気検査結果表!$H$110=\"\",\"\",換気検査結果表!$H$110)","v":""},{"$f":"IF(換気検査結果表!$I$110=\"\",\"\",換気検査結果表!$I$110)","v":""},{"$f":"IF(換気検査結果表!$O$110=\"\",\"\",換気検査結果表!$O$110)","v":""},{"$f":"IF(換気検査結果表!$C$111=\"\",\"\",換気検査結果表!$C$111)","v":""},{"$f":"IF(換気検査結果表!$H$111=\"\",\"\",換気検査結果表!$H$111)","v":""},{"$f":"IF(換気検査結果表!$I$111=\"\",\"\",換気検査結果表!$I$111)","v":""},{"$f":"IF(換気検査結果表!$O$111=\"\",\"\",換気検査結果表!$O$111)","v":""},{"$f":"IF(換気検査結果表!$C$112=\"\",\"\",換気検査結果表!$C$112)","v":""},{"$f":"IF(換気検査結果表!$H$112=\"\",\"\",換気検査結果表!$H$112)","v":""},{"$f":"IF(換気検査結果表!$I$112=\"\",\"\",換気検査結果表!$I$112)","v":""},{"$f":"IF(換気検査結果表!$O$112=\"\",\"\",換気検査結果表!$O$112)","v":""},{"$f":"IF(換気検査結果表!$C$113=\"\",\"\",換気検査結果表!$C$113)","v":""},{"$f":"IF(換気検査結果表!$H$113=\"\",\"\",換気検査結果表!$H$113)","v":""},{"$f":"IF(換気検査結果表!$I$113=\"\",\"\",換気検査結果表!$I$113)","v":""},{"$f":"IF(換気検査結果表!$O$113=\"\",\"\",換気検査結果表!$O$113)","v":""},{"$f":"IF(換気検査結果表!$C$114=\"\",\"\",換気検査結果表!$C$114)","v":""},{"$f":"IF(換気検査結果表!$H$114=\"\",\"\",換気検査結果表!$H$114)","v":""},{"$f":"IF(換気検査結果表!$I$114=\"\",\"\",換気検査結果表!$I$114)","v":""},{"$f":"IF(換気検査結果表!$O$114=\"\",\"\",換気検査結果表!$O$114)","v":""},{"$f":"IF(換気検査結果表!$C$115=\"\",\"\",換気検査結果表!$C$115)","v":""},{"$f":"IF(換気検査結果表!$H$115=\"\",\"\",換気検査結果表!$H$115)","v":""},{"$f":"IF(換気検査結果表!$I$115=\"\",\"\",換気検査結果表!$I$115)","v":""},{"$f":"IF(換気検査結果表!$O$115=\"\",\"\",換気検査結果表!$O$115)","v":""},{"$f":"IF(換気検査結果表!$C$116=\"\",\"\",換気検査結果表!$C$116)","v":""},{"$f":"IF(換気検査結果表!$H$116=\"\",\"\",換気検査結果表!$H$116)","v":""},{"$f":"IF(換気検査結果表!$I$116=\"\",\"\",換気検査結果表!$I$116)","v":""},{"$f":"IF(換気検査結果表!$O$116=\"\",\"\",換気検査結果表!$O$116)","v":""},{"$f":"IF(換気検査結果表!$C$117=\"\",\"\",換気検査結果表!$C$117)","v":""},{"$f":"IF(換気検査結果表!$H$117=\"\",\"\",換気検査結果表!$H$117)","v":""},{"$f":"IF(換気検査結果表!$I$117=\"\",\"\",換気検査結果表!$I$117)","v":""},{"$f":"IF(換気検査結果表!$O$117=\"\",\"\",換気検査結果表!$O$117)","v":""},{"$f":"IF(換気検査結果表!$C$118=\"\",\"\",換気検査結果表!$C$118)","v":""},{"$f":"IF(換気検査結果表!$H$118=\"\",\"\",換気検査結果表!$H$118)","v":""},{"$f":"IF(換気検査結果表!$I$118=\"\",\"\",換気検査結果表!$I$118)","v":""},{"$f":"IF(換気検査結果表!$O$118=\"\",\"\",換気検査結果表!$O$118)","v":""},{"$nulls":6},{"$f":"報告_2_08排検査者代表_ハ_氏名","v":0},{"$f":"IF(排煙検査結果表!$N$9=\"\",\"\",排煙検査結果表!$N$9)","v":""},{"$f":"報告_2_08排検査者他1_ハ_氏名","v":0},{"$f":"IF(排煙検査結果表!$N$10=\"\",\"\",排煙検査結果表!$N$10)","v":""},{"$f":"報告_2_08排検査者他2_ハ_氏名","v":0},{"$f":"IF(排煙検査結果表!$N$11=\"\",\"\",排煙検査結果表!$N$11)","v":""},{"$f":"IF(排煙検査結果表!$M$25=\"―\",\"該当なし\",IF(排煙検査結果表!$L$25=\"○\",\"指摘なし\",IF(排煙検査結果表!$N$25=\"○\",\"既存不適格\",IF(排煙検査結果表!$M$25=\"○\",\"要是正\"))))","v":false},{"$f":"IF(排煙検査結果表!$O$25=\"\",\"\",排煙検査結果表!$O$25)","v":""},{"$f":"IF(排煙検査結果表!$M$26=\"―\",\"該当なし\",IF(排煙検査結果表!$L$26=\"○\",\"指摘なし\",IF(排煙検査結果表!$N$26=\"○\",\"既存不適格\",IF(排煙検査結果表!$M$26=\"○\",\"要是正\"))))","v":false},{"$f":"IF(排煙検査結果表!$O$26=\"\",\"\",排煙検査結果表!$O$26)","v":""},{"$f":"IF(排煙検査結果表!$M$27=\"―\",\"該当なし\",IF(排煙検査結果表!$L$27=\"○\",\"指摘なし\",IF(排煙検査結果表!$N$27=\"○\",\"既存不適格\",IF(排煙検査結果表!$M$27=\"○\",\"要是正\"))))","v":false},{"$f":"IF(排煙検査結果表!$O$27=\"\",\"\",排煙検査結果表!$O$27)","v":""},{"$f":"IF(排煙検査結果表!$M$28=\"―\",\"該当なし\",IF(排煙検査結果表!$L$28=\"○\",\"指摘なし\",IF(排煙検査結果表!$N$28=\"○\",\"既存不適格\",IF(排煙検査結果表!$M$28=\"○\",\"要是正\"))))","v":false},{"$f":"IF(排煙検査結果表!$O$28=\"\",\"\",排煙検査結果表!$O$28)","v":""},{"$f":"IF(排煙検査結果表!$M$29=\"―\",\"該当なし\",IF(排煙検査結果表!$L$29=\"○\",\"指摘なし\",IF(排煙検査結果表!$N$29=\"○\",\"既存不適格\",IF(排煙検査結果表!$M$29=\"○\",\"要是正\"))))","v":false},{"$f":"IF(排煙検査結果表!$O$29=\"\",\"\",排煙検査結果表!$O$29)","v":""},{"$f":"IF(排煙検査結果表!$M$30=\"―\",\"該当なし\",IF(排煙検査結果表!$L$30=\"○\",\"指摘なし\",IF(排煙検査結果表!$N$30=\"○\",\"既存不適格\",IF(排煙検査結果表!$M$30=\"○\",\"要是正\"))))","v":false},{"$f":"IF(排煙検査結果表!$O$30=\"\",\"\",排煙検査結果表!$O$30)","v":""},{"$f":"IF(排煙検査結果表!$M$31=\"―\",\"該当なし\",IF(排煙検査結果表!$L$31=\"○\",\"指摘なし\",IF(排煙検査結果表!$N$31=\"○\",\"既存不適格\",IF(排煙検査結果表!$M$31=\"○\",\"要是正\"))))","v":false},{"$f":"IF(排煙検査結果表!$O$31=\"\",\"\",排煙検査結果表!$O$31)","v":""},{"$f":"IF(排煙検査結果表!$M$32=\"―\",\"該当なし\",IF(排煙検査結果表!$L$32=\"○\",\"指摘なし\",IF(排煙検査結果表!$N$32=\"○\",\"既存不適格\",IF(排煙検査結果表!$M$32=\"○\",\"要是正\"))))","v":false},{"$f":"IF(排煙検査結果表!$O$32=\"\",\"\",排煙検査結果表!$O$32)","v":""},{"$f":"IF(排煙検査結果表!$M$33=\"―\",\"該当なし\",IF(排煙検査結果表!$L$33=\"○\",\"指摘なし\",IF(排煙検査結果表!$N$33=\"○\",\"既存不適格\",IF(排煙検査結果表!$M$33=\"○\",\"要是正\"))))","v":false},{"$f":"IF(排煙検査結果表!$O$33=\"\",\"\",排煙検査結果表!$O$33)","v":""},{"$f":"IF(排煙検査結果表!$M$34=\"―\",\"該当なし\",IF(排煙検査結果表!$L$34=\"○\",\"指摘なし\",IF(排煙検査結果表!$N$34=\"○\",\"既存不適格\",IF(排煙検査結果表!$M$34=\"○\",\"要是正\"))))","v":false},{"$f":"IF(排煙検査結果表!$O$34=\"\",\"\",排煙検査結果表!$O$34)","v":""},{"$f":"IF(排煙検査結果表!$M$35=\"―\",\"該当なし\",IF(排煙検査結果表!$L$35=\"○\",\"指摘なし\",IF(排煙検査結果表!$N$35=\"○\",\"既存不適格\",IF(排煙検査結果表!$M$35=\"○\",\"要是正\"))))","v":false},{"$f":"IF(排煙検査結果表!$O$35=\"\",\"\",排煙検査結果表!$O$35)","v":""},{"$f":"IF(排煙検査結果表!$M$36=\"―\",\"該当なし\",IF(排煙検査結果表!$L$36=\"○\",\"指摘なし\",IF(排煙検査結果表!$N$36=\"○\",\"既存不適格\",IF(排煙検査結果表!$M$36=\"○\",\"要是正\"))))","v":false},{"$f":"IF(排煙検査結果表!$O$36=\"\",\"\",排煙検査結果表!$O$36)","v":""},{"$f":"IF(排煙検査結果表!$M$37=\"―\",\"該当なし\",IF(排煙検査結果表!$L$37=\"○\",\"指摘なし\",IF(排煙検査結果表!$N$37=\"○\",\"既存不適格\",IF(排煙検査結果表!$M$37=\"○\",\"要是正\"))))","v":false},{"$f":"IF(排煙検査結果表!$O$37=\"\",\"\",排煙検査結果表!$O$37)","v":""},{"$f":"IF(排煙検査結果表!$M$38=\"―\",\"該当なし\",IF(排煙検査結果表!$L$38=\"○\",\"指摘なし\",IF(排煙検査結果表!$N$38=\"○\",\"既存不適格\",IF(排煙検査結果表!$M$38=\"○\",\"要是正\"))))","v":false},{"$f":"IF(排煙検査結果表!$O$38=\"\",\"\",排煙検査結果表!$O$38)","v":""},{"$f":"IF(排煙検査結果表!$M$39=\"―\",\"該当なし\",IF(排煙検査結果表!$L$39=\"○\",\"指摘なし\",IF(排煙検査結果表!$N$39=\"○\",\"既存不適格\",IF(排煙検査結果表!$M$39=\"○\",\"要是正\"))))","v":false},{"$f":"IF(排煙検査結果表!$O$39=\"\",\"\",排煙検査結果表!$O$39)","v":""},{"$f":"IF(排煙検査結果表!$M$40=\"―\",\"該当なし\",IF(排煙検査結果表!$L$40=\"○\",\"指摘なし\",IF(排煙検査結果表!$N$40=\"○\",\"既存不適格\",IF(排煙検査結果表!$M$40=\"○\",\"要是正\"))))","v":false},{"$f":"IF(排煙検査結果表!$O$40=\"\",\"\",排煙検査結果表!$O$40)","v":""},{"$f":"IF(排煙検査結果表!$M$41=\"―\",\"該当なし\",IF(排煙検査結果表!$L$41=\"○\",\"指摘なし\",IF(排煙検査結果表!$N$41=\"○\",\"既存不適格\",IF(排煙検査結果表!$M$41=\"○\",\"要是正\"))))","v":false},{"$f":"IF(排煙検査結果表!$O$41=\"\",\"\",排煙検査結果表!$O$41)","v":""},{"$f":"IF(排煙検査結果表!$L$42=\"実施せず\",\"実施せず\",IF(排煙検査結果表!$M$42=\"―\",\"該当なし\",IF(排煙検査結果表!$L$42=\"○\",\"指摘なし\",IF(排煙検査結果表!$N$42=\"○\",\"既存不適格\",IF(排煙検査結果表!$M$42=\"○\",\"要是正\")))))","v":false},{"$f":"IF(排煙検査結果表!$O$42=\"\",\"\",排煙検査結果表!$O$42)","v":""},{"$f":"IF(排煙検査結果表!$L$43=\"実施せず\",\"実施せず\",IF(排煙検査結果表!$M$43=\"―\",\"該当なし\",IF(排煙検査結果表!$L$43=\"○\",\"指摘なし\",IF(排煙検査結果表!$N$43=\"○\",\"既存不適格\",IF(排煙検査結果表!$M$43=\"○\",\"要是正\")))))","v":false},{"$f":"IF(排煙検査結果表!$O$43=\"\",\"\",排煙検査結果表!$O$43)","v":""},{"$f":"IF(排煙検査結果表!$M$44=\"―\",\"該当なし\",IF(排煙検査結果表!$L$44=\"○\",\"指摘なし\",IF(排煙検査結果表!$N$44=\"○\",\"既存不適格\",IF(排煙検査結果表!$M$44=\"○\",\"要是正\"))))","v":false},{"$f":"IF(排煙検査結果表!$O$44=\"\",\"\",排煙検査結果表!$O$44)","v":""},{"$f":"IF(排煙検査結果表!M48=\"―\",\"該当なし\",IF(排煙検査結果表!L48=\"○\",\"指摘なし\",IF(排煙検査結果表!N48=\"○\",\"既存不適格\",IF(排煙検査結果表!M48=\"○\",\"要是正\"))))","v":false},{"$f":"IF(排煙検査結果表!$O$45=\"\",\"\",排煙検査結果表!$O$45)","v":""},{"$f":"IF(排煙検査結果表!$M$46=\"―\",\"該当なし\",IF(排煙検査結果表!$L$46=\"○\",\"指摘なし\",IF(排煙検査結果表!$N$46=\"○\",\"既存不適格\",IF(排煙検査結果表!$M$46=\"○\",\"要是正\"))))","v":false},{"$f":"IF(排煙検査結果表!$O$46=\"\",\"\",排煙検査結果表!$O$46)","v":""},{"$f":"IF(排煙検査結果表!$M$47=\"―\",\"該当なし\",IF(排煙検査結果表!$L$47=\"○\",\"指摘なし\",IF(排煙検査結果表!$N$47=\"○\",\"既存不適格\",IF(排煙検査結果表!$M$47=\"○\",\"要是正\"))))","v":false},{"$f":"IF(排煙検査結果表!$O$47=\"\",\"\",排煙検査結果表!$O$47)","v":""},{"$f":"IF(排煙検査結果表!$M$48=\"―\",\"該当なし\",IF(排煙検査結果表!$L$48=\"○\",\"指摘なし\",IF(排煙検査結果表!$N$48=\"○\",\"既存不適格\",IF(排煙検査結果表!$M$48=\"○\",\"要是正\"))))","v":false},{"$f":"IF(排煙検査結果表!$O$48=\"\",\"\",排煙検査結果表!$O$48)","v":""},{"$f":"IF(排煙検査結果表!$M$49=\"―\",\"該当なし\",IF(排煙検査結果表!$L$49=\"○\",\"指摘なし\",IF(排煙検査結果表!$N$49=\"○\",\"既存不適格\",IF(排煙検査結果表!$M$49=\"○\",\"要是正\"))))","v":false},{"$f":"IF(排煙検査結果表!$O$49=\"\",\"\",排煙検査結果表!$O$49)","v":""},{"$f":"IF(排煙検査結果表!$M$50=\"―\",\"該当なし\",IF(排煙検査結果表!$L$50=\"○\",\"指摘なし\",IF(排煙検査結果表!$N$50=\"○\",\"既存不適格\",IF(排煙検査結果表!$M$50=\"○\",\"要是正\"))))","v":false},{"$f":"IF(排煙検査結果表!$O$50=\"\",\"\",排煙検査結果表!$O$50)","v":""},{"$f":"IF(排煙検査結果表!$M$51=\"―\",\"該当なし\",IF(排煙検査結果表!$L$51=\"○\",\"指摘なし\",IF(排煙検査結果表!$N$51=\"○\",\"既存不適格\",IF(排煙検査結果表!$M$51=\"○\",\"要是正\"))))","v":false},{"$f":"IF(排煙検査結果表!$O$51=\"\",\"\",排煙検査結果表!$O$51)","v":""},{"$f":"IF(排煙検査結果表!$M$52=\"―\",\"該当なし\",IF(排煙検査結果表!$L$52=\"○\",\"指摘なし\",IF(排煙検査結果表!$N$52=\"○\",\"既存不適格\",IF(排煙検査結果表!$M$52=\"○\",\"要是正\"))))","v":false},{"$f":"IF(排煙検査結果表!$O$52=\"\",\"\",排煙検査結果表!$O$52)","v":""},{"$f":"IF(排煙検査結果表!$M$53=\"―\",\"該当なし\",IF(排煙検査結果表!$L$53=\"○\",\"指摘なし\",IF(排煙検査結果表!$N$53=\"○\",\"既存不適格\",IF(排煙検査結果表!$M$53=\"○\",\"要是正\"))))","v":false},{"$f":"IF(排煙検査結果表!$O$53=\"\",\"\",排煙検査結果表!$O$53)","v":""},{"$f":"IF(排煙検査結果表!$M$54=\"―\",\"該当なし\",IF(排煙検査結果表!$L$54=\"○\",\"指摘なし\",IF(排煙検査結果表!$N$54=\"○\",\"既存不適格\",IF(排煙検査結果表!$M$54=\"○\",\"要是正\"))))","v":false},{"$f":"IF(排煙検査結果表!$O$54=\"\",\"\",排煙検査結果表!$O$54)","v":""},{"$f":"IF(排煙検査結果表!$M$55=\"―\",\"該当なし\",IF(排煙検査結果表!$L$55=\"○\",\"指摘なし\",IF(排煙検査結果表!$N$55=\"○\",\"既存不適格\",IF(排煙検査結果表!$M$55=\"○\",\"要是正\"))))","v":false},{"$f":"IF(排煙検査結果表!$O$55=\"\",\"\",排煙検査結果表!$O$55)","v":""},{"$f":"IF(排煙検査結果表!$M$56=\"―\",\"該当なし\",IF(排煙検査結果表!$L$56=\"○\",\"指摘なし\",IF(排煙検査結果表!$N$56=\"○\",\"既存不適格\",IF(排煙検査結果表!$M$56=\"○\",\"要是正\"))))","v":false},{"$f":"IF(排煙検査結果表!$O$56=\"\",\"\",排煙検査結果表!$O$56)","v":""},{"$f":"IF(排煙検査結果表!$M$57=\"―\",\"該当なし\",IF(排煙検査結果表!$L$57=\"○\",\"指摘なし\",IF(排煙検査結果表!$N$57=\"○\",\"既存不適格\",IF(排煙検査結果表!$M$57=\"○\",\"要是正\"))))","v":false},{"$f":"IF(排煙検査結果表!$O$57=\"\",\"\",排煙検査結果表!$O$57)","v":""},{"$f":"IF(排煙検査結果表!$M$58=\"―\",\"該当なし\",IF(排煙検査結果表!$L$58=\"○\",\"指摘なし\",IF(排煙検査結果表!$N$58=\"○\",\"既存不適格\",IF(排煙検査結果表!$M$58=\"○\",\"要是正\"))))","v":false},{"$f":"IF(排煙検査結果表!$O$58=\"\",\"\",排煙検査結果表!$O$58)","v":""},{"$f":"IF(排煙検査結果表!$M$59=\"―\",\"該当なし\",IF(排煙検査結果表!$L$59=\"○\",\"指摘なし\",IF(排煙検査結果表!$N$59=\"○\",\"既存不適格\",IF(排煙検査結果表!$M$59=\"○\",\"要是正\"))))","v":false},{"$f":"IF(排煙検査結果表!$O$59=\"\",\"\",排煙検査結果表!$O$59)","v":""},{"$f":"IF(排煙検査結果表!$M$60=\"―\",\"該当なし\",IF(排煙検査結果表!$L$60=\"○\",\"指摘なし\",IF(排煙検査結果表!$N$60=\"○\",\"既存不適格\",IF(排煙検査結果表!$M$60=\"○\",\"要是正\"))))","v":false},{"$f":"IF(排煙検査結果表!$O$60=\"\",\"\",排煙検査結果表!$O$60)","v":""},{"$f":"IF(排煙検査結果表!$L$61=\"実施せず\",\"実施せず\",IF(排煙検査結果表!$M$61=\"―\",\"該当なし\",IF(排煙検査結果表!$L$61=\"○\",\"指摘なし\",IF(排煙検査結果表!$N$61=\"○\",\"既存不適格\",IF(排煙検査結果表!$M$61=\"○\",\"要是正\")))))","v":false},{"$f":"IF(排煙検査結果表!$O$61=\"\",\"\",排煙検査結果表!$O$61)","v":""},{"$f":"IF(排煙検査結果表!$L$62=\"実施せず\",\"実施せず\",IF(排煙検査結果表!$M$62=\"―\",\"該当なし\",IF(排煙検査結果表!$L$62=\"○\",\"指摘なし\",IF(排煙検査結果表!$N$62=\"○\",\"既存不適格\",IF(排煙検査結果表!$M$62=\"○\",\"要是正\")))))","v":false},{"$f":"IF(排煙検査結果表!$O$62=\"\",\"\",排煙検査結果表!$O$62)","v":""},{"$f":"IF(排煙検査結果表!$M$63=\"―\",\"該当なし\",IF(排煙検査結果表!$L$63=\"○\",\"指摘なし\",IF(排煙検査結果表!$N$63=\"○\",\"既存不適格\",IF(排煙検査結果表!$M$63=\"○\",\"要是正\"))))","v":false},{"$f":"IF(排煙検査結果表!$O$63=\"\",\"\",排煙検査結果表!$O$63)","v":""},{"$f":"IF(排煙検査結果表!$M$64=\"―\",\"該当なし\",IF(排煙検査結果表!$L$64=\"○\",\"指摘なし\",IF(排煙検査結果表!$N$64=\"○\",\"既存不適格\",IF(排煙検査結果表!$M$64=\"○\",\"要是正\"))))","v":false},{"$f":"IF(排煙検査結果表!$O$64=\"\",\"\",排煙検査結果表!$O$64)","v":""},{"$f":"IF(排煙検査結果表!$M$65=\"―\",\"該当なし\",IF(排煙検査結果表!$L$65=\"○\",\"指摘なし\",IF(排煙検査結果表!$N$65=\"○\",\"既存不適格\",IF(排煙検査結果表!$M$65=\"○\",\"要是正\"))))","v":false},{"$f":"IF(排煙検査結果表!$O$65=\"\",\"\",排煙検査結果表!$O$65)","v":""},{"$f":"IF(排煙検査結果表!$M$66=\"―\",\"該当なし\",IF(排煙検査結果表!$L$66=\"○\",\"指摘なし\",IF(排煙検査結果表!$N$66=\"○\",\"既存不適格\",IF(排煙検査結果表!$M$66=\"○\",\"要是正\"))))","v":false},{"$f":"IF(排煙検査結果表!$O$66=\"\",\"\",排煙検査結果表!$O$66)","v":""},{"$f":"IF(排煙検査結果表!$M$67=\"―\",\"該当なし\",IF(排煙検査結果表!$L$67=\"○\",\"指摘なし\",IF(排煙検査結果表!$N$67=\"○\",\"既存不適格\",IF(排煙検査結果表!$M$67=\"○\",\"要是正\"))))","v":false},{"$f":"IF(排煙検査結果表!$O$67=\"\",\"\",排煙検査結果表!$O$67)","v":""},{"$f":"IF(排煙検査結果表!$M$68=\"―\",\"該当なし\",IF(排煙検査結果表!$L$68=\"○\",\"指摘なし\",IF(排煙検査結果表!$N$68=\"○\",\"既存不適格\",IF(排煙検査結果表!$M$68=\"○\",\"要是正\"))))","v":false},{"$f":"IF(排煙検査結果表!$O$68=\"\",\"\",排煙検査結果表!$O$68)","v":""},{"$f":"IF(排煙検査結果表!$M$69=\"―\",\"該当なし\",IF(排煙検査結果表!$L$69=\"○\",\"指摘なし\",IF(排煙検査結果表!$N$69=\"○\",\"既存不適格\",IF(排煙検査結果表!$M$69=\"○\",\"要是正\"))))","v":false},{"$f":"IF(排煙検査結果表!$O$69=\"\",\"\",排煙検査結果表!$O$69)","v":""},{"$f":"IF(排煙検査結果表!$M$70=\"―\",\"該当なし\",IF(排煙検査結果表!$L$70=\"○\",\"指摘なし\",IF(排煙検査結果表!$N$70=\"○\",\"既存不適格\",IF(排煙検査結果表!$M$70=\"○\",\"要是正\"))))","v":false},{"$f":"IF(排煙検査結果表!$O$70=\"\",\"\",排煙検査結果表!$O$70)","v":""},{"$f":"IF(排煙検査結果表!$M$71=\"―\",\"該当なし\",IF(排煙検査結果表!$L$71=\"○\",\"指摘なし\",IF(排煙検査結果表!$N$71=\"○\",\"既存不適格\",IF(排煙検査結果表!$M$71=\"○\",\"要是正\"))))","v":false},{"$f":"IF(排煙検査結果表!$O$71=\"\",\"\",排煙検査結果表!$O$71)","v":""},{"$f":"IF(排煙検査結果表!$M$72=\"―\",\"該当なし\",IF(排煙検査結果表!$L$72=\"○\",\"指摘なし\",IF(排煙検査結果表!$N$72=\"○\",\"既存不適格\",IF(排煙検査結果表!$M$72=\"○\",\"要是正\"))))","v":false},{"$f":"IF(排煙検査結果表!$O$72=\"\",\"\",排煙検査結果表!$O$72)","v":""},{"$f":"IF(排煙検査結果表!$M$73=\"―\",\"該当なし\",IF(排煙検査結果表!$L$73=\"○\",\"指摘なし\",IF(排煙検査結果表!$N$73=\"○\",\"既存不適格\",IF(排煙検査結果表!$M$73=\"○\",\"要是正\"))))","v":false},{"$f":"IF(排煙検査結果表!$O$73=\"\",\"\",排煙検査結果表!$O$73)","v":""},{"$f":"IF(排煙検査結果表!$M$74=\"―\",\"該当なし\",IF(排煙検査結果表!$L$74=\"○\",\"指摘なし\",IF(排煙検査結果表!$N$74=\"○\",\"既存不適格\",IF(排煙検査結果表!$M$74=\"○\",\"要是正\"))))","v":false},{"$f":"IF(排煙検査結果表!$O$74=\"\",\"\",排煙検査結果表!$O$74)","v":""},{"$f":"IF(排煙検査結果表!$M$75=\"―\",\"該当なし\",IF(排煙検査結果表!$L$75=\"○\",\"指摘なし\",IF(排煙検査結果表!$N$75=\"○\",\"既存不適格\",IF(排煙検査結果表!$M$75=\"○\",\"要是正\"))))","v":false},{"$f":"IF(排煙検査結果表!$O$75=\"\",\"\",排煙検査結果表!$O$75)","v":""},{"$f":"IF(排煙検査結果表!$M$76=\"―\",\"該当なし\",IF(排煙検査結果表!$L$76=\"○\",\"指摘なし\",IF(排煙検査結果表!$N$76=\"○\",\"既存不適格\",IF(排煙検査結果表!$M$76=\"○\",\"要是正\"))))","v":false},{"$f":"IF(排煙検査結果表!$O$76=\"\",\"\",排煙検査結果表!$O$76)","v":""},{"$f":"IF(排煙検査結果表!$M$77=\"―\",\"該当なし\",IF(排煙検査結果表!$L$77=\"○\",\"指摘なし\",IF(排煙検査結果表!$N$77=\"○\",\"既存不適格\",IF(排煙検査結果表!$M$77=\"○\",\"要是正\"))))","v":false},{"$f":"IF(排煙検査結果表!$O$77=\"\",\"\",排煙検査結果表!$O$77)","v":""},{"$f":"IF(排煙検査結果表!$M$86=\"―\",\"該当なし\",IF(排煙検査結果表!$L$86=\"○\",\"指摘なし\",IF(排煙検査結果表!$N$86=\"○\",\"既存不適格\",IF(排煙検査結果表!$M$86=\"○\",\"要是正\"))))","v":false},{"$f":"IF(排煙検査結果表!$O$86=\"\",\"\",排煙検査結果表!$O$86)","v":""},{"$f":"IF(排煙検査結果表!$M$87=\"―\",\"該当なし\",IF(排煙検査結果表!$L$87=\"○\",\"指摘なし\",IF(排煙検査結果表!$N$87=\"○\",\"既存不適格\",IF(排煙検査結果表!$M$87=\"○\",\"要是正\"))))","v":false},{"$f":"IF(排煙検査結果表!$O$87=\"\",\"\",排煙検査結果表!$O$87)","v":""},{"$f":"IF(排煙検査結果表!$M$88=\"―\",\"該当なし\",IF(排煙検査結果表!$L$88=\"○\",\"指摘なし\",IF(排煙検査結果表!$N$88=\"○\",\"既存不適格\",IF(排煙検査結果表!$M$88=\"○\",\"要是正\"))))","v":false},{"$f":"IF(排煙検査結果表!$O$88=\"\",\"\",排煙検査結果表!$O$88)","v":""},{"$f":"IF(排煙検査結果表!$M$89=\"―\",\"該当なし\",IF(排煙検査結果表!$L$89=\"○\",\"指摘なし\",IF(排煙検査結果表!$N$89=\"○\",\"既存不適格\",IF(排煙検査結果表!$M$89=\"○\",\"要是正\"))))","v":false},{"$f":"IF(排煙検査結果表!$O$89=\"\",\"\",排煙検査結果表!$O$89)","v":""},{"$f":"IF(排煙検査結果表!$M$90=\"―\",\"該当なし\",IF(排煙検査結果表!$L$90=\"○\",\"指摘なし\",IF(排煙検査結果表!$N$90=\"○\",\"既存不適格\",IF(排煙検査結果表!$M$90=\"○\",\"要是正\"))))","v":false},{"$f":"IF(排煙検査結果表!$O$90=\"\",\"\",排煙検査結果表!$O$90)","v":""},{"$f":"IF(排煙検査結果表!$M$91=\"―\",\"該当なし\",IF(排煙検査結果表!$L$91=\"○\",\"指摘なし\",IF(排煙検査結果表!$N$91=\"○\",\"既存不適格\",IF(排煙検査結果表!$M$91=\"○\",\"要是正\"))))","v":false},{"$f":"IF(排煙検査結果表!$O$91=\"\",\"\",排煙検査結果表!$O$91)","v":""},{"$f":"IF(排煙検査結果表!$M$92=\"―\",\"該当なし\",IF(排煙検査結果表!$L$92=\"○\",\"指摘なし\",IF(排煙検査結果表!$N$92=\"○\",\"既存不適格\",IF(排煙検査結果表!$M$92=\"○\",\"要是正\"))))","v":false},{"$f":"IF(排煙検査結果表!$O$92=\"\",\"\",排煙検査結果表!$O$92)","v":""},{"$f":"IF(排煙検査結果表!$M$93=\"―\",\"該当なし\",IF(排煙検査結果表!$L$93=\"○\",\"指摘なし\",IF(排煙検査結果表!$N$93=\"○\",\"既存不適格\",IF(排煙検査結果表!$M$93=\"○\",\"要是正\"))))","v":false},{"$f":"IF(排煙検査結果表!$O$93=\"\",\"\",排煙検査結果表!$O$93)","v":""},{"$f":"IF(排煙検査結果表!$M$94=\"―\",\"該当なし\",IF(排煙検査結果表!$L$94=\"○\",\"指摘なし\",IF(排煙検査結果表!$N$94=\"○\",\"既存不適格\",IF(排煙検査結果表!$M$94=\"○\",\"要是正\"))))","v":false},{"$f":"IF(排煙検査結果表!$O$94=\"\",\"\",排煙検査結果表!$O$94)","v":""},{"$f":"IF(排煙検査結果表!$M$95=\"―\",\"該当なし\",IF(排煙検査結果表!$L$95=\"○\",\"指摘なし\",IF(排煙検査結果表!$N$95=\"○\",\"既存不適格\",IF(排煙検査結果表!$M$95=\"○\",\"要是正\"))))","v":false},{"$f":"IF(排煙検査結果表!$O$95=\"\",\"\",排煙検査結果表!$O$95)","v":""},{"$f":"IF(排煙検査結果表!$M$96=\"―\",\"該当なし\",IF(排煙検査結果表!$L$96=\"○\",\"指摘なし\",IF(排煙検査結果表!$N$96=\"○\",\"既存不適格\",IF(排煙検査結果表!$M$96=\"○\",\"要是正\"))))","v":false},{"$f":"IF(排煙検査結果表!$O$96=\"\",\"\",排煙検査結果表!$O$96)","v":""},{"$f":"IF(排煙検査結果表!$M$97=\"―\",\"該当なし\",IF(排煙検査結果表!$L$97=\"○\",\"指摘なし\",IF(排煙検査結果表!$N$97=\"○\",\"既存不適格\",IF(排煙検査結果表!$M$97=\"○\",\"要是正\"))))","v":false},{"$f":"IF(排煙検査結果表!$O$97=\"\",\"\",排煙検査結果表!$O$97)","v":""},{"$f":"IF(排煙検査結果表!$M$98=\"―\",\"該当なし\",IF(排煙検査結果表!$L$98=\"○\",\"指摘なし\",IF(排煙検査結果表!$N$98=\"○\",\"既存不適格\",IF(排煙検査結果表!$M$98=\"○\",\"要是正\"))))","v":false},{"$f":"IF(排煙検査結果表!$O$98=\"\",\"\",排煙検査結果表!$O$98)","v":""},{"$f":"IF(排煙検査結果表!$M$99=\"―\",\"該当なし\",IF(排煙検査結果表!$L$99=\"○\",\"指摘なし\",IF(排煙検査結果表!$N$99=\"○\",\"既存不適格\",IF(排煙検査結果表!$M$99=\"○\",\"要是正\"))))","v":false},{"$f":"IF(排煙検査結果表!$O$99=\"\",\"\",排煙検査結果表!$O$99)","v":""},{"$f":"IF(排煙検査結果表!$M$100=\"―\",\"該当なし\",IF(排煙検査結果表!$L$100=\"○\",\"指摘なし\",IF(排煙検査結果表!$N$100=\"○\",\"既存不適格\",IF(排煙検査結果表!$M$100=\"○\",\"要是正\"))))","v":false},{"$f":"IF(排煙検査結果表!$O$100=\"\",\"\",排煙検査結果表!$O$100)","v":""},{"$f":"IF(排煙検査結果表!$M$101=\"―\",\"該当なし\",IF(排煙検査結果表!$L$101=\"○\",\"指摘なし\",IF(排煙検査結果表!$N$101=\"○\",\"既存不適格\",IF(排煙検査結果表!$M$101=\"○\",\"要是正\"))))","v":false},{"$f":"IF(排煙検査結果表!$O$101=\"\",\"\",排煙検査結果表!$O$101)","v":""},{"$f":"IF(排煙検査結果表!$M$102=\"―\",\"該当なし\",IF(排煙検査結果表!$L$102=\"○\",\"指摘なし\",IF(排煙検査結果表!$N$102=\"○\",\"既存不適格\",IF(排煙検査結果表!$M$102=\"○\",\"要是正\"))))","v":false},{"$f":"IF(排煙検査結果表!$O$102=\"\",\"\",排煙検査結果表!$O$102)","v":""},{"$f":"IF(排煙検査結果表!$M$103=\"―\",\"該当なし\",IF(排煙検査結果表!$L$103=\"○\",\"指摘なし\",IF(排煙検査結果表!$N$103=\"○\",\"既存不適格\",IF(排煙検査結果表!$M$103=\"○\",\"要是正\"))))","v":false},{"$f":"IF(排煙検査結果表!$O$103=\"\",\"\",排煙検査結果表!$O$103)","v":""},{"$f":"IF(排煙検査結果表!$M$104=\"―\",\"該当なし\",IF(排煙検査結果表!$L$104=\"○\",\"指摘なし\",IF(排煙検査結果表!$N$104=\"○\",\"既存不適格\",IF(排煙検査結果表!$M$104=\"○\",\"要是正\"))))","v":false},{"$f":"IF(排煙検査結果表!$O$104=\"\",\"\",排煙検査結果表!$O$104)","v":""},{"$f":"IF(排煙検査結果表!$M$105=\"―\",\"該当なし\",IF(排煙検査結果表!$L$105=\"○\",\"指摘なし\",IF(排煙検査結果表!$N$105=\"○\",\"既存不適格\",IF(排煙検査結果表!$M$105=\"○\",\"要是正\"))))","v":false},{"$f":"IF(排煙検査結果表!$O$105=\"\",\"\",排煙検査結果表!$O$105)","v":""},{"$f":"IF(排煙検査結果表!$M$106=\"―\",\"該当なし\",IF(排煙検査結果表!$L$106=\"○\",\"指摘なし\",IF(排煙検査結果表!$N$106=\"○\",\"既存不適格\",IF(排煙検査結果表!$M$106=\"○\",\"要是正\"))))","v":false},{"$f":"IF(排煙検査結果表!$O$106=\"\",\"\",排煙検査結果表!$O$106)","v":""},{"$f":"IF(排煙検査結果表!$M$107=\"―\",\"該当なし\",IF(排煙検査結果表!$L$107=\"○\",\"指摘なし\",IF(排煙検査結果表!$N$107=\"○\",\"既存不適格\",IF(排煙検査結果表!$M$107=\"○\",\"要是正\"))))","v":false},{"$f":"IF(排煙検査結果表!$O$107=\"\",\"\",排煙検査結果表!$O$107)","v":""},{"$f":"IF(排煙検査結果表!$M$108=\"―\",\"該当なし\",IF(排煙検査結果表!$L$108=\"○\",\"指摘なし\",IF(排煙検査結果表!$N$108=\"○\",\"既存不適格\",IF(排煙検査結果表!$M$108=\"○\",\"要是正\"))))","v":false},{"$f":"IF(排煙検査結果表!$O$108=\"\",\"\",排煙検査結果表!$O$108)","v":""},{"$f":"IF(排煙検査結果表!$L$109=\"実施せず\",\"実施せず\",IF(排煙検査結果表!$M$109=\"―\",\"該当なし\",IF(排煙検査結果表!$L$109=\"○\",\"指摘なし\",IF(排煙検査結果表!$N$109=\"○\",\"既存不適格\",IF(排煙検査結果表!$M$109=\"○\",\"要是正\")))))","v":false},{"$f":"IF(排煙検査結果表!$O$109=\"\",\"\",排煙検査結果表!$O$109)","v":""},{"$f":"IF(排煙検査結果表!$M$110=\"―\",\"該当なし\",IF(排煙検査結果表!$L$110=\"○\",\"指摘なし\",IF(排煙検査結果表!$N$110=\"○\",\"既存不適格\",IF(排煙検査結果表!$M$110=\"○\",\"要是正\"))))","v":false},{"$f":"IF(排煙検査結果表!$O$110=\"\",\"\",排煙検査結果表!$O$110)","v":""},{"$f":"IF(排煙検査結果表!$M$111=\"―\",\"該当なし\",IF(排煙検査結果表!$L$111=\"○\",\"指摘なし\",IF(排煙検査結果表!$N$111=\"○\",\"既存不適格\",IF(排煙検査結果表!$M$111=\"○\",\"要是正\"))))","v":false},{"$f":"IF(排煙検査結果表!$O$111=\"\",\"\",排煙検査結果表!$O$111)","v":""},{"$f":"IF(排煙検査結果表!$M$112=\"―\",\"該当なし\",IF(排煙検査結果表!$L$112=\"○\",\"指摘なし\",IF(排煙検査結果表!$N$112=\"○\",\"既存不適格\",IF(排煙検査結果表!$M$112=\"○\",\"要是正\"))))","v":false},{"$f":"IF(排煙検査結果表!$O$112=\"\",\"\",排煙検査結果表!$O$112)","v":""},{"$f":"IF(排煙検査結果表!$M$113=\"―\",\"該当なし\",IF(排煙検査結果表!$L$113=\"○\",\"指摘なし\",IF(排煙検査結果表!$N$113=\"○\",\"既存不適格\",IF(排煙検査結果表!$M$113=\"○\",\"要是正\"))))","v":false},{"$f":"IF(排煙検査結果表!$O$113=\"\",\"\",排煙検査結果表!$O$113)","v":""},{"$f":"IF(排煙検査結果表!$M$114=\"―\",\"該当なし\",IF(排煙検査結果表!$L$114=\"○\",\"指摘なし\",IF(排煙検査結果表!$N$114=\"○\",\"既存不適格\",IF(排煙検査結果表!$M$114=\"○\",\"要是正\"))))","v":false},{"$f":"IF(排煙検査結果表!$O$114=\"\",\"\",排煙検査結果表!$O$114)","v":""},{"$f":"IF(排煙検査結果表!$M$115=\"―\",\"該当なし\",IF(排煙検査結果表!$L$115=\"○\",\"指摘なし\",IF(排煙検査結果表!$N$115=\"○\",\"既存不適格\",IF(排煙検査結果表!$M$115=\"○\",\"要是正\"))))","v":false},{"$f":"IF(排煙検査結果表!$O$115=\"\",\"\",排煙検査結果表!$O$115)","v":""},{"$f":"IF(排煙検査結果表!$M$116=\"―\",\"該当なし\",IF(排煙検査結果表!$L$116=\"○\",\"指摘なし\",IF(排煙検査結果表!$N$116=\"○\",\"既存不適格\",IF(排煙検査結果表!$M$116=\"○\",\"要是正\"))))","v":false},{"$f":"IF(排煙検査結果表!$O$116=\"\",\"\",排煙検査結果表!$O$116)","v":""},{"$f":"IF(排煙検査結果表!$M$117=\"―\",\"該当なし\",IF(排煙検査結果表!$L$117=\"○\",\"指摘なし\",IF(排煙検査結果表!$N$117=\"○\",\"既存不適格\",IF(排煙検査結果表!$M$117=\"○\",\"要是正\"))))","v":false},{"$f":"IF(排煙検査結果表!$O$117=\"\",\"\",排煙検査結果表!$O$117)","v":""},{"$f":"IF(排煙検査結果表!$M$127=\"―\",\"該当なし\",IF(排煙検査結果表!$L$127=\"○\",\"指摘なし\",IF(排煙検査結果表!$N$127=\"○\",\"既存不適格\",IF(排煙検査結果表!$M$127=\"○\",\"要是正\"))))","v":false},{"$f":"IF(排煙検査結果表!$O$127=\"\",\"\",排煙検査結果表!$O$127)","v":""},{"$f":"IF(排煙検査結果表!$M$128=\"―\",\"該当なし\",IF(排煙検査結果表!$L$128=\"○\",\"指摘なし\",IF(排煙検査結果表!$N$128=\"○\",\"既存不適格\",IF(排煙検査結果表!$M$128=\"○\",\"要是正\"))))","v":false},{"$f":"IF(排煙検査結果表!$O$128=\"\",\"\",排煙検査結果表!$O$128)","v":""},{"$f":"IF(排煙検査結果表!$M$129=\"―\",\"該当なし\",IF(排煙検査結果表!$L$129=\"○\",\"指摘なし\",IF(排煙検査結果表!$N$129=\"○\",\"既存不適格\",IF(排煙検査結果表!$M$129=\"○\",\"要是正\"))))","v":false},{"$f":"IF(排煙検査結果表!$O$129=\"\",\"\",排煙検査結果表!$O$129)","v":""},{"$f":"IF(排煙検査結果表!$M$130=\"―\",\"該当なし\",IF(排煙検査結果表!$L$130=\"○\",\"指摘なし\",IF(排煙検査結果表!$N$130=\"○\",\"既存不適格\",IF(排煙検査結果表!$M$130=\"○\",\"要是正\"))))","v":false},{"$f":"IF(排煙検査結果表!$O$130=\"\",\"\",排煙検査結果表!$O$130)","v":""},{"$f":"IF(排煙検査結果表!$M$131=\"―\",\"該当なし\",IF(排煙検査結果表!$L$131=\"○\",\"指摘なし\",IF(排煙検査結果表!$N$131=\"○\",\"既存不適格\",IF(排煙検査結果表!$M$131=\"○\",\"要是正\"))))","v":false},{"$f":"IF(排煙検査結果表!$O$131=\"\",\"\",排煙検査結果表!$O$131)","v":""},{"$f":"IF(排煙検査結果表!$M$132=\"―\",\"該当なし\",IF(排煙検査結果表!$L$132=\"○\",\"指摘なし\",IF(排煙検査結果表!$N$132=\"○\",\"既存不適格\",IF(排煙検査結果表!$M$132=\"○\",\"要是正\"))))","v":false},{"$f":"IF(排煙検査結果表!$O$132=\"\",\"\",排煙検査結果表!$O$132)","v":""},{"$f":"IF(排煙検査結果表!$M$139=\"―\",\"該当なし\",IF(排煙検査結果表!$L$139=\"○\",\"指摘なし\",IF(排煙検査結果表!$N$139=\"○\",\"既存不適格\",IF(排煙検査結果表!$M$139=\"○\",\"要是正\"))))","v":false},{"$f":"IF(排煙検査結果表!$O$139=\"\",\"\",排煙検査結果表!$O$139)","v":""},{"$f":"IF(排煙検査結果表!$M$140=\"―\",\"該当なし\",IF(排煙検査結果表!$L$140=\"○\",\"指摘なし\",IF(排煙検査結果表!$N$140=\"○\",\"既存不適格\",IF(排煙検査結果表!$M$140=\"○\",\"要是正\"))))","v":false},{"$f":"IF(排煙検査結果表!$O$140=\"\",\"\",排煙検査結果表!$O$140)","v":""},{"$f":"IF(排煙検査結果表!$M$141=\"―\",\"該当なし\",IF(排煙検査結果表!$L$141=\"○\",\"指摘なし\",IF(排煙検査結果表!$N$141=\"○\",\"既存不適格\",IF(排煙検査結果表!$M$141=\"○\",\"要是正\"))))","v":false},{"$f":"IF(排煙検査結果表!$O$141=\"\",\"\",排煙検査結果表!$O$141)","v":""},{"$f":"IF(排煙検査結果表!$M$142=\"―\",\"該当なし\",IF(排煙検査結果表!$L$142=\"○\",\"指摘なし\",IF(排煙検査結果表!$N$142=\"○\",\"既存不適格\",IF(排煙検査結果表!$M$142=\"○\",\"要是正\"))))","v":false},{"$f":"IF(排煙検査結果表!$O$142=\"\",\"\",排煙検査結果表!$O$142)","v":""},{"$f":"IF(排煙検査結果表!$M$143=\"―\",\"該当なし\",IF(排煙検査結果表!$L$143=\"○\",\"指摘なし\",IF(排煙検査結果表!$N$143=\"○\",\"既存不適格\",IF(排煙検査結果表!$M$143=\"○\",\"要是正\"))))","v":false},{"$f":"IF(排煙検査結果表!$O$143=\"\",\"\",排煙検査結果表!$O$143)","v":""},{"$f":"IF(排煙検査結果表!$M$144=\"―\",\"該当なし\",IF(排煙検査結果表!$L$144=\"○\",\"指摘なし\",IF(排煙検査結果表!$N$144=\"○\",\"既存不適格\",IF(排煙検査結果表!$M$144=\"○\",\"要是正\"))))","v":false},{"$f":"IF(排煙検査結果表!$O$144=\"\",\"\",排煙検査結果表!$O$144)","v":""},{"$f":"IF(排煙検査結果表!$M$145=\"―\",\"該当なし\",IF(排煙検査結果表!$L$145=\"○\",\"指摘なし\",IF(排煙検査結果表!$N$145=\"○\",\"既存不適格\",IF(排煙検査結果表!$M$145=\"○\",\"要是正\"))))","v":false},{"$f":"IF(排煙検査結果表!$O$145=\"\",\"\",排煙検査結果表!$O$145)","v":""},{"$f":"IF(排煙検査結果表!$M$146=\"―\",\"該当なし\",IF(排煙検査結果表!$L$146=\"○\",\"指摘なし\",IF(排煙検査結果表!$N$146=\"○\",\"既存不適格\",IF(排煙検査結果表!$M$146=\"○\",\"要是正\"))))","v":false},{"$f":"IF(排煙検査結果表!$O$146=\"\",\"\",排煙検査結果表!$O$146)","v":""},{"$f":"IF(排煙検査結果表!$M$147=\"―\",\"該当なし\",IF(排煙検査結果表!$L$147=\"○\",\"指摘なし\",IF(排煙検査結果表!$N$147=\"○\",\"既存不適格\",IF(排煙検査結果表!$M$147=\"○\",\"要是正\"))))","v":false},{"$f":"IF(排煙検査結果表!$O$147=\"\",\"\",排煙検査結果表!$O$147)","v":""},{"$f":"IF(排煙検査結果表!$M$148=\"―\",\"該当なし\",IF(排煙検査結果表!$L$148=\"○\",\"指摘なし\",IF(排煙検査結果表!$N$148=\"○\",\"既存不適格\",IF(排煙検査結果表!$M$148=\"○\",\"要是正\"))))","v":false},{"$f":"IF(排煙検査結果表!$O$148=\"\",\"\",排煙検査結果表!$O$148)","v":""},{"$f":"IF(排煙検査結果表!$M$149=\"―\",\"該当なし\",IF(排煙検査結果表!$L$149=\"○\",\"指摘なし\",IF(排煙検査結果表!$N$149=\"○\",\"既存不適格\",IF(排煙検査結果表!$M$149=\"○\",\"要是正\"))))","v":false},{"$f":"IF(排煙検査結果表!$O$149=\"\",\"\",排煙検査結果表!$O$149)","v":""},{"$f":"IF(排煙検査結果表!$M$150=\"―\",\"該当なし\",IF(排煙検査結果表!$L$150=\"○\",\"指摘なし\",IF(排煙検査結果表!$N$150=\"○\",\"既存不適格\",IF(排煙検査結果表!$M$150=\"○\",\"要是正\"))))","v":false},{"$f":"IF(排煙検査結果表!$O$150=\"\",\"\",排煙検査結果表!$O$150)","v":""},{"$f":"IF(排煙検査結果表!$M$151=\"―\",\"該当なし\",IF(排煙検査結果表!$L$151=\"○\",\"指摘なし\",IF(排煙検査結果表!$N$151=\"○\",\"既存不適格\",IF(排煙検査結果表!$M$151=\"○\",\"要是正\"))))","v":false},{"$f":"IF(排煙検査結果表!$O$151=\"\",\"\",排煙検査結果表!$O$151)","v":""},{"$f":"IF(排煙検査結果表!$M$152=\"―\",\"該当なし\",IF(排煙検査結果表!$L$152=\"○\",\"指摘なし\",IF(排煙検査結果表!$N$152=\"○\",\"既存不適格\",IF(排煙検査結果表!$M$152=\"○\",\"要是正\"))))","v":false},{"$f":"IF(排煙検査結果表!$O$152=\"\",\"\",排煙検査結果表!$O$152)","v":""},{"$f":"IF(排煙検査結果表!$M$153=\"―\",\"該当なし\",IF(排煙検査結果表!$L$153=\"○\",\"指摘なし\",IF(排煙検査結果表!$N$153=\"○\",\"既存不適格\",IF(排煙検査結果表!$M$153=\"○\",\"要是正\"))))","v":false},{"$f":"IF(排煙検査結果表!$O$153=\"\",\"\",排煙検査結果表!$O$153)","v":""},{"$f":"IF(排煙検査結果表!$M$154=\"―\",\"該当なし\",IF(排煙検査結果表!$L$154=\"○\",\"指摘なし\",IF(排煙検査結果表!$N$154=\"○\",\"既存不適格\",IF(排煙検査結果表!$M$154=\"○\",\"要是正\"))))","v":false},{"$f":"IF(排煙検査結果表!$O$154=\"\",\"\",排煙検査結果表!$O$154)","v":""},{"$f":"IF(排煙検査結果表!$M$155=\"―\",\"該当なし\",IF(排煙検査結果表!$L$155=\"○\",\"指摘なし\",IF(排煙検査結果表!$N$155=\"○\",\"既存不適格\",IF(排煙検査結果表!$M$155=\"○\",\"要是正\"))))","v":false},{"$f":"IF(排煙検査結果表!$O$155=\"\",\"\",排煙検査結果表!$O$155)","v":""},{"$f":"IF(排煙検査結果表!$M$156=\"―\",\"該当なし\",IF(排煙検査結果表!$L$156=\"○\",\"指摘なし\",IF(排煙検査結果表!$N$156=\"○\",\"既存不適格\",IF(排煙検査結果表!$M$156=\"○\",\"要是正\"))))","v":false},{"$f":"IF(排煙検査結果表!$O$156=\"\",\"\",排煙検査結果表!$O$156)","v":""},{"$f":"IF(排煙検査結果表!$M$157=\"―\",\"該当なし\",IF(排煙検査結果表!$L$157=\"○\",\"指摘なし\",IF(排煙検査結果表!$N$157=\"○\",\"既存不適格\",IF(排煙検査結果表!$M$157=\"○\",\"要是正\"))))","v":false},{"$f":"IF(排煙検査結果表!$O$157=\"\",\"\",排煙検査結果表!$O$157)","v":""},{"$f":"IF(排煙検査結果表!$M$158=\"―\",\"該当なし\",IF(排煙検査結果表!$L$158=\"○\",\"指摘なし\",IF(排煙検査結果表!$N$158=\"○\",\"既存不適格\",IF(排煙検査結果表!$M$158=\"○\",\"要是正\"))))","v":false},{"$f":"IF(排煙検査結果表!$O$158=\"\",\"\",排煙検査結果表!$O$158)","v":""},{"$f":"IF(排煙検査結果表!$M$159=\"―\",\"該当なし\",IF(排煙検査結果表!$L$159=\"○\",\"指摘なし\",IF(排煙検査結果表!$N$159=\"○\",\"既存不適格\",IF(排煙検査結果表!$M$159=\"○\",\"要是正\"))))","v":false},{"$f":"IF(排煙検査結果表!$O$159=\"\",\"\",排煙検査結果表!$O$159)","v":""},{"$f":"IF(排煙検査結果表!$M$160=\"―\",\"該当なし\",IF(排煙検査結果表!$L$160=\"○\",\"指摘なし\",IF(排煙検査結果表!$N$160=\"○\",\"既存不適格\",IF(排煙検査結果表!$M$160=\"○\",\"要是正\"))))","v":false},{"$f":"IF(排煙検査結果表!$O$160=\"\",\"\",排煙検査結果表!$O$160)","v":""},{"$f":"IF(排煙検査結果表!$M$161=\"―\",\"該当なし\",IF(排煙検査結果表!$L$161=\"○\",\"指摘なし\",IF(排煙検査結果表!$N$161=\"○\",\"既存不適格\",IF(排煙検査結果表!$M$161=\"○\",\"要是正\"))))","v":false},{"$f":"IF(排煙検査結果表!$O$161=\"\",\"\",排煙検査結果表!$O$161)","v":""},{"$f":"IF(排煙検査結果表!$M$162=\"―\",\"該当なし\",IF(排煙検査結果表!$L$162=\"○\",\"指摘なし\",IF(排煙検査結果表!$N$162=\"○\",\"既存不適格\",IF(排煙検査結果表!$M$162=\"○\",\"要是正\"))))","v":false},{"$f":"IF(排煙検査結果表!$O$162=\"\",\"\",排煙検査結果表!$O$162)","v":""},{"$f":"IF(排煙検査結果表!$M$163=\"―\",\"該当なし\",IF(排煙検査結果表!$L$163=\"○\",\"指摘なし\",IF(排煙検査結果表!$N$163=\"○\",\"既存不適格\",IF(排煙検査結果表!$M$163=\"○\",\"要是正\"))))","v":false},{"$f":"IF(排煙検査結果表!$O$163=\"\",\"\",排煙検査結果表!$O$163)","v":""},{"$f":"IF(排煙検査結果表!$M$164=\"―\",\"該当なし\",IF(排煙検査結果表!$L$164=\"○\",\"指摘なし\",IF(排煙検査結果表!$N$164=\"○\",\"既存不適格\",IF(排煙検査結果表!$M$164=\"○\",\"要是正\"))))","v":false},{"$f":"IF(排煙検査結果表!$O$164=\"\",\"\",排煙検査結果表!$O$164)","v":""},{"$f":"IF(排煙検査結果表!$D$172=\"\",\"\",排煙検査結果表!$D$172)","v":""},{"$f":"IF(排煙検査結果表!$L$172=\"○\",\"指摘なし\",IF(排煙検査結果表!$N$172=\"○\",\"既存不適格\",IF(排煙検査結果表!$M$172=\"○\",\"要是正\")))","v":false},{"$f":"IF(排煙検査結果表!$O$172=\"\",\"\",排煙検査結果表!$O$172)","v":""},{"$f":"IF(排煙検査結果表!$D$173=\"\",\"\",排煙検査結果表!$D$173)","v":""},{"$f":"IF(排煙検査結果表!$L$173=\"○\",\"指摘なし\",IF(排煙検査結果表!$N$173=\"○\",\"既存不適格\",IF(排煙検査結果表!$M$173=\"○\",\"要是正\")))","v":false},{"$f":"IF(排煙検査結果表!$O$173=\"\",\"\",排煙検査結果表!$O$173)","v":""},{"$f":"IF(排煙検査結果表!$D$174=\"\",\"\",排煙検査結果表!$D$174)","v":""},{"$f":"IF(排煙検査結果表!$L$174=\"○\",\"指摘なし\",IF(排煙検査結果表!$N$174=\"○\",\"既存不適格\",IF(排煙検査結果表!$M$174=\"○\",\"要是正\")))","v":false},{"$f":"IF(排煙検査結果表!$O$174=\"\",\"\",排煙検査結果表!$O$174)","v":""},{"$f":"IF(排煙検査結果表!$D$175=\"\",\"\",排煙検査結果表!$D$175)","v":""},{"$f":"IF(排煙検査結果表!$L$175=\"○\",\"指摘なし\",IF(排煙検査結果表!$N$175=\"○\",\"既存不適格\",IF(排煙検査結果表!$M$175=\"○\",\"要是正\")))","v":false},{"$f":"IF(排煙検査結果表!$O$175=\"\",\"\",排煙検査結果表!$O$175)","v":""},{"$f":"IF(排煙検査結果表!$D$176=\"\",\"\",排煙検査結果表!$D$176)","v":""},{"$f":"IF(排煙検査結果表!$L$176=\"○\",\"指摘なし\",IF(排煙検査結果表!$N$176=\"○\",\"既存不適格\",IF(排煙検査結果表!$M$176=\"○\",\"要是正\")))","v":false},{"$f":"IF(排煙検査結果表!$O$176=\"\",\"\",排煙検査結果表!$O$176)","v":""},{"$f":"IF(排煙検査結果表!$D$177=\"\",\"\",排煙検査結果表!$D$177)","v":""},{"$f":"IF(排煙検査結果表!$L$177=\"○\",\"指摘なし\",IF(排煙検査結果表!$N$177=\"○\",\"既存不適格\",IF(排煙検査結果表!$M$177=\"○\",\"要是正\")))","v":false},{"$f":"IF(排煙検査結果表!$O$177=\"\",\"\",排煙検査結果表!$O$177)","v":""},{"$f":"IF(排煙検査結果表!$D$178=\"\",\"\",排煙検査結果表!$D$178)","v":""},{"$f":"IF(排煙検査結果表!$L$178=\"○\",\"指摘なし\",IF(排煙検査結果表!$N$178=\"○\",\"既存不適格\",IF(排煙検査結果表!$M$178=\"○\",\"要是正\")))","v":false},{"$f":"IF(排煙検査結果表!$O$178=\"\",\"\",排煙検査結果表!$O$178)","v":""},{"$f":"IF(排煙検査結果表!$D$179=\"\",\"\",排煙検査結果表!$D$179)","v":""},{"$f":"IF(排煙検査結果表!$L$179=\"○\",\"指摘なし\",IF(排煙検査結果表!$N$179=\"○\",\"既存不適格\",IF(排煙検査結果表!$M$179=\"○\",\"要是正\")))","v":false},{"$f":"IF(排煙検査結果表!$O$179=\"\",\"\",排煙検査結果表!$O$179)","v":""},{"$f":"IF(排煙検査結果表!$D$180=\"\",\"\",排煙検査結果表!$D$180)","v":""},{"$f":"IF(排煙検査結果表!$L$180=\"○\",\"指摘なし\",IF(排煙検査結果表!$N$180=\"○\",\"既存不適格\",IF(排煙検査結果表!$M$180=\"○\",\"要是正\")))","v":false},{"$f":"IF(排煙検査結果表!$O$180=\"\",\"\",排煙検査結果表!$O$180)","v":""},{"$f":"IF(排煙検査結果表!$D$181=\"\",\"\",排煙検査結果表!$D$181)","v":""},{"$f":"IF(排煙検査結果表!$L$181=\"○\",\"指摘なし\",IF(排煙検査結果表!$N$181=\"○\",\"既存不適格\",IF(排煙検査結果表!$M$181=\"○\",\"要是正\")))","v":false},{"$f":"IF(排煙検査結果表!$O$181=\"\",\"\",排煙検査結果表!$O$181)","v":""},{"$f":"IF(排煙検査結果表!$C$184=\"\",\"\",排煙検査結果表!$C$184)","v":""},{"$f":"IF(排煙検査結果表!$H$184=\"\",\"\",排煙検査結果表!$H$184)","v":""},{"$f":"IF(排煙検査結果表!$I$184=\"\",\"\",排煙検査結果表!$I$184)","v":""},{"$f":"IF(排煙検査結果表!$O$184=\"\",\"\",排煙検査結果表!$O$184)","v":""},{"$f":"IF(排煙検査結果表!$C$185=\"\",\"\",排煙検査結果表!$C$185)","v":""},{"$f":"IF(排煙検査結果表!$H$185=\"\",\"\",排煙検査結果表!$H$185)","v":""},{"$f":"IF(排煙検査結果表!$I$185=\"\",\"\",排煙検査結果表!$I$185)","v":""},{"$f":"IF(排煙検査結果表!$O$185=\"\",\"\",排煙検査結果表!$O$185)","v":""},{"$f":"IF(排煙検査結果表!$C$186=\"\",\"\",排煙検査結果表!$C$186)","v":""},{"$f":"IF(排煙検査結果表!$H$186=\"\",\"\",排煙検査結果表!$H$186)","v":""},{"$f":"IF(排煙検査結果表!$I$186=\"\",\"\",排煙検査結果表!$I$186)","v":""},{"$f":"IF(排煙検査結果表!$O$186=\"\",\"\",排煙検査結果表!$O$186)","v":""},{"$f":"IF(排煙検査結果表!$C$187=\"\",\"\",排煙検査結果表!$C$187)","v":""},{"$f":"IF(排煙検査結果表!$H$187=\"\",\"\",排煙検査結果表!$H$187)","v":""},{"$f":"IF(排煙検査結果表!$I$187=\"\",\"\",排煙検査結果表!$I$187)","v":""},{"$f":"IF(排煙検査結果表!$O$187=\"\",\"\",排煙検査結果表!$O$187)","v":""},{"$f":"IF(排煙検査結果表!$C$188=\"\",\"\",排煙検査結果表!$C$188)","v":""},{"$f":"IF(排煙検査結果表!$H$188=\"\",\"\",排煙検査結果表!$H$188)","v":""},{"$f":"IF(排煙検査結果表!$I$188=\"\",\"\",排煙検査結果表!$I$188)","v":""},{"$f":"IF(排煙検査結果表!$O$188=\"\",\"\",排煙検査結果表!$O$188)","v":""},{"$f":"IF(排煙検査結果表!$C$189=\"\",\"\",排煙検査結果表!$C$189)","v":""},{"$f":"IF(排煙検査結果表!$H$189=\"\",\"\",排煙検査結果表!$H$189)","v":""},{"$f":"IF(排煙検査結果表!$I$189=\"\",\"\",排煙検査結果表!$I$189)","v":""},{"$f":"IF(排煙検査結果表!$O$189=\"\",\"\",排煙検査結果表!$O$189)","v":""},{"$f":"IF(排煙検査結果表!$C$190=\"\",\"\",排煙検査結果表!$C$190)","v":""},{"$f":"IF(排煙検査結果表!$H$190=\"\",\"\",排煙検査結果表!$H$190)","v":""},{"$f":"IF(排煙検査結果表!$I$190=\"\",\"\",排煙検査結果表!$I$190)","v":""},{"$f":"IF(排煙検査結果表!$O$190=\"\",\"\",排煙検査結果表!$O$190)","v":""},{"$f":"IF(排煙検査結果表!$C$191=\"\",\"\",排煙検査結果表!$C$191)","v":""},{"$f":"IF(排煙検査結果表!$H$191=\"\",\"\",排煙検査結果表!$H$191)","v":""},{"$f":"IF(排煙検査結果表!$I$191=\"\",\"\",排煙検査結果表!$I$191)","v":""},{"$f":"IF(排煙検査結果表!$O$191=\"\",\"\",排煙検査結果表!$O$191)","v":""},{"$f":"IF(排煙検査結果表!$C$192=\"\",\"\",排煙検査結果表!$C$192)","v":""},{"$f":"IF(排煙検査結果表!$H$192=\"\",\"\",排煙検査結果表!$H$192)","v":""},{"$f":"IF(排煙検査結果表!$I$192=\"\",\"\",排煙検査結果表!$I$192)","v":""},{"$f":"IF(排煙検査結果表!$O$192=\"\",\"\",排煙検査結果表!$O$192)","v":""},{"$f":"IF(排煙検査結果表!$C$193=\"\",\"\",排煙検査結果表!$C$193)","v":""},{"$f":"IF(排煙検査結果表!$H$193=\"\",\"\",排煙検査結果表!$H$193)","v":""},{"$f":"IF(排煙検査結果表!$I$193=\"\",\"\",排煙検査結果表!$I$193)","v":""},{"$f":"IF(排煙検査結果表!$O$193=\"\",\"\",排煙検査結果表!$O$193)","v":""},{"$nulls":26},{"$f":"報告_2_12非検査者代表_ハ_氏名","v":0},{"$f":"IF(非照検査結果表!$N$9=\"\",\"\",非照検査結果表!$N$9)","v":""},{"$f":"報告_2_12非検査者他1_ハ_氏名","v":0},{"$f":"IF(非照検査結果表!$N$10=\"\",\"\",非照検査結果表!$N$10)","v":""},{"$f":"報告_2_12非検査者他2_ハ_氏名","v":0},{"$f":"IF(非照検査結果表!$N$11=\"\",\"\",非照検査結果表!$N$11)","v":""},{"$f":"IF(非照検査結果表!$M$25=\"―\",\"該当なし\",IF(非照検査結果表!$L$25=\"○\",\"指摘なし\",IF(非照検査結果表!$N$25=\"○\",\"既存不適格\",IF(非照検査結果表!$M$25=\"○\",\"要是正\"))))","v":false},{"$f":"IF(非照検査結果表!$O$25=\"\",\"\",非照検査結果表!$O$25)","v":""},{"$f":"IF(非照検査結果表!$M$26=\"―\",\"該当なし\",IF(非照検査結果表!$L$26=\"○\",\"指摘なし\",IF(非照検査結果表!$N$26=\"○\",\"既存不適格\",IF(非照検査結果表!$M$26=\"○\",\"要是正\"))))","v":false},{"$f":"IF(非照検査結果表!$O$26=\"\",\"\",非照検査結果表!$O$26)","v":""},{"$f":"IF(非照検査結果表!$M$32=\"―\",\"該当なし\",IF(非照検査結果表!$L$32=\"○\",\"指摘なし\",IF(非照検査結果表!$N$32=\"○\",\"既存不適格\",IF(非照検査結果表!$M$32=\"○\",\"要是正\"))))","v":false},{"$f":"IF(非照検査結果表!$O$32=\"\",\"\",非照検査結果表!$O$32)","v":""},{"$f":"IF(非照検査結果表!$M$33=\"―\",\"該当なし\",IF(非照検査結果表!$L$33=\"○\",\"指摘なし\",IF(非照検査結果表!$N$33=\"○\",\"既存不適格\",IF(非照検査結果表!$M$33=\"○\",\"要是正\"))))","v":false},{"$f":"IF(非照検査結果表!$O$33=\"\",\"\",非照検査結果表!$O$33)","v":""},{"$f":"IF(非照検査結果表!$M$34=\"―\",\"該当なし\",IF(非照検査結果表!$L$34=\"○\",\"指摘なし\",IF(非照検査結果表!$N$34=\"○\",\"既存不適格\",IF(非照検査結果表!$M$34=\"○\",\"要是正\"))))","v":false},{"$f":"IF(非照検査結果表!$O$34=\"\",\"\",非照検査結果表!$O$34)","v":""},{"$f":"IF(非照検査結果表!$M$35=\"―\",\"該当なし\",IF(非照検査結果表!$L$35=\"○\",\"指摘なし\",IF(非照検査結果表!$N$35=\"○\",\"既存不適格\",IF(非照検査結果表!$M$35=\"○\",\"要是正\"))))","v":false},{"$f":"IF(非照検査結果表!$O$35=\"\",\"\",非照検査結果表!$O$35)","v":""},{"$f":"IF(非照検査結果表!$M$36=\"―\",\"該当なし\",IF(非照検査結果表!$L$36=\"○\",\"指摘なし\",IF(非照検査結果表!$N$36=\"○\",\"既存不適格\",IF(非照検査結果表!$M$36=\"○\",\"要是正\"))))","v":false},{"$f":"IF(非照検査結果表!$O$36=\"\",\"\",非照検査結果表!$O$36)","v":""},{"$f":"IF(非照検査結果表!$M$43=\"―\",\"該当なし\",IF(非照検査結果表!$L$43=\"○\",\"指摘なし\",IF(非照検査結果表!$N$43=\"○\",\"既存不適格\",IF(非照検査結果表!$M$43=\"○\",\"要是正\"))))","v":false},{"$f":"IF(非照検査結果表!$O$43=\"\",\"\",非照検査結果表!$O$43)","v":""},{"$f":"IF(非照検査結果表!$M$44=\"―\",\"該当なし\",IF(非照検査結果表!$L$44=\"○\",\"指摘なし\",IF(非照検査結果表!$N$44=\"○\",\"既存不適格\",IF(非照検査結果表!$M$44=\"○\",\"要是正\"))))","v":false},{"$f":"IF(非照検査結果表!$O$44=\"\",\"\",非照検査結果表!$O$44)","v":""},{"$f":"IF(非照検査結果表!M48=\"―\",\"該当なし\",IF(非照検査結果表!L48=\"○\",\"指摘なし\",IF(非照検査結果表!N48=\"○\",\"既存不適格\",IF(非照検査結果表!M48=\"○\",\"要是正\"))))","v":false},{"$f":"IF(非照検査結果表!$O$45=\"\",\"\",非照検査結果表!$O$45)","v":""},{"$f":"IF(非照検査結果表!$M$46=\"―\",\"該当なし\",IF(非照検査結果表!$L$46=\"○\",\"指摘なし\",IF(非照検査結果表!$N$46=\"○\",\"既存不適格\",IF(非照検査結果表!$M$46=\"○\",\"要是正\"))))","v":false},{"$f":"IF(非照検査結果表!$O$46=\"\",\"\",非照検査結果表!$O$46)","v":""},{"$f":"IF(非照検査結果表!$M$47=\"―\",\"該当なし\",IF(非照検査結果表!$L$47=\"○\",\"指摘なし\",IF(非照検査結果表!$N$47=\"○\",\"既存不適格\",IF(非照検査結果表!$M$47=\"○\",\"要是正\"))))","v":false},{"$f":"IF(非照検査結果表!$O$47=\"\",\"\",非照検査結果表!$O$47)","v":""},{"$f":"IF(非照検査結果表!$M$48=\"―\",\"該当なし\",IF(非照検査結果表!$L$48=\"○\",\"指摘なし\",IF(非照検査結果表!$N$48=\"○\",\"既存不適格\",IF(非照検査結果表!$M$48=\"○\",\"要是正\"))))","v":false},{"$f":"IF(非照検査結果表!$O$48=\"\",\"\",非照検査結果表!$O$48)","v":""},{"$f":"IF(非照検査結果表!$M$55=\"―\",\"該当なし\",IF(非照検査結果表!$L$55=\"○\",\"指摘なし\",IF(非照検査結果表!$N$55=\"○\",\"既存不適格\",IF(非照検査結果表!$M$55=\"○\",\"要是正\"))))","v":false},{"$f":"IF(非照検査結果表!$O$55=\"\",\"\",非照検査結果表!$O$55)","v":""},{"$f":"IF(非照検査結果表!$M$56=\"―\",\"該当なし\",IF(非照検査結果表!$L$56=\"○\",\"指摘なし\",IF(非照検査結果表!$N$56=\"○\",\"既存不適格\",IF(非照検査結果表!$M$56=\"○\",\"要是正\"))))","v":false},{"$f":"IF(非照検査結果表!$O$56=\"\",\"\",非照検査結果表!$O$56)","v":""},{"$f":"IF(非照検査結果表!$M$63=\"―\",\"該当なし\",IF(非照検査結果表!$L$63=\"○\",\"指摘なし\",IF(非照検査結果表!$N$63=\"○\",\"既存不適格\",IF(非照検査結果表!$M$63=\"○\",\"要是正\"))))","v":false},{"$f":"IF(非照検査結果表!$O$63=\"\",\"\",非照検査結果表!$O$63)","v":""},{"$f":"IF(非照検査結果表!$M$64=\"―\",\"該当なし\",IF(非照検査結果表!$L$64=\"○\",\"指摘なし\",IF(非照検査結果表!$N$64=\"○\",\"既存不適格\",IF(非照検査結果表!$M$64=\"○\",\"要是正\"))))","v":false},{"$f":"IF(非照検査結果表!$O$64=\"\",\"\",非照検査結果表!$O$64)","v":""},{"$f":"IF(非照検査結果表!$M$65=\"―\",\"該当なし\",IF(非照検査結果表!$L$65=\"○\",\"指摘なし\",IF(非照検査結果表!$N$65=\"○\",\"既存不適格\",IF(非照検査結果表!$M$65=\"○\",\"要是正\"))))","v":false},{"$f":"IF(非照検査結果表!$O$65=\"\",\"\",非照検査結果表!$O$65)","v":""},{"$f":"IF(非照検査結果表!$M$66=\"―\",\"該当なし\",IF(非照検査結果表!$L$66=\"○\",\"指摘なし\",IF(非照検査結果表!$N$66=\"○\",\"既存不適格\",IF(非照検査結果表!$M$66=\"○\",\"要是正\"))))","v":false},{"$f":"IF(非照検査結果表!$O$66=\"\",\"\",非照検査結果表!$O$66)","v":""},{"$f":"IF(非照検査結果表!$M$67=\"―\",\"該当なし\",IF(非照検査結果表!$L$67=\"○\",\"指摘なし\",IF(非照検査結果表!$N$67=\"○\",\"既存不適格\",IF(非照検査結果表!$M$67=\"○\",\"要是正\"))))","v":false},{"$f":"IF(非照検査結果表!$O$67=\"\",\"\",非照検査結果表!$O$67)","v":""},{"$f":"IF(非照検査結果表!$M$68=\"―\",\"該当なし\",IF(非照検査結果表!$L$68=\"○\",\"指摘なし\",IF(非照検査結果表!$N$68=\"○\",\"既存不適格\",IF(非照検査結果表!$M$68=\"○\",\"要是正\"))))","v":false},{"$f":"IF(非照検査結果表!$O$68=\"\",\"\",非照検査結果表!$O$68)","v":""},{"$f":"IF(非照検査結果表!$M$69=\"―\",\"該当なし\",IF(非照検査結果表!$L$69=\"○\",\"指摘なし\",IF(非照検査結果表!$N$69=\"○\",\"既存不適格\",IF(非照検査結果表!$M$69=\"○\",\"要是正\"))))","v":false},{"$f":"IF(非照検査結果表!$O$69=\"\",\"\",非照検査結果表!$O$69)","v":""},{"$f":"IF(非照検査結果表!$M$70=\"―\",\"該当なし\",IF(非照検査結果表!$L$70=\"○\",\"指摘なし\",IF(非照検査結果表!$N$70=\"○\",\"既存不適格\",IF(非照検査結果表!$M$70=\"○\",\"要是正\"))))","v":false},{"$f":"IF(非照検査結果表!$O$70=\"\",\"\",非照検査結果表!$O$70)","v":""},{"$f":"IF(非照検査結果表!$M$77=\"―\",\"該当なし\",IF(非照検査結果表!$L$77=\"○\",\"指摘なし\",IF(非照検査結果表!$N$77=\"○\",\"既存不適格\",IF(非照検査結果表!$M$77=\"○\",\"要是正\"))))","v":false},{"$f":"IF(非照検査結果表!$O$77=\"\",\"\",非照検査結果表!$O$77)","v":""},{"$f":"IF(非照検査結果表!$M$78=\"―\",\"該当なし\",IF(非照検査結果表!$L$78=\"○\",\"指摘なし\",IF(非照検査結果表!$N$78=\"○\",\"既存不適格\",IF(非照検査結果表!$M$78=\"○\",\"要是正\"))))","v":false},{"$f":"IF(非照検査結果表!$O$78=\"\",\"\",非照検査結果表!$O$78)","v":""},{"$f":"IF(非照検査結果表!$M$79=\"―\",\"該当なし\",IF(非照検査結果表!$L$79=\"○\",\"指摘なし\",IF(非照検査結果表!$N$79=\"○\",\"既存不適格\",IF(非照検査結果表!$M$79=\"○\",\"要是正\"))))","v":false},{"$f":"IF(非照検査結果表!$O$79=\"\",\"\",非照検査結果表!$O$79)","v":""},{"$f":"IF(非照検査結果表!$M$80=\"―\",\"該当なし\",IF(非照検査結果表!$L$80=\"○\",\"指摘なし\",IF(非照検査結果表!$N$80=\"○\",\"既存不適格\",IF(非照検査結果表!$M$80=\"○\",\"要是正\"))))","v":false},{"$f":"IF(非照検査結果表!$O$80=\"\",\"\",非照検査結果表!$O$80)","v":""},{"$f":"IF(非照検査結果表!$M$81=\"―\",\"該当なし\",IF(非照検査結果表!$L$81=\"○\",\"指摘なし\",IF(非照検査結果表!$N$81=\"○\",\"既存不適格\",IF(非照検査結果表!$M$81=\"○\",\"要是正\"))))","v":false},{"$f":"IF(非照検査結果表!$O$81=\"\",\"\",非照検査結果表!$O$81)","v":""},{"$f":"IF(非照検査結果表!$M$82=\"―\",\"該当なし\",IF(非照検査結果表!$L$82=\"○\",\"指摘なし\",IF(非照検査結果表!$N$82=\"○\",\"既存不適格\",IF(非照検査結果表!$M$82=\"○\",\"要是正\"))))","v":false},{"$f":"IF(非照検査結果表!$O$82=\"\",\"\",非照検査結果表!$O$82)","v":""},{"$f":"IF(非照検査結果表!$M$83=\"―\",\"該当なし\",IF(非照検査結果表!$L$83=\"○\",\"指摘なし\",IF(非照検査結果表!$N$83=\"○\",\"既存不適格\",IF(非照検査結果表!$M$83=\"○\",\"要是正\"))))","v":false},{"$f":"IF(非照検査結果表!$O$83=\"\",\"\",非照検査結果表!$O$83)","v":""},{"$f":"IF(非照検査結果表!$M$84=\"―\",\"該当なし\",IF(非照検査結果表!$L$84=\"○\",\"指摘なし\",IF(非照検査結果表!$N$84=\"○\",\"既存不適格\",IF(非照検査結果表!$M$84=\"○\",\"要是正\"))))","v":false},{"$f":"IF(非照検査結果表!$O$84=\"\",\"\",非照検査結果表!$O$84)","v":""},{"$f":"IF(非照検査結果表!$M$85=\"―\",\"該当なし\",IF(非照検査結果表!$L$85=\"○\",\"指摘なし\",IF(非照検査結果表!$N$85=\"○\",\"既存不適格\",IF(非照検査結果表!$M$85=\"○\",\"要是正\"))))","v":false},{"$f":"IF(非照検査結果表!$O$85=\"\",\"\",非照検査結果表!$O$85)","v":""},{"$f":"IF(非照検査結果表!$M$86=\"―\",\"該当なし\",IF(非照検査結果表!$L$86=\"○\",\"指摘なし\",IF(非照検査結果表!$N$86=\"○\",\"既存不適格\",IF(非照検査結果表!$M$86=\"○\",\"要是正\"))))","v":false},{"$f":"IF(非照検査結果表!$O$86=\"\",\"\",非照検査結果表!$O$86)","v":""},{"$f":"IF(非照検査結果表!$M$87=\"―\",\"該当なし\",IF(非照検査結果表!$L$87=\"○\",\"指摘なし\",IF(非照検査結果表!$N$87=\"○\",\"既存不適格\",IF(非照検査結果表!$M$87=\"○\",\"要是正\"))))","v":false},{"$f":"IF(非照検査結果表!$O$87=\"\",\"\",非照検査結果表!$O$87)","v":""},{"$f":"IF(非照検査結果表!$M$88=\"―\",\"該当なし\",IF(非照検査結果表!$L$88=\"○\",\"指摘なし\",IF(非照検査結果表!$N$88=\"○\",\"既存不適格\",IF(非照検査結果表!$M$88=\"○\",\"要是正\"))))","v":false},{"$f":"IF(非照検査結果表!$O$88=\"\",\"\",非照検査結果表!$O$88)","v":""},{"$f":"IF(非照検査結果表!$M$89=\"―\",\"該当なし\",IF(非照検査結果表!$L$89=\"○\",\"指摘なし\",IF(非照検査結果表!$N$89=\"○\",\"既存不適格\",IF(非照検査結果表!$M$89=\"○\",\"要是正\"))))","v":false},{"$f":"IF(非照検査結果表!$O$89=\"\",\"\",非照検査結果表!$O$89)","v":""},{"$f":"IF(非照検査結果表!$M$90=\"―\",\"該当なし\",IF(非照検査結果表!$L$90=\"○\",\"指摘なし\",IF(非照検査結果表!$N$90=\"○\",\"既存不適格\",IF(非照検査結果表!$M$90=\"○\",\"要是正\"))))","v":false},{"$f":"IF(非照検査結果表!$O$90=\"\",\"\",非照検査結果表!$O$90)","v":""},{"$f":"IF(非照検査結果表!$M$91=\"―\",\"該当なし\",IF(非照検査結果表!$L$91=\"○\",\"指摘なし\",IF(非照検査結果表!$N$91=\"○\",\"既存不適格\",IF(非照検査結果表!$M$91=\"○\",\"要是正\"))))","v":false},{"$f":"IF(非照検査結果表!$O$91=\"\",\"\",非照検査結果表!$O$91)","v":""},{"$f":"IF(非照検査結果表!$M$92=\"―\",\"該当なし\",IF(非照検査結果表!$L$92=\"○\",\"指摘なし\",IF(非照検査結果表!$N$92=\"○\",\"既存不適格\",IF(非照検査結果表!$M$92=\"○\",\"要是正\"))))","v":false},{"$f":"IF(非照検査結果表!$O$92=\"\",\"\",非照検査結果表!$O$92)","v":""},{"$f":"IF(非照検査結果表!$M$93=\"―\",\"該当なし\",IF(非照検査結果表!$L$93=\"○\",\"指摘なし\",IF(非照検査結果表!$N$93=\"○\",\"既存不適格\",IF(非照検査結果表!$M$93=\"○\",\"要是正\"))))","v":false},{"$f":"IF(非照検査結果表!$O$93=\"\",\"\",非照検査結果表!$O$93)","v":""},{"$f":"IF(非照検査結果表!$D$100=\"\",\"\",非照検査結果表!$D$100)","v":""},{"$f":"IF(非照検査結果表!$L$100=\"○\",\"指摘なし\",IF(非照検査結果表!$N$100=\"○\",\"既存不適格\",IF(非照検査結果表!$M$100=\"○\",\"要是正\")))","v":false},{"$f":"IF(非照検査結果表!$O$100=\"\",\"\",非照検査結果表!$O$100)","v":""},{"$f":"IF(非照検査結果表!$D$101=\"\",\"\",非照検査結果表!$D$101)","v":""},{"$f":"IF(非照検査結果表!$L$101=\"○\",\"指摘なし\",IF(非照検査結果表!$N$101=\"○\",\"既存不適格\",IF(非照検査結果表!$M$101=\"○\",\"要是正\")))","v":false},{"$f":"IF(非照検査結果表!$O$101=\"\",\"\",非照検査結果表!$O$101)","v":""},{"$f":"IF(非照検査結果表!$D$102=\"\",\"\",非照検査結果表!$D$102)","v":""},{"$f":"IF(非照検査結果表!$L$102=\"○\",\"指摘なし\",IF(非照検査結果表!$N$102=\"○\",\"既存不適格\",IF(非照検査結果表!$M$102=\"○\",\"要是正\")))","v":false},{"$f":"IF(非照検査結果表!$O$102=\"\",\"\",非照検査結果表!$O$102)","v":""},{"$f":"IF(非照検査結果表!$D$103=\"\",\"\",非照検査結果表!$D$103)","v":""},{"$f":"IF(非照検査結果表!$L$103=\"○\",\"指摘なし\",IF(非照検査結果表!$N$103=\"○\",\"既存不適格\",IF(非照検査結果表!$M$103=\"○\",\"要是正\")))","v":false},{"$f":"IF(非照検査結果表!$O$103=\"\",\"\",非照検査結果表!$O$103)","v":""},{"$f":"IF(非照検査結果表!$D$104=\"\",\"\",非照検査結果表!$D$104)","v":""},{"$f":"IF(非照検査結果表!$L$104=\"○\",\"指摘なし\",IF(非照検査結果表!$N$104=\"○\",\"既存不適格\",IF(非照検査結果表!$M$104=\"○\",\"要是正\")))","v":false},{"$f":"IF(非照検査結果表!$O$104=\"\",\"\",非照検査結果表!$O$104)","v":""},{"$f":"IF(非照検査結果表!$D$105=\"\",\"\",非照検査結果表!$D$105)","v":""},{"$f":"IF(非照検査結果表!$L$105=\"○\",\"指摘なし\",IF(非照検査結果表!$N$105=\"○\",\"既存不適格\",IF(非照検査結果表!$M$105=\"○\",\"要是正\")))","v":false},{"$f":"IF(非照検査結果表!$O$105=\"\",\"\",非照検査結果表!$O$105)","v":""},{"$f":"IF(非照検査結果表!$D$106=\"\",\"\",非照検査結果表!$D$106)","v":""},{"$f":"IF(非照検査結果表!$L$106=\"○\",\"指摘なし\",IF(非照検査結果表!$N$106=\"○\",\"既存不適格\",IF(非照検査結果表!$M$106=\"○\",\"要是正\")))","v":false},{"$f":"IF(非照検査結果表!$O$106=\"\",\"\",非照検査結果表!$O$106)","v":""},{"$f":"IF(非照検査結果表!$D$107=\"\",\"\",非照検査結果表!$D$107)","v":""},{"$f":"IF(非照検査結果表!$L$107=\"○\",\"指摘なし\",IF(非照検査結果表!$N$107=\"○\",\"既存不適格\",IF(非照検査結果表!$M$107=\"○\",\"要是正\")))","v":false},{"$f":"IF(非照検査結果表!$O$107=\"\",\"\",非照検査結果表!$O$107)","v":""},{"$f":"IF(非照検査結果表!$D$108=\"\",\"\",非照検査結果表!$D$108)","v":""},{"$f":"IF(非照検査結果表!$L$108=\"○\",\"指摘なし\",IF(非照検査結果表!$N$108=\"○\",\"既存不適格\",IF(非照検査結果表!$M$108=\"○\",\"要是正\")))","v":false},{"$f":"IF(非照検査結果表!$O$108=\"\",\"\",非照検査結果表!$O$108)","v":""},{"$f":"IF(非照検査結果表!$D$109=\"\",\"\",非照検査結果表!$D$109)","v":""},{"$f":"IF(非照検査結果表!$L$109=\"○\",\"指摘なし\",IF(非照検査結果表!$N$109=\"○\",\"既存不適格\",IF(非照検査結果表!$M$109=\"○\",\"要是正\")))","v":false},{"$f":"IF(非照検査結果表!$O$109=\"\",\"\",非照検査結果表!$O$109)","v":""},{"$f":"IF(非照検査結果表!$C$112=\"\",\"\",非照検査結果表!$C$112)","v":""},{"$f":"IF(非照検査結果表!$H$112=\"\",\"\",非照検査結果表!$H$112)","v":""},{"$f":"IF(非照検査結果表!$I$112=\"\",\"\",非照検査結果表!$I$112)","v":""},{"$f":"IF(非照検査結果表!$O$112=\"\",\"\",非照検査結果表!$O$112)","v":""},{"$f":"IF(非照検査結果表!$C$113=\"\",\"\",非照検査結果表!$C$113)","v":""},{"$f":"IF(非照検査結果表!$H$113=\"\",\"\",非照検査結果表!$H$113)","v":""},{"$f":"IF(非照検査結果表!$I$113=\"\",\"\",非照検査結果表!$I$113)","v":""},{"$f":"IF(非照検査結果表!$O$113=\"\",\"\",非照検査結果表!$O$113)","v":""},{"$f":"IF(非照検査結果表!$C$114=\"\",\"\",非照検査結果表!$C$114)","v":""},{"$f":"IF(非照検査結果表!$H$114=\"\",\"\",非照検査結果表!$H$114)","v":""},{"$f":"IF(非照検査結果表!$I$114=\"\",\"\",非照検査結果表!$I$114)","v":""},{"$f":"IF(非照検査結果表!$O$114=\"\",\"\",非照検査結果表!$O$114)","v":""},{"$f":"IF(非照検査結果表!$C$115=\"\",\"\",非照検査結果表!$C$115)","v":""},{"$f":"IF(非照検査結果表!$H$115=\"\",\"\",非照検査結果表!$H$115)","v":""},{"$f":"IF(非照検査結果表!$I$115=\"\",\"\",非照検査結果表!$I$115)","v":""},{"$f":"IF(非照検査結果表!$O$115=\"\",\"\",非照検査結果表!$O$115)","v":""},{"$f":"IF(非照検査結果表!$C$116=\"\",\"\",非照検査結果表!$C$116)","v":""},{"$f":"IF(非照検査結果表!$H$116=\"\",\"\",非照検査結果表!$H$116)","v":""},{"$f":"IF(非照検査結果表!$I$116=\"\",\"\",非照検査結果表!$I$116)","v":""},{"$f":"IF(非照検査結果表!$O$116=\"\",\"\",非照検査結果表!$O$116)","v":""},{"$f":"IF(非照検査結果表!$C$117=\"\",\"\",非照検査結果表!$C$117)","v":""},{"$f":"IF(非照検査結果表!$H$117=\"\",\"\",非照検査結果表!$H$117)","v":""},{"$f":"IF(非照検査結果表!$I$117=\"\",\"\",非照検査結果表!$I$117)","v":""},{"$f":"IF(非照検査結果表!$O$117=\"\",\"\",非照検査結果表!$O$117)","v":""},{"$f":"IF(非照検査結果表!$C$118=\"\",\"\",非照検査結果表!$C$118)","v":""},{"$f":"IF(非照検査結果表!$H$118=\"\",\"\",非照検査結果表!$H$118)","v":""},{"$f":"IF(非照検査結果表!$I$118=\"\",\"\",非照検査結果表!$I$118)","v":""},{"$f":"IF(非照検査結果表!$O$118=\"\",\"\",非照検査結果表!$O$118)","v":""},{"$f":"IF(非照検査結果表!$C$119=\"\",\"\",非照検査結果表!$C$119)","v":""},{"$f":"IF(非照検査結果表!$H$119=\"\",\"\",非照検査結果表!$H$119)","v":""},{"$f":"IF(非照検査結果表!$I$119=\"\",\"\",非照検査結果表!$I$119)","v":""},{"$f":"IF(非照検査結果表!$O$119=\"\",\"\",非照検査結果表!$O$119)","v":""},{"$f":"IF(非照検査結果表!$C$120=\"\",\"\",非照検査結果表!$C$120)","v":""},{"$f":"IF(非照検査結果表!$H$120=\"\",\"\",非照検査結果表!$H$120)","v":""},{"$f":"IF(非照検査結果表!$I$120=\"\",\"\",非照検査結果表!$I$120)","v":""},{"$f":"IF(非照検査結果表!$O$120=\"\",\"\",非照検査結果表!$O$120)","v":""},{"$f":"IF(非照検査結果表!$C$121=\"\",\"\",非照検査結果表!$C$121)","v":""},{"$f":"IF(非照検査結果表!$H$121=\"\",\"\",非照検査結果表!$H$121)","v":""},{"$f":"IF(非照検査結果表!$I$121=\"\",\"\",非照検査結果表!$I$121)","v":""},{"$f":"IF(非照検査結果表!$O$121=\"\",\"\",非照検査結果表!$O$121)","v":""},{"$nulls":26},{"$f":"報告_2_16給検査者代表_ハ_氏名","v":0},{"$f":"IF(水検査結果表!$N$9=\"\",\"\",水検査結果表!$N$9)","v":""},{"$f":"報告_2_16給検査者他1_ハ_氏名","v":0},{"$f":"IF(水検査結果表!$N$10=\"\",\"\",水検査結果表!$N$10)","v":""},{"$f":"報告_2_16給検査者他2_ハ_氏名","v":0},{"$f":"IF(水検査結果表!$N$11=\"\",\"\",水検査結果表!$N$11)","v":""},{"$f":"IF(水検査結果表!$M$25=\"―\",\"該当なし\",IF(水検査結果表!$L$25=\"○\",\"指摘なし\",IF(水検査結果表!$N$25=\"○\",\"既存不適格\",IF(水検査結果表!$M$25=\"○\",\"要是正\"))))","v":false},{"$f":"IF(水検査結果表!$O$25=\"\",\"\",水検査結果表!$O$25)","v":""},{"$f":"IF(水検査結果表!$M$26=\"―\",\"該当なし\",IF(水検査結果表!$L$26=\"○\",\"指摘なし\",IF(水検査結果表!$N$26=\"○\",\"既存不適格\",IF(水検査結果表!$M$26=\"○\",\"要是正\"))))","v":false},{"$f":"IF(水検査結果表!$O$26=\"\",\"\",水検査結果表!$O$26)","v":""},{"$f":"IF(水検査結果表!$M$27=\"―\",\"該当なし\",IF(水検査結果表!$L$27=\"○\",\"指摘なし\",IF(水検査結果表!$N$27=\"○\",\"既存不適格\",IF(水検査結果表!$M$27=\"○\",\"要是正\"))))","v":false},{"$f":"IF(水検査結果表!$O$27=\"\",\"\",水検査結果表!$O$27)","v":""},{"$f":"IF(水検査結果表!$M$28=\"―\",\"該当なし\",IF(水検査結果表!$L$28=\"○\",\"指摘なし\",IF(水検査結果表!$N$28=\"○\",\"既存不適格\",IF(水検査結果表!$M$28=\"○\",\"要是正\"))))","v":false},{"$f":"IF(水検査結果表!$O$28=\"\",\"\",水検査結果表!$O$28)","v":""},{"$f":"IF(水検査結果表!$M$29=\"―\",\"該当なし\",IF(水検査結果表!$L$29=\"○\",\"指摘なし\",IF(水検査結果表!$N$29=\"○\",\"既存不適格\",IF(水検査結果表!$M$29=\"○\",\"要是正\"))))","v":false},{"$f":"IF(水検査結果表!$O$29=\"\",\"\",水検査結果表!$O$29)","v":""},{"$f":"IF(水検査結果表!$M$30=\"―\",\"該当なし\",IF(水検査結果表!$L$30=\"○\",\"指摘なし\",IF(水検査結果表!$N$30=\"○\",\"既存不適格\",IF(水検査結果表!$M$30=\"○\",\"要是正\"))))","v":false},{"$f":"IF(水検査結果表!$O$30=\"\",\"\",水検査結果表!$O$30)","v":""},{"$f":"IF(水検査結果表!$M$31=\"―\",\"該当なし\",IF(水検査結果表!$L$31=\"○\",\"指摘なし\",IF(水検査結果表!$N$31=\"○\",\"既存不適格\",IF(水検査結果表!$M$31=\"○\",\"要是正\"))))","v":false},{"$f":"IF(水検査結果表!$O$31=\"\",\"\",水検査結果表!$O$31)","v":""},{"$f":"IF(水検査結果表!$M$32=\"―\",\"該当なし\",IF(水検査結果表!$L$32=\"○\",\"指摘なし\",IF(水検査結果表!$N$32=\"○\",\"既存不適格\",IF(水検査結果表!$M$32=\"○\",\"要是正\"))))","v":false},{"$f":"IF(水検査結果表!$O$32=\"\",\"\",水検査結果表!$O$32)","v":""},{"$f":"IF(水検査結果表!$M$33=\"―\",\"該当なし\",IF(水検査結果表!$L$33=\"○\",\"指摘なし\",IF(水検査結果表!$N$33=\"○\",\"既存不適格\",IF(水検査結果表!$M$33=\"○\",\"要是正\"))))","v":false},{"$f":"IF(水検査結果表!$O$33=\"\",\"\",水検査結果表!$O$33)","v":""},{"$f":"IF(水検査結果表!$M$34=\"―\",\"該当なし\",IF(水検査結果表!$L$34=\"○\",\"指摘なし\",IF(水検査結果表!$N$34=\"○\",\"既存不適格\",IF(水検査結果表!$M$34=\"○\",\"要是正\"))))","v":false},{"$f":"IF(水検査結果表!$O$34=\"\",\"\",水検査結果表!$O$34)","v":""},{"$f":"IF(水検査結果表!$M$35=\"―\",\"該当なし\",IF(水検査結果表!$L$35=\"○\",\"指摘なし\",IF(水検査結果表!$N$35=\"○\",\"既存不適格\",IF(水検査結果表!$M$35=\"○\",\"要是正\"))))","v":false},{"$f":"IF(水検査結果表!$O$35=\"\",\"\",水検査結果表!$O$35)","v":""},{"$f":"IF(水検査結果表!$M$42=\"―\",\"該当なし\",IF(水検査結果表!$L$42=\"○\",\"指摘なし\",IF(水検査結果表!$N$42=\"○\",\"既存不適格\",IF(水検査結果表!$M$42=\"○\",\"要是正\"))))","v":false},{"$f":"IF(水検査結果表!O45=\"\",\"\",水検査結果表!$O$42)","v":""},{"$f":"IF(水検査結果表!$M$43=\"―\",\"該当なし\",IF(水検査結果表!$L$43=\"○\",\"指摘なし\",IF(水検査結果表!$N$43=\"○\",\"既存不適格\",IF(水検査結果表!$M$43=\"○\",\"要是正\"))))","v":false},{"$f":"IF(水検査結果表!$O$43=\"\",\"\",水検査結果表!$O$43)","v":""},{"$f":"IF(水検査結果表!$M$44=\"―\",\"該当なし\",IF(水検査結果表!$L$44=\"○\",\"指摘なし\",IF(水検査結果表!$N$44=\"○\",\"既存不適格\",IF(水検査結果表!$M$44=\"○\",\"要是正\"))))","v":false},{"$f":"IF(水検査結果表!$O$44=\"\",\"\",水検査結果表!$O$44)","v":""},{"$f":"IF(水検査結果表!$M$45=\"―\",\"該当なし\",IF(水検査結果表!$L$45=\"○\",\"指摘なし\",IF(水検査結果表!$N$45=\"○\",\"既存不適格\",IF(水検査結果表!$M$45=\"○\",\"要是正\"))))","v":false},{"$f":"IF(水検査結果表!$O$45=\"\",\"\",水検査結果表!$O$45)","v":""},{"$f":"IF(水検査結果表!$M$46=\"―\",\"該当なし\",IF(水検査結果表!$L$46=\"○\",\"指摘なし\",IF(水検査結果表!$N$46=\"○\",\"既存不適格\",IF(水検査結果表!$M$46=\"○\",\"要是正\"))))","v":false},{"$f":"IF(水検査結果表!$O$46=\"\",\"\",水検査結果表!$O$46)","v":""},{"$f":"IF(水検査結果表!$M$47=\"―\",\"該当なし\",IF(水検査結果表!$L$47=\"○\",\"指摘なし\",IF(水検査結果表!$N$47=\"○\",\"既存不適格\",IF(水検査結果表!$M$47=\"○\",\"要是正\"))))","v":false},{"$f":"IF(水検査結果表!$O$47=\"\",\"\",水検査結果表!$O$47)","v":""},{"$f":"IF(水検査結果表!$M$48=\"―\",\"該当なし\",IF(水検査結果表!$L$48=\"○\",\"指摘なし\",IF(水検査結果表!$N$48=\"○\",\"既存不適格\",IF(水検査結果表!$M$48=\"○\",\"要是正\"))))","v":false},{"$f":"IF(水検査結果表!$O$48=\"\",\"\",水検査結果表!$O$48)","v":""},{"$f":"IF(水検査結果表!$M$49=\"―\",\"該当なし\",IF(水検査結果表!$L$49=\"○\",\"指摘なし\",IF(水検査結果表!$N$49=\"○\",\"既存不適格\",IF(水検査結果表!$M$49=\"○\",\"要是正\"))))","v":false},{"$f":"IF(水検査結果表!$O$49=\"\",\"\",水検査結果表!$O$49)","v":""},{"$f":"IF(水検査結果表!$M$50=\"―\",\"該当なし\",IF(水検査結果表!$L$50=\"○\",\"指摘なし\",IF(水検査結果表!$N$50=\"○\",\"既存不適格\",IF(水検査結果表!$M$50=\"○\",\"要是正\"))))","v":false},{"$f":"IF(水検査結果表!$O$50=\"\",\"\",水検査結果表!$O$50)","v":""},{"$f":"IF(水検査結果表!$M$51=\"―\",\"該当なし\",IF(水検査結果表!$L$51=\"○\",\"指摘なし\",IF(水検査結果表!$N$51=\"○\",\"既存不適格\",IF(水検査結果表!$M$51=\"○\",\"要是正\"))))","v":false},{"$f":"IF(水検査結果表!$O$51=\"\",\"\",水検査結果表!$O$51)","v":""},{"$f":"IF(水検査結果表!$M$58=\"―\",\"該当なし\",IF(水検査結果表!$L$58=\"○\",\"指摘なし\",IF(水検査結果表!$N$58=\"○\",\"既存不適格\",IF(水検査結果表!$M$58=\"○\",\"要是正\"))))","v":false},{"$f":"IF(水検査結果表!$O$58=\"\",\"\",水検査結果表!$O$58)","v":""},{"$f":"IF(水検査結果表!$M$59=\"―\",\"該当なし\",IF(水検査結果表!$L$59=\"○\",\"指摘なし\",IF(水検査結果表!$N$59=\"○\",\"既存不適格\",IF(水検査結果表!$M$59=\"○\",\"要是正\"))))","v":false},{"$f":"IF(水検査結果表!$O$59=\"\",\"\",水検査結果表!$O$59)","v":""},{"$f":"IF(水検査結果表!$M$60=\"―\",\"該当なし\",IF(水検査結果表!$L$60=\"○\",\"指摘なし\",IF(水検査結果表!$N$60=\"○\",\"既存不適格\",IF(水検査結果表!$M$60=\"○\",\"要是正\"))))","v":false},{"$f":"IF(水検査結果表!$O$60=\"\",\"\",水検査結果表!$O$60)","v":""},{"$f":"IF(水検査結果表!$M$61=\"―\",\"該当なし\",IF(水検査結果表!$L$61=\"○\",\"指摘なし\",IF(水検査結果表!$N$61=\"○\",\"既存不適格\",IF(水検査結果表!$M$61=\"○\",\"要是正\"))))","v":false},{"$f":"IF(水検査結果表!$O$61=\"\",\"\",水検査結果表!$O$61)","v":""},{"$f":"IF(水検査結果表!$M$62=\"―\",\"該当なし\",IF(水検査結果表!$L$62=\"○\",\"指摘なし\",IF(水検査結果表!$N$62=\"○\",\"既存不適格\",IF(水検査結果表!$M$62=\"○\",\"要是正\"))))","v":false},{"$f":"IF(水検査結果表!$O$62=\"\",\"\",水検査結果表!$O$62)","v":""},{"$f":"IF(水検査結果表!$M$63=\"―\",\"該当なし\",IF(水検査結果表!$L$63=\"○\",\"指摘なし\",IF(水検査結果表!$N$63=\"○\",\"既存不適格\",IF(水検査結果表!$M$63=\"○\",\"要是正\"))))","v":false},{"$f":"IF(水検査結果表!$O$63=\"\",\"\",水検査結果表!$O$63)","v":""},{"$f":"IF(水検査結果表!$L$64=\"実施せず\",\"実施せず\",IF(水検査結果表!$M$64=\"―\",\"該当なし\",IF(水検査結果表!$L$64=\"○\",\"指摘なし\",IF(水検査結果表!$N$64=\"○\",\"既存不適格\",IF(水検査結果表!$M$64=\"○\",\"要是正\")))))","v":false},{"$f":"IF(水検査結果表!$O$64=\"\",\"\",水検査結果表!$O$64)","v":""},{"$f":"IF(水検査結果表!$M$65=\"―\",\"該当なし\",IF(水検査結果表!$L$65=\"○\",\"指摘なし\",IF(水検査結果表!$N$65=\"○\",\"既存不適格\",IF(水検査結果表!$M$65=\"○\",\"要是正\"))))","v":false},{"$f":"IF(水検査結果表!$O$65=\"\",\"\",水検査結果表!$O$65)","v":""},{"$f":"IF(水検査結果表!$M$66=\"―\",\"該当なし\",IF(水検査結果表!$L$66=\"○\",\"指摘なし\",IF(水検査結果表!$N$66=\"○\",\"既存不適格\",IF(水検査結果表!$M$66=\"○\",\"要是正\"))))","v":false},{"$f":"IF(水検査結果表!$O$66=\"\",\"\",水検査結果表!$O$66)","v":""},{"$f":"IF(水検査結果表!$M$67=\"―\",\"該当なし\",IF(水検査結果表!$L$67=\"○\",\"指摘なし\",IF(水検査結果表!$N$67=\"○\",\"既存不適格\",IF(水検査結果表!$M$67=\"○\",\"要是正\"))))","v":false},{"$f":"IF(水検査結果表!$O$67=\"\",\"\",水検査結果表!$O$67)","v":""},{"$f":"IF(水検査結果表!$M$68=\"―\",\"該当なし\",IF(水検査結果表!$L$68=\"○\",\"指摘なし\",IF(水検査結果表!$N$68=\"○\",\"既存不適格\",IF(水検査結果表!$M$68=\"○\",\"要是正\"))))","v":false},{"$f":"IF(水検査結果表!$O$68=\"\",\"\",水検査結果表!$O$68)","v":""},{"$f":"IF(水検査結果表!$M$69=\"―\",\"該当なし\",IF(水検査結果表!$L$69=\"○\",\"指摘なし\",IF(水検査結果表!$N$69=\"○\",\"既存不適格\",IF(水検査結果表!$M$69=\"○\",\"要是正\"))))","v":false},{"$f":"IF(水検査結果表!$O$69=\"\",\"\",水検査結果表!$O$69)","v":""},{"$f":"IF(水検査結果表!$M$70=\"―\",\"該当なし\",IF(水検査結果表!$L$70=\"○\",\"指摘なし\",IF(水検査結果表!$N$70=\"○\",\"既存不適格\",IF(水検査結果表!$M$70=\"○\",\"要是正\"))))","v":false},{"$f":"IF(水検査結果表!$O$70=\"\",\"\",水検査結果表!$O$70)","v":""},{"$f":"IF(水検査結果表!$M$71=\"―\",\"該当なし\",IF(水検査結果表!$L$71=\"○\",\"指摘なし\",IF(水検査結果表!$N$71=\"○\",\"既存不適格\",IF(水検査結果表!$M$71=\"○\",\"要是正\"))))","v":false},{"$f":"IF(水検査結果表!$O$71=\"\",\"\",水検査結果表!$O$71)","v":""},{"$f":"IF(水検査結果表!$M$72=\"―\",\"該当なし\",IF(水検査結果表!$L$72=\"○\",\"指摘なし\",IF(水検査結果表!$N$72=\"○\",\"既存不適格\",IF(水検査結果表!$M$72=\"○\",\"要是正\"))))","v":false},{"$f":"IF(水検査結果表!$O$72=\"\",\"\",水検査結果表!$O$72)","v":""},{"$f":"IF(水検査結果表!$M$73=\"―\",\"該当なし\",IF(水検査結果表!$L$73=\"○\",\"指摘なし\",IF(水検査結果表!$N$73=\"○\",\"既存不適格\",IF(水検査結果表!$M$73=\"○\",\"要是正\"))))","v":false},{"$f":"IF(水検査結果表!$O$73=\"\",\"\",水検査結果表!$O$73)","v":""},{"$f":"IF(水検査結果表!$M$74=\"―\",\"該当なし\",IF(水検査結果表!$L$74=\"○\",\"指摘なし\",IF(水検査結果表!$N$74=\"○\",\"既存不適格\",IF(水検査結果表!$M$74=\"○\",\"要是正\"))))","v":false},{"$f":"IF(水検査結果表!$O$74=\"\",\"\",水検査結果表!$O$74)","v":""},{"$f":"IF(水検査結果表!$M$75=\"―\",\"該当なし\",IF(水検査結果表!$L$75=\"○\",\"指摘なし\",IF(水検査結果表!$N$75=\"○\",\"既存不適格\",IF(水検査結果表!$M$75=\"○\",\"要是正\"))))","v":false},{"$f":"IF(水検査結果表!$O$75=\"\",\"\",水検査結果表!$O$75)","v":""},{"$f":"IF(水検査結果表!$M$76=\"―\",\"該当なし\",IF(水検査結果表!$L$76=\"○\",\"指摘なし\",IF(水検査結果表!$N$76=\"○\",\"既存不適格\",IF(水検査結果表!$M$76=\"○\",\"要是正\"))))","v":false},{"$f":"IF(水検査結果表!$O$76=\"\",\"\",水検査結果表!$O$76)","v":""},{"$f":"IF(水検査結果表!$M$77=\"―\",\"該当なし\",IF(水検査結果表!$L$77=\"○\",\"指摘なし\",IF(水検査結果表!$N$77=\"○\",\"既存不適格\",IF(水検査結果表!$M$77=\"○\",\"要是正\"))))","v":false},{"$f":"IF(水検査結果表!$O$77=\"\",\"\",水検査結果表!$O$77)","v":""},{"$f":"IF(水検査結果表!$M$78=\"―\",\"該当なし\",IF(水検査結果表!$L$78=\"○\",\"指摘なし\",IF(水検査結果表!$N$78=\"○\",\"既存不適格\",IF(水検査結果表!$M$78=\"○\",\"要是正\"))))","v":false},{"$f":"IF(水検査結果表!$O$78=\"\",\"\",水検査結果表!$O$78)","v":""},{"$f":"IF(水検査結果表!$M$79=\"―\",\"該当なし\",IF(水検査結果表!$L$79=\"○\",\"指摘なし\",IF(水検査結果表!$N$79=\"○\",\"既存不適格\",IF(水検査結果表!$M$79=\"○\",\"要是正\"))))","v":false},{"$f":"IF(水検査結果表!$O$79=\"\",\"\",水検査結果表!$O$79)","v":""},{"$f":"IF(水検査結果表!$D$84=\"\",\"\",水検査結果表!$D$84)","v":""},{"$f":"IF(水検査結果表!$L$84=\"○\",\"指摘なし\",IF(水検査結果表!$N$84=\"○\",\"既存不適格\",IF(水検査結果表!$M$84=\"○\",\"要是正\")))","v":false},{"$f":"IF(水検査結果表!$O$84=\"\",\"\",水検査結果表!$O$84)","v":""},{"$f":"IF(水検査結果表!$D$85=\"\",\"\",水検査結果表!$D$85)","v":""},{"$f":"IF(水検査結果表!$L$85=\"○\",\"指摘なし\",IF(水検査結果表!$N$85=\"○\",\"既存不適格\",IF(水検査結果表!$M$85=\"○\",\"要是正\")))","v":false},{"$f":"IF(水検査結果表!$O$85=\"\",\"\",水検査結果表!$O$85)","v":""},{"$f":"IF(水検査結果表!$D$86=\"\",\"\",水検査結果表!$D$86)","v":""},{"$f":"IF(水検査結果表!$L$86=\"○\",\"指摘なし\",IF(水検査結果表!$N$86=\"○\",\"既存不適格\",IF(水検査結果表!$M$86=\"○\",\"要是正\")))","v":false},{"$f":"IF(水検査結果表!$O$86=\"\",\"\",水検査結果表!$O$86)","v":""},{"$f":"IF(水検査結果表!$D$87=\"\",\"\",水検査結果表!$D$87)","v":""},{"$f":"IF(水検査結果表!$L$87=\"○\",\"指摘なし\",IF(水検査結果表!$N$87=\"○\",\"既存不適格\",IF(水検査結果表!$M$87=\"○\",\"要是正\")))","v":false},{"$f":"IF(水検査結果表!$O$87=\"\",\"\",水検査結果表!$O$87)","v":""},{"$f":"IF(水検査結果表!$D$88=\"\",\"\",水検査結果表!$D$88)","v":""},{"$f":"IF(水検査結果表!$L$88=\"○\",\"指摘なし\",IF(水検査結果表!$N$88=\"○\",\"既存不適格\",IF(水検査結果表!$M$88=\"○\",\"要是正\")))","v":false},{"$f":"IF(水検査結果表!$O$88=\"\",\"\",水検査結果表!$O$88)","v":""},{"$f":"IF(水検査結果表!$D$89=\"\",\"\",水検査結果表!$D$89)","v":""},{"$f":"IF(水検査結果表!$L$89=\"○\",\"指摘なし\",IF(水検査結果表!$N$89=\"○\",\"既存不適格\",IF(水検査結果表!$M$89=\"○\",\"要是正\")))","v":false},{"$f":"IF(水検査結果表!$O$89=\"\",\"\",水検査結果表!$O$89)","v":""},{"$f":"IF(水検査結果表!$D$90=\"\",\"\",水検査結果表!$D$90)","v":""},{"$f":"IF(水検査結果表!$L$90=\"○\",\"指摘なし\",IF(水検査結果表!$N$90=\"○\",\"既存不適格\",IF(水検査結果表!$M$90=\"○\",\"要是正\")))","v":false},{"$f":"IF(水検査結果表!$O$90=\"\",\"\",水検査結果表!$O$90)","v":""},{"$f":"IF(水検査結果表!$D$91=\"\",\"\",水検査結果表!$D$91)","v":""},{"$f":"IF(水検査結果表!$L$91=\"○\",\"指摘なし\",IF(水検査結果表!$N$91=\"○\",\"既存不適格\",IF(水検査結果表!$M$91=\"○\",\"要是正\")))","v":false},{"$f":"IF(水検査結果表!$O$91=\"\",\"\",水検査結果表!$O$91)","v":""},{"$f":"IF(水検査結果表!$D$92=\"\",\"\",水検査結果表!$D$92)","v":""},{"$f":"IF(水検査結果表!$L$92=\"○\",\"指摘なし\",IF(水検査結果表!$N$92=\"○\",\"既存不適格\",IF(水検査結果表!$M$92=\"○\",\"要是正\")))","v":false},{"$f":"IF(水検査結果表!$O$92=\"\",\"\",水検査結果表!$O$92)","v":""},{"$f":"IF(水検査結果表!$D$93=\"\",\"\",水検査結果表!$D$93)","v":""},{"$f":"IF(水検査結果表!$L$93=\"○\",\"指摘なし\",IF(水検査結果表!$N$93=\"○\",\"既存不適格\",IF(水検査結果表!$M$93=\"○\",\"要是正\")))","v":false},{"$f":"IF(水検査結果表!$O$93=\"\",\"\",水検査結果表!$O$93)","v":""},{"$f":"IF(水検査結果表!$C$96=\"\",\"\",水検査結果表!$C$96)","v":""},{"$f":"IF(水検査結果表!$H$96=\"\",\"\",水検査結果表!$H$96)","v":""},{"$f":"IF(水検査結果表!$I$96=\"\",\"\",水検査結果表!$I$96)","v":""},{"$f":"IF(水検査結果表!$O$96=\"\",\"\",水検査結果表!$O$96)","v":""},{"$f":"IF(水検査結果表!$C$97=\"\",\"\",水検査結果表!$C$97)","v":""},{"$f":"IF(水検査結果表!$H$97=\"\",\"\",水検査結果表!$H$97)","v":""},{"$f":"IF(水検査結果表!$I$97=\"\",\"\",水検査結果表!$I$97)","v":""},{"$f":"IF(水検査結果表!$O$97=\"\",\"\",水検査結果表!$O$97)","v":""},{"$f":"IF(水検査結果表!$C$98=\"\",\"\",水検査結果表!$C$98)","v":""},{"$f":"IF(水検査結果表!$H$98=\"\",\"\",水検査結果表!$H$98)","v":""},{"$f":"IF(水検査結果表!$I$98=\"\",\"\",水検査結果表!$I$98)","v":""},{"$f":"IF(水検査結果表!$O$98=\"\",\"\",水検査結果表!$O$98)","v":""},{"$f":"IF(水検査結果表!$C$99=\"\",\"\",水検査結果表!$C$99)","v":""},{"$f":"IF(水検査結果表!$H$99=\"\",\"\",水検査結果表!$H$99)","v":""},{"$f":"IF(水検査結果表!$I$99=\"\",\"\",水検査結果表!$I$99)","v":""},{"$f":"IF(水検査結果表!$O$99=\"\",\"\",水検査結果表!$O$99)","v":""},{"$f":"IF(水検査結果表!$C$100=\"\",\"\",水検査結果表!$C$100)","v":""},{"$f":"IF(水検査結果表!$H$100=\"\",\"\",水検査結果表!$H$100)","v":""},{"$f":"IF(水検査結果表!$I$100=\"\",\"\",水検査結果表!$I$100)","v":""},{"$f":"IF(水検査結果表!$O$100=\"\",\"\",水検査結果表!$O$100)","v":""},{"$f":"IF(水検査結果表!$C$101=\"\",\"\",水検査結果表!$C$101)","v":""},{"$f":"IF(水検査結果表!$H$101=\"\",\"\",水検査結果表!$H$101)","v":""},{"$f":"IF(水検査結果表!$I$101=\"\",\"\",水検査結果表!$I$101)","v":""},{"$f":"IF(水検査結果表!$O$101=\"\",\"\",水検査結果表!$O$101)","v":""},{"$f":"IF(水検査結果表!$C$102=\"\",\"\",水検査結果表!$C$102)","v":""},{"$f":"IF(水検査結果表!$H$102=\"\",\"\",水検査結果表!$H$102)","v":""},{"$f":"IF(水検査結果表!$I$102=\"\",\"\",水検査結果表!$I$102)","v":""},{"$f":"IF(水検査結果表!$O$102=\"\",\"\",水検査結果表!$O$102)","v":""},{"$f":"IF(水検査結果表!$C$103=\"\",\"\",水検査結果表!$C$103)","v":""},{"$f":"IF(水検査結果表!$H$103=\"\",\"\",水検査結果表!$H$103)","v":""},{"$f":"IF(水検査結果表!$I$103=\"\",\"\",水検査結果表!$I$103)","v":""},{"$f":"IF(水検査結果表!$O$103=\"\",\"\",水検査結果表!$O$103)","v":""},{"$f":"IF(水検査結果表!$C$104=\"\",\"\",水検査結果表!$C$104)","v":""},{"$f":"IF(水検査結果表!$H$104=\"\",\"\",水検査結果表!$H$104)","v":""},{"$f":"IF(水検査結果表!$I$104=\"\",\"\",水検査結果表!$I$104)","v":""},{"$f":"IF(水検査結果表!$O$104=\"\",\"\",水検査結果表!$O$104)","v":""},{"$f":"IF(水検査結果表!$C$105=\"\",\"\",水検査結果表!$C$105)","v":""},{"$f":"IF(水検査結果表!$H$105=\"\",\"\",水検査結果表!$H$105)","v":""},{"$f":"IF(水検査結果表!$I$105=\"\",\"\",水検査結果表!$I$105)","v":""},{"$f":"IF(水検査結果表!$O$105=\"\",\"\",水検査結果表!$O$105)","v":""},{"$f":"報告書!BA1","v":""},{"$f":"報告書!AS451","v":""},{"$f":"報告書!AT451","v":""},{"$f":"報告書!AT82","v":"#:::."},{"$f":"報告書!BH2","v":""},{"$f":"IF(報告書!BH14=\"\",\"\",IF(報告書!BH14<5000,\"1\",IF(AND(報告書!BH14>=5000,報告書!BH14<10000),\"2\",IF(AND(報告書!BH14>=10000,報告書!BH14<20000),\"3\",IF(AND(報告書!BH14>=20000,報告書!BH14<50000),\"4\",IF(報告書!BH14>=50000,\"5\",\"\"))))))","v":""},{"$f":"IF(報告書!BH14=\"\",\"\",シート表示区分!P1)","v":""},{"$f":"IF(報告書!BH14=\"\",\"\",シート表示区分!O1)","v":""},{"$f":"IF(報告書!AG63=\"レ\",\"○A1\",IF(報告書!X63=\"レ\",\"▲A2\",IF(報告書!N63=\"レ\",\"★C2\",\"\")))","v":""},{"$f":"IF(報告書!C14=\"\",\"\",VLOOKUP(報告書!C14,報告書!BF807:'報告書'!BN842,9,FALSE))","v":""},{"$f":"IF(OR(報告書!BH17=\"\",報告書!BI17=\"\"),\"\",IF(報告書!BL122=\"\",\"\",IF(報告書!BF122<=報告書!BL122,\"OK\",\"NG\")))","v":""},{"$f":"IF(報告書!Z82=\"\",\"\",報告書!Z82)","v":""},{"$f":"IF(OR(報告書!AC82=\"\",報告書!AC82=0),\"\",報告書!AC82)","v":""},{"$f":"IF(報告書!N83=\"\",\"\",報告書!N83)","v":""},{"$f":"IF(報告書!AK83=\"\",\"\",報告書!AK83)","v":""}]

{"sheet":"受付用","index":23,"n_rows":46,"n_cols":7,"rows_kept":46,"hidden":true,"merged":[[2,1,8,2],[11,2,12,4],[14,5,15,5],[14,6,15,9],[15,2,17,4],[16,5,17,5],[18,2,19,4],[18,5,19,5],[20,2,20,4],[20,5,21,5],[20,6,23,9],[22,5,23,5],[39,5,40,5],[40,2,41,4],[41,5,42,5],[43,2,44,4],[43,5,44,5],[45,2,46,4],[45,5,46,5],[47,5,48,5]]}
[{"$f":"報告書!BA1","v":""}]
[]
[null,{"$f":"IF(報告書!AN79=\"\",\"\",_xlfn.IMAGE(\"https://api.excelapi.org/other/qrcode?text=\"&_xlfn.ENCODEURL(A10)))","v":""}]
[]
[]
[]
[]
[]
[]
[{"$f":"RIGHT(C10&B10,7)","v":"0000000"},{"$f":"IF(報告書!AN79<>\"\",報告書!AN79,IF(報告書!T78=\"\",\"\",報告書!T78))","v":""},"0000000"]
[]
[null,null,{"$f":"IF(報告書!T78=\"\",A10,報告書!T78)","v":"0000000"}]
[]
[]
[{"$nulls":6},{"$f":"IF(報告書!AG63=\"レ\",\"指摘なし\",IF(報告書!X63=\"レ\",\"要是正・既存不適格\",IF(報告書!N63=\"レ\",\"要是正\",\"\")))","v":""}]
[null,null,"BEEC\n受　　　　付"]
[]
[]
[null,null,{"$f":"報告書!BW17","v":""}]
[]
[null,null," 日本建築設備・昇降機センター"]
[{"$nulls":3},"定期報告部"]
{"$rows_empty":18}
[null,null,"受理済"]
[]
[null,null,{"$f":"IF(報告書!E80=\"\",\"\",\"第\")","v":""},{"$f":"IF(報告書!$E$80=\"\",\"\",報告書!$E$80)","v":""},{"$f":"IF(報告書!E80=\"\",\"\",\"号\")","v":""}]
[null,null,{"$f":"IF(報告書!C14=\"\",\"\",VLOOKUP(報告書!C14,報告書!BK807:BM842,2,0))","v":""}]
[]
[null,null,{"$f":"報告書!BW81","v":""}]